Workbook
Name _Hlk106022409: '交付申請書(作成例)'!#REF!
Name _Hlk106022409: '交付申請書(様式)'!#REF!
Name _Hlk106022409: 交付請求書!#REF!
Name _Hlk106022409: '実績報告書＆取得財産等管理台帳'!#REF!
Name _Hlk106022409: '実績報告書＆取得財産等管理台帳 (作成例)'!#REF!
Name _Hlk106022409: '実績報告書(様式)'!#REF!
Name _Hlk106022409: 状況報告書!#REF!
Name _Hlk106022409: '中止（廃止）承認申請書'!#REF!
Name _Hlk106022409: 変更承認申請書!#REF!
Name _Hlk106123860: '交付申請書(作成例)'!#REF!
Name _Hlk106123860: '交付申請書(様式)'!#REF!
Name _Hlk106123860: 交付請求書!#REF!
Name _Hlk106123860: '実績報告書＆取得財産等管理台帳'!#REF!
Name _Hlk106123860: '実績報告書＆取得財産等管理台帳 (作成例)'!#REF!
Name _Hlk106123860: '実績報告書(様式)'!#REF!
Name _Hlk106123860: 状況報告書!#REF!
Name _Hlk106123860: '中止（廃止）承認申請書'!#REF!
Name _Hlk106123860: 変更承認申請書!#REF!

Sheet 交付申請書(様式)
A1: 交付要領第８条関係（様式第１号）
W2: 令和 年 月 日
C4: 福井県知事 石田 嵩人 様
O5: 申請者 | Q5: 住所
Q7: 氏名
AC10: （法人にあっては名称および代表者の氏名）
A12: 大雨被害を受けた繊維原材料再購入支援事業補助金 交付申請書
A13: 大雨被害を受けた繊維原材料再購入支援事業について、補助金の交付を受けたいので、福井県補助金等交付規則第４条の規定により、関係書類を添えて、下記のとおり提出します。
A16: 記
A18: １ 補助事業等の名称
C19: 大雨被害を受けた繊維原材料再購入支援事業
A21: ２ 補助事業等の目的および内容
C22: （別紙１）事業計画書のとおり
A24: ３ 補助事業等の完了の予定期日および実施の計画
C25: （別紙１）事業計画書のとおり
A27: ４ 交付申請額
C28: =Z150 -> 0 | I28: 円
A30: ５ 交付申請額の算出方法
C31: （別紙２）収支予算書のとおり
A33: ６ 補助事業等の経費の配分および経費の使用方法
C34: （別紙２）収支予算書のとおり
A36: ７ 添付書類
A37: ⑴ 事業計画書（別紙１）
A38: ⑵ 収支予算書（別紙２）
A39: ⑶ 県税の納税状況の確認に関する同意書（別紙３）
A40: ⑷ 積算書（別紙４）
A41: ⑸ 原材料の被災状況などの報告に係る宣誓書（別紙５）
A42: ⑹ 被災証明書（罹災証明書）
A43: ⑺ 地方消費税に滞納がないことを証明事項とする納税証明書
A44: ⑻ 債権債務者登録申請書
A52: （別紙１）
A54: 事業計画書
A56: １ 申請者の概要
C57: 事業者等の名称 | I57: =IF(S7="","",S7)
C58: 役職・代表者名 | I58: =IF(AND(S8="",S9=""),"",S8&" "&S9)
C59: 所在地 | I59: =IF(S4="","",S4) | AO59: 実績報告書転記用
C60: 業種 | I60: 日本標準産業分類 大分類Ｅ「製造業」における中分類１１「繊維工業」 | AN60: 業種 | AO60: =IF(I60="","",I60) -> 日本標準産業分類 大分類Ｅ「製造業」における中分類１１「繊維工業」
C61: 主たる事業内容 | AN61: 主たる事業 | AO61: =IF(I61="","",I61)
C62: 資本金 | O62: 千円 | Q62: 従業員数 | AC62: 人 | AN62: 資本金 | AO62: =IF(I62="","",I62)
C63: 担当部署・氏名 | AN63: 従業員数 | AO63: =IF(U62="","",U62)
...

Sheet 交付申請書(作成例)
A1: 交付要領第８条関係（様式第１号）
W2: 46325
C4: 福井県知事 石田 嵩人 様 | S4: 福井県福井市大手 ３丁目○－○
O5: 申請者 | Q5: 住所
Q7: 氏名 | S7: 福井県株式会社
S8: 代表取締役社長
S9: 福井 県太郎
AC10: （法人にあっては名称および代表者の氏名）
A12: 大雨被害を受けた繊維原材料再購入支援事業補助金 交付申請書
A13: 大雨被害を受けた繊維原材料再購入支援事業について、補助金の交付を受けたいので、福井県補助金等交付規則第４条の規定により、関係書類を添えて、下記のとおり提出します。
A16: 記
A18: １ 補助事業等の名称
C19: 大雨被害を受けた繊維原材料再購入支援事業
A21: ２ 補助事業等の目的および内容
C22: （別紙１）事業計画書のとおり
A24: ３ 補助事業等の完了の予定期日および実施の計画
C25: （別紙１）事業計画書のとおり
A27: ４ 交付申請額
C28: =Z150 -> 2,500,000 | I28: 円
A30: ５ 交付申請額の算出方法
C31: （別紙２）収支予算書のとおり
A33: ６ 補助事業等の経費の配分および経費の使用方法
C34: （別紙２）収支予算書のとおり
A36: ７ 添付書類
A37: ⑴ 事業計画書（別紙１）
A38: ⑵ 収支予算書（別紙２）
A39: ⑶ 県税の納税状況の確認に関する同意書（別紙３）
A40: ⑷ 積算書（別紙４）
A41: ⑸ 原材料の被災状況などの報告に係る宣誓書（別紙５）
A42: ⑹ 被災証明書（罹災証明書）
A43: ⑺ 地方消費税に滞納がないことを証明事項とする納税証明書
A44: ⑻ 債権債務者登録申請書
A52: （別紙１）
A54: 事業計画書
A56: １ 申請者の概要
C57: 事業者等の名称 | I57: =IF(S7="","",S7) -> 福井県株式会社
C58: 役職・代表者名 | I58: =IF(AND(S8="",S9=""),"",S8&" "&S9) -> 代表取締役社長 福井 県太郎
C59: 所在地 | I59: =IF(S4="","",S4) -> 福井県福井市大手 ３丁目○－○ | AO59: 実績報告書転記用
C60: 業種 | I60: 日本標準産業分類 大分類Ｅ「製造業」における中分類１１「繊維工業」 | AN60: 業種 | AO60: =IF(I60="","",I60) -> 日本標準産業分類 大分類Ｅ「製造業」における中分類１１「繊維工業」
C61: 主たる事業内容 | I61: 織物製造 | AN61: 主たる事業 | AO61: =IF(I61="","",I61) -> 織物製造
...

Sheet 変更承認申請書
A1: 交付要領第１０条関係（様式第２号）
L2: 令和 年 月 日
B4: 福井県知事 石田 嵩人 様 | J4: =IF('交付申請書(様式)'!S4=0,"",'交付申請書(様式)'!S4)
H5: 申請者 | I5: 住所
I7: 氏名 | J7: =IF('交付申請書(様式)'!S7=0,"",'交付申請書(様式)'!S7)
J8: =IF('交付申請書(様式)'!S8=0,"",'交付申請書(様式)'!S8)
J9: =IF('交付申請書(様式)'!S9=0,"",'交付申請書(様式)'!S9)
O10: （法人にあっては名称および代表者の氏名）
A12: 大雨被害を受けた繊維原材料再購入支援事業補助金
A13: 補助事業計画変更承認申請書
A15: 令和 年 月 日 | E15: 付け福井県指令 産技 第 | J15: ○○○ | L15: 号で補助金等の
A16: 交付決定を受けた大雨被害を受けた繊維原材料再購入支援事業補助金に係る事業の
A17: 計画（事業内容、経費配分）を下記のとおり変更したいので承認をお願いします。
A19: 記
A21: １ 変更の理由
A29: ２ 変更の内容
A43: （注）
A44: １ | B44: 変更の理由を証する書類を添付すること。
A45: ２ | B45: 変更の理由および内容は、できるだけ詳細に記入すること。

Sheet 状況報告書
A1: 交付要領第１２条関係（様式第３号）
L2: 令和 年 月 日
B4: 福井県知事 石田 嵩人 様 | J4: =IF('交付申請書(様式)'!S4=0,"",'交付申請書(様式)'!S4)
H5: 申請者 | I5: 住所
I7: 氏名 | J7: =IF('交付申請書(様式)'!S7=0,"",'交付申請書(様式)'!S7)
J8: =IF('交付申請書(様式)'!S8=0,"",'交付申請書(様式)'!S8)
J9: =IF('交付申請書(様式)'!S9=0,"",'交付申請書(様式)'!S9)
O10: （法人にあっては名称および代表者の氏名）
A12: 大雨被害を受けた繊維原材料再購入支援事業補助金
F13: 第 | G13: ○ | H13: 半期状況報告書
A15: 令和 年 月 日 | E15: 付け福井県指令 産技 第 | J15: ○○○ | L15: 号で補助金等の
A16: 交付決定（ | C16: 令和 年 月 日 | G16: 付け福井県指令 産技 第 | L16: ○○○ | N16: 号で
A17: 変更承認）を受けた事業の第 | F17: ○ | G17: 半期における遂行状況について、福井県補助金等
A18: 交付規則第１０条の規定により、別表のとおり報告します。
A20: 別表
A21: 事業名 | B21: 事業費Ａ | E21: 事業進捗状況 | I21: 事業費支払状況 | M21: 次の 半期における 事業進捗の見込 | N21: 摘要
C22: 着手年月日 | E22: 前期末 | F22: 本 期 | G22: 本期末 | H22: 進捗率 | I22: 前期末 | J22: 本期の | K22: 本期末 | L22: Ｇ／Ａ
E23: までの | F23: の | G23: までの | I23: までの | J23: 支払済 | K23: までの
C24: 完了予定年月日 | E24: 出来高 | F24: 出来高 | G24: 出来高 | H24: Ｄ／Ａ | I24: 支払済 | J24: 額 | K24: 支払済
E25: Ｂ | F25: Ｃ | G25: Ｄ | I25: 額 Ｅ | J25: Ｆ | K25: 額 Ｇ
A27: （注）
A28: １ この表によりがたいものについては、この表に準じて作成すること。

Sheet 中止（廃止）承認申請書
A1: 交付要領第１０条関係（様式第４号）
L2: 令和 年 月 日
B4: 福井県知事 石田 嵩人 様 | J4: =IF('交付申請書(様式)'!S4=0,"",'交付申請書(様式)'!S4)
H5: 申請者 | I5: 住所
I7: 氏名 | J7: =IF('交付申請書(様式)'!S7=0,"",'交付申請書(様式)'!S7)
J8: =IF('交付申請書(様式)'!S8=0,"",'交付申請書(様式)'!S8)
J9: =IF('交付申請書(様式)'!S9=0,"",'交付申請書(様式)'!S9)
O10: （法人にあっては名称および代表者の氏名）
A12: 大雨被害を受けた繊維原材料再購入支援事業補助金
A13: 補助事業中止（廃止）承認申請書
A15: 令和 年 月 日 | E15: 付け福井県指令 産技 第 | J15: ○○○ | L15: 号で補助金等の
A16: 交付決定（ | C16: 令和 年 月 日 | G16: 付け福井県指令 産技 第 | L16: ○○○ | N16: 号で
A17: 変更承認）を受けた大雨被害を受けた繊維原材料再購入支援事業補助金に係る事業を
A18: 下記のとおり中止（廃止）したいので承認を申請します。
A20: 記
A22: １ 中止（廃止）の理由
A30: ２ 中止の期間（廃止の時期）
A38: （注）
A39: １ 中止（廃止）の理由を証する書類を添付すること。
A40: ２ 中止（廃止）の理由は、できるだけ詳細に記入すること。

Sheet 実績報告書＆取得財産等管理台帳
A1: 交付要領第１２条関係（様式第６号）
L2: 令和 年 月 日
Y3: LED（調光制御機能なし）
B4: 福井県知事 様 | J4: =IF('交付申請書(様式)'!S4=0,"",'交付申請書(様式)'!S4) | Y4: LED（調光制御機能付き）
H5: 申請者 | I5: 住所 | Y5: 空調機器
Y6: 給湯機器
I7: 氏名 | J7: =IF('交付申請書(様式)'!S7=0,"",'交付申請書(様式)'!S7) | Y7: その他（生産設備等）
J8: =IF('交付申請書(様式)'!S8=0,"",'交付申請書(様式)'!S8)
J9: =IF('交付申請書(様式)'!S9=0,"",'交付申請書(様式)'!S9)
O10: （法人にあっては名称および代表者の氏名）
A12: 企業における省エネ設備等導入支援事業補助金 | K12: 補助事業実績報告書
A14: 令和 年 月 日 | E14: 付け福井県指令 産技 第 | J14: ○○○ | L14: 号で補助金等の
A15: 交付決定（ | C15: 令和 年 月 日 | G15: 付け福井県指令 産技 第 | L15: ○○○ | N15: 号で
A16: 変更承認）を受けた企業における省エネ設備等導入支援事業補助金に係る事業を完了
A17: したので、福井県補助金等交付規則第１２条の規定により、関係書類を添え、下記の
A18: とおり報告します。
A20: 記
A22: １ 補助事業等の名称
B23: =G64 -> 0
A26: ２ 補助金等の交付決定額およびその精算額
B27: （交付決定額） | H27: 円
B28: （精算額） | E28: =N120 -> 0 | H28: 円
A30: ３ 補助事業の実施期間
B31: （別紙①）事業結果報告書のとおり
A34: ４ 補助事業の成果
B35: （別紙①）事業結果報告書のとおり
A38: ５ 添付書類
A39: ⑴ 事業結果報告書（別紙①）
A40: ⑵ 収支決算書（別紙②）
A41: ⑶ 支出明細報告書（別紙③）
A42: ⑷ 取得財産等管理台帳（交付要領第１１条関係（様式第４号））
A43: ⑸ 補助事業に係る経理関係の証拠書類の写し
A44: （別紙①）
A46: 事業結果報告書
A48: １ 申請者の概要
B49: 事業者等の名称 | E49: =IF(J7="","-",J7) -> -
B50: 役職・代表者名 | E50: =IF(J8="","-",J8) -> - | I50: =J9
B51: 所在地 | E51: =J4
B52: 業種 | E52: （「企業における省エネ設備等導入支援事業補助金実施細則」にある分類
E53: から選択し、記載すること）
...

Sheet 実績報告書＆取得財産等管理台帳 (作成例)
A1: 交付要領第１２条関係（様式第６号）
L2: 45920
Y3: LED（調光制御機能なし）
B4: 福井県知事 様 | J4: 福井県福井市大手３丁目○－○ | Y4: LED（調光制御機能付き）
H5: 申請者 | I5: 住所 | Y5: 空調機器
Y6: 給湯機器
I7: 氏名 | J7: 福井ケン商事株式会社 | Y7: その他（生産設備等）
J8: 代表取締役社長
J9: 福井 県太郎
O10: （法人にあっては名称および代表者の氏名）
A12: 企業における省エネ設備等導入支援事業補助金 | K12: 補助事業実績報告書
A14: 46568 | E14: 付け福井県指令 産技 第 | J14: 123 | L14: 号で補助金等の
A15: 交付決定（ | C15: 令和 年 月 日 | G15: 付け福井県指令 産技 第 | L15: ○○○ | N15: 号で
A16: 変更承認）を受けた企業における省エネ設備等導入支援事業補助金に係る事業を完了
A17: したので、福井県補助金等交付規則第１２条の規定により、関係書類を添え、下記の
A18: とおり報告します。
A20: 記
A22: １ 補助事業等の名称
B23: =G64 -> 第一工場のＬＥＤ照明および空調機器更新工事
A26: ２ 補助金等の交付決定額およびその精算額
B27: （交付決定額） | E27: 1867000 | H27: 円
B28: （精算額） | E28: =N118 -> 1867000 | H28: 円
A30: ３ 補助事業の実施期間
B31: （別紙①）事業結果報告書のとおり
A34: ４ 補助事業の成果
B35: （別紙①）事業結果報告書のとおり
A38: ５ 添付書類
A39: ⑴ 事業結果報告書（別紙①）
A40: ⑵ 収支決算書（別紙②）
A41: ⑶ 支出明細報告書（別紙③）
A42: ⑷ 取得財産等管理台帳（交付要領第１１条関係（様式第４号））
A43: ⑸ 補助事業に係る経理関係の証拠書類の写し
A44: （別紙①）
A46: 事業結果報告書
A48: １ 申請者の概要
B49: 事業者等の名称 | E49: =IF(J7="","-",J7) -> 福井ケン商事株式会社
B50: 役職・代表者名 | E50: =IF(J8="","-",J8) -> 代表取締役社長 | I50: =J9 -> 福井 県太郎
B51: 所在地 | E51: =J4 -> 福井県福井市大手３丁目○－○
B52: 業種 | E52: （「企業における省エネ設備等導入支援事業補助金実施細則」にある分類
E53: から選択し、記載すること）
...

Sheet 実績報告書(様式)
A1: 交付要領第１３条関係（様式第５号）
W2: 令和 年 月 日
C4: 福井県知事 石田 嵩人 様 | S4: =IF('交付申請書(様式)'!$S$4="","",'交付申請書(様式)'!$S$4)
O5: 申請者 | Q5: 住所
Q7: 氏名 | S7: =IF('交付申請書(様式)'!$S$7="","",'交付申請書(様式)'!$S$7)
S8: =IF('交付申請書(様式)'!$S$8="","",'交付申請書(様式)'!$S$8)
S9: =IF('交付申請書(様式)'!$S$9="","",'交付申請書(様式)'!$S$9)
AC10: （法人にあっては名称および代表者の氏名）
A12: 大雨被害を受けた繊維原材料再購入支援事業補助金
A13: 補助事業実績報告書
A15: 令和 年 月 日 | I15: 付け福井県指令 産技 第 | Q15: ○○○ | T15: 号で補助金等の交付決定
A16: （ | B16: 令和 年 月 日 | J16: 付け福井県指令 産技 第 | R16: ○○○ | U16: 号で変更承認）を受けた
A17: 大雨被害を受けた繊維原材料再購入支援事業補助金に係る事業を完了したので、福井県
A18: 補助金等交付規則第１２条の規定により、関係書類を添え、下記のとおり報告します。
A20: 記
A22: １ 補助事業等の名称
C23: 大雨被害を受けた繊維原材料再購入支援事業
A25: ２ 補助金等の交付決定額およびその精算額
C26: （交付決定額） | N26: 円
C27: （積算額） | H27: =Z99 -> 0 | N27: 円
A29: ３ 補助事業の実施期間
C30: （別紙①）事業結果報告書のとおり
A32: ４ 補助事業の成果
C33: （別紙①）事業結果報告書のとおり
A35: ５ 添付書類
C36: （１）事業計画書（別紙①）
C37: （２）収支決算書（別紙②）
C38: （３）支出明細報告書（別紙③）
C39: （４）補助事業に係る証拠書類の写し
A53: （別紙①）
A55: 事業結果報告書
A57: １ 申請者の概要
C58: 事業者等の名称 | I58: =S9
C59: 役職・代表者名 | I59: =IF(AND(S8="",S9=""),"",S8&" "&S9)
C60: 所在地 | I60: =IF(S4="","",S4)
C61: 業種 | I61: =IF('交付申請書(様式)'!AO60="","",'交付申請書(様式)'!AO60) -> 日本標準産業分類 大分類Ｅ「製造業」における中分類１１「繊維工業」
C62: 主たる事業内容 | I62: =IF('交付申請書(様式)'!AO61="","",'交付申請書(様式)'!AO61)
C63: 資本金 | I63: =IF('交付申請書(様式)'!AO62="","",'交付申請書(様式)'!AO62) | O63: 千円 | Q63: 従業員数 | U63: =IF('交付申請書(様式)'!AO63="","",'交付申請書(様式)'!AO63) | AC63: 人
C64: 担当部署・氏名 | I64: =IF('交付申請書(様式)'!AO64="","",'交付申請書(様式)'!AO64)
C65: 電話番号 | I65: =IF('交付申請書(様式)'!AO65="","",'交付申請書(様式)'!AO65) | Q65: ＦＡＸ番号 | U65: =IF('交付申請書(様式)'!AO66="","",'交付申請書(様式)'!AO66)
...

Sheet 交付請求書
A1: 交付要領第１６条関係（様式第６号）
L2: 令和 年 月 日
B4: 福井県知事 石田 嵩人 様 | J4: =IF('交付申請書(様式)'!S4=0,"",'交付申請書(様式)'!S4)
H5: 申請者 | I5: 住所
I7: 氏名 | J7: =IF('交付申請書(様式)'!S7=0,"",'交付申請書(様式)'!S7)
J8: =IF('交付申請書(様式)'!S8=0,"",'交付申請書(様式)'!S8)
J9: =IF('交付申請書(様式)'!S9=0,"",'交付申請書(様式)'!S9)
O10: （法人にあっては名称および代表者の氏名）
A12: 大雨被害を受けた繊維原材料再購入支援事業補助金
A13: 交付請求書（概算払、精算払）
A15: 令和 年 月 日 | E15: 付け福井県指令 産技 第 | J15: ○○○ | L15: 号で交付決定（額の確定）
A16: （ | B16: 令和 年 月 日 | F16: 付け福井県指令 産技 第 | K16: ○○○ | M16: 号で変更承認）
A17: の通知があった補助金を交付されるよう大雨被害を受けた繊維原材料再購入支援事業補助金交付
A18: 要領第１５条の規定により請求します。
D22: 今回請求額 | J22: 円
E26: 発行責任者 | H26: 代表取締役 □□□□
E27: 担 当 者 | H27: 総務部 △△△△
E28: 連 絡 先 | H28: 0000-00-0000
