Workbook
Name _２０__ア: [1]事業区分!#REF!
Name _２０__イ: [1]事業区分!#REF!
Name aaaa: #REF!
Name bbbb: #REF!
Name cccc: #REF!
Name へき地医療拠点病院施設整備事業: #REF!
Name へき地診療所施設整備事業: #REF!
Name へき地保健指導所施設整備事業: #REF!
Name 医師臨床研修病院研修医環境整備事業: #REF!
Name 院内感染対策施設整備事業: #REF!
Name 遠隔ICU体制整備促進事業: [1]事業区分!#REF!
Name 過疎地域等特定診療所施設整備事業: #REF!
Name 研修医のための研修施設整備事業: #REF!
Name 産科医療機関施設整備事業: #REF!
Name 死亡時画像診断システム施設整備事業: #REF!
Name 事業分類: [2]事業分類・区分!$B$2:$H$2
Name 重点医師偏在対策支援区域における診療所の承継・開業支援事業: #REF!
Name 南海トラフ地震に係る津波避難対策緊急事業: #REF!
Name 分娩取扱施設施設整備事業: #REF!
Name 保育所別民改費担当者一覧: #REF!
Name 補助事業名: #REF!
Name 有床診療所等スプリンクラー等施設整備事業: #REF!
Name 離島等患者宿泊施設施設整備事業: #REF!
Name 臨床研修病院施設整備事業: #REF!

Sheet 様式１
A1: 様式１
A2: 重点医師偏在対策支援区域における診療所の承継・開業支援 事業計画書
A4: 支援希望年度 | H4: 令和９年度
A6: 診療所名称
A7: 承継・開設者氏名（代表者） | E7: 生年月日
A8: 承継の場合、承継前の開設者 | E8: 承継者との関係
A9: 標榜診療科
A10: 事業区分（該当○） | D10: 承継 | E10: 開設
H11: 〇
A12: 承継・開業（予定）年月日（和暦） | H12: －
A13: 所在地（開催予定地） | D13: 市町名 | E13: 字地番
A15: 開設者が現に勤務又は開設している病院又は診療所
A16: 要望事業（該当○） | D16: ①施設整備事業 | E16: ②設備整備事業 | F16: ③地域への定着支援事業
A18: ①施設整備事業概要
B19: 病床数 | E19: 床
B20: 整備面積（延床面積） | D20: =+'様式2-1'!G11 -> 0 | E20: ㎡
B21: 構造 | D21: {=+'様式2-1'!E9:G9} -> 0
B22: 事業期間（建築工事期間） | D22: {=+'様式2-1'!E15:F15} -> 0 | E22: ～ | F22: {=+'様式2-1'!I15} -> 0
B23: 補助要望額 | D23: =IFERROR(+'様式2-2'!S7,"") | E23: 円
A24: ②設備整備事業概要
B25: 主な品名 | D25: =+CONCATENATE('様式3-１'!D8," ",'様式3-１'!D9," ",'様式3-１'!D10," ",'様式3-１'!D11," ",'様式3-１'!D12," ",'様式3-１'!D13,)
B26: 補助要望額 | D26: =+'様式3-2'!W7 | E26: 円
A27: ③地域への定着支援概要
B28: 診療期間 | D28: =+'様式4-1'!B5 -> 0 | E28: ～ | F28: =+'様式4-1'!D5 -> 0
B29: 診療日数（申請年度内） | D29: =+'様式4-1'!F5 -> 0 | E29: 日
B30: 補助要望額 | D30: =+'様式4-2'!M21 -> 0 | E30: 円
A31: 連絡担当者名
A32: 連絡先 | C32: 郵便番号 | E32: 住所
C33: 電話 | E33: メール
B34: ※承継の場合は、保健所に提出した医療法施行細則に定める「診療所開設届」の写しを添付してください。

Sheet 様式2-1
A1: 様式２－１
A2: 施設整備事業 事業費内訳書
A4: 事業区分 | D4: (17) 重点医師偏在対策支援区域における診療所の承継・開業支援事業
A5: 補助（間接補助）事業者名 | D5: 施設名 | H5: 所在地
A6: 福井県 | D6: =+様式１!D6 -> 0 | H6: =+CONCATENATE(様式１!D14,様式１!E14)
A7: 施工内容 | J7: ←プルダウンから選択
A8: 建物の構造及び面積
D9: 構造： | I9: 階建て | J9: ←構造はプルダウンから選択 | N9: 鉄筋コンクリート | P9: 558000
D10: 建築面積 | H10: ㎡ | N10: ブロック | P10: 444000
D11: 延べ面積 | H11: ㎡ | N11: 木造 | P11: 362000
A12: 診療所の形態
A13: 整備 病床数 | H13: 床
A14: 医師・看護師住宅の整備
A15: 施工期間 | D15: 着工 | G15: ～ | H15: 竣工 | N15: 有床診療所（６床以上） | P15: 760
A16: 整備費内訳 | N16: 有床診療所（５床以下） | P16: 240
A17: 区 分 | B17: 費 目 | E17: 面 積 | G17: 単 価 | H17: 金 額 | I17: 備 考 | N17: 無床診療所 | P17: 160
E18: ㎡ | G18: 円 | H18: 円
A19: 補助対象事業分 | G19: =IF(H19="","",H19/E19)
B20: 【建設関係】 | G20: =IF(H20="","",H20/E20) | N20: あり | P20: 80
B21: (1)診療部門 | G21: =IF(H21="","",H21/E21) | N21: なし | P21: 0
B22: (2)医師・看護師等住宅 | G22: =IF(H22="","",H22/E22)
B23: 【建物取得関係】 | G23: =IF(H23="","",H23/E23)
G24: =IF(H24="","",H24/E24) | M24: (1) | N24: {=_xlfn.IFS(F12=N15,P15,F12=N16,P16,F12=N17,P17)} -> #N/A | O24: {=_xlfn.IFS($E$9=$N$9,$P$9,$E$9=$N$10,$P$10,$E$9=$N$11,$P$11)} -> #N/A | P24: =N24*O24 -> #N/A
G25: =IF(H25="","",H25/E25) | M25: (2) | N25: {=_xlfn.IFS(F14=N20,P20,F14=N21,P21)} -> #N/A | O25: {=_xlfn.IFS($E$9=$N$9,$P$9,$E$9=$N$10,$P$10,$E$9=$N$11,$P$11)} -> #N/A | P25: =N25*O25 -> #N/A
G26: =IF(H26="","",H26/E26)
G27: =IF(H27="","",H27/E27)
B28: 小 計 | E28: =IF(SUM(E19:F27)=0,"",SUM(E19:F27)) | H28: =IF(SUM(H19:H27)=0,"",SUM(H19:H27))
E29: ㎡ | G29: 円 | H29: 円 | J29: 単価、小計、合計は自動計算
A30: 補助対象外事業分 | G30: =IF(H30="","",H30/E30)
G31: =IF(H31="","",H31/E31)
G32: =IF(H32="","",H32/E32)
G33: =IF(H33="","",H33/E33)
G34: =IF(H34="","",H34/E34)
G35: =IF(H35="","",H35/E35)
G36: =IF(H36="","",H36/E36)
G37: =IF(H37="","",H37/E37)
G38: =IF(H38="","",H38/E38)
B39: 小 計 | E39: =IF(SUM(E30:F38)=0,"",SUM(E30:F38)) | G39: =IF(H39="","",H39/E39) | H39: =IF(SUM(H30:H38)=0,"",SUM(H30:H38))
A40: 合 計 | E40: =IF(E39="",E28,E28+E39) | G40: =IF(H40="","",H40/E40) | H40: =IF(H39="",H28,H28+H39)
A41: 財源内訳
A42: 区分 | E42: 金額 | H42: 備考
E43: 円 | H43: （内 訳）
A44: (1) 補助金 | E44: =IF(E45="","",E45+E46) -> #VALUE! | J44: ←国と都道府県の合計は自動計算
A45: うち国 | E45: 0
A46: うち都道府県 | E46: =+'様式2-2'!S7
A47: (2) 地方債 | E47: 0
A48: (3) 寄附金
A49: (4) その他（診療収入等） | E49: =+H40-E44-E47-G48 -> #VALUE!
A51: 計 | E51: =IF(E45="","",SUM(E44+E47+E49)) -> #VALUE! | H51: =IF(H40=E51,"","←【確認】財源内訳の合計と事業費の合計が不一致") -> #VALUE! | J51: ←自動計算
A52: 補助財産を取得する際に、当該補助財産を取得するための抵当権設定の有無 | I52: 有 | J52: ←プルダウンで選択
A53: その他 参考事項
A59: 【留意事項】
A60: 整備費内訳の「費目」欄は、交付要綱の５（交付額の算定方法）の対象経費に定める各部門に区分して記入すること。

Sheet 様式2-2
G1: 様式２－２ 施設整備事業 補助額算定表
I3: Ａ | J3: Ｂ | K3: Ａ－Ｂ＝Ｃ | N3: Ｄ | Q3: Ｅ | R3: Ｆ | S3: Ｇ | T3: Ｈ | U3: Ｉ
A4: 県番 | B4: 県内番 | C4: 都道府県 | D4: 補助事業者名 | E4: 事業区分 | F4: 補助対象 部分 | G4: 施 設 名 | H4: 開 設 者 | I4: 総事業費 | J4: 寄附金 その他の 収入額 | K4: 差引事業費 | L4: 対象経費の支出予定額 | O4: 基 準 額 | R4: 選 定 額 | S4: 都道府県 補助額 | T4: 国庫補助 基本額 | U4: 国庫補助 所要額 | V4: 所 在 地 | W4: 抵 当 権 | X4: 工事計画 年数
L5: 面積/室数 | M5: 単価 | N5: 金額 | O5: 面積/室数 | P5: 単価 | Q5: 金額 | S5: (F)×1/2 | V5: 市町村名
I6: 円 | J6: 円 | K6: 円 | L6: ㎡ | M6: 円 | N6: 円 | O6: ㎡ | P6: 円 | Q6: 円 | R6: 円 | S6: 円 | T6: 円 | U6: 円
G7: {=IF(+'様式2-1'!D6:G6="","",+'様式2-1'!D6:G6)} -> 0 | H7: =IFERROR(+様式１!D7,"") -> 0 | I7: =IF(+'様式2-1'!H40="","",+'様式2-1'!H40) | J7: 0 | K7: =IF(I7="","",I7-J7) | L7: ='様式2-1'!E28 | M7: =IF(N7="","",IF(L7="","",N7/L7)) | N7: ='様式2-1'!H28 | O7: =IFERROR('様式2-1'!N24+'様式2-1'!N25,"") | P7: {=IFERROR(_xlfn.SWITCH('様式2-1'!E9,"鉄筋コンクリート",558000,"ブロック",444000,"木造",362000),"")} | Q7: =IF(P7="","",IF(O7="","",O7*P7)) | R7: =IF(Q7="","",IF(N7>Q7,Q7,N7)) | S7: =IF(+R7="","",ROUNDDOWN(+R7*0.5,-3)) | T7: =IF(I7="","",IF(S7="-",MIN(K7,R7),IF(Z7="a",MIN(K7,R7,S7),IF(Z7="b",MIN(MIN(K7,R7)*AA7,S7))))) | U7: =IF(I7="","",ROUNDDOWN(IF(I7="","",IF(AB7="B",T7,IF(S7="-",T7*AC7,T7*AD7))),-3)) | V7: =+様式１!D14 -> 0
K8: =IF(I8="","",I8-J8) | M8: =IF(N8="","",IF(L8="","",N8/L8)) | Q8: =IF(P8="","",IF(O8="","",O8*P8)) | R8: =IF(Q8="","",IF(N8>Q8,Q8,N8)) | T8: =IF(I8="","",IF(S8="-",MIN(K8,R8),IF(Z8="a",MIN(K8,R8,S8),IF(Z8="b",MIN(MIN(K8,R8)*AA8,S8))))) | U8: =IF(I8="","",ROUNDDOWN(IF(I8="","",IF(AB8="B",T8,IF(S8="-",T8*AC8,T8*AD8))),-3)) | Z8: =VLOOKUP(E8,#REF!,2,FALSE) -> #REF! | AA8: =VLOOKUP(E8,#REF!,3,FALSE) -> #REF! | AB8: =VLOOKUP(E8,#REF!,4,FALSE) -> #REF! | AC8: =VLOOKUP(E8,#REF!,5,FALSE) -> #REF! | AD8: =VLOOKUP(E8,#REF!,6,FALSE) -> #REF! | AE8: =IF(I8="","",IF(S8="-",MIN(K8,R8),IF(Z8="a",MIN(K8,R8,S8),IF(Z8="b",MIN(K8,R8)*AA8)))) | AF8: =IF(I8="","",IF(S8="-",MIN(K8,R8),IF(Z8="a",MIN(K8,R8,S8),IF(Z8="b",MIN(K8,R8)))))
K9: =IF(I9="","",I9-J9) | M9: =IF(N9="","",IF(L9="","",N9/L9)) | Q9: =IF(P9="","",IF(O9="","",O9*P9)) | R9: =IF(Q9="","",IF(N9>Q9,Q9,N9)) | T9: =IF(I9="","",IF(S9="-",MIN(K9,R9),IF(Z9="a",MIN(K9,R9,S9),IF(Z9="b",MIN(MIN(K9,R9)*AA9,S9))))) | U9: =IF(I9="","",ROUNDDOWN(IF(I9="","",IF(AB9="B",T9,IF(S9="-",T9*AC9,T9*AD9))),-3)) | Z9: =VLOOKUP(E9,#REF!,2,FALSE) -> #REF! | AA9: =VLOOKUP(E9,#REF!,3,FALSE) -> #REF! | AB9: =VLOOKUP(E9,#REF!,4,FALSE) -> #REF! | AC9: =VLOOKUP(E9,#REF!,5,FALSE) -> #REF! | AD9: =VLOOKUP(E9,#REF!,6,FALSE) -> #REF! | AE9: =IF(I9="","",IF(S9="-",MIN(K9,R9),IF(Z9="a",MIN(K9,R9,S9),IF(Z9="b",MIN(K9,R9)*AA9)))) | AF9: =IF(I9="","",IF(S9="-",MIN(K9,R9),IF(Z9="a",MIN(K9,R9,S9),IF(Z9="b",MIN(K9,R9)))))
K10: =IF(I10="","",I10-J10) | M10: =IF(N10="","",IF(L10="","",N10/L10)) | Q10: =IF(P10="","",IF(O10="","",O10*P10)) | R10: =IF(Q10="","",IF(N10>Q10,Q10,N10)) | T10: =IF(I10="","",IF(S10="-",MIN(K10,R10),IF(Z10="a",MIN(K10,R10,S10),IF(Z10="b",MIN(MIN(K10,R10)*AA10,S10))))) | U10: =IF(I10="","",ROUNDDOWN(IF(I10="","",IF(AB10="B",T10,IF(S10="-",T10*AC10,T10*AD10))),-3)) | Z10: =VLOOKUP(E10,#REF!,2,FALSE) -> #REF! | AA10: =VLOOKUP(E10,#REF!,3,FALSE) -> #REF! | AB10: =VLOOKUP(E10,#REF!,4,FALSE) -> #REF! | AC10: =VLOOKUP(E10,#REF!,5,FALSE) -> #REF! | AD10: =VLOOKUP(E10,#REF!,6,FALSE) -> #REF! | AE10: =IF(I10="","",IF(S10="-",MIN(K10,R10),IF(Z10="a",MIN(K10,R10,S10),IF(Z10="b",MIN(K10,R10)*AA10)))) | AF10: =IF(I10="","",IF(S10="-",MIN(K10,R10),IF(Z10="a",MIN(K10,R10,S10),IF(Z10="b",MIN(K10,R10)))))
K11: =IF(I11="","",I11-J11) | M11: =IF(N11="","",IF(L11="","",N11/L11)) | Q11: =IF(P11="","",IF(O11="","",O11*P11)) | R11: =IF(Q11="","",IF(N11>Q11,Q11,N11)) | T11: =IF(I11="","",IF(S11="-",MIN(K11,R11),IF(Z11="a",MIN(K11,R11,S11),IF(Z11="b",MIN(MIN(K11,R11)*AA11,S11))))) | U11: =IF(I11="","",ROUNDDOWN(IF(I11="","",IF(AB11="B",T11,IF(S11="-",T11*AC11,T11*AD11))),-3)) | Z11: =VLOOKUP(E11,#REF!,2,FALSE) -> #REF! | AA11: =VLOOKUP(E11,#REF!,3,FALSE) -> #REF! | AB11: =VLOOKUP(E11,#REF!,4,FALSE) -> #REF! | AC11: =VLOOKUP(E11,#REF!,5,FALSE) -> #REF! | AD11: =VLOOKUP(E11,#REF!,6,FALSE) -> #REF! | AE11: =IF(I11="","",IF(S11="-",MIN(K11,R11),IF(Z11="a",MIN(K11,R11,S11),IF(Z11="b",MIN(K11,R11)*AA11)))) | AF11: =IF(I11="","",IF(S11="-",MIN(K11,R11),IF(Z11="a",MIN(K11,R11,S11),IF(Z11="b",MIN(K11,R11)))))
K12: =IF(I12="","",I12-J12) | M12: =IF(N12="","",IF(L12="","",N12/L12)) | Q12: =IF(P12="","",IF(O12="","",O12*P12)) | R12: =IF(Q12="","",IF(N12>Q12,Q12,N12)) | T12: =IF(I12="","",IF(S12="-",MIN(K12,R12),IF(Z12="a",MIN(K12,R12,S12),IF(Z12="b",MIN(MIN(K12,R12)*AA12,S12))))) | U12: =IF(I12="","",ROUNDDOWN(IF(I12="","",IF(AB12="B",T12,IF(S12="-",T12*AC12,T12*AD12))),-3)) | Z12: =VLOOKUP(E12,#REF!,2,FALSE) -> #REF! | AA12: =VLOOKUP(E12,#REF!,3,FALSE) -> #REF! | AB12: =VLOOKUP(E12,#REF!,4,FALSE) -> #REF! | AC12: =VLOOKUP(E12,#REF!,5,FALSE) -> #REF! | AD12: =VLOOKUP(E12,#REF!,6,FALSE) -> #REF! | AE12: =IF(I12="","",IF(S12="-",MIN(K12,R12),IF(Z12="a",MIN(K12,R12,S12),IF(Z12="b",MIN(K12,R12)*AA12)))) | AF12: =IF(I12="","",IF(S12="-",MIN(K12,R12),IF(Z12="a",MIN(K12,R12,S12),IF(Z12="b",MIN(K12,R12)))))
K13: =IF(I13="","",I13-J13) | M13: =IF(N13="","",IF(L13="","",N13/L13)) | Q13: =IF(P13="","",IF(O13="","",O13*P13)) | R13: =IF(Q13="","",IF(N13>Q13,Q13,N13)) | T13: =IF(I13="","",IF(S13="-",MIN(K13,R13),IF(Z13="a",MIN(K13,R13,S13),IF(Z13="b",MIN(MIN(K13,R13)*AA13,S13))))) | U13: =IF(I13="","",ROUNDDOWN(IF(I13="","",IF(AB13="B",T13,IF(S13="-",T13*AC13,T13*AD13))),-3)) | Z13: =VLOOKUP(E13,#REF!,2,FALSE) -> #REF! | AA13: =VLOOKUP(E13,#REF!,3,FALSE) -> #REF! | AB13: =VLOOKUP(E13,#REF!,4,FALSE) -> #REF! | AC13: =VLOOKUP(E13,#REF!,5,FALSE) -> #REF! | AD13: =VLOOKUP(E13,#REF!,6,FALSE) -> #REF! | AE13: =IF(I13="","",IF(S13="-",MIN(K13,R13),IF(Z13="a",MIN(K13,R13,S13),IF(Z13="b",MIN(K13,R13)*AA13)))) | AF13: =IF(I13="","",IF(S13="-",MIN(K13,R13),IF(Z13="a",MIN(K13,R13,S13),IF(Z13="b",MIN(K13,R13)))))
K14: =IF(I14="","",I14-J14) | M14: =IF(N14="","",IF(L14="","",N14/L14)) | Q14: =IF(P14="","",IF(O14="","",O14*P14)) | R14: =IF(Q14="","",IF(N14>Q14,Q14,N14)) | T14: =IF(I14="","",IF(S14="-",MIN(K14,R14),IF(Z14="a",MIN(K14,R14,S14),IF(Z14="b",MIN(MIN(K14,R14)*AA14,S14))))) | U14: =IF(I14="","",ROUNDDOWN(IF(I14="","",IF(AB14="B",T14,IF(S14="-",T14*AC14,T14*AD14))),-3)) | Z14: =VLOOKUP(E14,#REF!,2,FALSE) -> #REF! | AA14: =VLOOKUP(E14,#REF!,3,FALSE) -> #REF! | AB14: =VLOOKUP(E14,#REF!,4,FALSE) -> #REF! | AC14: =VLOOKUP(E14,#REF!,5,FALSE) -> #REF! | AD14: =VLOOKUP(E14,#REF!,6,FALSE) -> #REF! | AE14: =IF(I14="","",IF(S14="-",MIN(K14,R14),IF(Z14="a",MIN(K14,R14,S14),IF(Z14="b",MIN(K14,R14)*AA14)))) | AF14: =IF(I14="","",IF(S14="-",MIN(K14,R14),IF(Z14="a",MIN(K14,R14,S14),IF(Z14="b",MIN(K14,R14)))))
K15: =IF(I15="","",I15-J15) | M15: =IF(N15="","",IF(L15="","",N15/L15)) | Q15: =IF(P15="","",IF(O15="","",O15*P15)) | R15: =IF(Q15="","",IF(N15>Q15,Q15,N15)) | T15: =IF(I15="","",IF(S15="-",MIN(K15,R15),IF(Z15="a",MIN(K15,R15,S15),IF(Z15="b",MIN(MIN(K15,R15)*AA15,S15))))) | U15: =IF(I15="","",ROUNDDOWN(IF(I15="","",IF(AB15="B",T15,IF(S15="-",T15*AC15,T15*AD15))),-3)) | Z15: =VLOOKUP(E15,#REF!,2,FALSE) -> #REF! | AA15: =VLOOKUP(E15,#REF!,3,FALSE) -> #REF! | AB15: =VLOOKUP(E15,#REF!,4,FALSE) -> #REF! | AC15: =VLOOKUP(E15,#REF!,5,FALSE) -> #REF! | AD15: =VLOOKUP(E15,#REF!,6,FALSE) -> #REF! | AE15: =IF(I15="","",IF(S15="-",MIN(K15,R15),IF(Z15="a",MIN(K15,R15,S15),IF(Z15="b",MIN(K15,R15)*AA15)))) | AF15: =IF(I15="","",IF(S15="-",MIN(K15,R15),IF(Z15="a",MIN(K15,R15,S15),IF(Z15="b",MIN(K15,R15)))))
K16: =IF(I16="","",I16-J16) | M16: =IF(N16="","",IF(L16="","",N16/L16)) | Q16: =IF(P16="","",IF(O16="","",O16*P16)) | R16: =IF(Q16="","",IF(N16>Q16,Q16,N16)) | T16: =IF(I16="","",IF(S16="-",MIN(K16,R16),IF(Z16="a",MIN(K16,R16,S16),IF(Z16="b",MIN(MIN(K16,R16)*AA16,S16))))) | U16: =IF(I16="","",ROUNDDOWN(IF(I16="","",IF(AB16="B",T16,IF(S16="-",T16*AC16,T16*AD16))),-3)) | Z16: =VLOOKUP(E16,#REF!,2,FALSE) -> #REF! | AA16: =VLOOKUP(E16,#REF!,3,FALSE) -> #REF! | AB16: =VLOOKUP(E16,#REF!,4,FALSE) -> #REF! | AC16: =VLOOKUP(E16,#REF!,5,FALSE) -> #REF! | AD16: =VLOOKUP(E16,#REF!,6,FALSE) -> #REF! | AE16: =IF(I16="","",IF(S16="-",MIN(K16,R16),IF(Z16="a",MIN(K16,R16,S16),IF(Z16="b",MIN(K16,R16)*AA16)))) | AF16: =IF(I16="","",IF(S16="-",MIN(K16,R16),IF(Z16="a",MIN(K16,R16,S16),IF(Z16="b",MIN(K16,R16)))))
K17: =IF(I17="","",I17-J17) | M17: =IF(N17="","",IF(L17="","",N17/L17)) | Q17: =IF(P17="","",IF(O17="","",O17*P17)) | R17: =IF(Q17="","",IF(N17>Q17,Q17,N17)) | T17: =IF(I17="","",IF(S17="-",MIN(K17,R17),IF(Z17="a",MIN(K17,R17,S17),IF(Z17="b",MIN(MIN(K17,R17)*AA17,S17))))) | U17: =IF(I17="","",ROUNDDOWN(IF(I17="","",IF(AB17="B",T17,IF(S17="-",T17*AC17,T17*AD17))),-3)) | Z17: =VLOOKUP(E17,#REF!,2,FALSE) -> #REF! | AA17: =VLOOKUP(E17,#REF!,3,FALSE) -> #REF! | AB17: =VLOOKUP(E17,#REF!,4,FALSE) -> #REF! | AC17: =VLOOKUP(E17,#REF!,5,FALSE) -> #REF! | AD17: =VLOOKUP(E17,#REF!,6,FALSE) -> #REF! | AE17: =IF(I17="","",IF(S17="-",MIN(K17,R17),IF(Z17="a",MIN(K17,R17,S17),IF(Z17="b",MIN(K17,R17)*AA17)))) | AF17: =IF(I17="","",IF(S17="-",MIN(K17,R17),IF(Z17="a",MIN(K17,R17,S17),IF(Z17="b",MIN(K17,R17)))))
K18: =IF(I18="","",I18-J18) | M18: =IF(N18="","",IF(L18="","",N18/L18)) | Q18: =IF(P18="","",IF(O18="","",O18*P18)) | R18: =IF(Q18="","",IF(N18>Q18,Q18,N18)) | T18: =IF(I18="","",IF(S18="-",MIN(K18,R18),IF(Z18="a",MIN(K18,R18,S18),IF(Z18="b",MIN(MIN(K18,R18)*AA18,S18))))) | U18: =IF(I18="","",ROUNDDOWN(IF(I18="","",IF(AB18="B",T18,IF(S18="-",T18*AC18,T18*AD18))),-3)) | Z18: =VLOOKUP(E18,#REF!,2,FALSE) -> #REF! | AA18: =VLOOKUP(E18,#REF!,3,FALSE) -> #REF! | AB18: =VLOOKUP(E18,#REF!,4,FALSE) -> #REF! | AC18: =VLOOKUP(E18,#REF!,5,FALSE) -> #REF! | AD18: =VLOOKUP(E18,#REF!,6,FALSE) -> #REF! | AE18: =IF(I18="","",IF(S18="-",MIN(K18,R18),IF(Z18="a",MIN(K18,R18,S18),IF(Z18="b",MIN(K18,R18)*AA18)))) | AF18: =IF(I18="","",IF(S18="-",MIN(K18,R18),IF(Z18="a",MIN(K18,R18,S18),IF(Z18="b",MIN(K18,R18)))))
K19: =IF(I19="","",I19-J19) | M19: =IF(N19="","",IF(L19="","",N19/L19)) | Q19: =IF(P19="","",IF(O19="","",O19*P19)) | R19: =IF(Q19="","",IF(N19>Q19,Q19,N19)) | T19: =IF(I19="","",IF(S19="-",MIN(K19,R19),IF(Z19="a",MIN(K19,R19,S19),IF(Z19="b",MIN(MIN(K19,R19)*AA19,S19))))) | U19: =IF(I19="","",ROUNDDOWN(IF(I19="","",IF(AB19="B",T19,IF(S19="-",T19*AC19,T19*AD19))),-3)) | Z19: =VLOOKUP(E19,#REF!,2,FALSE) -> #REF! | AA19: =VLOOKUP(E19,#REF!,3,FALSE) -> #REF! | AB19: =VLOOKUP(E19,#REF!,4,FALSE) -> #REF! | AC19: =VLOOKUP(E19,#REF!,5,FALSE) -> #REF! | AD19: =VLOOKUP(E19,#REF!,6,FALSE) -> #REF! | AE19: =IF(I19="","",IF(S19="-",MIN(K19,R19),IF(Z19="a",MIN(K19,R19,S19),IF(Z19="b",MIN(K19,R19)*AA19)))) | AF19: =IF(I19="","",IF(S19="-",MIN(K19,R19),IF(Z19="a",MIN(K19,R19,S19),IF(Z19="b",MIN(K19,R19)))))
... K26: =IF(I26="","",I26-J26) | M26: =IF(N26="","",IF(L26="","",N26/L26)) | Q26: =IF(P26="","",IF(O26="","",O26*P26)) | R26: =IF(Q26="","",IF(N26>Q26,Q26,N26)) | T26: =IF(I26="","",IF(S26="-",MIN(K26,R26),IF(Z26="a",MIN(K26,R26,S26),IF(Z26="b",MIN(MIN(K26,R26)*AA26,S26))))) | U26: =IF(I26="","",ROUNDDOWN(IF(I26="","",IF(AB26="B",T26,IF(S26="-",T26*AC26,T26*AD26))),-3)) | Z26: =VLOOKUP(E26,#REF!,2,FALSE) -> #REF! | AA26: =VLOOKUP(E26,#REF!,3,FALSE) -> #REF! | AB26: =VLOOKUP(E26,#REF!,4,FALSE) -> #REF! | AC26: =VLOOKUP(E26,#REF!,5,FALSE) -> #REF! | AD26: =VLOOKUP(E26,#REF!,6,FALSE) -> #REF! | AE26: =IF(I26="","",IF(S26="-",MIN(K26,R26),IF(Z26="a",MIN(K26,R26,S26),IF(Z26="b",MIN(K26,R26)*AA26)))) | AF26: =IF(I26="","",IF(S26="-",MIN(K26,R26),IF(Z26="a",MIN(K26,R26,S26),IF(Z26="b",MIN(K26,R26)))))
H27: 合計 | I27: =IF(I7="","",SUM(I7:I26)) | J27: =IF(J7="","",SUM(J7:J26)) -> 0 | K27: =IF(K7="","",SUM(K7:K26)) | L27: － | M27: － | N27: =IF(N7="","",SUM(N7:N26)) | O27: － | P27: － | Q27: =IF(Q7="","",SUM(Q7:Q26)) | R27: =IF(R7="","",SUM(R7:R26)) | S27: =IF(S7="","",SUM(S7:S26)) | T27: =IF(T7="","",SUM(T7:T26)) | U27: =IF(U7="","",SUM(U7:U26))
J28: 特定財源がある場合に入力↑
C31: （注）この総括表は、事業単位毎に、それぞれ別葉に作成すること。なお、作成にあたっては優先順位の高いものから順に入力すること。
C33: Ⅰ．「選定額」欄は、(D)と(E)とを比較して少ない方の額を記入すること。
C34: Ⅱ．「国庫補助基本額」欄は、次により記入すること。
C35: (1) 交付要綱５(交付額の算定方法)（1）に掲げる事業･･･(C)と(F)とを比較して少ない方の額
C36: (2) 〃 （2）に掲げる事業･･･(C)と(F)と(G)とを比較してもっとも少ない額
C37: (3) 〃 （3）に掲げる事業･･･(C)と(F)とを比較して少ない方の額に３分の２を乗じて得た額と(G)とを比較して少ない方の額
C38: (4) 〃 （4）に掲げる事業･･･(C)と(F)とを比較して少ない方の額に補助率を乗じて得た額と(G)とを比較して少ない方の額
C39: (5) 〃 （5）に掲げる事業･･･(C)と(F)とを比較して少ない方の額に４分の３を乗じて得た額と(G)とを比較して少ない方の額
C40: (6) 〃 （6）に掲げる事業･･･(C)と(F)とを比較して少ない方の額に２分の１を乗じて得た額と(G)とを比較して少ない方の額
C41: Ⅲ．「国庫補助所要額」欄は、次により記入すること。ただし、算出された額に1,000円未満の端数が生じた場合にはこれを切捨てるものとする。
C42: (1) 交付要綱５（1）に掲げる事業･･･････････(H)欄に記載された額に補助率を乗じて得た額
C43: (2) 交付要綱５（2）及び（3）に掲げる事業･･･(H)欄に記載された額に２分の１を乗じて得た額
... C45: (4) 交付要綱５（5）及び（6）に掲げる事業･･･(H)欄に記載された額に３分の２を乗じて得た額

Sheet 様式3-１
A1: 様式３－１ 設備整備事業 事業費内訳書
E3: Ａ | F3: Ｂ | G3: Ａ－Ｂ＝Ｃ | H3: Ｄ | I3: Ｅ | L3: Ｆ | M3: Ｇ | N3: Ｈ | O3: Ｉ | P3: Ｊ | Q3: Ｋ | R3: Ｌ | S3: Ｋ－Ｌ＝Ｍ
A4: No. | B4: 施設名 | C4: 開設者 | D4: 品名 | E4: 所要額 | F4: 寄付金その他の収入額 | G4: 差引事業費 | H4: 対象経費の 支出予定額 | I4: 基準額 | L4: 選定額 | M4: 都道府県 補助額 | N4: 国庫補助 基本額 | O4: 国庫補助 所要額 | P4: 国庫補助交付決定額 | Q4: 国庫補助受入済額 | R4: 国庫補助交付確定額 | S4: 差引過△不足額 | T4: 交付決定年月日・番号 | V4: 所在地
I5: 基準額（単価） | J5: 個数 | K5: 基準額（総額） | M5: （F）×1/2 | V5: 市町村名
E6: 円 | F6: 円 | G6: 円 | H6: 円 | I6: 円 | J6: 個 | K6: 円 | L6: 円 | M6: 円 | N6: 円 | O6: 円 | P6: 円 | Q6: 円 | R6: 円 | S6: 円
A8: 1 | B8: =+様式１!D6 -> 0 | C8: =+様式１!D7 -> 0 | F8: 500000 | G8: =IF(E8-F8=0,"",E8-F8) -> -500000 | H8: 14500000 | I8: 16500000 | J8: 1 | K8: =IF(IFERROR(IF(J8="－",I8,I8*J8),"")=0,"",IFERROR(IF(J8="－",I8,I8*J8),"")) -> 16500000 | L8: =IF(MIN(H8,K8)=0,"",MIN(H8,K8)) -> 14500000 | M8: =IF(L8=0,"",+L8/2) -> 7250000 | V8: =+様式１!D14 -> 0
A9: 2 | G9: =IF(E9-F9=0,"",E9-F9) | K9: =IF(IFERROR(IF(J9="－",I9,I9*J9),"")=0,"",IFERROR(IF(J9="－",I9,I9*J9),"")) | L9: =IF(MIN(H9,K9)=0,"",MIN(H9,K9)) | M9: =IF(L9="","",+L9/2)
A10: 3 | G10: =IF(E10-F10=0,"",E10-F10) | K10: =IF(IFERROR(IF(J10="－",I10,I10*J10),"")=0,"",IFERROR(IF(J10="－",I10,I10*J10),"")) | L10: =IF(MIN(H10,K10)=0,"",MIN(H10,K10)) | M10: =IF(L10="","",+L10/2)
A11: 4 | G11: =IF(E11-F11=0,"",E11-F11) | K11: =IF(IFERROR(IF(J11="－",I11,I11*J11),"")=0,"",IFERROR(IF(J11="－",I11,I11*J11),"")) | L11: =IF(MIN(H11,K11)=0,"",MIN(H11,K11)) | M11: =IF(L11="","",+L11/2)
A12: 5 | G12: =IF(E12-F12=0,"",E12-F12) | K12: =IF(IFERROR(IF(J12="－",I12,I12*J12),"")=0,"",IFERROR(IF(J12="－",I12,I12*J12),"")) | L12: =IF(MIN(H12,K12)=0,"",MIN(H12,K12)) | M12: =IF(L12="","",+L12/2)
A13: 6 | G13: =IF(E13-F13=0,"",E13-F13) | K13: =IF(IFERROR(IF(J13="－",I13,I13*J13),"")=0,"",IFERROR(IF(J13="－",I13,I13*J13),"")) | L13: =IF(MIN(H13,K13)=0,"",MIN(H13,K13)) | M13: =IF(L13="","",+L13/2)
A14: 7 | G14: =IF(E14-F14=0,"",E14-F14) | K14: =IF(IFERROR(IF(J14="－",I14,I14*J14),"")=0,"",IFERROR(IF(J14="－",I14,I14*J14),"")) | L14: =IF(MIN(H14,K14)=0,"",MIN(H14,K14)) | M14: =IF(L14="","",+L14/2)
A15: 8 | G15: =IF(E15-F15=0,"",E15-F15) | K15: =IF(IFERROR(IF(J15="－",I15,I15*J15),"")=0,"",IFERROR(IF(J15="－",I15,I15*J15),"")) | L15: =IF(MIN(H15,K15)=0,"",MIN(H15,K15)) | M15: =IF(L15="","",+L15/2)
A16: 9 | G16: =IF(E16-F16=0,"",E16-F16) | K16: =IF(IFERROR(IF(J16="－",I16,I16*J16),"")=0,"",IFERROR(IF(J16="－",I16,I16*J16),"")) | L16: =IF(MIN(H16,K16)=0,"",MIN(H16,K16)) | M16: =IF(L16="","",+L16/2)
A17: 10 | G17: =IF(E17-F17=0,"",E17-F17) | K17: =IF(IFERROR(IF(J17="－",I17,I17*J17),"")=0,"",IFERROR(IF(J17="－",I17,I17*J17),"")) | L17: =IF(MIN(H17,K17)=0,"",MIN(H17,K17)) | M17: =IF(L17="","",+L17/2)
D18: 事業費 計 | E18: =SUM(E8:E17) -> 0 | L18: 合計 | M18: =SUBTOTAL(9,M9:M17) -> 0 | N18: =SUBTOTAL(9,N9:N17) -> 0 | O18: =SUBTOTAL(9,O9:O17) -> 0

Sheet 様式3-2
A1: 様式３－２ 設備整備事業 補助額算定表
O2: Ａ | P2: Ｂ | Q2: Ａ－Ｂ＝Ｃ | R2: Ｄ | S2: Ｅ | V2: Ｆ | W2: Ｇ | X2: Ｈ | Y2: Ｉ | Z2: Ｊ | AA2: Ｋ | AB2: Ｌ | AC2: Ｋ－Ｌ＝Ｍ
A3: № | B3: 都道府県 | C3: 提出年月日・番号 | E3: 交付申請年月日･番号 | G3: 補助事業者名 | H3: 交付の対象 | I3: 区分 | J3: 種目 | K3: 国庫補助基本額算出方法 | L3: 補助率 | M3: 施設名 | N3: 開設者 | O3: 総事業費 | P3: 寄付金その他の収入額 | Q3: 差引事業費 | R3: 対象経費の 支出予定額 | S3: 基準額 | V3: 選定額 | W3: 都道府県 補助額 | X3: 国庫補助 基本額 | Y3: 国庫補助 所要額 | Z3: 国庫補助交付決定額 | AA3: 国庫補助受入済額 | AB3: 国庫補助交付確定額 | AC3: 差引過△不足額 | AD3: 交付決定年月日・番号 | AF3: 所在地 | AG3: 品名
S4: 基準額（単価） | T4: 個数 | U4: 基準額（総額） | W4: (F)×1/2 | AF4: 市町村名
O5: 円 | P5: 円 | Q5: 円 | R5: 円 | S5: 円 | T5: 個 | U5: 円 | V5: 円 | W5: 円 | X5: 円 | Y5: 円 | Z5: 円 | AA5: 円 | AB5: 円 | AC5: 円
A7: 1 | M7: =+様式１!D6 -> 0 | N7: =+様式１!D7 -> 0 | O7: =IF(+'様式3-１'!E18="","",+'様式3-１'!E18) -> 0 | Q7: =IF(O7-P7=0,"",O7-P7) | R7: =+Q7 | S7: 16500000 | T7: 1 | U7: =IF(IFERROR(IF(T7="－",S7,S7*T7),"")=0,"",IFERROR(IF(T7="－",S7,S7*T7),"")) -> 16500000 | V7: =IF(R7="","",MIN(R7,U7)) | W7: =IF(V7="","",ROUNDDOWN(+V7/2,-3)) | AF7: =+様式１!D14 -> 0
A8: 2 | Q8: =IF(O8-P8=0,"",O8-P8) | U8: =IF(IFERROR(IF(T8="－",S8,S8*T8),"")=0,"",IFERROR(IF(T8="－",S8,S8*T8),"")) | V8: =IF(MIN(R8,U8)=0,"",MIN(R8,U8)) | W8: =IF(K8=1,"－","") | X8: {=IFERROR(_xlfn.IFS(K8=1,MIN(Q8,V8),K8=2,MIN(Q8,V8,W8),K8=3,MIN(MIN(Q8,V8)*3/4,W8),K8=4,MIN(MIN(Q8,V8)*L8,W8),K8=5,MIN(MIN(Q8,V8)*2/3,W8),K8=6,MIN(MIN(Q8,V8)*1/2,W8)),"")} | Y8: {=IFERROR(ROUNDDOWN(_xlfn.IFS((K8=1),X8*L8,(K8=2),X8*L8,(K8=3),X8*2/3,(K8=4),X8,(K8=5),X8*1/2,(K8=6),X8*2/3),-3),"")} | AB8: =IFERROR(ROUNDDOWN(IF(K8=1,X8*L8,IF(K8=2,X8*L8,IF(K8=3,X8*2/3,IF(K8=4,X8,IF(K8=5,X8*1/2,""))))),-3),"") | AC8: =IFERROR(AA8-AB8,"")
A9: 3 | Q9: =IF(O9-P9=0,"",O9-P9) | U9: =IF(IFERROR(IF(T9="－",S9,S9*T9),"")=0,"",IFERROR(IF(T9="－",S9,S9*T9),"")) | V9: =IF(MIN(R9,U9)=0,"",MIN(R9,U9)) | W9: =IF(K9=1,"－","") | X9: {=IFERROR(_xlfn.IFS(K9=1,MIN(Q9,V9),K9=2,MIN(Q9,V9,W9),K9=3,MIN(MIN(Q9,V9)*3/4,W9),K9=4,MIN(MIN(Q9,V9)*L9,W9),K9=5,MIN(MIN(Q9,V9)*2/3,W9),K9=6,MIN(MIN(Q9,V9)*1/2,W9)),"")} | Y9: {=IFERROR(ROUNDDOWN(_xlfn.IFS((K9=1),X9*L9,(K9=2),X9*L9,(K9=3),X9*2/3,(K9=4),X9,(K9=5),X9*1/2,(K9=6),X9*2/3),-3),"")} | AB9: =IFERROR(ROUNDDOWN(IF(K9=1,X9*L9,IF(K9=2,X9*L9,IF(K9=3,X9*2/3,IF(K9=4,X9,IF(K9=5,X9*1/2,""))))),-3),"") | AC9: =IFERROR(AA9-AB9,"")
A10: 4 | Q10: =IF(O10-P10=0,"",O10-P10) | U10: =IF(IFERROR(IF(T10="－",S10,S10*T10),"")=0,"",IFERROR(IF(T10="－",S10,S10*T10),"")) | V10: =IF(MIN(R10,U10)=0,"",MIN(R10,U10)) | W10: =IF(K10=1,"－","") | X10: {=IFERROR(_xlfn.IFS(K10=1,MIN(Q10,V10),K10=2,MIN(Q10,V10,W10),K10=3,MIN(MIN(Q10,V10)*3/4,W10),K10=4,MIN(MIN(Q10,V10)*L10,W10),K10=5,MIN(MIN(Q10,V10)*2/3,W10),K10=6,MIN(MIN(Q10,V10)*1/2,W10)),"")} | Y10: {=IFERROR(ROUNDDOWN(_xlfn.IFS((K10=1),X10*L10,(K10=2),X10*L10,(K10=3),X10*2/3,(K10=4),X10,(K10=5),X10*1/2,(K10=6),X10*2/3),-3),"")} | AB10: =IFERROR(ROUNDDOWN(IF(K10=1,X10*L10,IF(K10=2,X10*L10,IF(K10=3,X10*2/3,IF(K10=4,X10,IF(K10=5,X10*1/2,""))))),-3),"") | AC10: =IFERROR(AA10-AB10,"")
A11: 5 | Q11: =IF(O11-P11=0,"",O11-P11) | U11: =IF(IFERROR(IF(T11="－",S11,S11*T11),"")=0,"",IFERROR(IF(T11="－",S11,S11*T11),"")) | V11: =IF(MIN(R11,U11)=0,"",MIN(R11,U11)) | W11: =IF(K11=1,"－","") | X11: {=IFERROR(_xlfn.IFS(K11=1,MIN(Q11,V11),K11=2,MIN(Q11,V11,W11),K11=3,MIN(MIN(Q11,V11)*3/4,W11),K11=4,MIN(MIN(Q11,V11)*L11,W11),K11=5,MIN(MIN(Q11,V11)*2/3,W11),K11=6,MIN(MIN(Q11,V11)*1/2,W11)),"")} | Y11: {=IFERROR(ROUNDDOWN(_xlfn.IFS((K11=1),X11*L11,(K11=2),X11*L11,(K11=3),X11*2/3,(K11=4),X11,(K11=5),X11*1/2,(K11=6),X11*2/3),-3),"")} | AB11: =IFERROR(ROUNDDOWN(IF(K11=1,X11*L11,IF(K11=2,X11*L11,IF(K11=3,X11*2/3,IF(K11=4,X11,IF(K11=5,X11*1/2,""))))),-3),"") | AC11: =IFERROR(AA11-AB11,"")
A12: 6 | Q12: =IF(O12-P12=0,"",O12-P12) | U12: =IF(IFERROR(IF(T12="－",S12,S12*T12),"")=0,"",IFERROR(IF(T12="－",S12,S12*T12),"")) | V12: =IF(MIN(R12,U12)=0,"",MIN(R12,U12)) | W12: =IF(K12=1,"－","") | X12: {=IFERROR(_xlfn.IFS(K12=1,MIN(Q12,V12),K12=2,MIN(Q12,V12,W12),K12=3,MIN(MIN(Q12,V12)*3/4,W12),K12=4,MIN(MIN(Q12,V12)*L12,W12),K12=5,MIN(MIN(Q12,V12)*2/3,W12),K12=6,MIN(MIN(Q12,V12)*1/2,W12)),"")} | Y12: {=IFERROR(ROUNDDOWN(_xlfn.IFS((K12=1),X12*L12,(K12=2),X12*L12,(K12=3),X12*2/3,(K12=4),X12,(K12=5),X12*1/2,(K12=6),X12*2/3),-3),"")} | AB12: =IFERROR(ROUNDDOWN(IF(K12=1,X12*L12,IF(K12=2,X12*L12,IF(K12=3,X12*2/3,IF(K12=4,X12,IF(K12=5,X12*1/2,""))))),-3),"") | AC12: =IFERROR(AA12-AB12,"")
A13: 7 | Q13: =IF(O13-P13=0,"",O13-P13) | U13: =IF(IFERROR(IF(T13="－",S13,S13*T13),"")=0,"",IFERROR(IF(T13="－",S13,S13*T13),"")) | V13: =IF(MIN(R13,U13)=0,"",MIN(R13,U13)) | W13: =IF(K13=1,"－","") | X13: {=IFERROR(_xlfn.IFS(K13=1,MIN(Q13,V13),K13=2,MIN(Q13,V13,W13),K13=3,MIN(MIN(Q13,V13)*3/4,W13),K13=4,MIN(MIN(Q13,V13)*L13,W13),K13=5,MIN(MIN(Q13,V13)*2/3,W13),K13=6,MIN(MIN(Q13,V13)*1/2,W13)),"")} | Y13: {=IFERROR(ROUNDDOWN(_xlfn.IFS((K13=1),X13*L13,(K13=2),X13*L13,(K13=3),X13*2/3,(K13=4),X13,(K13=5),X13*1/2,(K13=6),X13*2/3),-3),"")} | AB13: =IFERROR(ROUNDDOWN(IF(K13=1,X13*L13,IF(K13=2,X13*L13,IF(K13=3,X13*2/3,IF(K13=4,X13,IF(K13=5,X13*1/2,""))))),-3),"") | AC13: =IFERROR(AA13-AB13,"")
A14: 8 | Q14: =IF(O14-P14=0,"",O14-P14) | U14: =IF(IFERROR(IF(T14="－",S14,S14*T14),"")=0,"",IFERROR(IF(T14="－",S14,S14*T14),"")) | V14: =IF(MIN(R14,U14)=0,"",MIN(R14,U14)) | W14: =IF(K14=1,"－","") | X14: {=IFERROR(_xlfn.IFS(K14=1,MIN(Q14,V14),K14=2,MIN(Q14,V14,W14),K14=3,MIN(MIN(Q14,V14)*3/4,W14),K14=4,MIN(MIN(Q14,V14)*L14,W14),K14=5,MIN(MIN(Q14,V14)*2/3,W14),K14=6,MIN(MIN(Q14,V14)*1/2,W14)),"")} | Y14: {=IFERROR(ROUNDDOWN(_xlfn.IFS((K14=1),X14*L14,(K14=2),X14*L14,(K14=3),X14*2/3,(K14=4),X14,(K14=5),X14*1/2,(K14=6),X14*2/3),-3),"")} | AB14: =IFERROR(ROUNDDOWN(IF(K14=1,X14*L14,IF(K14=2,X14*L14,IF(K14=3,X14*2/3,IF(K14=4,X14,IF(K14=5,X14*1/2,""))))),-3),"") | AC14: =IFERROR(AA14-AB14,"")
A15: 9 | Q15: =IF(O15-P15=0,"",O15-P15) | U15: =IF(IFERROR(IF(T15="－",S15,S15*T15),"")=0,"",IFERROR(IF(T15="－",S15,S15*T15),"")) | V15: =IF(MIN(R15,U15)=0,"",MIN(R15,U15)) | W15: =IF(K15=1,"－","") | X15: {=IFERROR(_xlfn.IFS(K15=1,MIN(Q15,V15),K15=2,MIN(Q15,V15,W15),K15=3,MIN(MIN(Q15,V15)*3/4,W15),K15=4,MIN(MIN(Q15,V15)*L15,W15),K15=5,MIN(MIN(Q15,V15)*2/3,W15),K15=6,MIN(MIN(Q15,V15)*1/2,W15)),"")} | Y15: {=IFERROR(ROUNDDOWN(_xlfn.IFS((K15=1),X15*L15,(K15=2),X15*L15,(K15=3),X15*2/3,(K15=4),X15,(K15=5),X15*1/2,(K15=6),X15*2/3),-3),"")} | AB15: =IFERROR(ROUNDDOWN(IF(K15=1,X15*L15,IF(K15=2,X15*L15,IF(K15=3,X15*2/3,IF(K15=4,X15,IF(K15=5,X15*1/2,""))))),-3),"") | AC15: =IFERROR(AA15-AB15,"")
A16: 10 | Q16: =IF(O16-P16=0,"",O16-P16) | U16: =IF(IFERROR(IF(T16="－",S16,S16*T16),"")=0,"",IFERROR(IF(T16="－",S16,S16*T16),"")) | V16: =IF(MIN(R16,U16)=0,"",MIN(R16,U16)) | W16: =IF(K16=1,"－","") | X16: {=IFERROR(_xlfn.IFS(K16=1,MIN(Q16,V16),K16=2,MIN(Q16,V16,W16),K16=3,MIN(MIN(Q16,V16)*3/4,W16),K16=4,MIN(MIN(Q16,V16)*L16,W16),K16=5,MIN(MIN(Q16,V16)*2/3,W16),K16=6,MIN(MIN(Q16,V16)*1/2,W16)),"")} | Y16: {=IFERROR(ROUNDDOWN(_xlfn.IFS((K16=1),X16*L16,(K16=2),X16*L16,(K16=3),X16*2/3,(K16=4),X16,(K16=5),X16*1/2,(K16=6),X16*2/3),-3),"")} | AB16: =IFERROR(ROUNDDOWN(IF(K16=1,X16*L16,IF(K16=2,X16*L16,IF(K16=3,X16*2/3,IF(K16=4,X16,IF(K16=5,X16*1/2,""))))),-3),"") | AC16: =IFERROR(AA16-AB16,"")
A17: 11 | Q17: =IF(O17-P17=0,"",O17-P17) | U17: =IF(IFERROR(IF(T17="－",S17,S17*T17),"")=0,"",IFERROR(IF(T17="－",S17,S17*T17),"")) | V17: =IF(MIN(R17,U17)=0,"",MIN(R17,U17)) | W17: =IF(K17=1,"－","") | X17: {=IFERROR(_xlfn.IFS(K17=1,MIN(Q17,V17),K17=2,MIN(Q17,V17,W17),K17=3,MIN(MIN(Q17,V17)*3/4,W17),K17=4,MIN(MIN(Q17,V17)*L17,W17),K17=5,MIN(MIN(Q17,V17)*2/3,W17),K17=6,MIN(MIN(Q17,V17)*1/2,W17)),"")} | Y17: {=IFERROR(ROUNDDOWN(_xlfn.IFS((K17=1),X17*L17,(K17=2),X17*L17,(K17=3),X17*2/3,(K17=4),X17,(K17=5),X17*1/2,(K17=6),X17*2/3),-3),"")} | AB17: =IFERROR(ROUNDDOWN(IF(K17=1,X17*L17,IF(K17=2,X17*L17,IF(K17=3,X17*2/3,IF(K17=4,X17,IF(K17=5,X17*1/2,""))))),-3),"") | AC17: =IFERROR(AA17-AB17,"")
A18: 12 | Q18: =IF(O18-P18=0,"",O18-P18) | U18: =IF(IFERROR(IF(T18="－",S18,S18*T18),"")=0,"",IFERROR(IF(T18="－",S18,S18*T18),"")) | V18: =IF(MIN(R18,U18)=0,"",MIN(R18,U18)) | W18: =IF(K18=1,"－","") | X18: {=IFERROR(_xlfn.IFS(K18=1,MIN(Q18,V18),K18=2,MIN(Q18,V18,W18),K18=3,MIN(MIN(Q18,V18)*3/4,W18),K18=4,MIN(MIN(Q18,V18)*L18,W18),K18=5,MIN(MIN(Q18,V18)*2/3,W18),K18=6,MIN(MIN(Q18,V18)*1/2,W18)),"")} | Y18: {=IFERROR(ROUNDDOWN(_xlfn.IFS((K18=1),X18*L18,(K18=2),X18*L18,(K18=3),X18*2/3,(K18=4),X18,(K18=5),X18*1/2,(K18=6),X18*2/3),-3),"")} | AB18: =IFERROR(ROUNDDOWN(IF(K18=1,X18*L18,IF(K18=2,X18*L18,IF(K18=3,X18*2/3,IF(K18=4,X18,IF(K18=5,X18*1/2,""))))),-3),"") | AC18: =IFERROR(AA18-AB18,"")
A19: 13 | Q19: =IF(O19-P19=0,"",O19-P19) | U19: =IF(IFERROR(IF(T19="－",S19,S19*T19),"")=0,"",IFERROR(IF(T19="－",S19,S19*T19),"")) | V19: =IF(MIN(R19,U19)=0,"",MIN(R19,U19)) | W19: =IF(K19=1,"－","") | X19: {=IFERROR(_xlfn.IFS(K19=1,MIN(Q19,V19),K19=2,MIN(Q19,V19,W19),K19=3,MIN(MIN(Q19,V19)*3/4,W19),K19=4,MIN(MIN(Q19,V19)*L19,W19),K19=5,MIN(MIN(Q19,V19)*2/3,W19),K19=6,MIN(MIN(Q19,V19)*1/2,W19)),"")} | Y19: {=IFERROR(ROUNDDOWN(_xlfn.IFS((K19=1),X19*L19,(K19=2),X19*L19,(K19=3),X19*2/3,(K19=4),X19,(K19=5),X19*1/2,(K19=6),X19*2/3),-3),"")} | AB19: =IFERROR(ROUNDDOWN(IF(K19=1,X19*L19,IF(K19=2,X19*L19,IF(K19=3,X19*2/3,IF(K19=4,X19,IF(K19=5,X19*1/2,""))))),-3),"") | AC19: =IFERROR(AA19-AB19,"")
... A24: 18 | Q24: =IF(O24-P24=0,"",O24-P24) | U24: =IF(IFERROR(IF(T24="－",S24,S24*T24),"")=0,"",IFERROR(IF(T24="－",S24,S24*T24),"")) | V24: =IF(MIN(R24,U24)=0,"",MIN(R24,U24)) | W24: =IF(K24=1,"－","") | X24: {=IFERROR(_xlfn.IFS(K24=1,MIN(Q24,V24),K24=2,MIN(Q24,V24,W24),K24=3,MIN(MIN(Q24,V24)*3/4,W24),K24=4,MIN(MIN(Q24,V24)*L24,W24),K24=5,MIN(MIN(Q24,V24)*2/3,W24),K24=6,MIN(MIN(Q24,V24)*1/2,W24)),"")} | Y24: {=IFERROR(ROUNDDOWN(_xlfn.IFS((K24=1),X24*L24,(K24=2),X24*L24,(K24=3),X24*2/3,(K24=4),X24,(K24=5),X24*1/2,(K24=6),X24*2/3),-3),"")} | AB24: =IFERROR(ROUNDDOWN(IF(K24=1,X24*L24,IF(K24=2,X24*L24,IF(K24=3,X24*2/3,IF(K24=4,X24,IF(K24=5,X24*1/2,""))))),-3),"") | AC24: =IFERROR(AA24-AB24,"")
A25: 19 | Q25: =IF(O25-P25=0,"",O25-P25) | U25: =IF(IFERROR(IF(T25="－",S25,S25*T25),"")=0,"",IFERROR(IF(T25="－",S25,S25*T25),"")) | V25: =IF(MIN(R25,U25)=0,"",MIN(R25,U25)) | W25: =IF(K25=1,"－","") | X25: {=IFERROR(_xlfn.IFS(K25=1,MIN(Q25,V25),K25=2,MIN(Q25,V25,W25),K25=3,MIN(MIN(Q25,V25)*3/4,W25),K25=4,MIN(MIN(Q25,V25)*L25,W25),K25=5,MIN(MIN(Q25,V25)*2/3,W25),K25=6,MIN(MIN(Q25,V25)*1/2,W25)),"")} | Y25: {=IFERROR(ROUNDDOWN(_xlfn.IFS((K25=1),X25*L25,(K25=2),X25*L25,(K25=3),X25*2/3,(K25=4),X25,(K25=5),X25*1/2,(K25=6),X25*2/3),-3),"")}
A26: 20 | Q26: =IF(O26-P26=0,"",O26-P26) | U26: =IF(IFERROR(IF(T26="－",S26,S26*T26),"")=0,"",IFERROR(IF(T26="－",S26,S26*T26),"")) | V26: =IF(MIN(R26,U26)=0,"",MIN(R26,U26)) | W26: =IF(K26=1,"－","") | X26: {=IFERROR(_xlfn.IFS(K26=1,MIN(Q26,V26),K26=2,MIN(Q26,V26,W26),K26=3,MIN(MIN(Q26,V26)*3/4,W26),K26=4,MIN(MIN(Q26,V26)*L26,W26),K26=5,MIN(MIN(Q26,V26)*2/3,W26),K26=6,MIN(MIN(Q26,V26)*1/2,W26)),"")} | Y26: {=IFERROR(ROUNDDOWN(_xlfn.IFS((K26=1),X26*L26,(K26=2),X26*L26,(K26=3),X26*2/3,(K26=4),X26,(K26=5),X26*1/2,(K26=6),X26*2/3),-3),"")}
A27: 21 | Q27: =IF(O27-P27=0,"",O27-P27) | U27: =IF(IFERROR(IF(T27="－",S27,S27*T27),"")=0,"",IFERROR(IF(T27="－",S27,S27*T27),"")) | V27: =IF(MIN(R27,U27)=0,"",MIN(R27,U27)) | W27: =IF(K27=1,"－","") | X27: {=IFERROR(_xlfn.IFS(K27=1,MIN(Q27,V27),K27=2,MIN(Q27,V27,W27),K27=3,MIN(MIN(Q27,V27)*3/4,W27),K27=4,MIN(MIN(Q27,V27)*L27,W27),K27=5,MIN(MIN(Q27,V27)*2/3,W27),K27=6,MIN(MIN(Q27,V27)*1/2,W27)),"")} | Y27: {=IFERROR(ROUNDDOWN(_xlfn.IFS((K27=1),X27*L27,(K27=2),X27*L27,(K27=3),X27*2/3,(K27=4),X27,(K27=5),X27*1/2,(K27=6),X27*2/3),-3),"")}
A28: 22 | Q28: =IF(O28-P28=0,"",O28-P28) | U28: =IF(IFERROR(IF(T28="－",S28,S28*T28),"")=0,"",IFERROR(IF(T28="－",S28,S28*T28),"")) | V28: =IF(MIN(R28,U28)=0,"",MIN(R28,U28)) | W28: =IF(K28=1,"－","") | X28: {=IFERROR(_xlfn.IFS(K28=1,MIN(Q28,V28),K28=2,MIN(Q28,V28,W28),K28=3,MIN(MIN(Q28,V28)*3/4,W28),K28=4,MIN(MIN(Q28,V28)*L28,W28),K28=5,MIN(MIN(Q28,V28)*2/3,W28),K28=6,MIN(MIN(Q28,V28)*1/2,W28)),"")} | Y28: {=IFERROR(ROUNDDOWN(_xlfn.IFS((K28=1),X28*L28,(K28=2),X28*L28,(K28=3),X28*2/3,(K28=4),X28,(K28=5),X28*1/2,(K28=6),X28*2/3),-3),"")}
A29: 23 | Q29: =IF(O29-P29=0,"",O29-P29) | U29: =IF(IFERROR(IF(T29="－",S29,S29*T29),"")=0,"",IFERROR(IF(T29="－",S29,S29*T29),"")) | V29: =IF(MIN(R29,U29)=0,"",MIN(R29,U29)) | W29: =IF(K29=1,"－","") | X29: {=IFERROR(_xlfn.IFS(K29=1,MIN(Q29,V29),K29=2,MIN(Q29,V29,W29),K29=3,MIN(MIN(Q29,V29)*3/4,W29),K29=4,MIN(MIN(Q29,V29)*L29,W29),K29=5,MIN(MIN(Q29,V29)*2/3,W29),K29=6,MIN(MIN(Q29,V29)*1/2,W29)),"")} | Y29: {=IFERROR(ROUNDDOWN(_xlfn.IFS((K29=1),X29*L29,(K29=2),X29*L29,(K29=3),X29*2/3,(K29=4),X29,(K29=5),X29*1/2,(K29=6),X29*2/3),-3),"")}
A30: 24 | Q30: =IF(O30-P30=0,"",O30-P30) | U30: =IF(IFERROR(IF(T30="－",S30,S30*T30),"")=0,"",IFERROR(IF(T30="－",S30,S30*T30),"")) | V30: =IF(MIN(R30,U30)=0,"",MIN(R30,U30)) | W30: =IF(K30=1,"－","") | X30: {=IFERROR(_xlfn.IFS(K30=1,MIN(Q30,V30),K30=2,MIN(Q30,V30,W30),K30=3,MIN(MIN(Q30,V30)*3/4,W30),K30=4,MIN(MIN(Q30,V30)*L30,W30),K30=5,MIN(MIN(Q30,V30)*2/3,W30),K30=6,MIN(MIN(Q30,V30)*1/2,W30)),"")} | Y30: {=IFERROR(ROUNDDOWN(_xlfn.IFS((K30=1),X30*L30,(K30=2),X30*L30,(K30=3),X30*2/3,(K30=4),X30,(K30=5),X30*1/2,(K30=6),X30*2/3),-3),"")}
A31: 25 | Q31: =IF(O31-P31=0,"",O31-P31) | U31: =IF(IFERROR(IF(T31="－",S31,S31*T31),"")=0,"",IFERROR(IF(T31="－",S31,S31*T31),"")) | V31: =IF(MIN(R31,U31)=0,"",MIN(R31,U31)) | W31: =IF(K31=1,"－","") | X31: {=IFERROR(_xlfn.IFS(K31=1,MIN(Q31,V31),K31=2,MIN(Q31,V31,W31),K31=3,MIN(MIN(Q31,V31)*3/4,W31),K31=4,MIN(MIN(Q31,V31)*L31,W31),K31=5,MIN(MIN(Q31,V31)*2/3,W31),K31=6,MIN(MIN(Q31,V31)*1/2,W31)),"")} | Y31: {=IFERROR(ROUNDDOWN(_xlfn.IFS((K31=1),X31*L31,(K31=2),X31*L31,(K31=3),X31*2/3,(K31=4),X31,(K31=5),X31*1/2,(K31=6),X31*2/3),-3),"")}
A32: 26 | Q32: =IF(O32-P32=0,"",O32-P32) | U32: =IF(IFERROR(IF(T32="－",S32,S32*T32),"")=0,"",IFERROR(IF(T32="－",S32,S32*T32),"")) | V32: =IF(MIN(R32,U32)=0,"",MIN(R32,U32)) | W32: =IF(K32=1,"－","") | X32: {=IFERROR(_xlfn.IFS(K32=1,MIN(Q32,V32),K32=2,MIN(Q32,V32,W32),K32=3,MIN(MIN(Q32,V32)*3/4,W32),K32=4,MIN(MIN(Q32,V32)*L32,W32),K32=5,MIN(MIN(Q32,V32)*2/3,W32),K32=6,MIN(MIN(Q32,V32)*1/2,W32)),"")} | Y32: {=IFERROR(ROUNDDOWN(_xlfn.IFS((K32=1),X32*L32,(K32=2),X32*L32,(K32=3),X32*2/3,(K32=4),X32,(K32=5),X32*1/2,(K32=6),X32*2/3),-3),"")}
A33: 27 | Q33: =IF(O33-P33=0,"",O33-P33) | U33: =IF(IFERROR(IF(T33="－",S33,S33*T33),"")=0,"",IFERROR(IF(T33="－",S33,S33*T33),"")) | V33: =IF(MIN(R33,U33)=0,"",MIN(R33,U33)) | W33: =IF(K33=1,"－","") | X33: {=IFERROR(_xlfn.IFS(K33=1,MIN(Q33,V33),K33=2,MIN(Q33,V33,W33),K33=3,MIN(MIN(Q33,V33)*3/4,W33),K33=4,MIN(MIN(Q33,V33)*L33,W33),K33=5,MIN(MIN(Q33,V33)*2/3,W33),K33=6,MIN(MIN(Q33,V33)*1/2,W33)),"")} | Y33: {=IFERROR(ROUNDDOWN(_xlfn.IFS((K33=1),X33*L33,(K33=2),X33*L33,(K33=3),X33*2/3,(K33=4),X33,(K33=5),X33*1/2,(K33=6),X33*2/3),-3),"")}
A34: 28 | Q34: =IF(O34-P34=0,"",O34-P34) | U34: =IF(IFERROR(IF(T34="－",S34,S34*T34),"")=0,"",IFERROR(IF(T34="－",S34,S34*T34),"")) | V34: =IF(MIN(R34,U34)=0,"",MIN(R34,U34)) | W34: =IF(K34=1,"－","") | X34: {=IFERROR(_xlfn.IFS(K34=1,MIN(Q34,V34),K34=2,MIN(Q34,V34,W34),K34=3,MIN(MIN(Q34,V34)*3/4,W34),K34=4,MIN(MIN(Q34,V34)*L34,W34),K34=5,MIN(MIN(Q34,V34)*2/3,W34),K34=6,MIN(MIN(Q34,V34)*1/2,W34)),"")} | Y34: {=IFERROR(ROUNDDOWN(_xlfn.IFS((K34=1),X34*L34,(K34=2),X34*L34,(K34=3),X34*2/3,(K34=4),X34,(K34=5),X34*1/2,(K34=6),X34*2/3),-3),"")}
A35: 29 | Q35: =IF(O35-P35=0,"",O35-P35) | U35: =IF(IFERROR(IF(T35="－",S35,S35*T35),"")=0,"",IFERROR(IF(T35="－",S35,S35*T35),"")) | V35: =IF(MIN(R35,U35)=0,"",MIN(R35,U35)) | W35: =IF(K35=1,"－","") | X35: {=IFERROR(_xlfn.IFS(K35=1,MIN(Q35,V35),K35=2,MIN(Q35,V35,W35),K35=3,MIN(MIN(Q35,V35)*3/4,W35),K35=4,MIN(MIN(Q35,V35)*L35,W35),K35=5,MIN(MIN(Q35,V35)*2/3,W35),K35=6,MIN(MIN(Q35,V35)*1/2,W35)),"")} | Y35: {=IFERROR(ROUNDDOWN(_xlfn.IFS((K35=1),X35*L35,(K35=2),X35*L35,(K35=3),X35*2/3,(K35=4),X35,(K35=5),X35*1/2,(K35=6),X35*2/3),-3),"")}
A36: 30 | Q36: =IF(O36-P36=0,"",O36-P36) | U36: =IF(IFERROR(IF(T36="－",S36,S36*T36),"")=0,"",IFERROR(IF(T36="－",S36,S36*T36),"")) | V36: =IF(MIN(R36,U36)=0,"",MIN(R36,U36)) | W36: =IF(K36=1,"－","") | X36: {=IFERROR(_xlfn.IFS(K36=1,MIN(Q36,V36),K36=2,MIN(Q36,V36,W36),K36=3,MIN(MIN(Q36,V36)*3/4,W36),K36=4,MIN(MIN(Q36,V36)*L36,W36),K36=5,MIN(MIN(Q36,V36)*2/3,W36),K36=6,MIN(MIN(Q36,V36)*1/2,W36)),"")} | Y36: {=IFERROR(ROUNDDOWN(_xlfn.IFS((K36=1),X36*L36,(K36=2),X36*L36,(K36=3),X36*2/3,(K36=4),X36,(K36=5),X36*1/2,(K36=6),X36*2/3),-3),"")}
... A76: 70 | Q76: =IF(O76-P76=0,"",O76-P76) | U76: =IF(IFERROR(IF(T76="－",S76,S76*T76),"")=0,"",IFERROR(IF(T76="－",S76,S76*T76),"")) | V76: =IF(MIN(R76,U76)=0,"",MIN(R76,U76)) | W76: =IF(K76=1,"－","") | X76: {=IFERROR(_xlfn.IFS(K76=1,MIN(Q76,V76),K76=2,MIN(Q76,V76,W76),K76=3,MIN(MIN(Q76,V76)*3/4,W76),K76=4,MIN(MIN(Q76,V76)*L76,W76),K76=5,MIN(MIN(Q76,V76)*2/3,W76),K76=6,MIN(MIN(Q76,V76)*1/2,W76)),"")} | Y76: {=IFERROR(ROUNDDOWN(_xlfn.IFS((K76=1),X76*L76,(K76=2),X76*L76,(K76=3),X76*2/3,(K76=4),X76,(K76=5),X76*1/2,(K76=6),X76*2/3),-3),"")}
V78: 合計 | W78: =SUBTOTAL(9,W7:W76) -> 0 | X78: =SUBTOTAL(9,X7:X76) -> 0 | Y78: =SUBTOTAL(9,Y7:Y76) -> 0
B79: （注）作成にあたっては優先順位の高いものから順に入力すること。
B80: この総括表（Excelファイル）は、事業計画書、交付申請書、実績報告書提出時に担当者宛メールでお送り下さい。 | P80: 特定財源がある場合に入力↑ | R80: ↑差引事業費異なる場合入力

Sheet 様式4-1
A1: 様式４－１ 地域への定着支援事業 経費内訳書
A3: １．所要額調書 | F3: 診療所名 | G3: =+様式１!D6 -> 0
A5: 対象期間 | C5: ～ | E5: 診療日数（年度内） | G5: 日
A7: （１）支出
A8: 区分 | B8: 支出予定額 | C8: 算出内訳
B9: 円
A10: 職員基本給
A11: 職員諸手当
A12: 非常勤職員手当
A13: 報償費
A14: 旅費
A15: 備品費（単価50万円未満に限る。）
A16: 消耗品費
A17: 材料費
A18: 印刷製本費
A19: 通信運搬費
A20: 光熱水料
A21: 借料及び損料
... A24: 委託費
A25: 合 計 | B25: =SUM(B10:B24) -> 0 | C25: （A）
A26: （その他）
A28: 総事業費 | B28: =SUM(B25:B27) -> 0
A29: 注）その他欄は補助対象以外の経費を計上すること。
A31: （２）収入
A32: 区分 | B32: 収入見込額
B33: 円
A34: 寄付金診療報酬その他の収入 | B34: 0
A35: 合 計 | B35: =SUM(B34) -> 0 | C35: （B）
A37: （３）補助対象経費 | B37: =+B25-B35 -> 0 | C37: （C）：（A）―（Ｂ）
A40: （記入上の注意事項）
A41: １．区分欄は、該当の名称がない場合は、内容を検討し、補助対象と類似しているときは、具体的に〇〇費として計上し、対象とする経費以外のときは、「その他」の経費に計上し、内訳は算出内訳欄に記入すること。
A44: ２．「支出予定額」は、当該年度分の支出予定額を計上し、その算出基礎を具体的に明らかにすること。
A46: ３．総事業費（（１）支出）から診療報酬寄附金その他収入（（２）収入）を差し引いた額と、診療日数に応じた基準額を比較し、額が小さい方に２／３を乗じた
A47: 金額が補助金額となる。

Sheet 様式4-2
B1: 様式４－２ 地域への定着支援事業 補助額算定表
B3: 基準額算出調書
B5: １．種目 | C5: ２．基準額
B6: 事務費 | C6: １か所当たり次により算出された額 | M6: =IFERROR(SUM(M9:M15),"") -> 0 | N6: 基準額
N7: （D）
C8: （１） | J8: 実診療日数
C9: ア．診療日数１～129日 | F9: 6200000 | G9: ＋（ | H9: 71000 | I9: × | K9: ） | L9: ＝ | M9: =IF(J9="","0",F9+(H9*J9)) -> 0
C10: 6,200,000円＋(71,000円×実診療日数)
C11: イ．診療日数130～259日 | F11: 6200000 | G11: ＋（ | H11: 77000 | I11: × | K11: ） | L11: ＝ | M11: =IF(J11="","0",F11+(H11*J11)) -> 0
C12: 6,200,000円＋(77,000円×実診療日数)
C13: ウ．診療日数260日以上 | F13: 6200000 | G13: ＋（ | H13: 87000 | I13: × | K13: ） | L13: ＝ | M13: =IF(J13="","0",F13+(H13*J13)) -> 0
C14: 6,200,000円＋(87,000円×実診療日数) | H14: 訪問看護日数
C15: (２）訪問看護による加算額 | F15: 25000 | G15: × | L15: ＝ | M15: =F15*H15 -> 0
C16: 25,000円×訪問看護日数
H19: 補助対象経費 様式4-1（C） | M19: =IF(+'様式4-1'!B37="","",+'様式4-1'!B37) -> 0 | N19: （C）
H20: 選定額 （C)(D)のうち安価な額 | M20: =IF(M19="","",+MIN(M6,M19)) -> 0 | N20: （E）
H21: 都道府県補助額 （E）×2/3 | M21: =IF(M20="","",ROUNDDOWN(+M20*0.666666666666667,-3)) -> 0

Sheet 管理用（このシートは削除しないでください）
B1: 事業区分 | D1: 施工内容 | F1: 構造 | K1: 所要額計算
L2: 分類 | M2: 国庫補助 基本額係数 | N2: 再分類 | O2: 国庫補助 所要額係数 （直接、都道府県） | P2: 国庫補助 所要額係数 （間接）
B3: (1) へき地診療所施設整備事業 | D3: 新築 | F3: 鉄骨鉄筋コンクリート造 | K3: へき地診療所施設整備事業 | L3: b | M3: 0.5 | N3: A | O3: 0.5 | P3: 1
B4: (2) 過疎地域等特定診療所施設整備事業 | D4: 移転新築 | F4: 鉄筋コンクリート造 | K4: 過疎地域等特定診療所施設整備事業 | L4: b | M4: 0.75 | N4: A | O4: 0.5 | P4: 0.66666667
B5: (3) へき地保健指導所施設整備事業 | D5: 改築 | F5: 鉄骨造（鉄筋コンクリート造と同等の強度） | K5: へき地保健指導所施設整備事業 | L5: b | M5: 0.33333333 | N5: A | O5: 0.33333333 | P5: 1
B6: (4) 研修医のための研修施設整備事業 | D6: 増築 | F6: 鉄骨造（ブロック造と同等の強度） | K6: 研修医のための研修施設整備事業 | L6: c | M6: - | N6: A | O6: 0.5 | P6: 0.5
B7: (5) 臨床研修病院施設整備事業 | D7: 改修 | F7: ブロック造 | K7: 臨床研修病院施設整備事業 | L7: c | M7: - | N7: A | O7: 0.5 | P7: 0.5
B8: (6) へき地医療拠点病院施設整備事業 | F8: 木造 | K8: へき地医療拠点病院施設整備事業 | L8: a | M8: - | N8: A | O8: 0.5 | P8: 0.5
B9: (7) 医師臨床研修病院研修医環境整備事業 | F9: プレハブ造 | K9: 医師臨床研修病院研修医環境整備事業 | L9: b | M9: 0.66666667 | N9: A | O9: 0.33333333 | P9: 0.5
B10: (8) 離島等患者宿泊施設施設整備事業 | F10: その他 | K10: 離島等患者宿泊施設施設整備事業 | L10: b | M10: 0.66666667 | N10: A | O10: 0.33333333 | P10: 0.5
B11: (9) 産科医療機関施設整備事業 | K11: 産科医療機関施設整備事業 | L11: b | M11: 0.5 | N11: A | O11: 0.5 | P11: 1
B12: (10) 分娩取扱施設施設整備事業 | K12: 分娩取扱施設施設整備事業 | L12: b | M12: 0.5 | N12: A | O12: 0.5 | P12: 1
B13: (11) 死亡時画像診断システム施設整備事業 | K13: 死亡時画像診断システム施設整備事業 | L13: b | M13: 0.5 | N13: A | O13: 0.5 | P13: 1
B14: (12) 有床診療所等スプリンクラー等施設整備事業 | K14: 有床診療所等スプリンクラー等施設整備事業 | L14: a | M14: - | N14: B | O14: - | P14: 1
B15: (13) 南海トラフ及び日本海溝・千島海溝周辺海溝型地震に係る津波避難対策緊急事業 | K15: 南海トラフ及び日本海溝・千島海溝周辺海溝型地震に係る津波避難対策緊急事業 | L15: b | M15: 0.5 | N15: A | O15: 0.5 | P15: 1
B16: (14) 院内感染対策施設整備事業 | K16: 院内感染対策施設整備事業 | L16: b | M16: 0.33333333 | N16: A | O16: 0.33333333 | P16: 1
B17: (15) 医療施設ブロック塀改修等施設整備事業 | K17: 医療施設ブロック塀改修等施設整備事業 | L17: b | M17: 0.33333333 | N17: B | O17: 0.33333333 | P17: 0.33333333
B18: (16) 新興感染症対応力強化事業（病室の感染対策に係る整備） | K18: 新興感染症対応力強化事業（病室の感染対策に係る整備） | L18: b | M18: 0.66666667 | N18: A | O18: 0.33333333 | P18: 0.5
B19: (16) 新興感染症対応力強化事業（病室の感染対策に係る整備以外） | K19: 新興感染症対応力強化事業（病室の感染対策に係る整備以外） | L19: a | M19: - | N19: A | O19: 0.5 | P19: 0.5
B20: (17) 重点医師偏在対策支援区域における診療所の承継・開業支援事業 | K20: 重点医師偏在対策支援区域における診療所の承継・開業支援事業 | L20: b | M20: 0.5 | N20: A | O20: 0.33333333 | P20: 0.66666667
B22: 事業区分（様式２，４，５用）
B24: へき地診療所施設整備事業
B25: 過疎地域等特定診療所施設整備事業
B26: へき地保健指導所施設整備事業
B27: 研修医のための研修施設整備事業
B28: 臨床研修病院施設整備事業
B29: へき地医療拠点病院施設整備事業
B30: 医師臨床研修病院研修医環境整備事業
B31: 離島等患者宿泊施設施設整備事業
B32: 産科医療機関施設整備事業
B33: 分娩取扱施設施設整備事業
B34: 死亡時画像診断システム施設整備事業
... B40: 新興感染症対応力強化事業（病室の感染対策に係る整備以外）

Sheet 管理用（このシートは削除しないでください）2
B1: 令和７年度 | D1: 重点医師偏在対策支援区域における診療所の承継・開業支援 要望一覧 | N1: 令和７年度
N2: 令和８年度
B3: 医師会名
A5: No. | B5: 所在市町 | C5: 承継・開設の別 | D5: 診療所名 | E5: 開設（承継）者名 | F5: 標榜診療科 | G5: 開設（承継） 年月日 | H5: 要望事業および要望額 | L5: 備考
H6: ①施設整備事業 | I6: ②設備整備事業 | J6: ③定着支援事業 | K6: 計
A7: 1 | B7: =+様式１!D14 -> 0 | C7: =+IF(様式１!D11="〇","承継","開設") -> 開設 | D7: =+様式１!D6 -> 0 | E7: =+様式１!D7 -> 0 | F7: =+様式１!D9 -> 0 | G7: =+様式１!D12 -> 0 | H7: =+IF(様式１!D23="","",様式１!D23) | I7: =+IF(様式１!D26="","",様式１!D26) | J7: =+IF(様式１!D30="","",様式１!D30) -> 0 | K7: =SUM(H7:J7) -> 0 | M7: ←コピー＆ペースト（値で貼り付け）で一覧表に転記
A8: 2
A9: 3
A10: 4
A11: 5
A12: 6
A13: 7
A14: 8
A15: 9
A16: 10
A18: 計 | H18: =SUM(H7:H17) -> 0 | I18: =SUM(I7:I17) -> 0 | J18: =SUM(J7:J17) -> 0 | K18: =SUM(K7:K17) -> 0
A19: 【特記事項、補足説明等】
