{"text_format":"1","workbook":"xlsx","n_sheets":22,"sheets":["表紙","ご利用の方へ","行政区画図（目次）","データ一覧","福井県","福井市","敦賀市","小浜市","大野市","勝山市","鯖江市","あわら市","越前市","坂井市","永平寺町","池田町","南越前町","越前町","美浜町","高浜町","おおい町","若狭町"],"not_rendered":{"charts":0,"images":60,"macros":1,"external_links":0,"defined_names":24,"comments":0,"pivot_tables":0},"unopened":[],"bounds":{"document_bytes":16777216,"sheet_cells":100000,"rows_first":2000,"rows_last":500,"rows_between":2000,"halvings":0,"cell_chars":16384,"cell_head_chars":4096},"cells_cut":0,"cells_raw":0,"read":"whole","date_system":"1900"}

{"sheet":"表紙","index":0,"n_rows":45,"n_cols":1,"rows_kept":45,"cut":false,"hidden":false,"merged":[[44,0,44,8],[10,0,10,8],[6,0,6,8]]}
[]
[]
[]
[]
[]
[]
["福井県市町勢要覧"]
[]
[]
[]
["令和３年度版"]
[]
[]
[]
[]
[]
[]
[]
[]
[]
[]
[]
[]
[]
[]
[]
[]
[]
[]
[]
[]
[]
[]
[]
[]
[]
[]
[]
[]
[]
[]
[]
[]
[]
["福井県地域戦略部統計情報課"]

{"sheet":"ご利用の方へ","index":1,"n_rows":76,"n_cols":7,"rows_kept":76,"cut":false,"hidden":false,"merged":[[1,1,1,2]]}
[{"$f":"表紙!A11","v":"令和３年度版"},"ご利用の方へ"]
[1,"「市町勢要覧」は、人口をはじめ、様々な分野にわたる基礎的なデータを市町別に編集し、個々の市勢町勢および",null,"4　統計表中の符号の用法は次のとおりです。"]
[null,"地域ごとの県勢をわかりやすくとらえられる資料として整理したものです。",null,"　「－」…該当数値なし"]
[2,"数値の単位未満は四捨五入を原則としていますので、総数と内訳の合計が一致しない場合があります。",null,"　「０」…単位未満"]
[3,"各項目は「福井県統計年鑑」に準拠して並べています。",null,"　「ｘ」…１つの事業所の値しかないなど、事業所に関する数が判明する箇所を秘匿としたもの"]
[null,null,null,"　「…」…事業所に関する集計において、事業所単位の売上（収入）金額の把握ができない産業"]
[null,null,null,"5　資料出所および留意事項は次のとおりです。"]
[]
["分　　　類","項     目","資　　料　　の　　出　　所","調査時点","留意事項"]
[" １．土　　　　地","総面積","令和3年全国都道府県市区町村別面積調",{"$f":"+データ一覧!A7","v":"3.10.1"}]
[null,null,"（国土交通省国土地理院）"]
[null,"町・字・大字区画数","市町資料",{"$f":"+データ一覧!A8","v":"2.4.1"},null,null,"照会"]
[null,"固定資産概要調書による地目別面積","固定資産概要調書",{"$f":"+データ一覧!A9","v":"3.1.1"},"道路河川を除く非課税地を含めた面積",null,"年鑑"]
[null,null,"（県税務課）",null,"住居表示指定区域内は住居表示の町名"]
[" ２．世帯数と人口","世帯数、人口、一世帯当たり人員、人口密度","国勢調査","昭和60年､平成2､7､12､17､22、27、令和2年","市町村合併のあった市町については、平成17年以降の人口密度のみを計上した。"]
["         ",null,"福井県の推計人口（県統計情報課）",{"$f":"データ一覧!$A$80","v":"3.10.1"}]
[null,"年齢階級別人口","〃",{"$f":"+データ一覧!A83","v":"3.10.1"}]
[null,"人口動態","〃",{"$f":"+データ一覧!A74","v":"2.10.1～3.9.30"},null,null,"人口G"]
[null,null,"婚姻、離婚 （県地域福祉課）",{"$f":"+データ一覧!A78","v":"2.1.1～3.12.31"},null,null,"年鑑"]
[" ３．事　 業　 所","事業所数、従業者数","経済センサス‐活動調査",{"$f":"+データ一覧!A99","v":"28.6.1"},"調査は、国・地方公共団体、外国公務の事業所、農林漁業、家事ｻｰﾋﾞｽに属する個人経営の事業所を除く。"]
[" ４．農       業","農業経営体数（総数）と就業状況","2020農林業センサス",{"$f":"+データ一覧!A213","v":"2.2.1"},"2020年農林業センサス調査対象",null,"経済G"]
[null,"米収穫量","北陸農政局",{"$f":"データ一覧!A240","v":"2年"},"面積・頭数が一定規模以上（外形基準）の農林業生産活動を行う方（組織の場合は代表者）を対象とする。"]
[null,"耕地面積","〃",{"$f":"+データ一覧!A243","v":"2.7.15"},null,null,"年鑑"]
[null,"農業生産物","〃",{"$f":"データ一覧!A246","v":"2年中"}]
[null,"畜産","県中山間農業・畜産課",{"$f":"+データ一覧!A255","v":"3.3.31"},null,null,"年鑑"]
[" ５．林       業","林野面積","県森づくり課     ",{"$f":"+データ一覧!A265","v":"3.3.31"},null,null,"年鑑"]
[null,"林産物生産量","県産材活用課",{"$f":"+データ一覧!A276","v":"2年中"},null,null,"年鑑"]
[" ６．漁       業","漁船隻数・トン数","県水産課",{"$f":"データ一覧!A282","v":"2.12.31"},"エンジンの取り付け場所がわからないジーゼル船は動力船、電気点火式は船外機付漁船に計上した。"]
[null,"男女別就業者数","2018年漁業センサス",{"$f":"+データ一覧!A286","v":"30.11.1"},null,null,"照会"]
[null,"海面漁業漁獲量（属人）","北陸農政局福井地域センター",{"$f":"+データ一覧!A289","v":"30年中"},"内水面漁業、海面養殖業を除く。",null,"照会"]
[" ７．商       業","事業所数、従業者数、年間商品販売額","経済センサス‐活動調査",{"$f":"データ一覧!$A$294","v":"28.6.1(平成27年実績）"},"調査は、民営の事業所を対象とした。"]
[" ８．住       宅",null,"市町村固定資産課税台帳（市町資料）  　",{"$f":"データ一覧!$A$324","v":"2年"},"共同住宅、併用住宅については、独立して生活できる部分を一戸として計上した。"]
[" ９．議 員・職 員","市町議会","市町資料  　",{"$f":"+データ一覧!A325","v":"3.8.1"},null,null,"照会"]
[null,"有権者数","選挙人名簿登録者（県選挙管理委員会）",{"$f":"+データ一覧!A328","v":"3.9.1"}]
[null,"職員数","県市町協働課 ",{"$f":"+データ一覧!A330","v":"3.4.1"},null,null,"照会"]
[" 10．工       業","事業所数、従業者数、製造品出荷額等","工業統計調査",{"$f":"+データ一覧!A332","v":"2.6.1（令和元年実績）"},"従業者４人以上の事業所",null,"年鑑"]
[" 11．上・下 水 道","水道供給人口","県医薬食品・衛生課",{"$f":"+データ一覧!A408","v":"3.3.31"}]
[null,"下水道処理人口","県河川課    ",{"$f":"+データ一覧!A412","v":"3.3.31"},"引用"]
[" 12．交 通・通 信","道路","県道路保全課    ",{"$f":"+データ一覧!A413","v":"2.4.1"},null,null,"年鑑"]
[null,"鉄道営業キロ数","西日本旅客鉄道㈱金沢支社、福井鉄道㈱、えちぜん鉄道㈱",{"$f":"+データ一覧!A417","v":"3.4.1"},null,null,"照会"]
[null,"自動車台数","中部運輸局福井運輸支局",{"$f":"データ一覧!$A$418","v":"3.3.31"},"町不明の車両は県計に一括計上した。",null,"年鑑"]
[null,"通信（郵便局数）","日本郵便株式会社北陸支社",{"$f":"+データ一覧!A425","v":"3.3.31"},null,null,"照会"]
[null,"〃（一般電話加入数）","株式会社NTT西日本－北陸",{"$f":"データ一覧!A428","v":"2.12.31"},null,null,"年鑑"]
[null,"〃（ＩＮＳネット64加入数）","〃",{"$f":"D43","v":"2.12.31"},null,null,"照会"]
[" 13．税  ･ 財 政","普通会計元年度歳入決算額","県市町協働課",{"$f":"+データ一覧!A430","v":"3年度"},"現年課税分の調定額",null,"年鑑"]
[null,"歳入歳出当初予算額","県市町協働課",{"$f":"+データ一覧!A438","v":"3年度"},null,null,"年鑑"]
[null,"歳入歳出決算額","〃",{"$f":"+データ一覧!A452","v":"2年度"},null,null,"照会"]
[" 14．文       化","公共施設数","図書館・公民館(県生涯学習・文化財課)",{"$f":"+データ一覧!A494","v":"3.4.1"},"県の図書館数・図書数は県立図書館、若狭図書学習センターの分",null,"照会"]
[null,null,"公園(県都市計画課)",{"$f":"+データ一覧!A498","v":"3.3.31"},"都市公園の箇所数"]
[null,null,"児童館(県子ども家庭課)",{"$f":"+データ一覧!A499","v":"3.4.1"},null,null,"年鑑"]
[null,null,"公会堂・市民会館（県市町協働課）",{"$f":"データ一覧!A505","v":"3.3.31"},null,null,"照会"]
[null,"社会教育学級講座","県生涯学習・文化財課  　",{"$f":"+データ一覧!A500","v":"3.3.31"},"青年、成人、婦人、高齢者、家庭教育、その他の学級・講座の合計",null,"年鑑"]
[null,"宗教法人数","県情報公開・法制課  　",{"$f":"+データ一覧!A502","v":"2.12.31"},null,null,"市町財政要覧"]
[null,"衛星放送契約数","日本放送協会  　",{"$f":"+データ一覧!A506","v":"3.3.31"},null,null,"年鑑"]
[" 15．労       働","産業別就業者数","国勢調査",{"$f":"+データ一覧!A507","v":"27.10.1"},null,null,"照会"]
[" 16．社 会 福 祉","施設数、収容定員","県地域福祉課",{"$f":"+データ一覧!A557","v":"3.4.1"},null,null,"年鑑"]
[" 17．教       育","学校数、教員数、学生・生徒・児童・園児数","学校基本調査",{"$f":"+データ一覧!A583","v":"3.5.1"},"福井大学松岡キャンパス・永平寺キャンパス・敦賀キャンパスは本校に、"]
[null,null,"（大学・短大・高専の教員数、学生数は直接照会した。）",null,"福井県立大学、小浜キャンパスは分校に計上した。"]
[null,null,null,null,"各市町の小学校・中学校の教員数および児童・生徒数は公立学校分のみを計上した。"]
[null,null,null,null,"各市町の幼稚園の園数、教員数および園児数は公立・私立分のみ計上した。"]
[null,null,null,null,"ただし、県計は国立、公立、私立学校の合計である。"]
[" 18．衛       生","医療関係施設数","県地域医療課   ",{"$f":"+データ一覧!A661","v":"元.10.1"},"医療関係者については、就業届出による。"]
[null,"医療関係者数","〃",{"$f":"+データ一覧!A666","v":"30.12.31"},"看護師には准看護師を含む。"]
[null,"死因別死亡数","県地域福祉課　 ",{"$f":"+データ一覧!A672","v":"2年中"},"交通事故の数は不慮の事故の内数。",null,"年鑑"]
[" 19．警 察・消 防","警察署数・交番・駐在所・検問所数","県警察本部警務課",{"$f":"+データ一覧!A682","v":"3.4.1"},null,null,"年鑑"]
[null,"刑法犯認知件数・刑法犯検挙件数","県警本部捜査第一課",{"$f":"+データ一覧!A684","v":"2年中"},"発生地不明の認知件数・検挙件数は県計に一括計上した。",null,"照会"]
[null,"交通事故発生件数","県警察本部交通企画課","〃","交通事故発生件数は人身事故の数。",null,"照会"]
[null,"火災発生件数、焼損棟数、林野焼損面積","県危機対策・防災課",{"$f":"+データ一覧!A686","v":"2年中"}]
[null,"損害見積額","〃","〃"]
[null,"消防自動車数、ポンプ数、消防吏員、消防団員数","〃",{"$f":"データ一覧!$A$690","v":"3.4.1"},"消防本部等、複数の市町に跨っているものは市町ごとに按分している。",null,"年鑑、照会"]
[" 20．そ   の   他","名所・旧跡、文化財等","県生涯学習・文化財課",null,null,null,"年鑑"]
[null,"名所・旧跡、文化財等","市町資料"]
[null,"特産物、年中行事","市町資料",null,null,null,"照会"]
[" 欄            外","市（町）章とそのいわれ","〃",null,null,null,"照会"]
[null,"位置および地勢","〃",null,null,null,"照会"]
[null,null,null,null,null,null,"照会"]

{"sheet":"行政区画図（目次）","index":2,"n_rows":29,"n_cols":13,"rows_kept":29,"cut":false,"hidden":false,"merged":[[28,1,28,6],[1,11,1,12]]}
[null,"（＊地図上の市町名または五十音順市町名を押すと該当市町のシートに、分野名を押すとデータ一覧の該当箇所に移動します。）"]
[null,null,null,null,null,null,null,"（五十音順市町名）",null,null,null,"（分野別）"]
[null,null,null,null,null,null,null,null,"福井県",null,null,"1．","土　地"]
[null,null,null,null,null,null,null,"あ行","あわら市",null,null,"2．","世帯数と人口"]
[null,null,null,null,null,null,null,null,"池田町","今立郡",null,"3．","事 業 所"]
[null,null,null,null,null,null,null,null,"永平寺町","吉田郡",null,"4．","農　業"]
[null,null,null,null,null,null,null,null,"越前市",null,null,"5．","林　業"]
[null,null,null,null,null,null,null,null,"越前町","丹生郡",null,"6．","漁　業"]
[null,null,null,null,null,null,null,null,"おおい町","大飯郡",null,"7．","商　業"]
[null,null,null,null,null,null,null,null,"大野市",null,null,"8．","住　宅"]
[null,null,null,null,null,null,null,null,"小浜市",null,null,"9．","議員・職員"]
[null,null,null,null,null,null,null,"か行","勝山市",null,null,"10．","工　業"]
[null,null,null,null,null,null,null,"さ行","坂井市",null,null,"11．","上・下水道"]
[null,null,null,null,null,null,null,null,"鯖江市",null,null,"12．","交通･通信"]
[null,null,null,null,null,null,null,"た行","高浜町","大飯郡",null,"13．","税・財 政"]
[null,null,null,null,null,null,null,null,"敦賀市",null,null,"14．","文　化"]
[null,null,null,null,null,null,null,"は行","福井市",null,null,"15．","労　働"]
[null,null,null,null,null,null,null,"ま行","南越前町","南条郡",null,"16．","社会福祉"]
[null,null,null,null,null,null,null,null,"美浜町","三方郡",null,"17．","教　育"]
[null,null,null,null,null,null,null,"わ行","若狭町","三方上中郡",null,"18．","衛　生"]
[null,null,null,null,null,null,null,null,null,null,null,"19．","警察・消防"]
[]
[]
[]
[]
[]
[]
[]
[null,"※令和4年3月31日現在の市町区分に合わせて、旧市町村のデータを合算している。"]

{"sheet":"データ一覧","index":3,"n_rows":693,"n_cols":23,"rows_kept":693,"cut":false,"hidden":false,"merged":[]}
[]
["データ一覧",null,null,null,"かな",null,null,null,null,null,null,null,null,null,null,"よしだぐん","いまだてぐん","なんじょうぐん","にゅうぐん","みかたぐん","おおいぐん","おおいぐん","みかたかみなかぐん"]
[null,null,null,null,null,"ふくいけん","ふくいし","つるがし","おばまし","おおのし","かつやまし","さばえし","あわらし","えちぜんし","さかいし","えいへいじちょう","いけだちょう","みなみえちぜんちょう","えちぜんちょう","みはまちょう","たかはまちょう","おおいちょう","わかさちょう"]
[]
[null,null,null,null,"郡",null,null,null,null,null,null,null,null,null,null,"吉田郡","今立郡","南条郡","丹生郡","三方郡","大飯郡","大飯郡","三方上中郡"]
["基準日","分類",null,null,"市町村名","福井県","福井市","敦賀市","小浜市","大野市","勝山市","鯖江市","あわら市","越前市","坂井市","永平寺町","池田町","南越前町","越前町","美浜町","高浜町","おおい町","若狭町"]
["3.10.1","1 土地","総面積",null,null,4190.5200000000004,536.41,251.41,233.11,872.43,253.88,84.59,116.98,230.7,209.67,94.43,194.65,343.69,153.15,152.35,72.400000000000006,212.19,178.49]
["2.4.1",null,"町・丁・大字区画数",null,null,2769,733,158,143,207,118,153,125,253,368,93,47,63,99,31,54,48,76]
["3.1.1",null,"固定資産概要調書による地目別面積",null,"総数",262940.59999999998,34922.199999999997,11213.6,13506.2,48574.7,20774.5,8459,8974.2000000000007,13154.8,20310.599999999999,6146.1,6550.9,13042.8,10414.299999999999,15235,7240,11808.2,12613.5]
[null,null,null,null,"うち田",39226.5,7879.8,1298.8,1482.5,4201.6000000000004,1918.6,2014,2676.3,3708.7,6052.2,1020.1,558.79999999999995,1001,1375,926.1,481.1,698.4,1933.5]
[null,null,null,null,"うち畑",5503.6999999999989,884.3,253,234.8,230.8,149.1,123.8,892.9,333.3,902.2,85.1,118,143.9,300.60000000000002,122.9,174.9,140.5,413.6]
[null,null,null,null,"うち宅地",17744.999999999996,4897.7,1247.2,652.20000000000005,1002.9,602.29999999999995,1474,873.2,1937.8,2373.6,404.5,96.5,281.3,491.9,282.5,319.10000000000002,279.60000000000002,528.70000000000005]
[null,null,null,null,"うち山林",100654.89999999998,17348.7,4518.8999999999996,7285.2,13089,9270.4,1164.4000000000001,2168.9,4838.7,5986.8,4014.2,2519.1999999999998,6130.9,4561.3999999999996,4179.3999999999996,2197.1999999999998,5971.6,5410]
[null,null,null,null,"うち原野",2533.6999999999994,102.5,216.4,150.30000000000001,673.2,331.1,0,94.9,107.9,97,48.3,81.7,200.2,81.7,86,119.7,77.7,65.099999999999994]
["60.10.1","2 世帯数と人口","国勢調査人口","(昭和６０年)","世帯数",224295,77605,21194,9584,10925,7718,15362,8588,21726,20745,5033,1166,3450,6188,3878,3668,3023,4442]
[null,null,null,null,"人口*計",817633,269083,65670,34011,43118,30416,61452,31830,83953,80707,19550,4318,13886,26128,13384,12310,9791,18026]
[null,null,null,null,"人口*男",397115,130648,32808,16309,20700,14715,29881,15016,40566,38775,9447,2123,6695,12647,6695,6262,5067,8761]
[null,null,null,null,"人口*女",420518,138435,32862,17702,22418,15701,31571,16814,43387,41932,10103,2195,7191,13481,6689,6048,4724,9265]
[null,null,null,null,"男女比*女１００につき男(／１００人)",94.4,378.5,99.8,92.1,92.3,93.7,94.6,89.306530272392052,93.5,92.5,93.5,96.7,93.102489222639406,93.813515317854751,100.1,103.5,107.3,94.560172692930379]
[null,null,null,null,"１世帯当たり人員*(／１世帯)",3.65,3.47,3.1,3.55,3.95,3.94,4,3.71,3.86,3.89,3.88,3.7,4.0199999999999996,4.22,3.45,3.36,3.24,4.0599999999999996]
[null,null,null,null,"人口密度*(人／ｋ㎡)",195.1,null,263.2,145.4,null,120.1,729.6,null,null,null,null,22.2,null,null,87.6,172.7]
[" 2.10.1",null,"国勢調査人口","(平成２年)","世帯数*(世帯)",234192,81287,22995,9920,10758,7701,16053,8708,22678,21981,5159,1130,3484,6223,4019,3822,3775,4499]
[null,null,null,null,"人口*計(人)",823585,270911,68041,33774,41837,29805,62283,31743,84897,83372,19387,4203,13804,25448,13222,12425,10598,17835]
[null,null,null,null,"人口*男(人)",400391,131608,34091,16175,19944,14400,30164,14885,41272,40152,9427,2051,6628,12249,6672,6250,5767,8656]
[null,null,null,null,"人口*女(人)",423194,139303,33950,17599,21893,15405,32119,16858,43625,43220,9960,2152,7176,13199,6550,6175,4831,9179]
[null,null,null,null,"男女比*女１００につき男(／１００人)",94.6,94.5,100.4,91.9,91.1,93.5,93.9,88.296357812314625,94.6,92.9,94.6,95.3,92.363433667781493,92.80248503674521,101.9,101.2,119.4,94.302211569887788]
[null,null,null,null,"１世帯当たり人員*(／１世帯)",3.52,3.33,2.96,3.4,3.89,3.87,3.88,3.65,3.74,3.79,3.76,3.72,3.96,4.09,3.29,3.25,2.81,3.96]
[null,null,null,null,"人口密度*(人／ｋ㎡)",196.7,null,271.60000000000002,145.1,null,117.5,734.9,null,null,null,null,21.6,null,null,86.9,172.6]
[" 7.10.1",null,"国勢調査人口","(平成７年)","世帯数*(世帯)",246911,87719,23115,10383,10862,7733,16919,9327,24233,23882,6049,1115,3634,6379,3687,3816,3469,4589]
[null,null,null,null,"人口*計(人)",826996,272970,67204,33496,41069,29162,62890,32432,85533,86870,20183,4032,13616,25158,12362,12201,10251,17567]
[null,null,null,null,"人口*男(人)",401860,133444,33047,16164,19537,14033,30376,15174,41641,41942,9907,1957,6555,12060,6087,6086,5400,8450]
[null,null,null,null,"人口*女(人)",425136,139526,34157,17332,21532,15129,32514,17258,43892,44928,10276,2075,7061,13098,6275,6115,4851,9117]
[null,null,null,null,"男女比*女１００につき男(／１００人)",94.5,95.6,96.8,93.3,90.7,92.8,93.4,87.924440839031178,94.9,93.4,96.4,94.3,92.833876221498372,92.075125973431057,97,99.5,111.3,92.68399692881431]
[null,null,null,null,"１世帯当たり人員*(／１世帯)",3.35,3.11,2.91,3.23,3.78,3.77,3.72,3.48,3.53,3.64,3.34,3.62,3.75,3.94,3.35,3.2,2.96,3.83]
[null,null,null,null,"人口密度*(人／ｋ㎡)",197.4,null,268.10000000000002,143.9,null,115,742.1,null,null,null,null,20.7,null,null,81.2,169.4]
["12.10.1",null,"国勢調査人口","(平成１2年)","世帯数*(世帯)",259612,89946,24539,10962,11151,7942,18598,9562,26461,26278,6781,1095,3744,6619,3713,4015,3490,4716]
[null,null,null,null,"人口*計(人)",828944,269557,68145,33295,39632,28143,64898,32178,87699,91173,21182,3759,13221,25017,11630,12119,9983,17313]
[null,null,null,null,"人口*男(人)",402367,131344,33504,16134,18942,13391,31448,15072,42858,43972,10225,1825,6437,11973,5672,6076,5192,8302]
[null,null,null,null,"人口*女(人)",426577,138213,34641,17161,20690,14752,33450,17106,44841,47201,10957,1934,6784,13044,5958,6043,4791,9011]
[null,null,null,null,"男女比*女１００につき男(／１００人)",94.3,95,96.7,94,91.6,90.8,94,88.109435285864606,95.6,93.2,93.3,94.4,94.885023584905653,91.789328426862923,95.2,100.5,108.4,92.131838863611137]
[null,null,null,null,"１世帯当たり人員*(／１世帯)",3.19,3,2.78,3.04,3.55,3.54,3.49,3.37,3.31,3.47,3.12,3.43,3.53,3.78,3.13,3.02,2.86,3.67]
[null,null,null,null,"人口密度*(人／ｋ㎡)",197.9,null,271.8,143,null,110.9,765.8,null,null,null,null,19.3,null,null,76.400000000000006,168.2]
["17.10.1",null,"国勢調査人口","(平成１7年)","世帯数*(世帯)",269577,93694,25742,11136,11230,7990,20177,9658,27916,28035,6868,1060,3542,6670,3760,4014,3258,4827]
[null,null,null,null,"人口*計(人)",821592,269144,68402,32182,37843,26961,66831,31081,87742,92318,20764,3405,12274,23995,11023,11630,9217,16780]
[null,null,null,null,"人口*男(人)",397271,130834,33475,15620,17956,12777,32263,14498,42706,44349,10085,1643,5850,11447,5364,5729,4649,8026]
[null,null,null,null,"人口*女(人)",424321,138310,34927,16562,19887,14184,34568,16583,45036,47969,10679,1762,6424,12548,5659,5901,4568,8754]
[null,null,null,null,"男女比*女１００につき男(／１００人)",93.6,94.6,95.8,94.3,90.3,90.1,93.3,87.4,94.8,92.5,94.4,93.2,91.1,91.2,94.8,97.1,101.8,91.7]
[null,null,null,null,"１世帯当たり人員*(／１世帯)",3.05,2.87,2.66,2.89,3.37,3.37,3.31,3.22,3.14,3.29,3.02,3.21,3.47,3.6,2.93,2.9,2.83,3.48]
[null,null,null,null,"人口密度*(人／ｋ㎡)",196.1,502,272.8,138.19999999999999,43.4,106.3,788.6,265.7,380.2,439.8,220.1,17.5,35.700000000000003,156.9,72.400000000000006,161.30000000000001,43.4,93.9]
["22.10.1",null,"国勢調査人口","(平成22年)","世帯数*(世帯)",275599,97446,26453,11477,10847,7773,21028,9735,27601,28744,7217,1006,3483,6728,3879,4044,3144,4994]
[null,null,null,null,"人口*計(人)",806314,266796,67760,31340,35291,25466,67450,29989,85614,91900,20647,3046,11551,23160,10563,11062,8580,16099]
[null,null,null,null,"人口*男(人)",389712,128692,33396,15376,16705,12072,32507,14081,41762,44235,10026,1449,5501,11036,5292,5521,4280,7781]
[null,null,null,null,"人口*女(人)",416602,138104,34364,15964,18586,13394,34943,15908,43852,47665,10621,1597,6050,12124,5271,5541,4300,8318]
[null,null,null,null,"男女比*女１００につき男(／１００人)",93.5,93.2,97.2,96.3,89.9,90.1,93,88.5,95.2,92.8,94.4,90.7,90.9,91,100.4,99.6,99.5,93.5]
[null,null,null,null,"１世帯当たり人員*(／１世帯)",2.93,2.74,2.56,2.73,3.25,3.28,3.21,3.08,3.1,3.2,2.86,3.03,3.32,3.44,2.72,2.74,2.73,3.22]
[null,null,null,null,"人口密度*(人／ｋ㎡)",192.4,497.6,269.7,134.6,40.5,100.4,795.9,256.3,371,437.8,218.9,15.6,33.6,151.4,69.3,153.30000000000001,40.4,90.1]
["27.10.1",null,"国勢調査人口","（平成27年）","世帯数*(世帯)",279687,99872,26545,11220,10698,7703,22335,9697,27889,29454,7276,902,3353,6560,3899,4191,3222,4871]
[null,null,null,null,"人口*計(人)",786740,265904,66165,29670,33109,24125,68284,28729,81524,90280,19883,2638,10799,21538,9914,10596,8325,15257]
[null,null,null,null,"人口*男(人)",381474,128892,32558,14539,15683,11478,33105,13555,39859,43526,9621,1250,5173,10333,4988,5417,4201,7296]
[null,null,null,null,"人口*女(人)",405266,137012,33607,15131,17426,12647,35179,15174,41665,46754,10262,1388,5626,11205,4926,5179,4124,7961]
[null,null,null,null,"男女比*女１００につき男(／１００人)",94.129287924500005,94.073511809199999,96.878626476600004,96.087502478399998,89.997704579399993,90.756701194000001,94.104437306299999,89.330433636500004,95.665426617099996,93.095777901399998,93.753654258400005,90.057636887599998,91.948098115899995,92.217759928600003,101.25862768979999,104.5954817532,101.8671193016,91.646778042999998]
[null,null,null,null,"１世帯当たり人員*(／１世帯)",2.8129301683667816,2.6624479333546942,2.4925598041062349,2.644385026737968,3.0948775472050851,3.1318966636375438,3.0572643832549811,2.9626688666597918,2.9231596686865791,3.0651184898485773,2.7326827927432653,2.9246119733924614,3.2206978824932895,3.2832317073170731,2.5427032572454475,2.5282748747315678,2.5837988826815641,3.1322110449599672]
[null,null,null,null,"人口密度*(人／ｋ㎡)",187.7,495.7,263.2,127.3,38,95,807.2,245.6,353.4,430.6,210.6,13.6,31.4,140.6,65.099999999999994,146.4,39.200000000000003,85.5]
[" 2.10.1",null,"国勢調査人口","（令和2年）","世帯数*(世帯)",291662,104470,27849,12082,10868,7524,23915,9933,29634,31067,7285,948,3266,6581,3745,4500,3165,4830]
[null,null,null,null,"人口*計(人)",766863,262328,64264,28991,31286,22150,68302,27524,80611,88481,18965,2423,10002,20118,9179,10326,7910,14003]
[null,null,null,null,"人口*男(人)",373973,127867,31785,14317,14997,10581,33323,13067,39657,42719,9231,1196,4804,9725,4610,5424,3968,6702]
[null,null,null,null,"人口*女(人)",392890,134461,32479,14674,16289,11569,34979,14457,40954,45762,9734,1227,5198,10393,4569,4902,3942,7301]
[null,null,null,null,"男女比*女１００につき男(／１００人)",95.185166331543186,95.095975784800061,97.863234705502009,97.567125528145013,92.068266928602128,91.459936035958165,95.265730867091676,90.385280486961335,96.833032182448591,93.350378042917697,94.832545716046852,97.473512632436837,92.420161600615629,93.572596940248246,100.89735171810024,110.64871481028152,100.6595636732623,91.795644432269555]
[null,null,null,null,"１世帯当たり人員*(／１世帯)",2.6292866400148118,2.5110366612424619,2.3075873460447411,2.3995199470286375,2.8787265366212735,2.9439128123338651,2.8560317792180641,2.7709654686398872,2.7202200175474118,2.8480702996748963,2.6032944406314344,2.5559071729957807,3.0624617268830372,3.0569822215468774,2.4510013351134847,2.2946666666666666,2.4992101105845181,2.8991718426501034]
[null,null,null,null,"人口密度*(人／ｋ㎡)",182.99948455084331,489.04382841483198,255.61433514975539,124.3661790570975,35.860756736930185,87.245942965180404,807.4476888521101,235.28808343306548,349.41915908105767,422.00124004387851,200.83659853860001,12.447983560236322,29.101806860833893,131.36141038197846,60.249425664588124,142.62430939226519,37.277911305905086,78.452574373914501]
[" 3.10.1",null,"推計人口",null,"世帯数*(世帯)",293092,105147,27887,12060,10803,7441,24295,9946,29975,31305,7340,937,3261,6528,3720,4472,3184,4791]
[null,null,null,null,"１世帯当たり人員*(／１世帯)",2.59,2.48,2.2799999999999998,2.38,2.84,2.92,2.81,2.73,2.68,2.8,2.56,2.5099999999999998,3.01,3.03,2.42,2.2799999999999998,2.48,2.86]
[null,null,null,null,"人口密度*(人／ｋ㎡)",181.41161478766355,485.6490371171306,253.1084682391313,122.91621981038993,35.136343316942337,85.670395462423187,808.45253576072821,232.0225679603351,348.01907238838322,418.26680020985361,199.31165943026579,12.062676599023888,28.516977508801535,128.99118511263467,59.061371841155236,140.53867403314916,37.155379612611341,76.833436046837349]
["2.10.1～3.9.30",null,null,"自然動態","出　生",2547,908,229,98,86,56,263,71,293,257,60,7,27,52,29,37,32,42]
[null,null,null,null,"死　亡",4892,1537,357,230,271,177,348,201,479,533,127,26,91,175,77,67,55,141]
["2.10.1～3.9.30",null,null,"社会動態","転入計",9482,3027,726,324,310,176,1064,326,1393,1084,265,16,73,197,123,149,117,112]
[null,null,null,null,"転出計",10867,3486,909,387,448,297,939,431,1425,1199,269,35,115,269,167,194,108,189]
["2.1.1～3.12.31",null,null,null,"婚姻",3029,1165,272,102,86,64,262,91,345,317,56,10,39,77,35,33,35,40]
[null,null,null,null,"離婚",1052,376,115,33,45,21,96,33,98,120,22,3,12,33,10,15,8,12]
["3.10.1",null,null,"総計","男女計（年齢不詳含む）",760209,260507,63634,28653,30654,21750,68387,27142,80288,87698,18821,2348,9801,19755,8998,10175,7884,13714]
[null,null,null,null,"男　",371049,127134,31466,14174,14688,10423,33368,12920,39552,42327,9158,1159,4709,9557,4521,5348,3956,6589]
[null,null,null,null,"女",389160,133373,32168,14479,15966,11327,35019,14222,40736,45371,9663,1189,5092,10198,4477,4827,3928,7125]
["3.10.1",null,null,"男","0～14",48048,16832,3998,1783,1628,1226,4827,1454,5151,5761,1037,98,601,1147,509,608,531,857]
[null,null,null,null,"15～24",34749,12697,2766,1149,1107,797,3295,1055,3692,4147,1248,69,407,823,312,434,295,456]
[null,null,null,null,"25～34",36033,12372,3025,1400,1158,856,3371,1230,4387,3988,904,104,381,811,500,539,447,560]
[null,null,null,null,"35～44",44633,15669,3880,1634,1636,1136,4381,1480,4907,5044,975,117,522,1055,504,599,408,686]
[null,null,null,null,"45～54",53750,18655,4715,1863,1937,1309,5197,1767,5828,6447,1209,141,578,1315,600,778,554,857]
[null,null,null,null,"55～64",46361,15309,4095,1897,2046,1422,3716,1786,4698,5351,1102,173,613,1263,643,683,604,960]
[null,null,null,null,"65以上",101125,32733,8135,3961,5048,3583,8252,3974,10426,11204,2472,457,1607,3128,1409,1463,1089,2184]
[null,null,null,null,"計(年齢不詳含む)",371049,127134,31466,14174,14688,10423,33368,12920,39552,42327,9158,1159,4709,9557,4521,5348,3956,6589]
[null,null,null,"女","0～14",45485,15656,3885,1645,1593,1151,4619,1457,4799,5498,1050,90,521,1121,435,576,544,845]
[null,null,null,null,"15～24",31350,10663,2464,944,1082,786,3140,1019,3462,4090,1157,68,365,775,294,307,265,469]
[null,null,null,null,"25～34",33122,11971,2595,1138,1044,747,3275,1132,4061,3790,807,74,339,672,378,355,292,452]
[null,null,null,null,"35～44",42599,15176,3636,1461,1595,1111,4220,1382,4555,4986,920,85,492,991,426,503,412,648]
[null,null,null,null,"45～54",52596,18533,4552,1794,1823,1345,5074,1798,5443,6528,1260,98,559,1269,471,664,468,917]
[null,null,null,null,"55～64",47549,16064,3899,1827,2143,1507,3851,1921,4774,5657,1183,186,654,1322,568,584,483,926]
[null,null,null,null,"65以上",132158,43358,10530,5249,6632,4671,10631,5369,13379,14396,3147,588,2162,4044,1877,1813,1459,2853]
[null,null,null,null,"計(年齢不詳含む)",389160,133373,32168,14479,15966,11327,35019,14222,40736,45371,9663,1189,5092,10198,4477,4827,3928,7125]
["28.6.1","3 事業所","事業所数","全産業","総数","…","…","…","…","…","…","…","…","…","…","…","…","…","…","…","…","…","…"]
[null,null,null,null,"民営",41644,15789,3335,1765,1837,1212,3520,1282,4369,3754,797,143,399,1076,571,567,478,750]
[null,null,null,null,"国，地方公共団体","…","…","…","…","…","…","…","…","…","…","…","…","…","…","…","…","…","…"]
[null,null,null,"農林漁業","総数","…","…","…","…","…","…","…","…","…","…","…","…","…","…","…","…","…","…"]
[null,null,null,null,"民営",348,56,4,13,37,18,15,24,30,37,13,10,17,14,16,5,13,26]
[null,null,null,null,"国，地方公共団体","…","…","…","…","…","…","…","…","…","…","…","…","…","…","…","…","…","…"]
[null,null,null,"鉱業","総数","…","…","…","…","…","…","…","…","…","…","…","…","…","…","…","…","…","…"]
[null,null,null,null,"民営",13,7,0,0,1,0,0,1,1,0,1,0,2,0,0,0,0,0]
[null,null,null,null,"国，地方公共団体","…","…","…","…","…","…","…","…","…","…","…","…","…","…","…","…","…","…"]
[null,null,null,"建設業","総数","…","…","…","…","…","…","…","…","…","…","…","…","…","…","…","…","…","…"]
[null,null,null,null,"民営",4743,1525,463,190,283,167,265,142,486,448,106,24,64,173,94,96,108,109]
[null,null,null,null,"国，地方公共団体","…","…","…","…","…","…","…","…","…","…","…","…","…","…","…","…","…","…"]
[null,null,null,"製造業","総数","…","…","…","…","…","…","…","…","…","…","…","…","…","…","…","…","…","…"]
[null,null,null,null,"民営",5292,1441,170,167,207,172,1056,166,707,651,142,27,38,203,32,28,24,61]
[null,null,null,null,"国，地方公共団体","…","…","…","…","…","…","…","…","…","…","…","…","…","…","…","…","…","…"]
[null,null,null,"電気・ガス・熱供給・水道業","総数","…","…","…","…","…","…","…","…","…","…","…","…","…","…","…","…","…","…"]
[null,null,null,null,"民営",46,5,9,2,4,2,0,0,5,7,2,0,0,0,7,1,2,0]
[null,null,null,null,"国，地方公共団体","…","…","…","…","…","…","…","…","…","…","…","…","…","…","…","…","…","…"]
[null,null,null,"情報通信業","総数","…","…","…","…","…","…","…","…","…","…","…","…","…","…","…","…","…","…"]
[null,null,null,null,"民営",322,195,24,10,3,6,17,2,16,37,3,1,1,1,3,1,1,1]
[null,null,null,null,"国，地方公共団体","…","…","…","…","…","…","…","…","…","…","…","…","…","…","…","…","…","…"]
[null,null,null,"運輸業、郵便業","総数","…","…","…","…","…","…","…","…","…","…","…","…","…","…","…","…","…","…"]
[null,null,null,null,"民営",799,310,92,19,18,16,48,32,76,106,17,2,6,15,11,10,6,15]
[null,null,null,null,"国，地方公共団体","…","…","…","…","…","…","…","…","…","…","…","…","…","…","…","…","…","…"]
[null,null,null,"卸売業、小売業","総数","…","…","…","…","…","…","…","…","…","…","…","…","…","…","…","…","…","…"]
[null,null,null,null,"民営",10543,4305,875,489,416,285,797,291,1142,930,174,28,94,249,118,102,78,170]
[null,null,null,null,"国，地方公共団体","…","…","…","…","…","…","…","…","…","…","…","…","…","…","…","…","…","…"]
[null,null,null,"金融業、保険業","総数","…","…","…","…","…","…","…","…","…","…","…","…","…","…","…","…","…","…"]
[null,null,null,null,"民営",749,394,56,34,23,17,51,15,66,41,7,1,4,13,7,5,4,11]
[null,null,null,null,"国，地方公共団体","…","…","…","…","…","…","…","…","…","…","…","…","…","…","…","…","…","…"]
[null,null,null,"不動産業、物品賃貸業","総数","…","…","…","…","…","…","…","…","…","…","…","…","…","…","…","…","…","…"]
[null,null,null,null,"民営",1288,697,107,67,26,14,74,19,123,72,47,0,2,10,8,11,6,5]
[null,null,null,null,"国，地方公共団体","…","…","…","…","…","…","…","…","…","…","…","…","…","…","…","…","…","…"]
[null,null,null,"学術研究、専門・技術サービス業","総数","…","…","…","…","…","…","…","…","…","…","…","…","…","…","…","…","…","…"]
[null,null,null,null,"民営",1529,757,136,68,50,32,89,33,130,115,22,4,13,15,21,14,12,18]
[null,null,null,null,"国，地方公共団体","…","…","…","…","…","…","…","…","…","…","…","…","…","…","…","…","…","…"]
[null,null,null,"宿泊業、飲食サービス業","総数","…","…","…","…","…","…","…","…","…","…","…","…","…","…","…","…","…","…"]
[null,null,null,null,"民営",5288,1977,569,244,230,151,338,202,425,376,69,14,62,132,100,152,87,160]
[null,null,null,null,"国，地方公共団体","…","…","…","…","…","…","…","…","…","…","…","…","…","…","…","…","…","…"]
[null,null,null,"生活関連サービス業、娯楽業","総数","…","…","…","…","…","…","…","…","…","…","…","…","…","…","…","…","…","…"]
[null,null,null,null,"民営",3577,1333,275,167,173,128,296,127,374,330,68,10,30,73,41,48,45,59]
[null,null,null,null,"国，地方公共団体","…","…","…","…","…","…","…","…","…","…","…","…","…","…","…","…","…","…"]
[null,null,null,"教育、学習支援業","総数","…","…","…","…","…","…","…","…","…","…","…","…","…","…","…","…","…","…"]
[null,null,null,null,"民営",1037,413,70,46,36,30,85,32,116,95,25,1,10,24,10,15,16,13]
[null,null,null,null,"国，地方公共団体","…","…","…","…","…","…","…","…","…","…","…","…","…","…","…","…","…","…"]
[null,null,null,"医療、福祉","総数","…","…","…","…","…","…","…","…","…","…","…","…","…","…","…","…","…","…"]
[null,null,null,null,"民営",2491,1024,201,81,151,75,195,81,262,200,36,5,23,49,32,17,24,35]
[null,null,null,null,"国，地方公共団体","…","…","…","…","…","…","…","…","…","…","…","…","…","…","…","…","…","…"]
[null,null,null,"複合サービス事業","総数","…","…","…","…","…","…","…","…","…","…","…","…","…","…","…","…","…","…"]
[null,null,null,null,"民営",367,116,17,21,17,13,24,13,34,36,11,4,10,14,8,12,6,11]
[null,null,null,null,"国，地方公共団体","…","…","…","…","…","…","…","…","…","…","…","…","…","…","…","…","…","…"]
[null,null,null,"サービス業（他に分類されないもの）","総数","…","…","…","…","…","…","…","…","…","…","…","…","…","…","…","…","…","…"]
[null,null,null,null,"民営",3212,1234,267,147,162,86,170,102,376,273,54,12,23,91,63,50,46,56]
[null,null,null,null,"国，地方公共団体","…","…","…","…","…","…","…","…","…","…","…","…","…","…","…","…","…","…"]
[null,null,null,"公務（他に分類されないもの）","総数","…","…","…","…","…","…","…","…","…","…","…","…","…","…","…","…","…","…"]
[null,null,null,null,"民営","…","…","…","…","…","…","…","…","…","…","…","…","…","…","…","…","…","…"]
[null,null,null,null,"国，地方公共団体","…","…","…","…","…","…","…","…","…","…","…","…","…","…","…","…","…","…"]
[null,null,"従業者数","全産業","総数","…","…","…","…","…","…","…","…","…","…","…","…","…","…","…","…","…","…"]
[null,null,null,null,"民営",377238,149061,31828,12822,13996,9260,29663,13756,42447,34682,9454,856,2657,6957,5012,4826,4277,5684]
[null,null,null,null,"国，地方公共団体等","…","…","…","…","…","…","…","…","…","…","…","…","…","…","…","…","…","…"]
[null,null,null,"農林漁業","総数","…","…","…","…","…","…","…","…","…","…","…","…","…","…","…","…","…","…"]
[null,null,null,null,"民営",4621,743,77,185,671,323,177,285,384,330,334,96,227,175,120,94,109,291]
[null,null,null,null,"国，地方公共団体等","…","…","…","…","…","…","…","…","…","…","…","…","…","…","…","…","…","…"]
[null,null,null,"鉱業","総数","…","…","…","…","…","…","…","…","…","…","…","…","…","…","…","…","…","…"]
[null,null,null,null,"民営",92,32,0,0,1,0,0,4,12,0,8,0,35,0,0,0,0,0]
[null,null,null,null,"国，地方公共団体等","…","…","…","…","…","…","…","…","…","…","…","…","…","…","…","…","…","…"]
[null,null,null,"建設業","総数","…","…","…","…","…","…","…","…","…","…","…","…","…","…","…","…","…","…"]
[null,null,null,null,"民営",32043,11445,3911,983,1695,814,1510,686,2574,2674,620,128,309,635,1036,1200,1261,562]
[null,null,null,null,"国，地方公共団体等","…","…","…","…","…","…","…","…","…","…","…","…","…","…","…","…","…","…"]
[null,null,null,"製造業","総数","…","…","…","…","…","…","…","…","…","…","…","…","…","…","…","…","…","…"]
[null,null,null,null,"民営",82745,20796,3953,2084,2742,2909,10659,4684,17247,10661,1312,210,594,2224,289,358,293,1730]
[null,null,null,null,"国，地方公共団体等","…","…","…","…","…","…","…","…","…","…","…","…","…","…","…","…","…","…"]
[null,null,null,"電気・ガス・熱供給・水道業","総数","…","…","…","…","…","…","…","…","…","…","…","…","…","…","…","…","…","…"]
[null,null,null,null,"民営",3601,396,524,34,157,15,0,0,193,162,92,0,0,0,1014,491,523,0]
[null,null,null,null,"国，地方公共団体等","…","…","…","…","…","…","…","…","…","…","…","…","…","…","…","…","…","…"]
[null,null,null,"情報通信業","総数","…","…","…","…","…","…","…","…","…","…","…","…","…","…","…","…","…","…"]
[null,null,null,null,"民営",5047,3411,216,59,11,43,265,10,120,825,20,1,32,4,24,0,2,4]
[null,null,null,null,"国，地方公共団体等","…","…","…","…","…","…","…","…","…","…","…","…","…","…","…","…","…","…"]
[null,null,null,"運輸業、郵便業","総数","…","…","…","…","…","…","…","…","…","…","…","…","…","…","…","…","…","…"]
[null,null,null,null,"民営",16135,7119,2182,297,215,345,677,1199,1567,1677,254,11,49,94,107,103,90,149]
[null,null,null,null,"国，地方公共団体等","…","…","…","…","…","…","…","…","…","…","…","…","…","…","…","…","…","…"]
[null,null,null,"卸売業、小売業","総数","…","…","…","…","…","…","…","…","…","…","…","…","…","…","…","…","…","…"]
[null,null,null,null,"民営",73107,34043,6007,3144,2223,1379,5638,1655,7217,6702,922,116,411,1353,552,561,351,833]
[null,null,null,null,"国，地方公共団体等","…","…","…","…","…","…","…","…","…","…","…","…","…","…","…","…","…","…"]
[null,null,null,"金融業、保険業","総数","…","…","…","…","…","…","…","…","…","…","…","…","…","…","…","…","…","…"]
[null,null,null,null,"民営",9238,5552,639,348,266,118,650,143,684,481,62,4,24,93,41,48,26,59]
[null,null,null,null,"国，地方公共団体等","…","…","…","…","…","…","…","…","…","…","…","…","…","…","…","…","…","…"]
[null,null,null,"不動産業、物品賃貸業","総数","…","…","…","…","…","…","…","…","…","…","…","…","…","…","…","…","…","…"]
[null,null,null,null,"民営",5756,2900,538,220,642,31,243,37,483,445,88,0,2,27,29,17,41,13]
[null,null,null,null,"国，地方公共団体等","…","…","…","…","…","…","…","…","…","…","…","…","…","…","…","…","…","…"]
[null,null,null,"学術研究、専門・技術サービス業","総数","…","…","…","…","…","…","…","…","…","…","…","…","…","…","…","…","…","…"]
[null,null,null,null,"民営",9623,4136,1765,748,273,97,397,116,728,668,74,4,26,36,171,72,246,66]
[null,null,null,null,"国，地方公共団体","…","…","…","…","…","…","…","…","…","…","…","…","…","…","…","…","…","…"]
[null,null,null,"宿泊業、飲食サービス業","総数","…","…","…","…","…","…","…","…","…","…","…","…","…","…","…","…","…","…"]
[null,null,null,null,"民営",32923,13787,3423,1406,848,645,2542,1686,2415,2523,364,94,304,687,429,656,335,779]
[null,null,null,null,"国，地方公共団体等","…","…","…","…","…","…","…","…","…","…","…","…","…","…","…","…","…","…"]
[null,null,null,"生活関連サービス業、娯楽業","総数","…","…","…","…","…","…","…","…","…","…","…","…","…","…","…","…","…","…"]
[null,null,null,null,"民営",14326,6418,1224,598,605,317,1069,564,1276,1246,143,14,74,160,117,152,140,209]
[null,null,null,null,"国，地方公共団体等","…","…","…","…","…","…","…","…","…","…","…","…","…","…","…","…","…","…"]
[null,null,null,"教育、学習支援業","総数","…","…","…","…","…","…","…","…","…","…","…","…","…","…","…","…","…","…"]
[null,null,null,null,"民営",10254,4626,509,218,113,149,490,205,748,253,2643,1,15,45,83,54,85,17]
[null,null,null,null,"国，地方公共団体等","…","…","…","…","…","…","…","…","…","…","…","…","…","…","…","…","…","…"]
[null,null,null,"医療、福祉","総数","…","…","…","…","…","…","…","…","…","…","…","…","…","…","…","…","…","…"]
[null,null,null,null,"民営",47565,20340,3682,1336,2194,1671,3700,1484,4288,3530,2124,117,377,1098,334,324,294,672]
[null,null,null,null,"国，地方公共団体等","…","…","…","…","…","…","…","…","…","…","…","…","…","…","…","…","…","…"]
[null,null,null,"複合サービス事業","総数","…","…","…","…","…","…","…","…","…","…","…","…","…","…","…","…","…","…"]
[null,null,null,null,"民営",4934,1431,381,306,197,133,557,128,552,624,94,40,72,112,78,96,39,94]
[null,null,null,null,"国，地方公共団体等","…","…","…","…","…","…","…","…","…","…","…","…","…","…","…","…","…","…"]
[null,null,null,"サービス業（他に分類されないもの）","総数","…","…","…","…","…","…","…","…","…","…","…","…","…","…","…","…","…","…"]
[null,null,null,null,"民営",25228,11886,2797,856,1143,271,1089,870,1959,1881,300,20,106,214,588,600,442,206]
[null,null,null,null,"国，地方公共団体等","…","…","…","…","…","…","…","…","…","…","…","…","…","…","…","…","…","…"]
[null,null,null,"公務（他に分類されないもの）","総数","…","…","…","…","…","…","…","…","…","…","…","…","…","…","…","…","…","…"]
[null,null,null,null,"民営","…","…","…","…","…","…","…","…","…","…","…","…","…","…","…","…","…","…"]
[null,null,null,null,"国，地方公共団体等","…","…","…","…","…","…","…","…","…","…","…","…","…","…","…","…","…","…"]
["2.2.1","4 農業","農業経営体数（総数）と就業状況","農業経営体数","総数",10546,2333,356,443,933,580,445,508,1196,1454,269,125,251,447,213,198,270,525]
[null,null,null,null,"個人経営体",9871,2195,351,424,885,554,412,457,1128,1316,253,108,229,426,197,194,255,487]
[null,null,null,null,"団体経営体",675,138,5,19,48,26,33,51,68,138,16,17,22,21,16,4,15,38]
[null,null,null,null,"　　法人経営",414,73,2,16,34,18,17,46,40,54,11,12,11,20,12,4,9,35]
[null,null,null,"農産物販売額規模別経営体数","総数",10546,2333,356,443,933,580,445,508,1196,1454,269,125,251,447,213,198,270,525]
[null,null,null,null,"販売なし",706,129,41,42,38,68,23,14,95,29,17,13,20,28,35,21,50,43]
[null,null,null,null,"50万円未満",3648,816,177,168,252,225,125,113,450,319,112,58,90,229,96,116,119,183]
[null,null,null,null,"50～300",4670,1075,112,182,508,219,224,253,527,778,113,34,107,152,51,53,71,211]
[null,null,null,null,"300～500",431,92,11,21,43,18,19,29,35,103,9,2,8,8,9,2,8,14]
[null,null,null,null,"500～1000",417,81,9,13,25,18,20,30,36,100,9,9,9,9,7,2,12,28]
[null,null,null,null,"1000万円以上",674,140,6,17,67,32,34,69,53,125,9,9,17,21,15,4,10,46]
[null,null,null,"農業に60日以上従事した世帯員、役員・構成員（経営主を含む）の平均","総数",67.900000000000006,67.8,69.2,67,68.3,69.3,67.3,66,68.2,66.8,69.2,68.2,67.3,70.2,67.3,71.7,66.900000000000006,67.3]
[null,null,null,null,"男",67.099999999999994,67.3,68.2,66,67.400000000000006,68.3,66.900000000000006,65.099999999999994,67.400000000000006,66.2,68.8,67.400000000000006,65.8,69.3,66.3,71.2,65.599999999999994,66.8]
[null,null,null,null,"女",69.7,69.2,70.900000000000006,69.7,69.7,71.8,68.599999999999994,68,70.599999999999994,68.3,70.3,69.8,71,72.2,69.5,72.400000000000006,69.099999999999994,68.3]
[null,null,null,"農業に150日以上従事","総数",67.400000000000006,66.400000000000006,69.599999999999994,67.400000000000006,69.3,69.900000000000006,65.3,64.599999999999994,66.599999999999994,66.400000000000006,70.7,66,65.8,70,66.599999999999994,73.599999999999994,66.3,65.599999999999994]
[null,null,null,null,"男",66.7,65.8,69.2,67,68.599999999999994,69.400000000000006,65,63.7,65.7,66,70.3,64,64.099999999999994,69.599999999999994,66.3,72.7,64.5,65]
[null,null,null,null,"女",69,67.900000000000006,70.2,68.3,70.7,71.2,66,66.400000000000006,69.3,67.5,71.599999999999994,69.8,70.599999999999994,71,67.2,75.400000000000006,69.5,67.2]
[null,null,null,"15歳以上の年齢階層別常雇い数（年齢不詳を含む）","総数",783,113,8,73,75,15,17,63,33,154,9,7,58,9,18,63,28,40]
[null,null,null,null,"男",489,79,3,28,52,7,13,46,28,109,7,6,29,8,3,37,10,24]
[null,null,null,null,"女",294,34,5,45,23,8,4,17,5,45,2,1,29,1,15,26,18,16]
[null,null,null,"経営耕地面積規模別経営体数","計",32792,6910,418,1011,3837,1416,1850,2560,3053,5920,653,327,837,964,530,205,605,1696]
[null,null,null,null,"0.5ha未満",728,163,42,40,35,40,27,31,83,55,18,15,14,47,25,26,29,40]
[null,null,null,null,"0.5 ～ 1.0",2338,549,94,100,183,150,84,86,302,230,70,26,61,122,49,60,67,106]
[null,null,null,null,"1.0 ～ 2.0",4042,908,89,152,469,225,182,215,463,711,99,22,82,118,46,41,61,160]
[null,null,null,null,"2.0 ～ 3.0",1968,398,31,86,263,84,85,105,166,431,33,9,40,57,27,19,44,88]
[null,null,null,null,"3.0 ～ 5.0",1473,287,52,67,153,53,53,98,142,333,43,11,30,37,29,11,12,63]
[null,null,null,null,"5.0以上",22242,4608,110,567,2732,863,1419,2026,1896,4161,390,244,614,583,354,48,392,1239]
["2年",null,"米収穫量",null,"収穫量",130000,28200,2000,4520,14100,5580,7810,9650,13300,21600,3440,1230,3310,4050,2380,962,2050,5800]
[null,null,null,null,"作付面積",25100,5290,416,929,2660,1100,1490,1810,2550,4060,686,280,693,795,488,200,424,1180]
[null,null,null,null,"10a当たり収量",518,532,481,487,530,506,524,532,522,533,501,439,478,509,488,481,483,491]
["2.7.15",null,"耕地面積",null,"総数",40000,7800,872,1420,4200,1930,2050,3420,3620,6610,1000,469,1060,1410,838,443,746,2080]
[null,null,null,null,"田",36300,7410,769,1300,4060,1780,1980,2600,3440,5880,936,414,956,1240,772,357,664,1710]
[null,null,null,null,"畑",3710,388,103,118,141,155,70,819,180,735,64,55,103,168,66,86,82,372]
["2年中",null,"農業生産物","水稲","作付面積",25100,5290,416,929,2660,1100,1490,1810,2550,4060,686,280,693,795,488,200,424,1180]
[null,null,null,null,"収穫量",130000,28200,2000,4520,14100,5580,7810,9650,13300,21600,3440,1230,3310,4050,2380,962,2050,5800]
[null,null,null,null,"10a当たり収量",518,532,481,487,530,506,524,532,522,533,501,439,478,509,488,481,483,491]
[null,null,null,"六条大麦","作付面積",4650,928,"-",36,683,240,262,548,256,1440,6,"-",34,111,15,"x",29,64]
[null,null,null,null,"収穫量",14000,3050,"-",94,1840,468,697,1800,686,4870,14,"-",35,229,36,"x",43,85]
[null,null,null,null,"10a当たり収量",300,329,"-",261,270,195,266,328,268,339,233,"-",103,206,240,"x",148,133]
[null,null,null,"大豆","作付面積",1800,412,"x",23,97,14,111,331,71,677,4,4,6,29,5,1,2,6]
[null,null,null,null,"収穫量",1820,503,"x",18,119,11,101,358,43,623,2,2,3,26,3,1,1,3]
[null,null,null,null,"10a当たり収量",101,122,"x",77,123,82,91,108,60,92,50,60,50,90,55,53,60,47]
["3.3.31",null,"畜産","乳用牛","農家数",20,3,"x",0,5,3,0,2,0,4,0,0,0,0,"x",0,0,"x"]
[null,null,null,null,"頭",843,102,35,0,244,131,0,138,0,131,0,0,0,0,56,0,0,6]
[null,null,null,"肉用牛","農家数",42,5,3,0,"x",3,0,0,"x",17,0,4,0,0,4,0,"x",3]
[null,null,null,null,"頭",2143,255,73,0,5,8,0,0,12,1174,0,280,0,0,173,0,38,125]
[null,null,null,"豚","農家数","x","-","-","-","x","-","-","-","x","-","-","-","-","-","-","-","-","-"]
[null,null,null,null,"頭",1394,0,0,0,140,null,0,0,1254,null,0,0,0,0,0,0,0,0]
[null,null,null,"採卵鶏","農家数",25,6,"x",0,0,"x","x",2,4,5,0,"x","x","x",0,0,"x","x"]
[null,null,null,null,"羽",770165,6720,350,0,0,139,180,200350,46740,508301,0,300,200,150,0,0,235,6500]
[null,null,null,"ブロイラー","農家数","x","x",0,0,0,0,0,0,0,"x",0,0,0,0,0,0,0,0]
[null,null,null,null,"羽",53300,23300,0,0,0,0,0,0,0,30000,0,0,0,0,0,0,0,0]
["3.3.31","5 林業","森林面積",null,"総面積",312141.71999999997,31943.210000000003,19899.71,19030.38,75824.779999999984,20180.559999999998,3148.4199999999996,4441.1299999999992,14185.62,7361.97,6865.21,17846.929999999997,31452.639999999999,11385.1,12575.460000000001,5336.68,18703.659999999996,11960.26]
[null,null,null,"人工林","針葉樹",120867.05,19360.16,4449.71,7345.22,18326.629999999997,7900.46,2093.1499999999996,3176.71,7775.12,3968.3,3102.87,7961.14,9174.7799999999988,6043.55,2622.39,2341.2200000000003,9604.48,5621.16]
[null,null,null,null,"広葉樹",2926.4599999999996,70.180000000000007,335.63,34.730000000000004,1360.6599999999999,221.39000000000001,40.33,25.93,59.06,29.6,14.31,178.45999999999998,299.63,30.74,3.69,2.5,183.83,35.79]
[null,null,null,"天然林","針葉樹",8946.2899999999991,750.28,2066.5500000000002,1177.73,463.65,221.21,72.23,281.25,628.61,149.07,68.23,30.63,340.89,146.86000000000001,858.03,348.43,610.48,732.16000000000008]
[null,null,null,null,"広葉樹",169937.47999999998,10922.710000000001,12596.189999999999,10147.220000000001,51981.329999999994,11070.38,899.78,862.68999999999994,5465.82,3076.86,3606.76,9257.36,20735.310000000001,4913.05,8596.8700000000008,2190.5,8168.4400000000005,5446.21]
[null,null,null,"竹林","竹林",1393.28,303.48,72.56,181.56,8.83,9.4,18.62,15.75,135.77000000000001,2.64,18.34,1.62,56.18,161,27.740000000000002,248.91,63.35,67.53]
[null,null,null,"無立木地","伐採跡地",111.5,21.310000000000002,0.35,3.12,26.14,27.17,0,7.61,0,2.1,0,8.3699999999999992,0,2.58,0.37,9.14,0.94,2.2999999999999998]
[null,null,null,null,"未立木地",7959.6599999999962,515.09,378.71999999999997,140.80000000000001,3657.54,730.55,24.30999999999996,71.19,121.23999999999991,133.4,54.7,409.35,845.84999999999798,87.32,466.37,195.98000000000002,72.139999999999986,55.11]
[null,null,"所有形態別",null,"国営",39306.969999999994,109.08,4794.99,705.7,20664.12,2002.41,16.959999999999901,44.33,54.83,46.34,41.629999999999903,2264.56,6530.63,16.89,6.6,7.7,1437.81,562.39]
[null,null,null,null,"公営",38866.19,1529.5500000000002,1873.73,1887.25,11115.759999999998,4145.07,126.77000000000001,571.91,996.81,1451.5400000000002,393.90999999999997,2198.13,4625.2700000000004,1666.03,1040.1500000000001,428.30999999999995,3072.5299999999997,1743.47]
[null,null,null,null,"私営",233968.56,30304.579999999991,13230.99,16437.430000000004,44044.900000000009,14033.080000000002,3004.69,3824.8900000000003,13133.980000000001,5864.0900000000011,6429.6700000000019,13384.24,20296.739999999998,9702.18,11528.710000000001,4900.67,14193.320000000002,9654.4000000000033]
["2年中",null,"林産物生産量",null,"生椎茸",212013.4,10903,3674,30,59014,"-",390,"-",16306,1509,780,"-",2193,4644,5,"-",111865,700]
[null,null,null,null,"乾椎茸",2092,111,126,"-",114,"-",171,"-","-","-","-","-","-",1240,"-","-",30,300]
[null,null,null,null,"なめこ",23554,"-",35,"-",6,"-","-","-","-",23500,"-","-","-",10,3,"-","-","-"]
[null,null,null,null,"えのきだけ",114466,114212,"-","-","-","-","-","-","-","-","-",254,"-","-","-","-","-","-"]
[null,null,null,null,"ひらたけ",9184,8954,"-","-","-","-","-","-","-","-","-","-","-",20,"-","-",210,"-"]
[null,null,null,null,"まいたけ",130264,450,"-","-",129814,"-","-","-","-","-","-","-","-","-","-","-","-","-"]
["2.12.31"," 6 漁業","漁船隻数・トン数",null,"無動力船隻数",39,0,0,2,0,0,0,0,0,7,12,0,0,0,0,17,1,0]
[null,null,null,null,"船外機付漁船隻数",1051,140,67,140,1,0,0,28,0,67,0,0,90,136,107,72,37,166]
[null,null,null,"動力船","隻数",1106,69,136,149,0,0,0,12,0,54,0,0,27,161,180,103,127,88]
[null,null,null,null,"総トン数",6188.37,497.39000000000004,670.19,577.82000000000005,0,0,0,15.239999999999998,0,605.71,0,0,143.43,1629.5100000000002,789.56999999999994,333.87,557.2299999999999,368.40999999999997]
["30.11.1",null,"就業者数",null,"総数",1328,114,134,154,0,0,0,42,0,122,0,0,90,266,123,82,132,69]
[null,null,null,null,"男",1234,109,121,139,0,0,0,41,0,93,0,0,90,258,119,75,121,68]
[null,null,null,null,"女",94,5,13,15,0,0,0,1,0,29,0,0,0,8,4,7,11,1]
["30年中",null,"海面漁業漁獲量（属人）",null,"  総  数",11317,1038,503,675,0,0,0,3,0,507,0,0,1516,3155,1409,681,972,858]
[null,null,"（※  養殖含まず）",null,"  魚  類",8504,583,420,570,0,0,0,2,0,94,0,0,1455,1901,1278,588,814,801]
[null,null,null,null,"  貝  類",261,6,10,32,0,0,0,1,0,20,0,0,4,120,21,9,27,12]
[null,null,null,null,"  藻  類",50,4,2,9,0,0,0,1,0,4,0,0,3,1,18,0,1,8]
[null,null,null,null," そ の 他",2502,445,71,64,0,0,0,0,0,389,0,0,54,1133,92,84,130,37]
["28.6.1(平成27年実績）","7 商業","事業所数","卸売業・小売業計",null,8905,3539,735,407,378,240,681,253,992,797,149,24,81,224,105,85,64,151]
[null,null,null,"卸売業","卸売業計",2072,1051,152,92,48,28,178,32,254,142,17,3,4,26,15,10,5,15]
[null,null,null,"小売業","小売業計",6833,2488,583,315,330,212,503,221,738,655,132,21,77,198,90,75,59,136]
[null,null,null,null,"各種商品小売業",26,12,3,1,0,0,2,0,3,2,0,0,0,0,1,0,0,2]
[null,null,null,null,"織物・衣服・身の回り品小売業",986,455,90,33,58,26,79,23,99,73,10,2,9,12,5,4,3,5]
[null,null,null,null,"飲食料品小売業",2102,665,180,106,86,63,154,89,232,221,48,7,38,76,33,30,18,56]
[null,null,null,null,"機械器具小売業",1028,388,91,37,62,40,71,31,128,89,12,4,8,17,11,12,10,17]
[null,null,null,null,"その他の小売業",2465,879,205,118,118,76,175,75,262,242,58,8,21,78,38,29,28,55]
[null,null,null,null,"無店舗小売業",226,89,14,20,6,7,22,3,14,28,4,0,1,15,2,0,0,1]
[null,null,"従業者数（人）","卸売業・小売業計",null,60306,27824,5066,2685,1944,1163,4817,1390,5847,5510,755,72,344,1023,456,414,272,724]
[null,null,null,"卸売業","卸売業計",17447,10424,1148,679,209,99,1486,232,1483,1203,150,5,10,126,64,44,20,65]
[null,null,null,"小売業","小売業計",42859,17400,3918,2006,1735,1064,3331,1158,4364,4307,605,67,334,897,392,370,252,659]
[null,null,null,null,"各種商品小売業",2195,1046,342,5,0,0,198,0,118,317,0,0,0,0,4,0,0,165]
[null,null,null,null,"織物・衣服・身の回り品小売業",3532,1990,294,98,125,69,270,78,299,214,21,5,16,20,8,8,6,11]
[null,null,null,null,"飲食料品小売業",15273,5305,1425,843,654,373,1271,525,1574,1786,241,14,174,453,138,187,101,209]
[null,null,null,null,"機械器具小売業",6435,2815,652,311,352,164,359,122,818,493,39,18,29,63,70,37,30,63]
[null,null,null,null,"その他の小売業",13896,5444,1120,682,576,402,1005,391,1507,1366,299,30,114,338,159,138,115,210]
[null,null,null,null,"無店舗小売業",1528,800,85,67,28,56,228,42,48,131,5,0,1,23,13,0,0,1]
[null,null,"年間商品販売額","卸売業・小売業計",null,1945172,1186220,156769,59330,32710,22697,115279,24938,137281,133270,16280,705,6548,18439,8204,8330,4221,13951]
[null,null,null,"卸売業","卸売業計",1124125,814926,75791,24287,4267,6386,57280,8458,56166,56203,7075,63,101,5470,3448,1221,248,2733]
[null,null,null,"小売業","小売業計",821047,371293,80978,35043,28443,16311,57999,16481,81115,77067,9205,642,6447,12969,4755,7110,3972,11218]
[null,null,null,null,"各種商品小売業",61566,35475,7877,"x",0,0,"x",0,1930,"x",0,0,0,0,"x",0,0,"x"]
[null,null,null,null,"織物・衣服・身の回り品小売業",46990,29283,3627,1276,992,743,3492,764,3665,2581,162,"x",103,132,24,33,"x",49]
[null,null,null,null,"飲食料品小売業",238769,83516,23405,11565,9947,6094,22395,6676,25845,25739,3511,41,3618,7273,1310,3248,1680,2906]
[null,null,null,null,"機械器具小売業",178495,93970,19293,7255,7796,2691,8600,1820,20616,12373,392,183,351,762,926,429,141,897]
[null,null,null,null,"その他の小売業",254849,105519,22895,"x","x",6072,"x","x",28111,"x",5118,"x","x",4710,2091,3399,"x",2706]
[null,null,null,null,"無店舗小売業",40378,23530,3881,1548,"x",711,5362,"x",948,1894,23,0,"x",92,"x",0,0,"x"]
["令和元年","8 住宅","元",null,"住宅数",307954,107546,25098,11667,11322,8370,22715,12982,31910,32406,7461,1050,4182,9634,4608,5220,3790,7993]
[null,null,"2",null,"建設した住宅数",4262,1503,387,193,74,53,591,106,609,394,83,7,21,66,57,58,26,34]
[null,null,null,null,"消失した住宅数",2151,606,265,91,103,95,146,136,210,230,56,8,32,47,38,54,15,19]
["2年",null,"2",null,"住宅数",310065,108443,25220,11769,11293,8328,23160,12952,32309,32570,7488,1049,4171,9653,4627,5224,3801,8008]
["3.8.1","9 議員・職員","市町議会",null,"議員定数",298,32,24,18,18,16,20,16,22,26,14,8,14,14,14,14,14,14]
[null,null,null,null,"最近の選挙年月日","-","31.4.21","31.4.21","31.4.21","31.2.17","元.8.4","元.6.30","3.6.20","30.7.8","30.4.15","30.7.8","31.4.21","30.4.22","3.3.7","30.3.4","31.4.21","31.4.21","3.4.11"]
[null,null,null,null,"選挙投票率","-",46.73,"無投票",67.47,60.82,63.7,53.07,63.98,57.39,52.39,61.59,85.28,79.709999999999994,74.36,"無投票",71.56,79.67,"無投票"]
["3.9.1",null,"有権者数",null,"男",308546,103760,26375,11806,13031,9126,27351,11046,31725,35876,7457,1024,4157,8549,3852,4274,3336,5801]
[null,null,null,null,"女",330662,112418,27298,12317,14299,10043,29157,12313,33425,38772,7900,1146,4547,9127,4060,4192,3404,6244]
["3.4.1",null,"市町職員数",null,"総数",7865,2279,1031,288,362,255,393,296,566,838,244,73,210,249,180,195,169,237]
[null,null,null,null,"一般行政職",4286,1207,351,209,221,152,257,207,350,384,104,50,115,175,113,124,132,135]
["2.6.1（令和元年実績）","10 工業","工業","事業所数","計",2032,557,74,63,79,62,342,76,286,310,48,9,13,51,15,8,6,33]
[null,null,null,null,"食料品",189,68,16,13,8,4,7,1,28,18,7,2,1,7,3,1,2,3]
[null,null,null,null,"飲料・飼料",20,5,0,0,2,1,0,0,1,2,4,0,0,1,1,0,0,3]
[null,null,null,null,"繊維",488,130,4,8,25,28,58,21,63,103,21,2,5,12,1,1,3,3]
[null,null,null,null,"木材",57,18,2,5,2,1,4,0,9,3,3,0,0,4,0,1,0,5]
[null,null,null,null,"家具",38,10,1,2,2,2,3,2,3,7,0,0,0,2,2,2,0,0]
[null,null,null,null,"パルプ・紙",81,22,4,1,3,0,2,3,37,7,0,0,0,0,0,0,0,2]
[null,null,null,null,"印刷",97,45,2,2,2,3,12,2,9,16,2,0,0,1,0,1,0,0]
[null,null,null,null,"化学",52,16,2,1,0,1,3,2,5,19,0,0,0,0,0,0,0,3]
[null,null,null,null,"石油・石炭",9,3,1,1,0,1,1,0,1,1,0,0,0,0,0,0,0,0]
[null,null,null,null,"プラスチック",116,28,7,1,2,0,16,5,28,14,2,0,3,7,1,0,0,2]
[null,null,null,null,"ゴム",5,4,0,0,0,0,0,0,1,0,0,0,0,0,0,0,0,0]
[null,null,null,null,"皮革",3,0,0,0,0,0,0,0,0,1,0,0,0,0,1,0,0,1]
[null,null,null,null,"窯業・土石",71,12,9,2,4,3,4,6,12,11,1,0,0,3,2,1,0,1]
[null,null,null,null,"鉄鋼",19,6,0,0,0,2,2,0,4,4,1,0,0,0,0,0,0,0]
[null,null,null,null,"非鉄金属",15,3,1,0,0,0,2,1,4,2,0,0,0,2,0,0,0,0]
[null,null,null,null,"金属",179,57,8,1,14,4,18,7,26,37,1,0,1,3,1,0,1,0]
[null,null,null,null,"はん用機械",28,11,0,0,0,1,2,3,2,7,1,0,0,1,0,0,0,0]
[null,null,null,null,"生産用機械",151,57,2,3,1,1,26,11,9,38,0,0,0,1,0,0,"-",2]
[null,null,null,null,"業務用機械",12,3,0,1,0,0,3,0,3,2,0,0,0,"-",0,0,0,"-"]
[null,null,null,null,"電子・デバイス",48,8,5,2,6,2,5,7,5,5,0,1,0,1,0,0,0,1]
[null,null,null,null,"電気機械",65,10,2,4,4,3,3,2,17,8,1,2,2,1,2,0,0,4]
[null,null,null,null,"情報通信機械",4,1,0,0,0,1,1,0,1,0,0,0,0,0,0,0,0,0]
[null,null,null,null,"輸送機械",26,3,3,2,2,3,1,2,3,2,1,0,0,"-",0,1,0,3]
[null,null,null,null,"その他",259,37,5,14,2,1,169,1,15,3,3,2,1,5,1,0,0,0]
[null,null,null,"従業者数","計",72879,17511,3538,1616,2523,2218,9550,4330,16272,9524,970,159,431,1746,255,198,179,1859]
[null,null,null,null,"食料品",4576,1801,315,287,152,104,134,34,881,431,130,9,10,89,12,5,23,159]
[null,null,null,null,"飲料・飼料",259,27,0,0,26,29,0,0,7,40,68,0,0,24,14,0,0,24]
[null,null,null,null,"繊維",14611,4821,215,186,524,1028,1958,479,1600,2949,329,34,135,155,6,29,102,61]
[null,null,null,null,"木材",1508,373,251,41,174,7,110,0,164,80,110,0,0,71,0,20,0,107]
[null,null,null,null,"家具",926,290,4,16,27,36,42,34,122,179,0,0,0,38,35,103,0,0]
[null,null,null,null,"パルプ・紙",1952,350,256,36,52,0,65,188,609,312,0,0,0,0,0,0,0,84]
[null,null,null,null,"印刷",2136,1280,62,14,25,34,214,13,107,314,41,0,0,26,0,6,0,0]
[null,null,null,null,"化学",4129,1055,255,48,0,346,106,903,450,654,0,0,0,0,0,0,0,312]
[null,null,null,null,"石油・石炭",86,25,7,14,0,18,5,0,8,9,0,0,0,0,0,0,0,0]
[null,null,null,null,"プラスチック",5149,1246,739,44,41,0,432,102,1184,875,22,0,99,143,39,0,0,183]
[null,null,null,null,"ゴム",189,67,0,0,0,0,0,0,122,0,0,0,0,0,0,0,0,0]
[null,null,null,null,"皮革",62,0,0,0,0,0,0,0,0,5,0,0,0,0,51,0,0,6]
[null,null,null,null,"窯業・土石",1997,200,591,31,45,31,116,109,466,252,4,0,0,61,49,29,0,13]
[null,null,null,null,"鉄鋼",349,75,0,0,0,89,21,0,95,65,4,0,0,0,0,0,0,0]
[null,null,null,null,"非鉄金属",1383,120,29,0,0,0,38,13,274,846,0,0,0,63,0,0,0,0]
[null,null,null,null,"金属",4481,1413,71,17,322,233,728,388,354,762,7,0,21,99,12,0,54,0]
[null,null,null,null,"はん用機械",751,153,0,0,0,5,32,36,28,342,72,0,0,83,0,0,0,0]
[null,null,null,null,"生産用機械",3797,1838,36,104,7,13,419,664,166,477,0,0,0,28,0,0,0,45]
[null,null,null,null,"業務用機械",617,40,0,53,0,0,162,0,341,21,0,0,0,0,0,0,0,0]
[null,null,null,null,"電子・デバイス",10105,969,574,154,726,56,1037,1273,3979,385,125,6,0,669,0,0,0,152]
[null,null,null,null,"電気機械",3274,227,42,225,117,127,33,17,1429,335,"-",88,97,133,30,0,0,374]
[null,null,null,null,"情報通信機械",302,85,0,0,0,19,4,0,194,0,0,0,0,0,0,0,0,0]
[null,null,null,null,"輸送機械",4404,244,36,25,98,34,13,70,3511,15,13,0,0,0,0,6,0,339]
[null,null,null,null,"その他",5836,812,55,321,187,9,3881,7,181,176,45,22,69,64,7,0,0,0]
[null,null,null,"製造品出荷額等","計",225907590,46040083,13169275,4343232,6023106,6034387,20641233,18566740,64886480,30382209,1503806,148803,1086397,4582543,457761,466059,256206,7319270]
[null,null,null,null,"食料品",5828346,2126054,332679,374864,117944,156015,95206,"x",1338482,499115,212860,"x","x",79336,4367,"x","x",390876]
[null,null,null,null,"飲料・飼料",603806,30167,0,0,"x","x",0,0,"x","x",228658,0,0,"x","x",0,0,13635]
[null,null,null,null,"繊維",23056130,8496615,615875,303141,456926,1205687,4305202,562721,2265983,3730399,378954,"x",121666,288626,"x","x",139211,122032]
[null,null,null,null,"木材",7984962,4488023,"x",52444,"x","x",151076,0,267396,312763,146966,0,0,82983,0,"x",0,150555]
[null,null,null,null,"家具",1555992,433136,"x","x","x","x",54494,"x",293381,265030,0,0,0,"x","x","x",0,0]
[null,null,null,null,"パルプ・紙",8763255,785820,1949879,"x",35971,0,"x",2382227,1341258,1545742,0,0,0,0,0,0,0,"x"]
[null,null,null,null,"印刷",3192644,2134093,"x","x","x",45832,358167,"x",138918,273233,"x",0,0,"x",0,"x",0,0]
[null,null,null,null,"化学",24676904,6647193,"x","x",0,"x",1486921,"x",2703466,4097145,0,0,0,0,0,0,0,896730]
[null,null,null,null,"石油・石炭",501566,152786,"x","x",0,"x","x",0,"x","x",0,0,0,0,0,0,0,0]
[null,null,null,null,"プラスチック",17151598,4011659,4452166,"x","x",0,1364704,98239,2928128,2731671,"x",0,433103,328905,"x",0,0,"x"]
[null,null,null,null,"ゴム",184358,"x",0,0,0,0,0,0,"x",0,0,0,0,0,0,0,0,0]
[null,null,null,null,"皮革",63100,0,0,0,0,0,0,0,0,"x",0,0,0,0,"x",0,0,"x"]
[null,null,null,null,"窯業・土石",5709186,819899,1125792,"x",150377,120339,354680,486162,1591563,468107,"x",0,0,85404,"x","x",0,"x"]
[null,null,null,null,"鉄鋼",2545958,285168,0,0,0,"x","x",0,513363,198281,0,0,0,0,0,0,0,0]
[null,null,null,null,"非鉄金属",13565204,679080,"x",0,0,0,"x","x",2562113,"x",0,0,0,"x",0,0,0,0]
[null,null,null,null,"金属",11743831,3727662,287826,"x",594707,815830,1446835,866771,873449,2468668,"x",0,"x",254136,"x",0,"x",0]
[null,null,null,null,"はん用機械",2135315,285030,0,0,0,0,"x",52141,"x",1019783,"x",0,0,"x",0,0,0,0]
[null,null,null,null,"生産用機械",10082029,4941744,"x",125837,"x","x",899363,2953611,240970,743081,0,0,0,"x",0,0,0,"x"]
[null,null,null,null,"業務用機械",959462,73988,0,"x",0,0,280503,0,418519,"x",0,0,0,0,0,0,0,0]
[null,null,null,null,"電子・デバイス",34102309,3734953,1935933,"x",2324248,"x",2112666,4438852,15970131,713634,0,"x",0,"x",0,0,0,"x"]
[null,null,null,null,"電気機械",20700290,396176,"x",1545940,327121,92882,64970,"x",13895363,908420,"x","x","x","x","x",0,0,2332917]
[null,null,null,null,"情報通信機械",874601,"x",0,0,0,"x","x",0,"x",0,0,0,0,0,0,0,0,0]
[null,null,null,null,"輸送機械",20143342,568792,22090,"x","x",8521,"x","x",16476881,"x","x",0,0,0,0,"x",0,2057872]
[null,null,null,null,"その他",9783402,927229,134886,516791,"x","x",7305235,"x",232094,210130,41396,"x","x",82854,"x",0,0,0]
[null,null,"工業用水量",null,"従業者30人以上の事業所",271073,63894,63803,527,4437,6690,39930,15845,47916,25861,259,"x",268,900,34,"x",28,538]
["3.3.31","11 上・下水道","上・下水道",null,"上水道",693022,254568,63223,23961,4559,21418,69353,24768,80603,90462,18159,0,9926,9803,6119,9695,0,6405]
[null,null,null,null,"簡易水道",50625,4608,0,4067,7333,0,0,2687,287,0,0,2280,0,10992,2631,319,7975,7446]
[null,null,null,null,"専用水道",935,332,0,0,98,135,0,0,0,0,0,0,0,0,340,0,30,0]
[null,null,null,null,"飲料水供給施設",1143,471,0,135,253,0,0,0,0,0,0,0,1,18,64,113,88,0]
["3.3.31",null,null,null,"下水道処理人口",629470,230237,55989,19911,17787,19254,50611,26497,64559,89525,14002,2089,4048,13902,5616,8092,1343,6008]
["2.4.1","12 交通・通信","道路",null,"実延長",10699.011999999999,2486,517.5,558.25700000000006,764,568.41999999999996,710.1,415.5,1065.2,997.19999999999993,265,164.70799999999997,419.06200000000001,475.15799999999996,208.4,207.50700000000001,319.89999999999998,557.1]
[null,null,null,null,"国道",592.1,108.8,12.2,31.1,110.2,39.700000000000003,11.1,11.2,24.7,25.3,27.3,37.6,72.400000000000006,45.1,0,0,19.5,15.9]
[null,null,null,null,"県道",1564.3,300.7,71.599999999999994,87.3,153.4,82.7,66.900000000000006,70.900000000000006,149.6,183.6,25.9,39,50.5,73.099999999999994,39.6,36.299999999999997,70.3,62.900000000000006]
[null,null,null,null,"市町道",8542.612000000001,2076.5,433.7,439.85700000000003,500.4,446.02,632.1,333.4,890.9,788.3,211.8,88.10799999999999,296.16199999999998,356.95799999999997,168.8,171.20700000000002,230.1,478.3]
["3.4.1",null,"鉄道",null,"営業キロ数",302.63,69.91,30.245999999999999,16.247,26.13,6.6,13.725999999999999,14.772,13.010999999999999,20.47,15.2,0,25.611000000000001,0,11.394,13.275,4.0650000000000004,21.972999999999999]
["3.3.31",null,"自動車台数","登録車","貨物",44847,18058,4644,4758,1469,1755,947,2704,1390,4854,866,150,938,369,412,489,399,642]
[null,null,null,null,"乗合",1843,542,197,183,104,92,64,97,118,136,20,6,41,22,46,39,83,53]
[null,null,null,null,"普通乗用",150712,54326,12116,15692,4659,6041,3955,12995,5551,18221,3694,454,3872,1913,1654,1690,1475,2403]
[null,null,null,null,"小型乗用",155223,56863,11291,15837,5056,6536,4376,12960,5876,18574,3751,485,4111,2015,1661,1744,1559,2527]
[null,null,null,null,"特種",14916,5243,1531,1384,546,1070,493,825,493,1477,295,93,377,145,238,186,199,293]
[null,null,null,null,"小型二輪",8493,2591,921,896,370,312,233,751,279,1034,171,25,195,152,114,144,106,199]
[null,null,null,"届出車","軽",287598,86854,24937,30417,12391,14160,9181,24680,11032,33342,6424,1311,8885,4580,4527,4103,3615,7159]
["3.3.31",null,"通信","郵便局数","総数",235,71,12,14,13,10,14,9,23,22,6,2,6,10,5,6,5,7]
[null,null,null,null,"郵便局",207,65,11,13,10,9,12,7,21,17,6,2,6,8,4,4,5,7]
[null,null,null,null,"簡易局",28,6,1,1,3,1,2,2,2,5,0,0,0,2,1,2,0,0]
["2.12.31",null,null,"電話数","一般加入電話数",71718,21437,6832,4745,3918,2706,4975,2330,6039,5658,1737,365,758,1949,2313,1455,1446,3055]
[null,null,null,null,"INSﾈｯﾄ加入数",11459,4307,1227,527,381,245,610,428,742,830,254,81,267,244,322,319,286,389]
["3年度","13 税・財政","調定額","普通会計","総額","-","-","-","-","-","-","-","-","-","-","-","-","-","-","-","-","-","-"]
[null,null,null,null,"市町村民税","-","-","-","-","-","-","-","-","-","-","-","-","-","-","-","-","-","-"]
[null,null,null,null,"固定資産税","-","-","-","-","-","-","-","-","-","-","-","-","-","-","-","-","-","-"]
[null,null,null,null,"その他","-","-","-","-","-","-","-","-","-","-","-","-","-","-","-","-","-","-"]
[null,null,null,"一人当たり金額","3年度歳入",500815.47179788712,432811.60583016963,515341.73555017752,566488.81443478866,550487.70144189999,528071.31034482759,377335.94104142598,563153.15746813058,434087.2857712236,461321.05635248241,453974.01838372031,1305919.9318568995,904764.10570349975,593524.98101746396,986500.77795065567,1192464.57002457,1484398.7823439878,676237.42161295027]
[null,null,null,null,"2年度歳入",677102.65524552262,578506.77282597451,736862.08730195975,728126.05606419453,810687.30609712296,734301.11356566427,546096.98313590477,696830.95596054418,576977.57512333675,659920.18236254761,621753.68576242623,1784841.8766290182,1088684.5502218637,933471.21685653797,1293294.8871688652,1291752.0301049713,1480248.3725588385,976133.79172038392]
[null,null,null,null,"3年度歳出",500815.47179788712,432811.60583016963,515341.73555017752,566488.81443478866,550487.70144189999,528071.31034482759,377335.94104142598,563153.15746813058,434087.2857712236,461321.05635248241,453974.01838372031,1305919.9318568995,904764.10570349975,593524.98101746396,986500.77795065567,1192464.57002457,1484398.7823439878,676237.42161295027]
[null,null,null,null,"3年度歳出",653771.95255146665,564489.77661354875,697974.39747259102,704124.35929159739,781170.53655987722,712117.80352553993,530755.41226585757,663741.74031021958,562727.15154233319,642452.73090183281,595792.01769165962,1596798.87054735,1019112.6462283179,899117.14890613977,1212519.2412514989,1226611.111111111,1414739.8597896844,924921.71608652046]
["3年度",null,"歳入","当初予算","総額",380724429,112750453,32793256,16231604,16874650,11485551,25804873,15285103,34852000,40456934,8544245,3066300,8867593,11725086,8876534,12133327,11703000,9273920]
[null,null,null,null,"地方税",119936460,41939000,12187646,3559321,3551726,2593513,8353000,4194037,12170000,11682800,1912328,248445,1312804,1963078,3777486,4685380,4142180,1663716]
[null,null,null,null,"地方譲与税",3255902,905000,216677,116000,225850,160019,248600,127500,328068,240850,83000,50294,101312,125239,60100,53097,85200,129096]
[null,null,null,null,"各種交付金",19288469,6685000,1658000,621500,750500,526416,1555000,798300,2482000,1816300,465600,62310,232200,496200,259000,272043,217300,390800]
[null,null,null,null,"地方特例交付金",3308248,1331000,465000,74000,26000,101659,542000,100000,276000,284000,10000,489,10800,37800,7000,7500,29000,6000]
[null,null,null,null,"地方交付税",64786400,10400000,1350000,5415000,5950000,3800000,4750000,2580000,4770000,7457000,3660000,1774400,3570000,4900000,160000,50000,100000,4100000]
[null,null,null,null,"分担金及び負担金",2620429,224629,1094889,192597,20591,17410,165165,105566,73285,432038,61205,14638,39112,25172,37407,57826,15467,43432]
[null,null,null,null,"使用料及び手数料",4636705,1257477,555974,240037,210411,130656,264121,195514,445433,526258,143260,44638,73714,129161,187318,61876,44057,126800]
[null,null,null,null,"国庫支出金",55970724,21486846,5000860,2079747,2098539,1335251,3916774,2294329,4356170,4101753,612913,122289,572564,1140368,1228058,2458520,2560355,605388]
[null,null,null,null,"県支出金",37032340,10700154,2698566,1437028,1729759,1138675,2363111,1455476,3137680,3359453,550934,312064,1064079,869377,1224330,1938173,2019615,1033866]
[null,null,null,null,"財産収入",1089004,107553,39032,26483,45481,21007,61153,38722,307701,69634,20635,10288,120896,79486,8010,40435,53679,38809]
[null,null,null,null,"繰入金",16573349,960177,1352213,389965,951930,85395,503105,1141104,2015755,3362280,295000,15303,503775,961877,529865,1640667,1630266,234672]
[null,null,null,null,"地方債",33166700,12194800,3284400,1255600,961500,950900,2470800,1606200,3458800,4074800,515000,248200,680400,613300,314300,216000,0,321700]
[null,null,null,null,"その他",19059699,4558817,2889999,824326,352363,624650,612044,648355,1031108,3049768,214370,162942,585937,384028,1083660,651810,805881,579641]
["2年度",null,"歳入","決算","総額",516411976,151057953,47114225,20597958,24824056,16287533,37433856,19003277,46312836,58189122,11808346,4108706,10795396,18518202,11863394,13044112,11824224,13628780]
[null,null,null,null,"地方税",126900573,44480240,13199993,3734281,3905328,2729877,9773908,4535105,13245404,12532147,2062416,253365,1282651,2286713,2795054,3969756,4284881,1829454]
[null,null,null,null,"地方譲与税",3457222,959254,227810,160751,223775,163650,252727,130666,311276,332629,82305,50060,102888,129663,60433,55133,84695,129507]
[null,null,null,null,"各種交付金",18502264,6518803,1579113,681880,743455,525481,1551439,713536,1931418,2037030,447935,57263,223688,466164,230435,243113,198158,353353]
[null,null,null,null,"地方特例交付金等",792292,268978,70462,29362,26109,18808,86230,25049,79750,99650,16919,1541,8523,18167,9397,9487,8420,15440]
[null,null,null,null,"地方交付税",71480523,11596114,1456323,5564802,6597844,4391197,4536953,3388313,5118548,7896750,4084218,1903561,3849434,5339737,1046709,105298,283290,4321432]
[null,null,null,null,"分担金及び負担金",2342010,203336,541058,226759,19010,87240,164044,218062,178690,419301,10305,5381,28164,49406,55051,31222,18621,86360]
[null,null,null,null,"使用料及び手数料",4337149,1175723,487304,240160,175791,106956,260971,164083,409315,485908,175978,34032,67563,117044,183972,64731,42530,145088]
[null,null,null,null,"国庫支出金",153363307,49750618,14343330,5535909,6783091,4730159,12686340,5434590,14779956,15220950,3000523,519960,2555267,4125427,3309313,4083995,3745529,2758350]
[null,null,null,null,"県支出金",36743440,10117896,2636787,1768245,2177905,1171782,2517098,1246035,2807273,3158063,599719,285472,923810,1073172,1367680,1918102,1825021,1149380]
[null,null,null,null,"財産収入",10632206,9496992,76433,163602,58920,37892,130591,65626,157369,57152,16878,10130,55834,74469,49168,47099,43879,90172]
[null,null,null,null,"繰入金",11742764,41357,1457720,182032,932914,408881,813800,571768,2076047,1954347,165768,12219,122162,768967,338576,391320,672595,832291]
[null,null,null,null,"地方債",38554591,8966498,4592700,971960,1906300,1169505,2741788,1419538,2525320,6841945,690200,524650,804200,2910300,1179378,490500,0,819809]
[null,null,null,null,"その他",35866252,6887721,6337813,1306193,1236476,708123,1809700,983701,2343808,6992659,439253,447956,755422,1123308,1219350,1608095,595413,1071261]
["3年度",null,"歳出","当初予算","総額",380724429,112750453,32793256,16231604,16874650,11485551,25804873,15285103,34852000,40456934,8544245,3066300,8867593,11725086,8876534,12133327,11703000,9273920]
[null,null,null,null,"議会費",3231372,684664,289361,185232,195744,161500,238612,173924,261882,300996,93993,53503,88018,101890,97079,100533,105746,98695]
[null,null,null,null,"総務費",45392988,8316352,5389304,1857400,2031773,1414135,2454170,1616459,3932013,6383700,1104578,540593,1128177,1544413,2019904,1940115,2170998,1548904]
[null,null,null,null,"民生費",127886975,45645415,10163031,5352744,5379527,3562731,9927993,4718487,11678757,14097662,2652291,378972,1813903,3326513,1577065,3374285,1920774,2316825]
[null,null,null,null,"衛生費",31171019,8288194,3122221,2118616,1484883,834622,2625865,949086,2241606,2322492,647132,193831,707938,1176001,1430381,835506,893181,1299464]
[null,null,null,null,"労働費",1755721,523612,138427,172510,134109,114219,116303,40248,189200,82751,28100,2750,18000,46718,35440,40339,50556,22439]
[null,null,null,null,"農林水産業費",18927351,3543601,488691,745835,1284254,684882,1009997,802172,1358871,2089733,506045,474374,902619,628888,679472,1410526,1530831,786560]
[null,null,null,null,"商工費",16800464,2811745,1369642,529382,901531,916872,611079,423859,2179243,1513540,210892,168796,944355,746730,509097,591438,2218521,153742]
[null,null,null,null,"土木費",44478565,16212433,5015132,1690965,1584856,972933,2498589,2955234,2905914,2910059,959745,320908,994775,936918,729335,2155695,1116714,518360]
[null,null,null,null,"消防費",13319230,3524784,1105886,594766,697356,341077,852226,549786,1394852,1643434,365737,97963,350341,527442,300480,295658,266829,410613]
[null,null,null,null,"教育費",37490413,9373201,3622511,1228748,1649769,1230817,2685411,1487058,3162977,5024109,1063247,329073,1212957,1399418,1039616,1051671,1122026,807804]
[null,null,null,null,"災害復旧費",128920,30750,4000,0,2570,0,0,1300,14000,0,0,0,0,0,0,0,76300,0]
[null,null,null,null,"公債費",38143356,13495702,2065050,1745406,1508278,1243663,2764628,1544792,4101560,4078458,909485,443686,692212,1279855,438665,314078,210524,1307314]
[null,null,null,null,"その他",1998055,300000,20000,10000,20000,8100,20000,22698,1431125,10000,3000,61851,14298,10300,20000,23483,20000,3200]
["3年度",null,"歳出","決算","総額",498618139,147397877,44627785,19918974,23920223,15795485,36382222,18100901,45168983,56648912,11315282,3675831,10105521,17836686,11122439,12386319,11300942,12913757]
[null,null,null,null,"議会費",3016505,650411,271179,174870,178203,155633,224366,147923,236177,272583,109310,52195,84975,92164,91707,94495,95767,84547]
[null,null,null,null,"総務費",145446304,38743519,14703462,5439891,6007521,4164233,10127365,4619582,14527881,20793523,3383060,1166231,2156459,6482851,3137910,3235653,2753493,4003670]
[null,null,null,null,"民生費",126199027,44484424,10099700,4624494,5454965,3921558,10842632,4665996,11944549,14243996,2764476,445728,1849832,3466207,1587370,1783556,1721895,2297649]
[null,null,null,null,"衛生費",27278361,6110685,2941911,1859558,1423409,771580,2046341,826040,2172335,2512479,662203,146986,573009,1080964,949184,759782,1174173,1267722]
[null,null,null,null,"労働費",1564642,405649,140743,164988,131758,114459,90257,30592,159929,81120,28137,2750,18000,45255,35574,43199,49793,22439]
[null,null,null,null,"農林水産業費",20361223,3427153,409370,859376,1349742,784440,1168205,742410,1295875,1901873,529368,567107,808025,847197,865639,2238021,1566447,1000975]
[null,null,null,null,"商工費",19600696,4103794,2737843,845757,880192,996268,1631214,707099,2176179,1386496,258585,171589,528519,918319,326318,516497,751714,664313]
[null,null,null,null,"土木費",54359522,18567880,3588417,1943942,4219476,1660163,2845599,2736186,3946125,3394429,1272819,365251,2036304,1373804,1993088,2226308,1301628,888103]
[null,null,null,null,"消防費",14217258,3447520,1124437,582789,715661,544794,914558,602714,1340561,1671474,336493,91361,342434,568484,746874,425716,356973,404415]
[null,null,null,null,"教育費",45491896,10350350,6667470,1700381,1991048,1553095,3838604,1566709,3421469,6428514,1108246,260487,958178,1650915,981875,789173,1228429,996953]
[null,null,null,null,"災害復旧費",357448,72365,1235,0,7532,5389,0,8101,2012,7830,2693,0,1430,165278,0,0,83583,0]
[null,null,null,null,"公債費",40722987,17034127,1942018,1722928,1560716,1123873,2653081,1447549,3945891,3954595,859892,406146,748356,1145248,406900,271649,217047,1282971]
[null,null,null,null,"その他",2270,0,0,0,0,0,0,0,0,0,0,0,0,0,0,2270,0,0]
["3.4.1","14 文化","公共施設数","図書館","館数",2,5,1,1,1,1,1,2,2,4,3,1,3,4,1,1,2,2]
[null,null,null,null,"図書数",1362649,1241588,270021,195612,215646,147364,356285,168849,558832,649435,164223,45941,118784,213105,73765,92837,141299,118266]
[null,null,null,"公民館","本館",182,50,9,13,9,9,10,9,17,23,7,1,3,1,4,4,4,9]
[null,null,null,null,"分館",25,6,0,0,0,0,0,0,0,3,1,0,7,4,3,0,0,1]
["3.3.31",null,null,"公園","都市公園数",937,398,40,24,34,33,190,24,94,81,1,0,0,15,2,1,0,0]
["3.4.1",null,null,"児童館","児童館数",99,28,3,4,4,1,15,"-",15,11,3,1,4,5,1,1,2,1]
["3.3.31",null,"社会教育学級講座",null,"学級講座数",2163,0,268,94,1151,98,0,0,0,323,0,0,0,0,229,0,0,0]
[null,null,null,null,"受講者数",39557,0,3984,2719,14915,2659,0,0,0,11832,0,0,0,0,3448,0,0,0]
["2.12.31",null,"宗教法人数",null,"仏教系",1685,384,127,139,78,46,111,65,222,121,35,11,71,80,35,39,45,76]
[null,null,null,null,"キリスト教系",37,12,6,2,2,2,3,2,3,3,0,0,0,0,1,1,0,0]
[null,null,null,null,"神道諸派",1812,469,106,108,102,83,63,95,167,205,55,34,60,94,40,26,33,72]
["3.3.31",null,"公会堂・市民会館",null,"箇所数",37,6,2,0,2,2,5,1,3,2,3,1,1,2,0,1,6,0]
["3.3.31",null,"テレビ",null,"衛星契約数",178314,65700,15612,4808,7089,5061,15435,6822,18074,19699,4626,539,1929,4464,2608,1381,1348,3119]
["27.10.1","15 労働","産業別就業者数","男","男計",217914,70147,18800,8537,9403,6673,18777,8033,22823,25751,5512,689,2990,6073,3199,3493,2629,4385]
[null,null,null,null,"第1次産業",9789,1889,380,399,934,510,443,610,821,1333,237,93,275,600,265,242,249,509]
[null,null,null,null,"農業",8326,1710,303,300,848,448,413,583,769,1219,227,73,189,298,166,182,147,451]
[null,null,null,null,"林業",554,126,10,19,84,59,24,21,45,32,9,19,31,23,3,4,36,9]
[null,null,null,null,"漁業",909,53,67,80,2,3,6,6,7,82,1,1,55,279,96,56,66,49]
[null,null,null,null,"第2次産業",84210,23283,6700,3020,3722,2807,8919,3153,11673,10687,1791,281,1290,2654,847,1223,761,1399]
[null,null,null,null,"鉱業，採石業，砂利採取業",79,16,8,1,5,6,4,1,10,3,2,0,14,3,1,0,0,5]
[null,null,null,null,"建設業",30243,8864,3736,1498,1833,1008,1824,863,2623,3327,729,116,436,789,539,876,561,621]
[null,null,null,null,"製造業",53888,14403,2956,1521,1884,1793,7091,2289,9040,7357,1060,165,840,1862,307,347,200,773]
[null,null,null,null,"第3次産業",120110,42993,11435,5073,4716,3310,8898,4190,9904,13575,3362,310,1409,2768,2085,2003,1605,2474]
[null,null,null,null,"電気･ ガス･ 熱供給･ 水道業 ",4356,533,1187,245,137,47,106,40,129,178,58,2,21,27,638,464,441,103]
[null,null,null,null,"情報通信業",3840,1807,210,57,108,97,361,157,262,500,101,5,36,71,24,9,9,26]
[null,null,null,null,"運輸業，郵便業",12784,4264,1582,306,419,348,999,485,1140,1819,331,36,204,306,147,117,66,215]
[null,null,null,null,"卸売業，小売業",29022,11326,1910,1170,1142,845,2397,912,2788,3485,852,63,305,673,288,241,169,456]
[null,null,null,null,"金融業，保険業",3833,1818,206,113,143,99,307,130,315,393,96,9,23,70,20,23,17,51]
[null,null,null,null,"不動産業，物品賃貸業",2337,1132,199,73,79,48,164,55,155,248,64,1,11,31,9,23,16,29]
[null,null,null,null,"学術研究，専門・技術サービス業",7429,2449,1369,399,241,116,438,209,554,677,175,13,78,140,175,138,102,156]
[null,null,null,null,"宿泊業，飲食サービス業",7488,2649,580,315,252,232,506,447,619,837,190,33,97,193,111,145,80,202]
[null,null,null,null,"生活関連サービス業，娯楽業",5027,1831,376,191,215,151,404,212,435,675,94,11,42,109,60,64,73,84]
[null,null,null,null,"教育，学習支援業",7599,2861,546,384,314,229,556,268,640,804,278,20,69,174,77,87,82,210]
[null,null,null,null,"医療，福祉",10476,4069,762,459,508,330,777,365,787,1180,326,28,98,290,72,126,94,205]
[null,null,null,null,"複合サービス事業",2877,746,166,185,197,87,211,146,252,354,73,14,53,117,60,57,41,118]
[null,null,null,null,"サービス業（他に分類されないもの）",13548,4194,1643,743,546,362,981,418,1109,1385,451,34,202,328,263,326,250,313]
[null,null,null,null,"公務(他に分類されないもの)",9494,3314,699,433,415,319,691,346,719,1040,273,41,170,239,141,183,165,306]
[null,null,null,null,"分類不能の産業",3805,1982,285,45,31,46,517,80,425,156,122,5,16,51,2,25,14,3]
[null,null,null,"女","女計",181255,59741,14020,6677,8330,5807,16142,7099,18770,21975,4902,582,2513,5056,2087,2298,1733,3523]
[null,null,null,null,"第1次産業",5037,935,235,238,623,270,179,313,332,717,121,55,126,185,105,197,121,285]
[null,null,null,null,"農業",4828,904,218,214,614,266,174,310,328,701,116,49,118,166,92,180,105,273]
[null,null,null,null,"林業",82,24,2,4,9,4,3,3,3,2,4,4,4,4,1,2,5,4]
[null,null,null,null,"漁業",127,7,15,20,0,0,2,0,1,14,1,2,4,15,12,15,11,8]
[null,null,null,null,"第2次産業",38392,9649,2059,1312,1844,1617,4711,1558,5744,5316,943,153,597,1330,314,306,296,643]
[null,null,null,null,"鉱業，採石業，砂利採取業",21,6,3,0,1,4,0,0,0,1,1,0,4,1,0,0,0,0]
[null,null,null,null,"建設業",5669,1793,668,228,328,173,357,169,524,640,153,15,56,125,95,126,107,112]
[null,null,null,null,"製造業",32702,7850,1388,1084,1515,1440,4354,1389,5220,4675,789,138,537,1204,219,180,189,531]
[null,null,null,null,"第3次産業",134566,47382,11522,5101,5837,3889,10823,5155,12355,15813,3702,371,1778,3495,1665,1771,1312,2595]
[null,null,null,null,"電気･ ガス･ 熱供給･ 水道業 ",432,94,107,32,15,11,17,10,24,33,9,1,3,2,16,23,22,13]
[null,null,null,null,"情報通信業",1771,832,142,47,31,43,137,51,105,224,50,3,8,28,18,22,15,15]
[null,null,null,null,"運輸業，郵便業",2965,1001,299,61,111,78,190,169,255,526,84,5,29,63,18,21,24,31]
[null,null,null,null,"卸売業，小売業",31778,11596,2718,1188,1217,803,2619,1158,3290,3800,750,69,375,776,342,342,206,529]
[null,null,null,null,"金融業，保険業",5421,2318,372,171,190,142,491,184,443,623,144,3,50,139,41,28,22,60]
[null,null,null,null,"不動産業，物品賃貸業",1672,817,163,41,39,23,114,35,152,165,36,4,11,23,13,14,8,14]
[null,null,null,null,"学術研究，専門・技術サービス業",3758,1544,397,104,139,66,281,113,343,425,97,5,25,69,48,32,27,43]
[null,null,null,null,"宿泊業，飲食サービス業",13579,4411,1533,576,441,316,840,791,1092,1458,311,47,232,402,274,314,201,340]
[null,null,null,null,"生活関連サービス業，娯楽業",8217,2888,732,274,398,260,650,381,779,1018,180,13,82,189,97,78,72,126]
[null,null,null,null,"教育，学習支援業",10859,4057,709,445,444,349,867,417,1002,1202,383,30,126,242,132,104,101,249]
[null,null,null,null,"医療，福祉",40283,13167,3142,1531,2127,1377,3595,1332,3673,4798,1312,154,621,1199,440,536,381,898]
[null,null,null,null,"複合サービス事業",1941,512,127,92,127,83,162,86,178,241,50,13,53,72,27,30,25,63]
[null,null,null,null,"サービス業（他に分類されないもの）",7866,2751,753,346,370,205,552,281,638,893,199,12,114,179,135,173,135,130]
[null,null,null,null,"公務(他に分類されないもの)",4024,1394,328,193,188,133,308,147,381,407,97,12,49,112,64,54,73,84]
[null,null,null,null,"分類不能の産業",3260,1775,204,26,26,31,429,73,339,129,136,3,12,46,3,24,4,0]
["3.4.1","16 社会福祉","社会福祉施設","施設数","生活保護施設",2,1,0,0,1,0,0,0,0,0,0,0,0,0,0,0,0,0]
[null,null,null,null,"地域福祉施設",3,0,1,0,0,0,0,0,0,0,0,0,0,1,0,0,0,1]
[null,null,null,null,"老人福祉施設",172,57,11,10,8,5,6,7,20,20,4,3,4,5,1,5,2,4]
[null,null,null,null,"介護保険施設",1216,438,100,45,76,35,84,50,111,122,24,6,17,29,15,17,15,32]
[null,null,null,null,"身体障害者福祉施設（旧法施設）",2,2,0,0,0,0,0,0,0,0,0,0,0,0,0,0,0,0]
[null,null,null,null,"障害福祉サービス事務所",571,202,40,27,32,19,45,37,54,51,7,3,5,11,8,3,7,20]
[null,null,null,null,"指定障害者支援施設",26,8,1,3,2,4,2,1,2,1,0,0,0,2,0,0,0,0]
[null,null,null,null,"指定相談支援事業所",26,4,3,3,3,0,3,3,2,3,0,0,0,1,0,0,0,1]
[null,null,null,null,"児童福祉施設",568,200,42,24,23,14,46,18,56,57,17,2,8,22,7,11,7,13]
[null,null,null,null,"母子福祉施設",1,1,0,0,0,0,0,0,0,0,0,0,0,0,0,0,0,0]
[null,null,null,null,"婦人保護施設",1,1,0,0,0,0,0,0,0,0,0,0,0,0,0,0,0,0]
[null,null,null,null,"その他社会福祉施設",13,5,2,0,0,0,0,0,1,1,0,0,0,0,2,1,1,0]
[null,null,null,null,"ふくい健康の森",4,4,0,0,0,0,0,0,0,0,0,0,0,0,0,0,0,0]
[null,null,null,"定員数","生活保護施設",140,0,0,0,140,0,0,0,0,0,0,0,0,0,0,0,0,0]
[null,null,null,null,"地域福祉施設",0,0,0,0,0,0,0,0,0,0,0,0,0,0,0,0,0,0]
[null,null,null,null,"老人福祉施設",5524,1802,214,111,387,76,143,658,496,689,525,22,75,208,0,54,10,54]
[null,null,null,null,"介護保険施設",23782,8243,1961,820,1289,789,1682,1026,2281,2442,614,107,462,692,269,310,306,489]
[null,null,null,null,"身体障害者福祉施設（旧法施設）",0,0,0,0,0,0,0,0,0,0,0,0,0,0,0,0,0,0]
[null,null,null,null,"障害福祉サービス事務所",6908,2919,431,256,248,233,530,460,670,625,49,20,44,62,107,0,54,200]
[null,null,null,null,"指定障害者支援施設",1653,490,30,120,110,215,190,50,138,125,0,0,0,185,0,0,0,0]
[null,null,null,null,"指定相談支援事業所",0,0,0,0,0,0,0,0,0,0,0,0,0,0,0,0,0,0]
[null,null,null,null,"児童福祉施設",31747,11945,2549,1182,1153,844,2915,1035,3279,2790,771,80,445,918,330,430,390,691]
[null,null,null,null,"母子福祉施設",0,0,0,0,0,0,0,0,0,0,0,0,0,0,0,0,0,0]
[null,null,null,null,"婦人保護施設",15,15,0,0,0,0,0,0,0,0,0,0,0,0,0,0,0,0]
[null,null,null,null,"その他社会福祉施設",0,0,0,0,0,0,0,0,0,0,0,0,0,0,0,0,0,0]
[null,null,null,null,"ふくい健康の森",0,0,0,0,0,0,0,0,0,0,0,0,0,0,0,0,0,0]
["3.5.1","17 教育","小学校","学校数","計",194,53,13,9,9,10,12,10,17,19,7,1,4,8,3,5,4,10]
[null,null,null,null,"本校",193,53,13,9,9,10,12,10,17,19,7,1,4,8,3,4,4,10]
[null,null,null,null,"分校",1,0,0,0,0,0,0,0,0,0,0,0,0,0,0,1,0,0]
[null,null,null,"教員数","本務",3060,949,221,138,121,112,262,109,293,340,89,11,55,108,41,49,55,107]
[null,null,null,null,"兼務",492,141,53,21,18,19,28,20,50,58,14,3,6,15,5,11,6,24]
[null,null,null,"児童数","総数",39236,13189,3383,1465,1376,1036,4017,1218,4144,4872,905,77,479,988,376,481,481,749]
[null,null,null,null,"男",20169,6848,1715,744,696,531,2057,615,2165,2461,455,38,267,498,198,254,246,381]
[null,null,null,null,"女",19067,6341,1668,721,680,505,1960,603,1979,2411,450,39,212,490,178,227,235,368]
[null,null,"中学校","学校数","計",83,29,7,2,5,4,3,2,8,5,3,1,3,4,1,2,2,2]
[null,null,null,null,"本校",81,28,7,2,5,4,3,2,7,5,3,1,3,4,1,2,2,2]
[null,null,null,null,"分校",2,1,0,0,0,0,0,0,1,0,0,0,0,0,0,0,0,0]
[null,null,null,"教員数","本務",1848,614,147,61,80,63,147,54,185,194,54,13,41,66,25,33,29,42]
[null,null,null,null,"兼務",387,193,55,6,22,13,8,6,28,15,7,1,9,10,1,7,2,4]
[null,null,null,"生徒数","総数",21196,7274,1825,739,782,566,2088,622,2245,2572,488,40,259,588,209,270,213,416]
[null,null,null,null,"男",10846,3721,916,391,406,302,1054,311,1149,1352,248,26,138,284,104,133,110,201]
[null,null,null,null,"女",10350,3553,909,348,376,264,1034,311,1096,1220,240,14,121,304,105,137,103,215]
[null,null,"高等学校","学校数","計",35,13,4,2,2,1,2,1,5,3,0,0,0,1,0,0,0,1]
[null,null,null,null,"本校",35,13,4,2,2,1,2,1,5,3,0,0,0,1,0,0,0,1]
[null,null,null,null,"分校",0,0,0,0,0,0,0,0,0,0,0,0,0,0,0,0,0,0]
[null,null,null,"教員数","本務",1631,711,146,112,88,35,79,49,189,151,0,0,0,32,0,0,0,39]
[null,null,null,null,"兼務",790,372,63,20,30,9,42,10,175,45,0,0,0,14,0,0,0,10]
[null,null,null,"生徒数","総数",20701,10619,1747,1203,767,310,845,644,2248,1556,0,0,0,333,0,0,0,429]
[null,null,null,null,"男",10437,5035,1018,614,422,141,461,359,1184,876,0,0,0,185,0,0,0,142]
[null,null,null,null,"女",10264,5584,729,589,345,169,384,285,1064,680,0,0,0,148,0,0,0,287]
[null,null,"大学・短期大学","学校数","本校",9,4,2,0,0,0,0,0,1,0,2,0,0,0,0,0,0,0]
[null,null,null,null,"分校",2,0,0,1,0,0,0,1,0,0,0,0,0,0,0,0,0,0]
[null,null,null,"教員数","本務",1081,483,43,23,0,0,0,8,63,0,461,0,0,0,0,0,0,0]
[null,null,null,null,"兼務",756,381,34,20,0,0,0,0,80,0,241,0,0,0,0,0,0,0]
[null,null,null,"学生数","総数",11599,7135,357,188,0,0,0,0,1189,0,2730,0,0,0,0,0,0,0]
[null,null,null,null,"男",6951,5063,123,146,0,0,0,0,336,0,1283,0,0,0,0,0,0,0]
[null,null,null,null,"女",4648,2072,234,42,0,0,0,0,853,0,1447,0,0,0,0,0,0,0]
[null,null,"高等専門学校","学校数","本校",1,0,0,0,0,0,1,0,0,0,0,0,0,0,0,0,0,0]
[null,null,null,null,"分校",0,0,0,0,0,0,0,0,0,0,0,0,0,0,0,0,0,0]
[null,null,null,"教員数","本務",79,0,0,0,0,0,79,0,0,0,0,0,0,0,0,0,0,0]
[null,null,null,null,"兼務",36,0,0,0,0,0,36,0,0,0,0,0,0,0,0,0,0,0]
[null,null,null,"学生数","総数",998,0,0,0,0,0,998,0,0,0,0,0,0,0,0,0,0,0]
[null,null,null,null,"男",790,0,0,0,0,0,790,0,0,0,0,0,0,0,0,0,0,0]
[null,null,null,null,"女",208,0,0,0,0,0,208,0,0,0,0,0,0,0,0,0,0,0]
[null,null,"特別支援学校","学校数","計",12,7,0,1,0,1,0,0,1,1,0,0,0,0,1,0,0,0]
[null,null,null,null,"本校",12,7,0,1,0,1,0,0,1,1,0,0,0,0,1,0,0,0]
[null,null,null,null,"分校",0,0,0,0,0,0,0,0,0,0,0,0,0,0,0,0,0,0]
[null,null,null,"教員数","本務",763,367,0,57,0,57,0,0,78,117,0,0,0,0,87,0,0,0]
[null,null,null,null,"兼務",79,60,0,1,0,4,0,0,5,5,0,0,0,0,4,0,0,0]
[null,null,null,"生徒数","総数",994,418,0,70,0,52,0,0,146,182,0,0,0,0,126,0,0,0]
[null,null,null,null,"男",620,254,0,46,0,30,0,0,91,123,0,0,0,0,76,0,0,0]
[null,null,null,null,"女",374,164,0,24,0,22,0,0,55,59,0,0,0,0,50,0,0,0]
[null,null,"幼稚園","園数","計",64,23,4,0,6,1,4,0,11,12,3,0,0,0,0,0,0,0]
[null,null,null,null,"本校",64,23,4,0,6,1,4,0,11,12,3,0,0,0,0,0,0,0]
[null,null,null,null,"分園",0,0,0,0,0,0,0,0,0,0,0,0,0,0,0,0,0,0]
[null,null,null,"教員数","本務",201,67,23,0,9,4,15,0,42,34,7,0,0,0,0,0,0,0]
[null,null,null,null,"兼務",62,28,13,0,0,0,3,0,14,0,4,0,0,0,0,0,0,0]
[null,null,null,"園児数","総数",1113,459,157,0,28,16,113,0,229,59,52,0,0,0,0,0,0,0]
[null,null,null,null,"男",559,224,81,0,13,5,64,0,123,22,27,0,0,0,0,0,0,0]
[null,null,null,null,"女",554,235,76,0,15,11,49,0,106,37,25,0,0,0,0,0,0,0]
[null,null,"幼保連携型","園数","計",138,63,3,3,8,7,5,12,17,9,0,1,2,3,0,1,4,0]
[null,null,"認定こども園",null,"本校",137,62,3,3,8,7,5,12,17,9,0,1,2,3,0,1,4,0]
[null,null,null,null,"分園",1,1,0,0,0,0,0,0,0,0,0,0,0,0,0,0,0,0]
[null,null,null,"教員数","本務",2638,1255,58,60,151,117,113,208,320,192,0,12,34,41,0,12,65,0]
[null,null,null,null,"兼務",427,265,22,8,0,9,23,2,30,40,0,3,21,1,0,0,3,0]
[null,null,null,"園児数","総数",15118,7402,550,409,758,526,760,870,1882,1116,0,51,262,170,0,41,321,0]
[null,null,null,null,"男",7678,3809,278,205,383,267,364,434,957,556,0,28,133,97,0,14,153,0]
[null,null,null,null,"女",7440,3593,272,204,375,259,396,436,925,560,0,23,129,73,0,27,168,0]
[null,null,"各種学校","学校数","計",12,4,3,1,1,1,"-","-",1,1,0,0,0,0,0,0,0,0]
[null,null,null,null,"本校",12,4,3,1,1,1,"-","-",1,1,0,0,0,0,0,0,0,0]
[null,null,null,null,"分校",0,0,0,0,0,0,0,0,0,0,0,0,0,0,0,0,0,0]
[null,null,null,"教員数","本務",231,114,35,13,10,21,"-","-",27,11,0,0,0,0,0,0,0,0]
[null,null,null,null,"兼務",11,6,"-",0,3,0,0,0,2,0,0,0,0,0,0,0,0,0]
[null,null,null,"生徒数","総数",2082,1354,245,126,33,54,0,0,180,90,0,0,0,0,0,0,0,0]
[null,null,null,null,"男",1387,927,146,93,24,29,"-","-",108,60,0,0,0,0,0,0,0,0]
[null,null,null,null,"女",695,427,99,33,9,25,"-","-",72,30,0,0,0,0,0,0,0,0]
[null,null,"専修学校","学校数","計",21,12,0,3,0,0,0,0,1,1,3,0,0,0,1,0,0,0]
[null,null,null,null,"本校",21,12,0,3,0,0,0,0,1,1,3,0,0,0,1,0,0,0]
[null,null,null,null,"分校",0,0,0,0,0,0,0,0,0,0,0,0,0,0,0,0,0,0]
[null,null,null,"教員数","本務",165,97,0,19,0,0,0,0,11,6,21,0,0,0,11,0,0,0]
[null,null,null,null,"兼務",350,205,0,93,0,0,0,0,0,5,18,0,0,0,29,0,0,0]
[null,null,null,"生徒数","総数",1479,973,0,140,0,0,0,0,106,58,131,0,0,0,71,0,0,0]
[null,null,null,null,"男",503,356,0,34,0,0,0,0,16,9,51,0,0,0,37,0,0,0]
[null,null,null,null,"女",976,617,0,106,0,0,0,0,90,49,80,0,0,0,34,0,0,0]
["元.10.1","18 衛生","医療関係施設数",null,"病院",67,27,5,2,4,2,7,3,7,4,1,0,0,2,0,1,0,2]
[null,null,null,null,"一般病院",57,23,3,2,4,1,6,3,6,4,1,0,0,2,0,1,0,1]
[null,null,null,null,"一般診療所",573,257,47,19,23,13,40,15,46,47,11,3,8,10,10,7,7,10]
[null,null,null,null,"有床",62,34,3,1,1,3,4,0,8,3,0,0,2,1,0,0,1,1]
[null,null,null,null,"歯科診療所",300,136,23,8,11,8,23,9,31,24,7,1,2,6,3,2,3,3]
["30.12.31",null,"医療関係者数",null,"医師",2057,979,126,68,29,43,110,39,97,77,418,3,9,15,6,13,6,19]
[null,null,null,null,"歯科医師",445,201,35,15,17,13,35,16,38,31,19,1,3,8,3,3,2,5]
[null,null,null,null,"薬剤師",1466,677,130,53,31,44,95,52,115,122,88,0,3,22,2,14,4,14]
[null,null,null,null,"保健師",477,155,54,28,20,20,35,22,40,34,17,3,8,11,9,11,0,10]
[null,null,null,null,"助産師",248,137,37,23,1,1,10,3,9,5,19,0,0,0,0,2,0,1]
[null,null,null,null,"看護師･准看護師",11822,5490,1033,459,261,357,877,312,839,675,869,15,68,159,46,124,51,187]
["2年中",null,"主な死因別死亡数",null,"全死因",9286,2946,763,371,457,341,743,381,951,971,241,55,164,317,142,128,80,235]
[null,null,null,null,"結核",13,4,1,1,null,2,null,null,2,null,null,1,1,null,null,1]
[null,null,null,null,"悪性新生物",512,175,42,20,18,18,45,17,54,52,15,3,9,12,9,5,3,15]
[null,null,null,null,"高血圧性疾患",65,10,5,3,1,7,6,8,4,14,null,null,null,null,2,null,null,5]
[null,null,null,null,"心疾患",125,31,18,10,8,1,6,1,10,20,3,null,3,7,null,2,1,4]
[null,null,null,null,"脳血管疾患",17,5,null,1,null,null,null,null,4,3,2,1,null,null,null,1]
[null,null,null,null,"肺炎",598,203,26,18,17,21,55,39,73,66,22,6,6,15,10,2,3,16]
[null,null,null,null,"老衰",820,204,105,46,46,32,33,24,70,104,30,6,7,36,12,15,10,40]
[null,null,null,null,"不慮の事故",282,88,21,18,15,7,27,6,26,30,13,2,6,9,4,1,3,6]
[null,null,null,null,"（うち交通事故）",39,12,3,null,3,2,2,null,6,3,2,1,null,4,1]
["3.4.1","19 警察・消防","警察",null,"警察署数",11,2,1,1,1,1,1,1,1,2,0,0,0,0,0,0,0,0]
[null,null,null,null,"交番・駐在所・検問所数",136,36,8,6,8,5,8,6,15,12,4,2,4,6,3,3,5,5]
["2年中",null,null,null,"刑法犯認知件数",2764,1160,292,74,102,56,280,90,215,248,31,5,27,46,27,16,14,37]
[null,null,null,null,"交通人身事故発生件数",868,380,85,16,19,16,97,28,52,98,11,"-",3,14,15,7,7,9]
["2年中",null,"消防",null,"出火件数",171,46,14,12,10,9,14,8,11,16,1,"-",3,5,8,3,2,9]
[null,null,null,null,"焼損棟数",152,52,12,7,7,8,25,7,5,5,4,"-","-",2,6,3,3,6]
[null,null,null,null,"林野焼損面積",5,5,0,0,0,0,0,0,0,0,0,0,0,0,0,0,0,0]
[null,null,null,null,"損害額",588667,381322,38078,1785,13169,19395,68666,6304,1069,15212,305,0,60,15579,2048,625,2066,22984]
["3.4.1",null,null,null,"消防自動車数",262,36,21,11,17,7,20,16,13,41,14,5,11,25,9,3,5,8]
[null,null,null,null,"その他のﾎﾟﾝﾌﾟ数",362,100,13,33,28,37,1,2,19,10,14,2,6,5,14,23,21,34]
[null,null,null,null,"消防吏員",1245,368,111,70,55,38,89,45,103,153,39,9,38,34,20,17,24,32]
[null,null,null,null,"消防団員",5874,999,279,368,441,292,221,249,538,459,350,57,210,356,229,148,169,509]

{"sheet":"福井県","index":4,"n_rows":93,"n_cols":103,"rows_kept":93,"cut":false,"hidden":false,"merged":[[92,68,92,77],[17,25,17,27],[20,81,20,84],[20,91,20,94],[20,99,20,102],[20,95,20,98],[20,86,20,90],[22,86,22,90],[21,86,21,90],[21,95,21,98],[22,99,22,102],[22,95,22,98],[26,86,26,90],[21,91,21,94],[22,91,22,94],[25,95,25,98],[26,91,26,94],[26,95,26,98],[24,95,24,98],[24,91,24,94],[23,99,23,102],[21,81,21,84],[22,81,22,84],[25,91,25,94],[24,99,24,102],[23,91,23,94],[21,99,21,102],[25,99,25,102],[23,86,23,90],[24,86,24,90],[25,86,25,90],[23,81,23,84],[25,81,25,84],[92,6,92,8],[89,14,89,16],[90,14,90,16],[91,14,91,16],[91,6,91,8],[89,6,89,8],[90,6,90,8],[50,33,50,38],[81,22,81,24],[53,33,53,34],[64,10,64,12],[62,10,62,12],[55,7,55,9],[50,29,50,32],[56,39,56,42],[57,39,57,42],[60,39,60,42],[71,0,71,6],[70,7,70,9],[64,22,64,24],[65,0,65,6],[65,16,65,18],[64,7,64,9],[65,7,65,9],[53,29,53,31],[62,7,62,9],[66,7,66,9],[60,7,60,9],[62,0,62,6],[61,0,61,6],[67,0,67,6],[26,81,26,84],[32,49,32,51],[41,36,41,37],[70,13,70,15],[70,22,70,24],[69,10,69,12],[69,16,69,18],[71,10,71,12],[71,19,71,21],[72,10,72,12],[69,0,69,6],[69,7,69,9],[66,0,66,6],[69,19,69,21],[69,25,69,28],[71,16,71,18],[72,16,72,18],[51,29,51,32],[51,25,51,28],[60,0,60,6],[68,0,68,6],[64,13,64,15],[71,13,71,15],[72,22,72,24],[72,25,72,28],[72,13,72,15],[67,7,67,9],[66,10,66,12],[66,13,66,15],[66,16,66,18],[70,10,70,12],[57,10,57,12],[53,25,53,27],[54,25,54,32],[61,16,61,18],[62,16,62,18],[59,16,59,18],[62,13,62,15],[57,16,57,18],[55,16,55,18],[55,10,55,12],[56,10,56,12],[55,0,55,6],[56,7,56,9],[50,25,50,28],[61,10,61,12],[59,0,59,6],[60,16,60,18],[59,13,59,15],[61,13,61,15],[58,10,58,12],[60,10,60,12],[59,10,59,12],[59,7,59,9],[60,19,60,21],[61,29,61,30],[62,22,62,24],[62,29,62,30],[60,22,60,24],[24,29,24,30],[24,35,24,36],[25,31,26,32],[25,33,26,34],[25,29,26,30],[20,29,20,31],[22,32,22,34],[18,25,18,27],[36,29,36,30],[45,36,45,37],[46,25,46,28],[72,19,72,21],[40,29,40,30],[51,33,51,35],[51,36,51,38],[55,31,55,34],[60,29,60,30],[62,19,62,21],[67,19,67,21],[67,22,67,24],[68,22,68,24],[65,22,65,24],[61,19,61,21],[59,22,59,24],[61,22,61,24],[59,19,59,21],[58,19,58,21],[57,19,57,21],[66,32,66,34],[66,35,66,38],[57,35,57,37],[23,25,23,28],[34,29,34,30],[35,22,35,24],[15,29,15,30],[15,32,15,33],[50,0,51,24],[40,19,40,21],[27,35,27,36],[40,32,40,35],[41,32,41,35],[57,0,57,6],[57,7,57,9],[41,22,41,24],[40,2,40,3],[44,25,44,28],[53,36,53,37],[21,29,21,31],[21,32,21,34],[19,29,19,31],[19,32,19,34],[47,0,47,1],[55,19,55,21],[56,13,56,15],[57,13,57,15],[55,13,55,15],[24,33,24,34],[25,25,25,26],[25,27,25,28],[24,27,24,28],[57,25,57,29],[57,22,57,24],[42,4,42,6],[42,13,42,15],[72,48,72,52],[73,32,73,33],[73,48,73,52],[73,43,73,47],[74,43,74,47],[72,43,72,47],[73,35,73,37],[67,97,67,102],[77,87,77,90],[76,62,76,66],[35,18,35,19],[31,11,31,13],[68,94,68,96],[73,62,73,66],[68,62,68,66],[68,76,68,78],[68,100,68,102],[70,85,70,87],[69,39,69,66],[70,43,70,47],[68,82,68,84],[75,39,75,42],[65,98,65,102],[64,68,64,71],[65,83,65,87],[65,88,65,92],[65,68,65,71],[64,16,64,18],[65,73,65,77],[65,93,65,97],[65,78,65,82],[70,79,70,81],[14,67,15,81],[23,16,23,18],[15,35,15,37],[19,35,19,38],[18,28,18,30],[21,35,21,38],[24,49,24,51],[25,40,25,46],[33,40,33,46],[40,49,40,51],[33,49,33,51],[34,49,34,51],[36,49,36,51],[39,40,39,46],[37,49,37,51],[34,40,34,46],[40,40,40,46],[34,36,34,37],[22,73,22,76],[40,53,40,56],[14,25,15,25],[14,26,15,28],[36,40,36,46],[39,60,39,64],[38,53,38,56],[37,67,37,73],[37,60,37,64],[34,53,34,56],[38,49,38,51],[35,40,35,46],[33,53,33,56],[35,53,35,56],[78,95,78,98],[72,39,72,42],[71,53,71,56],[72,57,72,61],[72,53,72,56],[78,91,78,94],[71,35,71,37],[71,29,71,30],[69,32,69,33],[74,32,74,33],[74,39,74,42],[72,35,72,37],[74,35,74,37],[73,39,73,42],[70,29,70,30],[70,32,70,33],[68,29,68,30],[69,35,69,37],[78,77,78,81],[78,72,78,76],[78,39,78,42],[77,39,77,42],[78,43,78,47],[75,35,75,37],[77,43,77,47],[76,43,76,47],[76,48,76,52],[75,48,75,52],[75,43,75,47],[76,96,76,99],[77,82,77,86],[70,77,70,78],[79,101,79,102],[80,82,80,86],[77,91,77,94],[77,62,77,66],[76,87,76,90],[78,62,78,66],[79,97,79,98],[79,62,79,66],[76,78,76,81],[70,57,70,61],[71,57,71,61],[73,57,73,61],[74,57,74,61],[71,48,71,52],[78,67,78,71],[80,96,80,98],[78,82,78,86],[78,99,78,102],[78,87,78,90],[79,48,79,52],[75,53,75,56],[70,100,70,102],[70,88,70,90],[70,97,70,99],[70,94,70,96],[71,67,72,81],[72,62,72,66],[74,68,74,74],[75,62,75,66],[73,86,73,92],[78,48,78,52],[79,57,79,61],[81,48,81,52],[81,43,81,47],[81,53,81,56],[81,62,81,66],[88,61,88,66],[80,39,80,42],[80,57,80,61],[80,53,80,56],[80,88,80,90],[80,78,80,80],[80,62,80,66],[86,92,86,95],[87,80,87,83],[87,98,87,101],[87,92,87,95],[85,98,85,101],[88,68,88,77],[84,92,84,95],[80,68,80,70],[80,73,80,75],[81,67,82,102],[80,100,80,102],[80,92,80,94],[82,48,82,52],[82,43,82,47],[89,32,89,34],[88,43,88,48],[90,58,90,60],[90,22,90,24],[89,61,89,63],[88,35,88,38],[88,32,88,34],[88,50,88,53],[90,44,90,45],[90,46,90,48],[89,39,89,42],[88,28,88,29],[86,86,86,89],[81,29,81,31],[80,25,81,28],[82,57,82,61],[82,53,82,56],[82,62,82,66],[84,53,84,56],[80,43,80,47],[80,48,80,52],[83,39,83,42],[84,39,84,42],[82,39,82,42],[84,80,84,83],[84,57,84,61],[83,29,83,30],[83,32,83,33],[80,35,81,38],[81,39,81,42],[81,32,81,34],[81,57,81,61],[91,26,91,27],[91,28,91,29],[91,30,91,31],[91,32,91,34],[91,52,91,57],[90,98,90,101],[86,80,86,83],[88,86,88,89],[89,98,89,101],[84,68,84,77],[85,86,85,89],[85,80,85,83],[84,85,84,90],[84,98,84,101],[86,98,86,101],[90,64,90,66],[90,92,90,95],[89,68,89,77],[87,68,87,77],[89,92,89,95],[88,80,88,83],[88,92,88,95],[90,80,90,83],[89,80,89,83],[88,98,88,101],[85,92,85,95],[87,86,87,89],[91,92,91,95],[91,98,91,101],[90,86,90,89],[89,86,89,89],[86,68,86,77],[92,61,92,66],[92,39,92,42],[92,43,92,45],[92,49,92,51],[92,52,92,57],[92,46,92,48],[90,39,90,42],[91,35,91,36],[90,68,90,77],[91,37,91,38],[91,39,91,42],[91,61,91,66],[83,26,83,27],[88,30,88,31],[84,43,84,47],[91,43,91,45],[91,46,91,48],[85,68,85,77],[83,36,83,37],[90,61,90,63],[83,57,83,61],[84,62,84,66],[83,43,83,47],[83,48,83,52],[90,52,90,54],[84,48,84,52],[90,50,90,51],[83,53,83,56],[90,55,90,57],[83,62,83,66],[91,49,91,51],[91,68,91,77],[71,82,72,102],[68,53,68,56],[68,57,68,61],[77,77,77,81],[76,69,76,72],[74,53,74,56],[74,48,74,52],[77,48,77,52],[73,95,73,101],[74,77,74,83],[74,87,74,91],[74,96,74,100],[73,77,73,83],[74,62,74,66],[71,62,71,66],[76,53,76,56],[63,89,63,91],[63,84,63,86],[68,91,68,93],[67,82,67,84],[65,57,65,63],[68,79,68,81],[68,85,68,87],[65,53,65,56],[67,79,67,81],[67,67,70,71],[70,72,70,75],[68,72,68,75],[70,83,70,84],[67,57,67,61],[67,53,67,56],[70,53,70,56],[66,76,66,90],[67,88,67,90],[66,39,66,66],[67,43,67,47],[68,39,68,42],[65,39,65,42],[70,91,70,93],[70,62,70,66],[67,62,67,66],[65,43,65,49],[70,39,70,42],[70,48,70,52],[67,39,67,42],[68,88,68,90],[68,48,68,52],[66,92,66,96],[60,97,60,102],[60,85,60,90],[60,91,60,96],[68,43,68,47],[58,61,58,63],[57,64,57,66],[58,58,58,60],[57,31,57,33],[63,94,63,96],[63,99,63,101],[62,87,62,89],[62,99,62,101],[62,93,62,95],[58,39,58,42],[61,68,61,71],[61,80,61,83],[62,75,62,77],[59,59,59,62],[62,68,62,71],[62,81,62,83],[61,36,61,37],[60,36,60,37],[61,39,61,42],[63,74,63,76],[56,80,56,82],[55,80,55,82],[56,68,56,75],[56,77,56,79],[56,91,56,94],[54,87,54,90],[57,47,57,50],[57,51,57,54],[57,58,57,60],[56,48,56,53],[55,68,55,75],[55,59,55,62],[54,77,54,79],[61,63,61,66],[57,43,57,46],[60,63,60,66],[60,59,60,62],[58,64,58,66],[58,55,58,57],[58,48,58,50],[57,55,57,57],[55,51,55,53],[61,59,61,62],[61,43,61,47],[61,48,61,52],[61,53,61,56],[59,43,59,56],[60,43,60,47],[60,48,60,52],[60,53,60,56],[54,59,54,66],[57,61,57,63],[51,68,51,75],[48,62,48,65],[50,99,50,102],[51,99,51,102],[51,95,51,98],[50,87,50,90],[49,99,49,102],[56,95,56,98],[52,99,52,102],[53,99,53,102],[55,95,55,98],[56,99,56,102],[53,95,53,98],[52,95,52,98],[54,99,54,102],[54,95,54,98],[55,99,55,102],[53,77,53,79],[53,80,53,82],[53,83,53,86],[53,87,53,90],[53,91,53,94],[54,91,54,94],[54,80,54,82],[54,83,54,86],[55,83,55,86],[55,87,55,90],[55,91,55,94],[55,77,55,79],[56,87,56,90],[55,63,55,65],[56,83,56,86],[48,83,48,86],[48,77,48,79],[51,87,51,90],[48,95,48,98],[50,95,50,98],[52,77,52,79],[52,80,52,82],[52,83,52,86],[52,87,52,90],[52,91,52,94],[50,91,50,94],[49,87,49,90],[49,91,49,94],[50,83,50,86],[50,77,50,79],[49,80,49,82],[50,80,50,82],[42,40,42,46],[45,25,45,28],[42,7,42,9],[42,10,42,12],[42,16,42,18],[43,40,43,46],[43,49,43,51],[46,36,46,37],[47,10,47,12],[47,13,47,15],[44,19,44,24],[47,19,47,21],[47,7,47,9],[48,10,48,12],[49,68,49,75],[49,62,49,66],[49,58,49,61],[48,0,48,1],[48,7,48,9],[48,56,48,59],[48,68,48,75],[40,36,40,37],[38,67,38,73],[40,60,40,64],[39,49,39,51],[40,67,41,73],[41,60,41,64],[35,36,35,37],[35,29,35,30],[41,4,41,6],[35,5,35,7],[35,8,35,10],[35,20,35,21],[40,22,40,24],[46,69,46,74],[48,22,48,24],[48,13,48,15],[48,16,48,18],[48,19,48,21],[44,29,44,30],[42,36,42,37],[42,32,42,35],[46,0,46,1],[44,0,45,1],[47,22,47,24],[44,32,44,35],[45,32,45,35],[47,16,47,18],[46,32,46,35],[28,73,28,76],[32,68,32,72],[32,73,32,76],[43,60,43,64],[41,49,41,51],[42,49,42,51],[30,86,30,90],[29,81,29,84],[29,86,29,90],[38,97,38,100],[37,97,37,100],[42,60,42,64],[43,53,43,56],[42,53,42,56],[33,60,33,64],[34,60,34,64],[35,75,35,77],[36,60,36,64],[36,67,36,73],[35,68,35,72],[37,53,37,56],[35,49,35,51],[35,60,35,64],[36,53,36,56],[39,53,39,56],[38,60,38,64],[39,67,39,73],[37,79,37,82],[31,81,31,84],[28,60,28,64],[26,99,26,102],[26,68,26,72],[27,53,27,56],[31,99,31,102],[27,95,27,98],[27,73,27,76],[31,91,31,94],[30,81,30,84],[26,73,26,76],[29,99,29,102],[30,95,30,98],[28,91,28,94],[27,99,27,102],[27,91,27,94],[28,99,28,102],[29,91,29,94],[30,91,30,94],[30,99,30,102],[28,81,28,84],[31,60,31,64],[31,95,31,98],[28,95,28,98],[29,95,29,98],[27,81,27,84],[26,77,26,80],[27,86,27,90],[29,60,29,64],[28,77,28,80],[30,60,30,64],[31,73,31,76],[28,86,28,90],[31,68,31,72],[24,60,24,64],[23,60,23,64],[21,60,21,64],[22,60,22,64],[22,68,22,72],[25,60,25,64],[25,49,25,51],[22,35,22,38],[25,73,25,76],[23,77,23,80],[21,73,21,76],[24,73,24,76],[23,73,23,76],[25,77,25,80],[24,77,24,80],[24,37,24,38],[27,77,27,80],[27,68,27,72],[23,35,23,38],[21,40,21,46],[27,40,27,46],[24,40,24,46],[23,49,23,51],[22,53,22,56],[21,49,21,51],[27,60,27,64],[17,53,17,57],[17,68,17,71],[19,40,19,46],[20,16,20,18],[20,21,20,23],[17,59,17,65],[19,53,19,56],[17,48,17,52],[19,49,19,51],[20,32,20,34],[17,40,17,46],[19,60,19,64],[23,32,23,34],[22,25,22,28],[29,53,29,56],[28,53,28,56],[27,49,27,51],[26,53,26,56],[26,60,26,64],[26,49,26,51],[28,49,28,51],[27,27,27,28],[27,33,27,34],[26,25,26,26],[26,27,26,28],[27,25,27,26],[27,29,27,30],[20,25,20,28],[24,53,24,56],[21,53,21,56],[25,53,25,56],[24,68,24,72],[23,21,23,23],[23,40,23,46],[29,14,29,16],[5,0,5,9],[6,0,8,9],[19,3,19,5],[22,7,22,8],[27,0,27,4],[27,5,27,7],[14,0,15,24],[26,22,26,24],[27,22,27,24],[20,11,20,13],[30,11,30,13],[27,31,27,32],[25,35,26,36],[22,29,22,31],[23,29,23,31],[27,37,27,38],[25,37,26,38],[24,31,24,32],[24,0,25,24],[30,20,30,21],[30,5,30,7],[26,40,26,46],[19,25,19,28],[23,11,23,13],[21,25,21,28],[18,35,18,38],[30,22,30,24],[20,35,20,38],[22,40,22,46],[29,8,29,10],[29,11,29,13],[29,20,29,21],[32,40,32,46],[29,40,29,46],[30,40,30,46],[32,8,32,10],[31,18,31,19],[32,20,32,21],[33,5,33,7],[33,8,33,10],[33,11,33,13],[33,14,33,16],[29,18,29,19],[29,22,29,24],[30,8,30,10],[31,14,31,16],[31,20,31,21],[32,11,32,13],[19,95,19,98],[19,99,19,102],[19,73,19,76],[23,95,23,98],[23,68,23,72],[22,77,22,80],[20,73,20,76],[34,22,34,24],[34,14,34,16],[36,75,36,77],[36,93,36,95],[29,49,29,51],[20,77,20,80],[31,5,31,7],[31,8,31,10],[31,53,31,56],[30,53,30,56],[31,40,31,46],[30,18,30,19],[28,40,28,46],[29,5,29,7],[33,18,33,19],[32,22,32,24],[31,22,31,24],[32,53,32,56],[31,49,31,51],[33,20,33,21],[30,49,30,51],[30,14,30,16],[20,53,20,56],[22,49,22,51],[32,5,32,7],[50,63,50,66],[49,54,49,57],[50,59,50,61],[54,51,54,54],[54,55,54,58],[50,55,50,57],[49,50,49,53],[41,85,41,91],[49,77,49,79],[49,83,49,86],[45,84,45,89],[48,87,48,90],[48,91,48,94],[32,14,32,16],[32,60,32,64],[33,22,33,24],[35,93,35,95],[36,79,36,82],[35,80,35,83],[35,86,35,90],[36,85,36,91],[32,18,32,19],[38,40,38,46],[48,50,48,53],[49,46,49,49],[49,39,49,45],[51,91,51,94],[51,77,51,79],[51,80,51,82],[51,83,51,86],[47,91,47,94],[47,95,47,98],[47,99,47,102],[32,91,32,94],[32,95,32,98],[33,67,34,81],[29,73,29,76],[14,82,15,95],[39,97,39,100],[40,97,40,100],[39,79,39,82],[40,85,40,91],[39,93,39,95],[32,77,32,80],[47,68,47,75],[47,80,47,82],[47,83,47,86],[35,98,35,101],[36,97,36,100],[17,91,17,94],[17,73,17,76],[17,82,17,83],[19,81,19,84],[17,86,17,89],[19,77,19,80],[29,77,29,80],[28,68,28,72],[32,99,32,102],[30,77,30,80],[31,77,31,80],[30,68,30,72],[30,73,30,76],[21,77,21,80],[19,91,19,94],[20,40,20,46],[23,53,23,56],[48,99,48,102],[46,99,46,102],[39,85,39,91],[16,74,16,95],[17,100,17,101],[91,80,91,83],[91,86,91,89],[48,80,48,82],[50,68,50,75],[53,68,53,75],[54,68,54,75],[57,67,58,102],[40,79,41,82],[45,77,45,82],[42,67,42,73],[47,77,47,79],[47,87,47,90],[42,85,42,91],[40,75,41,77],[43,67,44,80],[42,79,42,82],[43,81,44,102],[42,75,42,77],[42,93,42,95],[50,50,50,53],[73,53,73,56],[71,43,71,47],[67,48,67,52],[58,44,58,46],[55,47,55,49],[63,7,63,9],[68,25,68,28],[56,0,56,6],[58,0,58,6],[63,19,63,21],[58,7,58,9],[72,29,72,30],[72,32,72,33],[32,81,32,84],[33,82,34,95],[75,57,75,61],[16,32,16,33],[16,36,16,37],[17,32,17,34],[17,36,17,38],[18,31,18,34],[50,47,50,49],[54,47,54,50],[49,95,49,98],[24,81,24,84],[39,75,39,77],[38,93,38,95],[38,75,38,77],[38,79,38,82],[37,93,37,95],[37,75,37,77],[37,85,37,91],[52,68,52,75],[45,57,45,61],[41,53,41,56],[20,60,20,64],[20,49,20,51],[69,29,69,30],[71,32,71,33],[66,19,66,21],[69,22,69,24],[70,25,70,28],[66,22,66,24],[69,13,69,15],[71,25,71,28],[71,22,71,24],[71,39,71,42],[68,32,68,33],[70,35,70,37],[68,35,68,37],[55,25,55,30],[55,55,55,57],[54,39,54,42],[54,43,54,46],[55,43,55,45],[55,39,55,42],[55,35,55,38],[64,19,64,21],[65,19,65,21],[63,22,63,24],[67,13,67,15],[63,13,63,15],[58,52,58,54],[65,13,65,15],[58,13,58,15],[58,16,58,18],[60,13,60,15],[67,16,67,18]],"merged_total":1144,"flags":["merged_cut"]}
[{"$f":"+データ一覧!F2","v":0}]
[{"$f":"+データ一覧!F5","v":0}]
[null,null,null,null,null,null,null,null,null,null,null,null,null,null,null,null,null,null,null,null,null,null,null,null,null,null,null,null,null,null,null,null,null,null,null,null,null,null,null,0,null,null,null,null,null,null,null,null,null,null,null,null,null,null,null,null,null,null,null,null,null,null,null,null,null,null,null,null,null,null,0]
[null,null,null,null,null,null,null,null,null,null,null,null,null,null,null,null,null,null,null,null,null,null,null,null,null,null,null,"県章とそのいわれ    「フクイ」の三文字を組み合わせ、伸びゆく",null,null,null,null,null,null,null,null,null,null,null,null,"【位置および地勢 】本県は本州日本海側のほぼ中央にあり、総面積は、 ",null,null,null,null,null,null,null,null,null,null,null,null,null,null,null,null,null,null,null,null,null,null,null,null,null,null,null,null,null,0,null,null,null,"所在地",null,null,null,null,null,null,null,"〒910-8580"]
[null,null,null,null,null,null,null,null,null,null,null,null,null,null,null,null,null,null,null,null,null,null,null,null,null,null,null,"                　  福井県を表現しています。 ",null,null,null,null,null,null,null,null,null,null,null,null,"　4,190.52k㎡で北は石川県に、東南は岐阜県、西南は滋賀県、京都府に",null,null,null,null,null,null,null,null,null,null,null,null,null,null,null,null,null,null,null,null,null,null,null,null,null,null,null,null,null,0,null,null,null,null,null,null,null,null,null,null,null,"福井市大手３丁目１７番１号"]
[{"$f":"+データ一覧!F3","v":"ふくいけん"},null,null,null,null,null,null,null,null,null,null,null,null,null,null,null,null,null,null,null,null,null,null,null,null,null,null,0,null,null,null,null,null,null,null,null,null,null,null,null,"　連なり、西北は日本海に面している。",null,null,null,null,null,null,null,null,null,null,null,null,null,null,null,null,null,null,null,null,null,null,null,null,null,null,null,null,null,0]
[{"$f":"データ一覧!F6","v":"福井県"},null,null,null,null,null,null,null,null,null,null,null,null,null,null,null,null,null,null,null,null,null,null,null,null,null,null,0,null,null,null,null,null,null,null,null,null,null,null,null,null,null,null,null,null,null,null,null,null,null,null,null,null,null,null,null,null,null,null,null,null,null,null,null,null,null,null,null,null,null,0,null,null,null,"電話番号",null,null,null,null,null,null,null,"（０７７６）２１－１１１１（代表）"]
[null,null,null,null,null,null,null,null,null,null,null,null,null,null,null,null,null,null,null,null,null,null,null,null,null,null,null,0,null,null,null,null,null,null,null,null,null,null,null,null,null,null,null,null,null,null,null,null,null,null,null,null,null,null,null,null,null,null,null,null,null,null,null,null,null,null,null,null,null,null,null,null,null,null,"FAX番号"]
[null,null,null,null,null,null,null,null,null,null,null,null,null,null,null,null,null,null,null,null,null,null,null,null,null,null,null,0]
[null,null,null,null,null,null,null,null,null,null,null,null,null,null,null,null,null,null,null,null,null,null,null,null,null,null,null,0,null,null,null,null,null,null,null,null,null,null,null,null,null,null,null,null,null,null,null,null,null,null,null,null,null,null,null,null,null,null,null,null,null,null,null,null,null,null,null,null,null,null,0,null,null,null,"最寄駅および距離",null,null,null,null,null,null,null,"ＪＲ北陸本線福井駅　下車３００ｍ"]
[null,null,null,null,null,null,null,null,null,null,null,null,null,null,null,null,null,null,null,null,null,null,null,null,null,null,null,null,null,null,null,null,null,null,null,null,null,null,null,null,null,null,null,null,null,null,null,null,null,null,null,null,null,null,null,null,null,null,null,null,null,null,null,null,null,null,null,null,null,null,0]
[null,null,null,null,null,null,null,null,null,null,null,null,null,null,null,null,null,null,null,null,null,null,null,null,null,null,null,null,null,null,null,null,null,null,null,null,null,null,null,null,null,null,null,null,null,null,null,null,null,null,null,null,null,null,null,null,null,null,null,null,null,null,null,null,null,null,null,null,null,null,0,null,null,null,"ホームページ",null,null,null,null,null,null,null,"https://www.pref.fukui.jp"]
[]
[]
["  １  土            　　地",null,null,null,null,null,null,null,null,null,null,null,null,null,null,null,null,null,null,null,null,null,null,null,null,{"$f":"データ一覧!$A$240","v":"2年"},"産米収穫量",null,null,"　 収　穫　量",null,null," 　作 付 面 積",null,null,"   10a当たり収量",null,null,null,null,null,null,null,null,null,null,null,null,null,null,null,null,null,null,null,null,null,null,null,null,null,null,null,null,null,null,null," １５  労　　　　　　　働",null,null,null,null,null,null,null,null,null,null,null,null,null,null,"27.10.1"]
[null,null,null,null,null,null,null,null,null,null,null,null,null,null,null,null,null,null,null,null,null,null,null,null,null,null,null,null,null,{"$f":"データ一覧!$F$240","v":130000},null,"t",{"$f":"データ一覧!$F$241","v":25100},null,"ha",{"$f":"データ一覧!F242","v":518},null,null,"kg"," １０  工　　　　　　業 ",null,null,null,null,null,null,null,null,null,null,null,null,null,{"$f":"データ一覧!$A$332","v":"2.6.1（令和元年実績）"}]
["   総          面           積",null,null,null,null,null,null,null,null,null," 固 定 資 産 概 要 調 書 に よ る 地 目 別 面 積",null,null,null,null,null,null,null,null,null,null,null,null,null,null,null,null,null,"   総　　　数",null,null,null,"うち　　田",null,null,null,"うち　　畑",null,null,null,null,null,null,null,null,null,null,null,null,null,null,null,null,null,null,null,null,null,null,null,null,null,null,null,null,null,null,null,null,null,null,null,null,null,"産業別就業者数   "]
[null,null,{"$f":"データ一覧!$A$7","v":"3.10.1"},null,null,null,null,null,null,null,null,null,null,null,null,null,{"$f":"データ一覧!$A$9","v":"3.1.1"},null,null,null,null,null,null,null,null," 耕  地  面  積",null,null,null,"       ha",null,null,"ha ",null,null,null,"ha ",null,null,"      ","産業分類",null,null,null,null,null,null,null,"事業所数",null,null,null,null,"従業者数",null,null,null,null,null,"年間製造品出荷額等",null,null,null,null,null,null,null,null,"区  分",null,null,null,null,"総    数",null,null,null,null,"男",null,null,null,"女",null,null,"  ","区  分",null,null,null,null,"総    数",null,null,null,null,"男",null,null,null,"女"]
[null,null,null,null,null,null,"㎢",null,null,null,"   総       数",null,null,null,null,"  う ち     田",null,null,null,null,"  う ち     畑",null,null,null,null,{"$f":"データ一覧!A243","v":"2.7.15"},null,null,{"$f":"データ一覧!$F$243","v":40000},null,null,{"$f":"データ一覧!$F$244","v":36300},null,null,null,{"$f":"データ一覧!$F$245","v":3710},null,null,null,null,null,null,null,null,null,null,null,null,"　　   ",null,null,"事業所",null,"　　　　　　　 人",null,null,"人",null,"　　　　　　　　　　　　　　万円",null,null,null,null,null,null,"万円",null,null,null,null,null,null,null,"      人",null,null,null,null,null," 人",null,null,null," 人",null,null,null,null,null,null,null,"      人",null,null,null,"      人",null,null,null,"      人"]
[null,null,null,{"$f":"データ一覧!F7","v":4190.5200000000004},null,null,null,null,null,null,null,null,null,null,"ha",null,null,null,null,"ha",null,null,null,null,"ha","農 業 生 産 物",null,null,null,"作 付 面 積",null,null,"収 穫 量",null,null,"10a当たり収量",null,null,null,"     ","総数",null,null,null,null,null,null,null,null,{"$f":"データ一覧!F332","v":2032},null,null,null,{"$f":"+データ一覧!F357","v":72879},null,null,null,null,null,null,{"$f":"データ一覧!F382","v":225907590},null,null,null,null,null,null," 総　　　数",null,null,null,null,null,{"$f":"BZ20+CD20","v":399169},null,null,null,{"$f":"データ一覧!F507","v":217914},null,null,null,{"$f":"データ一覧!F532","v":181255}]
[null,null,null,null,null,null,null,null,null,null,null,{"$f":"データ一覧!F9","v":262940.59999999998},null,null,null,null,{"$f":"データ一覧!F10","v":39226.5},null,null,null,null,{"$f":"データ一覧!F11","v":5503.6999999999989},null,null,null,{"$f":"データ一覧!$A$246","v":"2年中"},null,null,null,"ha",null,null,"t",null,null,"kg",null,null,null,null,"食料品",null,null,null,null,null,null,null,null,{"$f":"データ一覧!F333","v":189},null,null,null,{"$f":"+データ一覧!F358","v":4576},null,null,null,null,null,null,{"$f":"データ一覧!F383","v":5828346},null,null,null,null,null,null,null,null,null,null,null,null,null,null,null,null,null,null,null,null,null,null,null,null,null,"卸売業,小売業",null,null,null,null,{"$f":"CR21+CV21","v":60800},null,null,null,{"$f":"データ一覧!F520","v":29022},null,null,null,{"$f":"データ一覧!F545","v":31778}]
["  町 ･ 丁 ･ 大 字",null,null,null,null,null,null,null,null,null,"  う ち  宅 地",null,null,null,null,"  う ち  山 林",null,null,null,null,"  う ち  原 野",null,null,null,null,"水　　　　　稲",null,null,null,{"$f":"データ一覧!F246","v":25100},null,null,{"$f":"データ一覧!F247","v":130000},null,null,{"$f":"データ一覧!F248","v":518},null,null,null,null,"飲料・飼料",null,null,null,null,null,null,null,null,{"$f":"データ一覧!F334","v":20},null,null,null,{"$f":"+データ一覧!F359","v":259},null,null,null,null,null,null,{"$f":"データ一覧!F384","v":603806},null,null,null,null,null,null," 第１次産業",null,null,null,null,null,{"$f":"BZ22+CD22","v":14826},null,null,null,{"$f":"データ一覧!F508","v":9789},null,null,null,{"$f":"データ一覧!F533","v":5037},null,null,null,null,"金融業,保険業",null,null,null,null,{"$f":"CR22+CV22","v":9254},null,null,null,{"$f":"データ一覧!F521","v":3833},null,null,null,{"$f":"データ一覧!F546","v":5421}]
["  区    画    数",null,null,null,null,null,null,{"$f":"データ一覧!F8","v":2769},null,null,null,null,null,null,"ha",null,null,null,null,"ha",null,null,null,null,"ha","六　条　大　麦",null,null,null,{"$f":"データ一覧!F249","v":4650},null,null,{"$f":"データ一覧!F250","v":14000},null,null,{"$f":"データ一覧!F251","v":300},null,null,null,null,"繊維",null,null,null,null,null,null,null,null,{"$f":"データ一覧!F335","v":488},null,null,null,{"$f":"+データ一覧!F360","v":14611},null,null,null,null,null,null,{"$f":"データ一覧!F385","v":23056130},null,null,null,null,null,null,"  ","農業",null,null,null,null,{"$f":"BZ23+CD23","v":13154},null,null,null,{"$f":"データ一覧!F509","v":8326},null,null,null,{"$f":"データ一覧!F534","v":4828},null,null,null,"  ","不動産業",null,null,null,null,4009,null,null,null,{"$f":"データ一覧!F522","v":2337},null,null,null,{"$f":"データ一覧!F547","v":1672}]
[{"$f":"データ一覧!$A$8","v":"2.4.1"},null,null,null,null,null,null,null,null,null,null,{"$f":"データ一覧!F12","v":17744.999999999996},null,null,null,null,{"$f":"データ一覧!F13","v":100654.89999999998},null,null,null,null,{"$f":"データ一覧!F14","v":2533.6999999999994},null,null,null,"大　　      豆",null,null,null,{"$f":"データ一覧!F252","v":1800},null,null,{"$f":"データ一覧!F253","v":1820},null,null,{"$f":"データ一覧!F254","v":101},null,null,null,null,"木材",null,null,null,null,null,null,null,null,{"$f":"データ一覧!F336","v":57},null,null,null,{"$f":"+データ一覧!F361","v":1508},null,null,null,null,null,null,{"$f":"データ一覧!F386","v":7984962},null,null,null,null,null,null,"  ","林業",null,null,null,null,636,null,null,null,{"$f":"データ一覧!F510","v":554},null,null,null,{"$f":"データ一覧!F535","v":82},null,null,null,"  ","学術研究",null,null,null,null,11187,null,null,null,{"$f":"データ一覧!F523","v":7429},null,null,null,{"$f":"データ一覧!F548","v":3758}]
["  ２  世　帯　数　と　人　口",null,null,null,null,null,null,null,null,null,null,null,null,null,null,null,null,null,null,null,null,null,null,null,null,null,null,"  区　分",null," 乳 用 牛",null," 肉 用 牛",null,"豚",null,"採卵鶏",null,"ブロイラー",null,null,"家具",null,null,null,null,null,null,null,null,{"$f":"データ一覧!F337","v":38},null,null,null,{"$f":"+データ一覧!F362","v":926},null,null,null,null,null,null,{"$f":"データ一覧!F387","v":1555992},null,null,null,null,null,null,"  ","漁業",null,null,null,null,1036,null,null,null,{"$f":"データ一覧!F511","v":909},null,null,null,{"$f":"データ一覧!F536","v":127},null,null,null,"  ","宿泊業,飲食ｻｰﾋﾞｽ",null,null,null,null,21067,null,null,null,{"$f":"データ一覧!F524","v":7488},null,null,null,{"$f":"データ一覧!F549","v":13579}]
[null,null,null,null,null,null,null,null,null,null,null,null,null,null,null,null,null,null,null,null,null,null,null,null,null,"畜　産",null," 飼養農家",null,{"$f":"データ一覧!$F$255","v":20},null,{"$f":"データ一覧!$F$257","v":42},null,{"$f":"データ一覧!$F$259","v":"x"},null,{"$f":"データ一覧!$F$261","v":25},null,{"$f":"データ一覧!$F$263","v":"x"},null,null,"パルプ・紙",null,null,null,null,null,null,null,null,{"$f":"データ一覧!F338","v":81},null,null,null,{"$f":"+データ一覧!F363","v":1952},null,null,null,null,null,null,{"$f":"データ一覧!F388","v":8763255},null,null,null,null,null,null," 第２次産業",null,null,null,null,null,122602,null,null,null,{"$f":"データ一覧!F512","v":84210},null,null,null,{"$f":"データ一覧!F537","v":38392},null,null,null,"  ","生活関連ｻｰﾋﾞｽ業",null,null,null,null,13244,null,null,null,{"$f":"データ一覧!F525","v":5027},null,null,null,{"$f":"データ一覧!F550","v":8217}]
[null,null,null,null,null,null,null,null,"        人　　　　　　　　　　口",null,null,null,null,null,null,null,null,null,null,null,"１世帯当",null,"人    口",null,null,{"$f":"データ一覧!$A$255","v":"3.3.31"},null,"（戸）",null,null,null,null,null,null,null,null,null,null,null,null,"印刷",null,null,null,null,null,null,null,null,{"$f":"データ一覧!F339","v":97},null,null,null,{"$f":"+データ一覧!F364","v":2136},null,null,null,null,null,null,{"$f":"データ一覧!F389","v":3192644},null,null,null,null,null,null,null,"鉱業，採石業",null,null,null,null,100,null,null,null,{"$f":"データ一覧!F513","v":79},null,null,null,{"$f":"データ一覧!F538","v":21},null,null,null,"  ","教育,学習支援業",null,null,null,null,18458,null,null,null,{"$f":"データ一覧!F526","v":7599},null,null,null,{"$f":"データ一覧!F551","v":10859}]
[" 区　　　　分",null,null,null,null,"世帯数",null,null," 総   数",null,null,"    男",null,null,"    女",null,null,"  男／女",null,null,"たり人員",null,"密    度",null,null,null,null," 頭 羽",null,{"$f":"データ一覧!$F$256","v":843},null,{"$f":"データ一覧!$F$258","v":2143},null,{"$f":"データ一覧!$F$260","v":1394},null,{"$f":"データ一覧!$F$262","v":770165},null,{"$f":"データ一覧!$F$264","v":53300},null,null,"化学",null,null,null,null,null,null,null,null,{"$f":"データ一覧!F340","v":52},null,null,null,{"$f":"+データ一覧!F365","v":4129},null,null,null,null,null,null,{"$f":"データ一覧!F390","v":24676904},null,null,null,null,null,null,"  ","建設業",null,null,null,null,35912,null,null,null,{"$f":"データ一覧!F514","v":30243},null,null,null,{"$f":"データ一覧!F539","v":5669},null,null,null,null,"医療，福祉",null,null,null,null,50759,null,null,null,{"$f":"データ一覧!F527","v":10476},null,null,null,{"$f":"データ一覧!F552","v":40283}]
[null,null,null,null,null,"    世 帯",null,null,"       人",null,null,"       人",null,null,"       人",null,null,null,"　　％",null,"    人",null,"    人/㎢",null,null,null,null,null,null,null,null,null,null,null,null,null,null,null,null,null,"石油・石炭",null,null,null,null,null,null,null,null,{"$f":"データ一覧!F341","v":9},null,null,null,{"$f":"+データ一覧!F366","v":86},null,null,null,null,null,null,{"$f":"データ一覧!F391","v":501566},null,null,null,null,null,null,null,"製造業",null,null,null,null,86590,null,null,null,{"$f":"データ一覧!F515","v":53888},null,null,null,{"$f":"データ一覧!F540","v":32702},null,null,null,null,"複合サービス事業",null,null,null,null,4818,null,null,null,{"$f":"データ一覧!F528","v":2877},null,null,null,{"$f":"データ一覧!F553","v":1941}]
[{"$f":"データ一覧!$A$22","v":" 2.10.1"},null,null,null,null,{"$f":"データ一覧!F22","v":234192},null,null,{"$f":"+L30+O30","v":823585},null,null,{"$f":"データ一覧!F24","v":400391},null,null,{"$f":"データ一覧!F25","v":423194},null,null,null,{"$f":"+L30/O30*100","v":94.611691092028721},null,{"$f":"データ一覧!F27","v":3.52},null,{"$f":"データ一覧!F28","v":196.7},null,null,"  ５  林               業",null,null,null,null,null,null,null,null,null,null,null,null,null,null,"プラスチック",null,null,null,null,null,null,null,null,{"$f":"データ一覧!F342","v":116},null,null,null,{"$f":"+データ一覧!F367","v":5149},null,null,null,null,null,null,{"$f":"データ一覧!F392","v":17151598},null,null,null,null,null,null," 第３次産業",null,null,null,null,null,254676,null,null,null,{"$f":"データ一覧!F516","v":120110},null,null,null,{"$f":"データ一覧!F541","v":134566},null,null,null,null,"サービス業",null,null,null,null,21414,null,null,null,{"$f":"データ一覧!F529","v":13548},null,null,null,{"$f":"データ一覧!F554","v":7866}]
[{"$f":"データ一覧!$A$29","v":" 7.10.1"},null,null,null,null,{"$f":"データ一覧!F29","v":246911},null,null,{"$f":"+L31+O31","v":826996},null,null,{"$f":"データ一覧!F31","v":401860},null,null,{"$f":"データ一覧!F32","v":425136},null,null,null,94.525046102894123,null,{"$f":"データ一覧!F34","v":3.35},null,{"$f":"データ一覧!F35","v":197.4},null,null,null,null,null,null,null,null,null,null,null,null,null,null,null,null,null,"ゴム",null,null,null,null,null,null,null,null,{"$f":"データ一覧!F343","v":5},null,null,null,{"$f":"+データ一覧!F368","v":189},null,null,null,null,null,null,{"$f":"データ一覧!F393","v":184358},null,null,null,null,null,null,null,"電気･ｶﾞｽ･水道業",null,null,null,null,4788,null,null,null,{"$f":"データ一覧!F517","v":4356},null,null,null,{"$f":"データ一覧!F542","v":432},null,null,null,null,"公務",null,null,null,null,13518,null,null,null,{"$f":"データ一覧!F530","v":9494},null,null,null,{"$f":"データ一覧!F555","v":4024}]
[{"$f":"データ一覧!$A$36","v":"12.10.1"},null,null,null,null,{"$f":"データ一覧!F36","v":259612},null,null,{"$f":"+L32+O32","v":828944},null,null,{"$f":"データ一覧!F38","v":402367},null,null,{"$f":"データ一覧!F39","v":426577},null,null,null,94.324588526807588,null,{"$f":"データ一覧!F41","v":3.19},null,{"$f":"データ一覧!F42","v":197.9},null,null,"    　森　　　林　　　総　　　面　　　積   ",null,null,null,null,null,null,null,{"$f":"データ一覧!$A$265","v":"3.3.31"},null,null,null,null,null,null,"皮革",null,null,null,null,null,null,null,null,{"$f":"データ一覧!F344","v":3},null,null,null,{"$f":"+データ一覧!F369","v":62},null,null,null,null,null,null,{"$f":"データ一覧!F394","v":63100},null,null,null,null,null,null,null,"情報通信業",null,null,null,null,5611,null,null,null,{"$f":"データ一覧!F518","v":3840},null,null,null,{"$f":"データ一覧!F543","v":1771},null,null,null," 分類不能の産業",null,null,null,null,null,7065,null,null,null,{"$f":"データ一覧!F531","v":3805},null,null,null,{"$f":"データ一覧!F556","v":3260}]
[{"$f":"+データ一覧!$A$43","v":"17.10.1"},null,null,null,null,{"$f":"データ一覧!F43","v":269577},null,null,{"$f":"+L33+O33","v":821592},null,null,{"$f":"データ一覧!F45","v":397271},null,null,{"$f":"データ一覧!F46","v":424321},null,null,null,93.62510929225752,null,{"$f":"データ一覧!F48","v":3.05},null,{"$f":"データ一覧!F49","v":196.1},null,null,"　　　森　　　　　　　林　　　　　　　の　　　　　　　構　　　　　　　成",null,null,null,null,null,null,null,null,null,null,null,null,null,null,"窯業・土石",null,null,null,null,null,null,null,null,{"$f":"データ一覧!F345","v":71},null,null,null,{"$f":"+データ一覧!F370","v":1997},null,null,null,null,null,null,{"$f":"データ一覧!F395","v":5709186},null,null,null,null,null,null,"  ","運輸業,郵便業",null,null,null,null,{"$f":"BZ33+CD33","v":15749},null,null,null,{"$f":"データ一覧!F519","v":12784},null,null,null,{"$f":"データ一覧!F544","v":2965}]
[{"$f":"+データ一覧!$A$50","v":"22.10.1"},null,null,null,null,{"$f":"+データ一覧!F50","v":275599},null,null,{"$f":"データ一覧!F51","v":806314},null,null,{"$f":"+データ一覧!F52","v":389712},null,null,{"$f":"+データ一覧!F53","v":416602},null,null,null,93.54539824580776,null,{"$f":"+データ一覧!F55","v":2.93},null,{"$f":"+データ一覧!F56","v":192.4},null,null,null,null,null,null,null,"       ha",null,null,null,null,null,null,"       ha",null,null,"鉄鋼",null,null,null,null,null,null,null,null,{"$f":"データ一覧!F346","v":19},null,null,null,{"$f":"+データ一覧!F371","v":349},null,null,null,null,null,null,{"$f":"データ一覧!F396","v":2545958},null,null,null,null,null,null," １６  社　 会 　福　 祉",null,null,null,null,null,null,null,null,null,null,null,null,null,null,{"$f":"データ一覧!$A$557","v":"3.4.1"}]
[{"$f":"+データ一覧!$A$57","v":"27.10.1"},null,null,null,null,{"$f":"+データ一覧!F57","v":279687},null,null,{"$f":"データ一覧!F58","v":786740},null,null,{"$f":"+データ一覧!F59","v":381474},null,null,{"$f":"+データ一覧!F60","v":405266},null,null,null,94.129287924474298,null,{"$f":"+データ一覧!F62","v":2.8129301683667816},null,{"$f":"+データ一覧!F63","v":187.7},null,null,"  総　　　　　   数",null,null,null,{"$f":"データ一覧!F265","v":312141.71999999997},null,null," 天然林       針葉樹",null,null,null,{"$f":"データ一覧!F268","v":8946.2899999999991},null,null,null,"非鉄金属",null,null,null,null,null,null,null,null,{"$f":"データ一覧!F347","v":15},null,null,null,{"$f":"+データ一覧!F372","v":1383},null,null,null,null,null,null,{"$f":"データ一覧!F397","v":13565204}]
["令　2.10.1（国調）",null,null,null,null,{"$f":"データ一覧!F64","v":291662},null,null,{"$f":"データ一覧!F65","v":766863},null,null,{"$f":"データ一覧!F66","v":373973},null,null,{"$f":"データ一覧!F67","v":392890},null,null,null,{"$f":"+L36/O36*100","v":95.185166331543186},null,{"$f":"データ一覧!F72","v":2.59},null,{"$f":"データ一覧!F73","v":181.41161478766355},null,null,"  人工林     針葉樹",null,null,null,{"$f":"データ一覧!F266","v":120867.05},null,null," 天然林       広葉樹",null,null,null,{"$f":"データ一覧!F269","v":169937.47999999998},null,null,null,"金属",null,null,null,null,null,null,null,null,{"$f":"データ一覧!F348","v":179},null,null,null,{"$f":"+データ一覧!F373","v":4481},null,null,null,null,null,null,{"$f":"データ一覧!F398","v":11743831},null,null,null,null,null,null,"    ","区分",null,null,null,null,null,null,"施設数",null,null,null,null,"収容定員",null,null,null,null,null,"区分",null,null,null,null,null,null,"施設数",null,null,null,null,"収容定員"]
["年",null,"  区",null," 0歳",null,null,"15歳",null,null,"25歳",null,null,"35歳",null,null,"45歳",null,null,"55歳",null,null,"65歳",null,null,"  人工林     広葉樹",null,null,null,{"$f":"データ一覧!F267","v":2926.4599999999996},null,null," 竹               林",null,null,null,{"$f":"データ一覧!F270","v":1393.28},null,null,null,"はん用機械",null,null,null,null,null,null,null,null,{"$f":"データ一覧!F349","v":28},null,null,null,{"$f":"+データ一覧!F374","v":751},null,null,null,null,null,null,{"$f":"データ一覧!F399","v":2135315},null,null,null,null,null,null,"生活保護施設",null,null,null,null,null,null,null,{"$f":"データ一覧!F557","v":2},null,null,null,{"$f":"データ一覧!F570","v":140},null,null,null,"人",null,"指定障害者支援施設",null,null,null,null,null,null,null,{"$f":"データ一覧!F563","v":26},null,null,null,{"$f":"データ一覧!F576","v":1653},null,null,null,"人"]
["齢","令",null,null,null,"～",null,null,"～",null,null,"～",null,null,"～",null,null,"～",null,null,"～",null,null,null,null,null,null,null,null,null,null,null,null,null,null,null,null,null,null,null,"生産用機械",null,null,null,null,null,null,null,null,{"$f":"データ一覧!F350","v":151},null,null,null,{"$f":"+データ一覧!F375","v":3797},null,null,null,null,null,null,{"$f":"データ一覧!F400","v":10082029},null,null,null,null,null,null,"地域福祉施設",null,null,null,null,null,null,null,{"$f":"データ一覧!F558","v":3},null,null,null,{"$f":"データ一覧!F571","v":0},null,null,null,null,null,"指定相談支援事業所",null,null,null,null,null,null,null,{"$f":"データ一覧!F564","v":26},null,null,null,{"$f":"データ一覧!F577","v":0}]
["階",{"$f":"+LEFT(データ一覧!$A$83,1)","v":"3"},"  分",null,null,null,"14歳",null,null,"24歳",null,null,"34歳",null,null,"44歳",null,null,"54歳",null,null,"64歳",null,null,"以上","    林     野     の     構     成",null,null,null,null,null,null,"保     有     形     態     別",null,null,null,null,null,null,null,"業務用機械",null,null,null,null,null,null,null,null,{"$f":"データ一覧!F351","v":12},null,null,null,{"$f":"+データ一覧!F376","v":617},null,null,null,null,null,null,{"$f":"データ一覧!F401","v":959462},null,null,null,null,null,null,"老人福祉施設",null,null,null,null,null,null,null,{"$f":"データ一覧!F559","v":172},null,null,null,{"$f":"データ一覧!F572","v":5524},null,null,null,null,null,"児童福祉施設",null,null,null,null,null,null,null,{"$f":"データ一覧!F565","v":568},null,null,null,{"$f":"データ一覧!F578","v":31747}]
["級","・",null,null,null,null,"人",null,null,"人",null,"    人",null,null,"    人",null,null,"    人",null,null,"    人",null,null,"    人",null,null,null,null,null,null,null,"ha",null,null,null,null,null,"       ha",null,null,"電子・デバイス",null,null,null,null,null,null,null,null,{"$f":"データ一覧!F352","v":48},null,null,null,{"$f":"+データ一覧!F377","v":10105},null,null,null,null,null,null,{"$f":"データ一覧!F402","v":34102309},null,null,null,null,null,null,"介護保険施設",null,null,null,null,null,null,null,{"$f":"データ一覧!F560","v":1216},null,null,null,{"$f":"データ一覧!F573","v":23782},null,null,null,null,null,"母子福祉施設",null,null,null,null,null,null,null,{"$f":"データ一覧!F566","v":1},null,null,null,{"$f":"データ一覧!F579","v":0}]
["別",{"$f":"+MID(データ一覧!$A$83,3,2)","v":"10"},"総 数",null,{"$f":"+E42+E43","v":93533},null,null,{"$f":"+H42+H43","v":66099},null,null,{"$f":"+K42+K43","v":69155},null,null,{"$f":"+N42+N43","v":87232},null,null,{"$f":"+Q42+Q43","v":106346},null,null,{"$f":"+T42+T43","v":93910},null,null,{"$f":"+W42+W43","v":233283},null,null," 無立木地   伐採跡地",null,null,null,{"$f":"データ一覧!F271","v":111.5},null,null,"国   　　　 　 有",null,null,null,{"$f":"データ一覧!F273","v":39306.969999999994},null,null,null,"電気機械",null,null,null,null,null,null,null,null,{"$f":"データ一覧!F353","v":65},null,null,null,{"$f":"+データ一覧!F378","v":3274},null,null,null,null,null,null,{"$f":"データ一覧!F403","v":20700290},null,null,null,null,null,null,"障害者自立支援法施行前からの身体障害者福祉施設",null,null,null,null,null,null,null,{"$f":"データ一覧!F561","v":2},null,null,null,{"$f":"データ一覧!F574","v":0},null,null,null,null,null,"婦人保護施設",null,null,null,null,null,null,null,{"$f":"データ一覧!F567","v":1},null,null,null,{"$f":"データ一覧!F580","v":15}]
["人","・","  男",null,{"$f":"データ一覧!F83","v":48048},null,null,{"$f":"データ一覧!F84","v":34749},null,null,{"$f":"データ一覧!F85","v":36033},null,null,{"$f":"データ一覧!F86","v":44633},null,null,{"$f":"データ一覧!F87","v":53750},null,null,{"$f":"データ一覧!F88","v":46361},null,null,{"$f":"データ一覧!F89","v":101125},null,null," 無立木地   未立木地",null,null,null,{"$f":"データ一覧!F272","v":7959.6599999999962},null,null,"公       　　  有",null,null,null,{"$f":"データ一覧!F274","v":38866.19},null,null,null,"情報通信機械",null,null,null,null,null,null,null,null,{"$f":"データ一覧!F354","v":4},null,null,null,{"$f":"+データ一覧!F379","v":302},null,null,null,null,null,null,{"$f":"データ一覧!F404","v":874601},null,null,null,null,null,null,null,null,null,null,null,null,null,null,null,null,null,null,null,null,null,null,null,null,"その他の社会福祉施設",null,null,null,null,null,null,null,{"$f":"データ一覧!F568+データ一覧!F569","v":17},null,null,null,{"$f":"SUM(データ一覧!F581,データ一覧!F582)","v":0}]
["口",{"$f":"+RIGHT(データ一覧!$A$83,1)","v":"1"},"  女",null,{"$f":"データ一覧!F91","v":45485},null,null,{"$f":"データ一覧!F92","v":31350},null,null,{"$f":"データ一覧!F93","v":33122},null,null,{"$f":"データ一覧!F94","v":42599},null,null,{"$f":"データ一覧!F95","v":52596},null,null,{"$f":"データ一覧!F96","v":47549},null,null,{"$f":"データ一覧!F97","v":132158},null,null,null,null,null,null,null,null,null,"私          　 有",null,null,null,{"$f":"データ一覧!F275","v":233968.56},null,null,null,"輸送機械",null,null,null,null,null,null,null,null,{"$f":"データ一覧!F355","v":26},null,null,null,{"$f":"+データ一覧!F380","v":4404},null,null,null,null,null,null,{"$f":"データ一覧!F405","v":20143342},null,null,null,null,null,null,"障害福祉サービス事業所",null,null,null,null,null,null,null,{"$f":"データ一覧!F562","v":571},null,null,null,{"$f":"データ一覧!F575","v":6908}]
[null,null,null,null,null,null,null,null,null,null,null,null,null,null,null,null,null,null,null,null,null,null,null,null,null,"            林     産     物     生     産     量 ",null,null,null,null,null,null,null,null,null,{"$f":"データ一覧!$A$276","v":"2年中"},null,null,null,null,"その他",null,null,null,null,null,null,null,null,{"$f":"データ一覧!F356","v":259},null,null,null,{"$f":"+データ一覧!F381","v":5836},null,null,null,null,null,null,{"$f":"データ一覧!F406","v":9783402},null,null,null,null,null,null," １７  教　　　　　　　育",null,null,null,null,null,null,null,null,null,null,null,null,null,{"$f":"データ一覧!$A$583","v":"3.5.1"}]
["人口動態",null,null,null,null,null,null,"   自　然　動　態",null,null,null,null,null,"   社  会  動  態",null,null,null,null,null,{"$f":"データ一覧!$A78","v":"2.1.1～3.12.31"},null,null,null,null,null,"生椎茸",null,null,null,{"$f":"データ一覧!F276","v":212013.4},null,"㎏","乾椎茸",null,null,null,{"$f":"データ一覧!F277","v":2092},null,"㎏"]
[null,null,"   区       分",null,null,null,null," 出   生",null,null," 死   亡",null,null," 転   入",null,null," 転   出",null,null," 婚   姻",null,null," 離   婚",null,null,"えのきだけ",null,null,null,{"$f":"データ一覧!F279","v":114466},null,"㎏","なめこ",null,null,null,{"$f":"データ一覧!F278","v":23554},null,"㎏","    ","工　業　用　水　量",null,null,null,null,null,"（従業者30人以上の事業所）",null,null,null,null,null,null,null,null,null,null,{"$f":"データ一覧!F407","v":271073},null,null,null,null,"㎥／日",null,null,null,null,null,null,null,null,null,null,null,null,null,null,"学校数（校）",null,null,null,null,null,null,"教員数（人）",null,null,null,null,null,null,null,"学生・生徒・児童数（人）"]
[{"$f":"LEFT(データ一覧!$A74,6)","v":"2.10.1"},null,null,null,null,null,null,"       人",null,null,"       人",null,null,"       人",null,null,"       人",null,null,null,"    件",null,null,"    件",null,"ひらたけ",null,null,null,{"$f":"+データ一覧!F280","v":9184},null,"㎏","まいたけ",null,null,null,{"$f":"+データ一覧!F281","v":130264},null,"㎏",null,null,null,null,null,null,null,null,null,null,null,null,null,null,null,null,null,null,null,null,null,null,null,null,null,null,null,null,null,"　","区分",null,null,null,null,null,null,null," 本 校",null,null," 分 校",null,null," 本   務",null,null,null," 兼   務",null,null,null," 総   数",null,null,null,"男",null,null,null,"女"]
["～",null," 実          数",null,null,null,null,{"$f":"データ一覧!F74","v":2547},null,null,{"$f":"データ一覧!F75","v":4892},null,null,{"$f":"データ一覧!F76","v":9482},null,null,{"$f":"データ一覧!F77","v":10867},null,null,{"$f":"データ一覧!F78","v":3029},null,null,{"$f":"データ一覧!F79","v":1052},null,null,null,null,null,null,null,null,null,null,null,null,null,null,null,null," １１ 　上　・　下　水　道",null,null,null,null,null,null,null,null,null,null,null,null,null,null,null,null,null,null,null,null,null,null,null,null,null,null,null,null,"小学校",null,null,null,null,null,null,null,null,{"$f":"データ一覧!F584","v":193},null,null,{"$f":"データ一覧!F585","v":1},null,null,{"$f":"データ一覧!F586","v":3060},null,null,null,{"$f":"データ一覧!F587","v":492},null,null,null,{"$f":"データ一覧!F588","v":39236},null,null,null,{"$f":"データ一覧!F589","v":20169},null,null,null,{"$f":"データ一覧!F590","v":19067}]
[{"$f":"RIGHT(データ一覧!$A76,6)","v":"3.9.30"},null,"比率(対1,000人)",null,null,null,null,{"$f":"+H48/I36*1000","v":3.3213233654511956},null,null,{"$f":"+K48/I36*1000","v":6.3792359261041405},null,null,"- ",null,null,"- ",null,null,{"$f":"+T48/I36*1000","v":3.9498580580886022},null,null,{"$f":"+W48/I36*1000","v":1.3718226071671211},null,null,"  ６  漁               業",null,null,null,null,null,null,null,null,null,null,null,null,null,null,null,null,null,null,null,null,null,null,null,null,null,null,null,null,null,null,null,null,null,null,null,null,null,null,null,null,null,"  ","中学校",null,null,null,null,null,null,null,null,{"$f":"データ一覧!F592","v":81},null,null,{"$f":"データ一覧!F593","v":2},null,null,{"$f":"データ一覧!F594","v":1848},null,null,null,{"$f":"データ一覧!F595","v":387},null,null,null,{"$f":"データ一覧!F596","v":21196},null,null,null,{"$f":"データ一覧!F597","v":10846},null,null,null,{"$f":"データ一覧!F598","v":10350}]
[null,null,null,null,null,null,null,null,null,null,null,null,null,null,null,null,null,null,null,null,null,null,null,null,null,null,null,null,null,null,null,null,null,null,null,null,null,null,null,"水 道 供 給 人 口",null,null,null,null,null,null,"上 水 道",null,null,null,"簡易水道",null,null,null,"専用水道",null,null,null,"飲料水供給施設",null,null,null,"下水道処理人口",null,null,null,null,"  ","高等学校",null,null,null,null,null,null,null,null,{"$f":"データ一覧!F600","v":35},null,null,{"$f":"データ一覧!F601","v":0},null,null,{"$f":"データ一覧!F602","v":1631},null,null,null,{"$f":"データ一覧!F603","v":790},null,null,null,{"$f":"データ一覧!F604","v":20701},null,null,null,{"$f":"データ一覧!F605","v":10437},null,null,null,{"$f":"データ一覧!F606","v":10264}]
["  ３  事　　業　　所（民　　営）    （平 28.6.1）",null,null,null,null,null,null,null,null,null,null,null,null,null,null,null,null,null,null,null,null,null,null,null,null,"漁船隻数・トン数",null,null,null,{"$f":"データ一覧!$A$282","v":"2.12.31"},null,null,null,"動　力　船",null,null,null,null,null,{"$f":"データ一覧!$A$408","v":"3.3.31"},null,null,null,null,null,"人",null,{"$f":"データ一覧!F408","v":693022},null,null,{"$f":"データ一覧!F409","v":50625},null,null,null,null,{"$f":"データ一覧!F410","v":935},null,null,null,{"$f":"データ一覧!F411","v":1143},null,null,null,{"$f":"データ一覧!F412","v":629470},null,null,null,"  ","大学・短期大学",null,null,null,null,null,null,null,null,{"$f":"データ一覧!F607","v":9},null,null,{"$f":"データ一覧!F608","v":2},null,null,{"$f":"データ一覧!F609","v":1081},null,null,null,{"$f":"データ一覧!F610","v":756},null,null,null,{"$f":"データ一覧!F611","v":11599},null,null,null,{"$f":"データ一覧!F612","v":6951},null,null,null,{"$f":"データ一覧!F613","v":4648}]
[null,null,null,null,null,null,null,null,null,null,null,null,null,null,null,null,null,null,null,null,null,null,null,null,null,"無動力船隻数",null,null,null,"船外機付漁船隻数",null,null,null,"隻　数",null,null,"総 ト ン 数",null,null,null,null,null,null,null,null,null,null,null,null,null,null,null,null,null,null,null,null,null,null,null,null,null,null,null,null,null,null,"  ","高等専門学校",null,null,null,null,null,null,null,null,{"$f":"データ一覧!F614","v":1},null,null,{"$f":"データ一覧!F615","v":0},null,null,{"$f":"データ一覧!F616","v":79},null,null,null,{"$f":"データ一覧!F617","v":36},null,null,null,{"$f":"データ一覧!F618","v":998},null,null,null,{"$f":"データ一覧!F619","v":790},null,null,null,{"$f":"データ一覧!F620","v":208}]
[null,null,null,null,null,null,null,"    総　　　　　数",null,null,null,null,null,"    民　　　　　営",null,null,null,null,null,"  国 ･ 地方公共団体",null,null,null,null,null,null,null,null,"隻",null,null,null,"隻",null,null,"隻",null,null,"t"," １２  交   通　・　通   信",null,null,null,null,null,null,null,null,null,null,null,null,null,null,null,null,null,null,null,null,null,null,null,null,null,null,null,"  ","特別支援学校",null,null,null,null,null,null,null,null,{"$f":"+データ一覧!F622","v":12},null,null,{"$f":"+データ一覧!F623","v":0},null,null,{"$f":"+データ一覧!F624","v":763},null,null,null,{"$f":"+データ一覧!F625","v":79},null,null,null,{"$f":"+データ一覧!F626","v":994},null,null,null,{"$f":"+データ一覧!F627","v":620},null,null,null,{"$f":"+データ一覧!F628","v":374}]
["  　区　　　　　　分",null,null,null,null,null,null," 事業所数",null,null," 従業者数",null,null," 事業所数",null,null," 従業者数",null,null," 事業所数",null,null," 従業者数",null,null,{"$f":"データ一覧!$F$282","v":39},null,null,null,{"$f":"データ一覧!$F$283","v":1051},null,null,null,{"$f":"データ一覧!F284","v":1106},null,null,{"$f":"データ一覧!F285","v":6188.37},null,null,null,null,null,null,null,null,null,null,null,null,null,null,null,null,null,null,null,null,null,null,null,null,null,null,null,null,null,null,"  ","幼稚園",null,null,null,null,null,null,null,null,{"$f":"データ一覧!F638","v":137},null,null,{"$f":"データ一覧!F639","v":1},null,null,{"$f":"データ一覧!F640","v":2638},null,null,null,{"$f":"データ一覧!F641","v":427},null,null,null,{"$f":"データ一覧!F642","v":15118},null,null,null,{"$f":"データ一覧!F643","v":7678},null,null,null,{"$f":"データ一覧!F644","v":7440}]
[null,null,null,null,null,null,null,null,null,null,"       人",null,null,null,null,null,"       人",null,null,null,null,null,"       人",null,null,"  男女別就業者数",null,null,null,null,null,null,null,{"$f":"データ一覧!$A$286","v":"30.11.1"},null,null,null,null,null,"道     路",null,null,null,"実 延 長",null,null,null,"国     道",null,null,null,"県     道",null,null,null,"市町道",null,null,null," 鉄 道 営 業 キ ロ 数",null,null,null,null,null,null,null,"  ","幼保連携認定こども園",null,null,null,null,null,null,null,null,{"$f":"データ一覧!F630","v":64},null,null,{"$f":"データ一覧!F631","v":0},null,null,{"$f":"データ一覧!F632","v":201},null,null,null,{"$f":"データ一覧!F633","v":62},null,null,null,{"$f":"データ一覧!F634","v":1113},null,null,null,{"$f":"データ一覧!F635","v":559},null,null,null,{"$f":"データ一覧!F636","v":554}]
["総数",null,null,null,null,null,null,{"$f":"データ一覧!F99","v":"…"},null,null,{"$f":"データ一覧!F156","v":"…"},null,null,{"$f":"データ一覧!F100","v":41644},null,null,{"$f":"データ一覧!F157","v":377238},null,null,{"$f":"データ一覧!F101","v":"…"},null,null,{"$f":"データ一覧!F158","v":"…"},null,null,"総　　数",null,null,null,null,null,"男",null,null,null,"女",null,null,null,{"$f":"データ一覧!$A$413","v":"2.4.1"},null,null,null,{"$f":"データ一覧!F413","v":10699.011999999999},null,null,"㎞",{"$f":"データ一覧!F414","v":592.1},null,null,"㎞",{"$f":"データ一覧!F415","v":1564.3},null,null,"㎞",{"$f":"データ一覧!F416","v":8542.612000000001},null,null,"km",{"$f":"データ一覧!$A$417","v":"3.4.1"},null,null,null,{"$f":"データ一覧!F417","v":302.63},null,null,"㎞","  ","各種学校",null,null,null,null,null,null,null,null,{"$f":"データ一覧!F646","v":12},null,null,{"$f":"データ一覧!F647","v":0},null,null,{"$f":"データ一覧!F648","v":231},null,null,null,{"$f":"データ一覧!F649","v":11},null,null,null,{"$f":"データ一覧!F650","v":2082},null,null,null,{"$f":"データ一覧!F651","v":1387},null,null,null,{"$f":"データ一覧!F652","v":695}]
["農林漁業",null,null,null,null,null,null,{"$f":"データ一覧!F102","v":"…"},null,null,{"$f":"データ一覧!F159","v":"…"},null,null,{"$f":"データ一覧!F103","v":348},null,null,{"$f":"データ一覧!F160","v":4621},null,null,{"$f":"データ一覧!F104","v":"…"},null,null,{"$f":"データ一覧!F161","v":"…"},null,null,null,null,null,null,null,"人",null,null,"　　　　人",null,null,null,null,"  人","自動車",null,null,null,null,null,null,null,null,"乗用車",null,null,null,null,null,null,null,null,null,null,null,null,null,null,null,null,null,null,"  ","専修学校",null,null,null,null,null,null,null,null,{"$f":"データ一覧!F654","v":21},null,null,{"$f":"データ一覧!F655","v":0},null,null,{"$f":"データ一覧!F656","v":165},null,null,null,{"$f":"データ一覧!F657","v":350},null,null,null,{"$f":"データ一覧!F658","v":1479},null,null,null,{"$f":"データ一覧!F659","v":503},null,null,null,{"$f":"データ一覧!F660","v":976}]
["鉱業",null,null,null,null,null,null,{"$f":"データ一覧!F105","v":"…"},null,null,{"$f":"データ一覧!F162","v":"…"},null,null,{"$f":"データ一覧!F106","v":13},null,null,{"$f":"データ一覧!F163","v":92},null,null,{"$f":"データ一覧!F107","v":"…"},null,null,{"$f":"データ一覧!F164","v":"…"},null,null,{"$f":"AF58+AJ58","v":1328},null,null,null,null,null,{"$f":"データ一覧!F287","v":1234},null,null,null,{"$f":"データ一覧!F288","v":94},null,null,null,"台  数",null,null,null,"貨    物",null,null,null,"普     通",null,null,null,"小     型",null,null,null,"乗  合",null,null,"特  種",null,null,"小型二輪",null,null,"軽自動車",null,null," １８  衛　　　　　　　生"]
["建設業",null,null,null,null,null,null,{"$f":"データ一覧!F108","v":"…"},null,null,{"$f":"データ一覧!F165","v":"…"},null,null,{"$f":"データ一覧!F109","v":4743},null,null,{"$f":"データ一覧!F166","v":32043},null,null,{"$f":"データ一覧!F110","v":"…"},null,null,{"$f":"データ一覧!F167","v":"…"},null,null,"　　　　海 面 漁 業 漁 獲 量 （属人）",null,null,null,null,null,null,null,{"$f":"データ一覧!$A$289","v":"30年中"},null,null,null,null,null,{"$f":"データ一覧!$A$418","v":"3.3.31"},null,null,null,null,{"$f":"データ一覧!F418","v":44847},null,null,null,{"$f":"データ一覧!F420","v":150712},null,null,null,{"$f":"データ一覧!F421","v":155223},null,null,{"$f":"データ一覧!F419","v":1843},null,null,{"$f":"データ一覧!F422","v":14916},null,null,{"$f":"データ一覧!F423","v":8493},null,null,{"$f":"データ一覧!F424","v":287598}]
["製造業",null,null,null,null,null,null,{"$f":"データ一覧!F111","v":"…"},null,null,{"$f":"データ一覧!F168","v":"…"},null,null,{"$f":"データ一覧!F112","v":5292},null,null,{"$f":"データ一覧!F169","v":82745},null,null,{"$f":"データ一覧!F113","v":"…"},null,null,{"$f":"データ一覧!F170","v":"…"},null,null,null,null,null,null,null,"       ","ｔ",null,null,null,null,null,null,"t",null,null,"     ",null,"郵　便　局　数",null,null,null,null,null,null,null,null,null,null,null,null,null,{"$f":"+MID(データ一覧!$A$428,3,2)","v":"12"},"令","一般加入",null,null,null,"ＩＮＳネット",null,null,null,null,null,null,null,"医療関係施設",null,null,null,null,null,{"$f":"データ一覧!$A$661","v":"元.10.1"},null,null,null,null,null,null,"および医療関係者数",null,null,null,null,null,null,null,{"$f":"データ一覧!$A$666","v":"30.12.31"}]
["電気・ｶﾞ ｽ・熱供給・水道業",null,null,null,null,null,null,{"$f":"データ一覧!F114","v":"…"},null,null,{"$f":"データ一覧!F171","v":"…"},null,null,{"$f":"データ一覧!F115","v":46},null,null,{"$f":"データ一覧!F172","v":3601},null,null,{"$f":"データ一覧!F116","v":"…"},null,null,{"$f":"データ一覧!F173","v":"…"},null,null,"   総　　　　　　数",null,null,null,{"$f":"データ一覧!F289","v":11317},null,null,"   藻　　　　　　類",null,null,null,{"$f":"データ一覧!F292","v":50},null,null,"通  信",null,null,null," 総     数",null,null,null,null," 郵 便 局",null,null,null,null," 簡 易 局",null,null,null,"・",{"$f":"+LEFT(データ一覧!$A$428,1)","v":"2"},"電話数",null,null,null,"加入数",null,null,null,null,null,null,null,null,null,"　","病",null,null,"院",null,"　",null,null,null,null," ","一般診療所",null,null,null,null,null,null,null,null,null,null,null,"歯科診療所"]
["情報通信業",null,null,null,null,null,null,{"$f":"データ一覧!F117","v":"…"},null,null,{"$f":"データ一覧!F174","v":"…"},null,null,{"$f":"データ一覧!F118","v":322},null,null,{"$f":"データ一覧!F175","v":5047},null,null,{"$f":"データ一覧!F119","v":"…"},null,null,{"$f":"データ一覧!F176","v":"…"},null,null,"   魚　　　　　　類",null,null,null,{"$f":"データ一覧!F290","v":8504},null,null,"   そ　   の　　 他",null,null,null,{"$f":"データ一覧!F293","v":2502},null,null,{"$f":"データ一覧!$A$428","v":"2.12.31"},null,null,null,{"$f":"データ一覧!F425","v":235},null,null,null,null,{"$f":"データ一覧!F426","v":207},null,null,null,null,{"$f":"データ一覧!F427","v":28},null,null,null,{"$f":"+RIGHT(データ一覧!$A$428,2)","v":"31"},"・",{"$f":"データ一覧!F428","v":71718},null,null,null,{"$f":"データ一覧!F429","v":11459},null,null,null," ","医療関係",null,null,null,null,null,null,null,null,null,null,null,"一般病院",null,null,null,null,null,null,null,null,null,null,null,"有",null,null,"床"]
["運輸業、郵便業",null,null,null,null,null,null,{"$f":"データ一覧!F120","v":"…"},null,null,{"$f":"データ一覧!F177","v":"…"},null,null,{"$f":"データ一覧!F121","v":799},null,null,{"$f":"データ一覧!F178","v":16135},null,null,{"$f":"データ一覧!F122","v":"…"},null,null,{"$f":"データ一覧!F179","v":"…"},null,null,"   貝　　　　　　類",null,null,null,{"$f":"データ一覧!F291","v":261},null,null,null,null,null,null,null,null,null,null,null,null,null,null,null,null,null,null,null,null,null,null,null,null,null,null,null,null,null,null,null,null,null,null,null,null,null,null,"施設数",null,null,null,null,null,null,{"$f":"データ一覧!F661","v":67},null,null,null,null,null,{"$f":"データ一覧!F662","v":57},null,null,null,null,null,{"$f":"データ一覧!F663","v":573},null,null,null,null,null,{"$f":"データ一覧!F664","v":62},null,null,null,null,null,{"$f":"データ一覧!F665","v":300}]
["卸売業、小売業",null,null,null,null,null,null,{"$f":"データ一覧!F123","v":"…"},null,null,{"$f":"データ一覧!F180","v":"…"},null,null,{"$f":"データ一覧!F124","v":10543},null,null,{"$f":"データ一覧!F181","v":73107},null,null,{"$f":"データ一覧!F125","v":"…"},null,null,{"$f":"データ一覧!F182","v":"…"},null,null,null,null,null,null,null,null,null,null,null,null,null,null,null,null," １３  税　　・　　財　　政",null,null,null,null,null,null,null,null,null,null,null,null,null,null,null,null,null,null,null,null,null,null,null,null,null,null,null,null,null,null,null,null,null,null,"医師",null,null,null,null,"歯科医師",null,null,null,null,"薬剤師",null,null,null,null,"保健師",null,null,null,null,"助産師",null,null," ",null,"看護師",null,null," "]
["金融業、保険業",null,null,null,null,null,null,{"$f":"データ一覧!F126","v":"…"},null,null,{"$f":"データ一覧!F183","v":"…"},null,null,{"$f":"データ一覧!F127","v":749},null,null,{"$f":"データ一覧!F184","v":9238},null,null,{"$f":"データ一覧!F128","v":"…"},null,null,{"$f":"データ一覧!F185","v":"…"},null,null,"  ７  商        　　　業 ",null,null,null,null,null,null,{"$f":"データ一覧!$A$294","v":"28.6.1(平成27年実績）"},null,null,null,null,null,null,null,null,null,null,null,null,null,null,null,null,null,null,null,null,null,null,null,null,null,null,null,null,null,null,null,null,null,null," ","医療",null,null,null,null,null,null,null,null,"人",null,null,null,null,"人",null,null,null,null,"人",null,null,null,null,"人",null,null,null,null,"人",null,null,null,null,"人"]
["不動産業、物品賃貸業",null,null,null,null,null,null,{"$f":"データ一覧!F129","v":"…"},null,null,{"$f":"データ一覧!F186","v":"…"},null,null,{"$f":"データ一覧!F130","v":1288},null,null,{"$f":"データ一覧!F187","v":5756},null,null,{"$f":"データ一覧!F131","v":"…"},null,null,{"$f":"データ一覧!F188","v":"…"},null,null,null,null,null,null,null,null,null,null,null,null,null,null,null,null,"           ",null,null,null,"歳入",null,null,null,null,null,null,null,null,"(千円）"," ",null,null,null,"歳出",null,null,null,null,null,null,null,null,"(千円）",null,"関係者",null,null,null,null,{"$f":"データ一覧!F666","v":2057},null,null,null,null,{"$f":"データ一覧!F667","v":445},null,null,null,null,{"$f":"データ一覧!F668","v":1466},null,null,null,null,{"$f":"データ一覧!F669","v":477},null,null,null,null,{"$f":"データ一覧!F670","v":248},null,null,null,null,{"$f":"データ一覧!F671","v":11822}]
["学術研究、専門・技術ｻｰﾋﾞｽ業",null,null,null,null,null,null,{"$f":"データ一覧!F132","v":"…"},null,null,{"$f":"データ一覧!F189","v":"…"},null,null,{"$f":"データ一覧!F133","v":1529},null,null,{"$f":"データ一覧!F190","v":9623},null,null,{"$f":"データ一覧!F134","v":"…"},null,null,{"$f":"データ一覧!F191","v":"…"},null,null,"  産   業　 分　 類",null,null,null,"  商　 店 　数",null,null," 従　業　者　数",null,null,"年　間　販　売　額",null,null,null,"一人当たり歳入歳出予算決算額",null,null,null,null,null,null,null,null,null,null,null,null,null,null,null,null,null,null,null,null,null,null,null,null,null,null,null,"                   ",null,null,null,null,null,null,null,null,"死因別死亡数　　　　　　    ",null,null,null,null,null,null,null,null,null,null,null,null,null,null,null,{"$f":"データ一覧!$A$672","v":"2年中"},null,null,null,null,null,null,null,null,"      単 位：人"]
["宿泊業、飲食サービス業",null,null,null,null,null,null,{"$f":"データ一覧!F135","v":"…"},null,null,{"$f":"データ一覧!F192","v":"…"},null,null,{"$f":"データ一覧!F136","v":5288},null,null,{"$f":"データ一覧!F193","v":32923},null,null,{"$f":"データ一覧!F137","v":"…"},null,null,{"$f":"データ一覧!F194","v":"…"},null,null,null,null,null,null,null,"        店",null,null,null,"　人",null,"         百万円",null,null,"区分",null,null,null,{"$f":"データ一覧!$A$438","v":"3年度"},null,null,null,null,{"$f":"データ一覧!$A$452","v":"2年度"},null,null,null,null,"区分",null,null,null,{"$f":"+AR68","v":"3年度"},null,null,null,null,{"$f":"データ一覧!$A$452","v":"2年度"},null,null,null,null," 死     因",null,null,null,null,null,null,null,null,null,null,null,"悪  性",null,null,"高血圧",null,null,null,null,null,"脳血管",null,null,null,null,null," ",null,null,"不慮の事故"]
["生活関連サービス業、娯楽業",null,null,null,null,null,null,{"$f":"データ一覧!F138","v":"…"},null,null,{"$f":"データ一覧!F195","v":"…"},null,null,{"$f":"データ一覧!F139","v":3577},null,null,{"$f":"データ一覧!F196","v":14326},null,null,{"$f":"データ一覧!F140","v":"…"},null,null,{"$f":"データ一覧!F197","v":"…"},null,null,"総　　　　　　計",null,null,null,{"$f":"データ一覧!F294","v":8905},null,null,{"$f":"データ一覧!F303","v":60306},null,null,{"$f":"データ一覧!F312","v":1945172},null,null,null,null,null,null,null,{"$f":"データ一覧!F434","v":500815.47179788712},null,null,null,null,{"$f":"データ一覧!F435","v":677102.65524552262},null,null,null,null,null,null,null,null,{"$f":"データ一覧!F436","v":500815.47179788712},null,null,null,null,{"$f":"データ一覧!F437","v":653771.95255146665},null,null,null,null,null,null,null,null,null,"全 死 因",null,null,null,"結 核",null,null,"新生物",null,null,"性疾患",null,null,"心疾患",null,null,"疾  患",null,null,"肺  炎",null,null,"老  衰",null,null,null,null," ","交通事故"]
["教育、学習支援業",null,null,null,null,null,null,{"$f":"データ一覧!F141","v":"…"},null,null,{"$f":"データ一覧!F198","v":"…"},null,null,{"$f":"データ一覧!F142","v":1037},null,null,{"$f":"データ一覧!F199","v":10254},null,null,{"$f":"データ一覧!F143","v":"…"},null,null,{"$f":"データ一覧!F200","v":"…"},null,null,"卸売業",null,null,null,{"$f":"データ一覧!F295","v":2072},null,null,{"$f":"データ一覧!F304","v":17447},null,null,{"$f":"データ一覧!F313","v":1124125},null,null,null,"項目別歳入歳出予算決算額"]
["医療、福祉",null,null,null,null,null,null,{"$f":"データ一覧!F144","v":"…"},null,null,{"$f":"データ一覧!F201","v":"…"},null,null,{"$f":"データ一覧!F145","v":2491},null,null,{"$f":"データ一覧!F202","v":47565},null,null,{"$f":"データ一覧!F146","v":"…"},null,null,{"$f":"データ一覧!F203","v":"…"},null,null,"小売業",null,null,null,{"$f":"データ一覧!F296","v":6833},null,null,{"$f":"データ一覧!F305","v":42859},null,null,{"$f":"データ一覧!F314","v":821047},null,null,null,"区分",null,null,null,{"$f":"データ一覧!$A$438","v":"3年度"},null,null,null,null,{"$f":"データ一覧!$A$452","v":"2年度"},null,null,null,null,"区分",null,null,null,{"$f":"+AR71","v":"3年度"},null,null,null,null,{"$f":"データ一覧!$A$452","v":"2年度"},null,null,null,null,null,null,null,null,null,{"$f":"データ一覧!F672","v":9286},null,null,null,"   －",{"$f":"データ一覧!F673","v":13},null,{"$f":"データ一覧!F674","v":512},null,null,null,{"$f":"データ一覧!F675","v":65},null,{"$f":"データ一覧!F676","v":125},null,null,{"$f":"データ一覧!F677","v":17},null,null,{"$f":"データ一覧!F678","v":598},null,null,{"$f":"データ一覧!F679","v":820},null,null,{"$f":"データ一覧!F680","v":282},null,null,{"$f":"データ一覧!F681","v":39}]
["複合サービス事業",null,null,null,null,null,null,{"$f":"データ一覧!F147","v":"…"},null,null,{"$f":"データ一覧!F204","v":"…"},null,null,{"$f":"データ一覧!F148","v":367},null,null,{"$f":"データ一覧!F205","v":4934},null,null,{"$f":"データ一覧!F149","v":"…"},null,null,{"$f":"データ一覧!F206","v":"…"},null,null,"各種商品",null,null,null,{"$f":"データ一覧!F297","v":26},null,null,{"$f":"データ一覧!F306","v":2195},null,null,{"$f":"データ一覧!F315","v":61566},null,null,null,"総額",null,null,null,{"$f":"SUM(AR73:AV85)","v":380724429},null,null,null,null,{"$f":"SUM(AW73:BA85)","v":514714593},null,null,null,null,"総額",null,null,null,{"$f":"SUM(BF73:BJ85)","v":380724429},null,null,null,null,{"$f":"SUM(BK73:BO85)","v":498618139},null,null,null,null," １９  警　察　・　消　防  ",null,null,null,null,null,null,null,null,null,null,null,null,null,null,{"$f":"+データ一覧!$A682","v":"3.4.1"}]
["サービス業",null,null,null,null,null,null,{"$f":"データ一覧!F150","v":"…"},null,null,{"$f":"データ一覧!F207","v":"…"},null,null,{"$f":"データ一覧!F151","v":3212},null,null,{"$f":"データ一覧!F208","v":25228},null,null,{"$f":"データ一覧!F152","v":"…"},null,null,{"$f":"データ一覧!F209","v":"…"},null,null,"織物・衣服・身の回り品",null,null,null,{"$f":"データ一覧!F298","v":986},null,null,{"$f":"データ一覧!F307","v":3532},null,null,{"$f":"データ一覧!F316","v":46990},null,null,null,"地方税",null,null,null,{"$f":"データ一覧!F439","v":119936460},null,null,null,null,{"$f":"データ一覧!F453","v":126900573},null,null,null,null,"議会費",null,null,null,{"$f":"データ一覧!F467","v":3231372},null,null,null,null,{"$f":"データ一覧!F481","v":3016505}]
["公務",null,null,null,null,null,null,{"$f":"データ一覧!F153","v":"…"},null,null,{"$f":"データ一覧!F210","v":"…"},null,null,{"$f":"データ一覧!F154","v":"…"},null,null,{"$f":"データ一覧!F211","v":"…"},null,null,{"$f":"データ一覧!F155","v":"…"},null,null,{"$f":"データ一覧!F212","v":"…"},null,null,"飲食料品",null,null,null,{"$f":"データ一覧!F299","v":2102},null,null,{"$f":"データ一覧!F308","v":15273},null,null,{"$f":"データ一覧!F317","v":238769},null,null,null,"地方譲与税",null,null,null,{"$f":"データ一覧!F440","v":3255902},null,null,null,null,{"$f":"データ一覧!F454","v":3457222},null,null,null,null,"総務費",null,null,null,{"$f":"データ一覧!F468","v":45392988},null,null,null,null,{"$f":"データ一覧!F482","v":145446304},null,null,null,null,null,null,null,null,null,null,null,null,null,null,"交番・駐在所",null,null,null,null,null,null,null,null,"刑法犯認知件数",null,null,null,null,null,null,null,null,"交通人身事故発生件数"]
["  ４  農        　　　業 ",null,null,null,null,null,null,null,null,null,null,null,null,null,null,null,null,null,null,null,null,null,null,null,null,"機械器具",null,null,null,{"$f":"データ一覧!F300","v":1028},null,null,{"$f":"データ一覧!F309","v":6435},null,null,{"$f":"データ一覧!F318","v":178495},null,null,null,"各種交付金",null,null,null,{"$f":"データ一覧!F441","v":19288469},null,null,null,null,{"$f":"データ一覧!F455","v":18502264},null,null,null,null,"民生費",null,null,null,{"$f":"データ一覧!F469","v":127886975},null,null,null,null,{"$f":"データ一覧!F483","v":126199027},null,null,null,null,null,"警察署数",null,null,null,null,null,null,null,null,"検問所数",null,null,null,null,null,null,null,null,null,{"$f":"データ一覧!$A$684","v":"2年中"},null,null,null,null,null,null,null,null,{"$f":"データ一覧!$A$684","v":"2年中"}]
[null,null,null,null,null,null,null,null,null,null,null,null,null,null,null,null,null,null,null,null,null,null,null,null,null,"その他",null,null,null,{"$f":"データ一覧!F301","v":2465},null,null,{"$f":"データ一覧!F310","v":13896},null,null,{"$f":"データ一覧!F319","v":254849},null,null,null,"地方特例交付金",null,null,null,{"$f":"データ一覧!F442","v":3308248},null,null,null,null,{"$f":"データ一覧!F456","v":792292},null,null,null,null,"衛生費",null,null,null,{"$f":"データ一覧!F470","v":31171019},null,null,null,null,{"$f":"データ一覧!F484","v":27278361},null,null,null,null,null,null,null,null,null,null,null,null,null,null,null,null,null,null,null,null,null,null,null,null,null,null,null,null," 件",null,null,null,null,null,null,null,null,"　件"]
[null,null,"農業経営体数",null,null,null,null,null,null,"農産物販売額規模別経営体数",null,null,null,null,null,null,null,"経営耕地面積規模別経営体数",null,null,null,null,null,null,null,"無店舗",null,null,null,{"$f":"データ一覧!F302","v":226},null,null,{"$f":"データ一覧!F311","v":1528},null,null,{"$f":"データ一覧!F320","v":40378},null,null,null,"地方交付税",null,null,null,{"$f":"データ一覧!F443","v":64786400},null,null,null,null,{"$f":"データ一覧!F457","v":71480523},null,null,null,null,"労働費",null,null,null,{"$f":"データ一覧!F471","v":1755721},null,null,null,null,{"$f":"データ一覧!F485","v":1564642},null,null,null,null,null,null,{"$f":"データ一覧!F682","v":11},null,null,null,null,null,null,null,null,{"$f":"データ一覧!F683","v":136},null,null,null,null,null,null,null,null,{"$f":"データ一覧!F684","v":2764},null,null,null,null,null,null,null,null,{"$f":"データ一覧!F685","v":868}]
["農",null,"区　分",null,null,null,"経営体数\n（経営体）",null,null,"区　分",null,null,null,null,"経営体数\n（経営体）",null,null,"区　分",null,null,null,null,"経営体数\n（経営体）",null,null,null,null,null,null,null,null,null,null,null,null,null,null,null,null,"分担金および負担金",null,null,null,{"$f":"データ一覧!F444","v":2620429},null,null,null,null,{"$f":"データ一覧!F458","v":2342010},null,null,null,null,"農林水産業費",null,null,null,{"$f":"データ一覧!F472","v":18927351},null,null,null,null,{"$f":"データ一覧!F486","v":20361223},null,null,null,null,"火災発生件数",null,null,null,null,null,null,null,null,null,"林野焼損",null,null,null,null,"損      害",null,null,null,null,"消 防 自",null,null,null,"その他の",null,null,null," ",null,null,null,null," "]
["業","令",null,null,null,null,null,null,null,null,null,null,null,null,null,null,null,null,null,null,null,null,null,null,null,"  ８  住　　　　　　 　宅",null,null,null,null,null,null,null,null,null,null,null,null,null,"使用料および手数料",null,null,null,{"$f":"データ一覧!F445","v":4636705},null,null,null,null,{"$f":"データ一覧!F459","v":4337149},null,null,null,null,"商工費",null,null,null,{"$f":"データ一覧!F473","v":16800464},null,null,null,null,{"$f":"データ一覧!F487","v":19600696},null,null,null,null,{"$f":"+データ一覧!$A$686","v":"2年中"},null,null,null,null,"焼損棟数",null,null,null,null,"面    積",null,null,null,null,"見  積  額",null,null,null,null,"動 車 数",null,null,null,"ﾎﾟﾝﾌﾟ数",null,null,null," 消防吏員",null,null,null," 消防団員"]
["経",{"$f":"+LEFT(データ一覧!$A$213)","v":"2"},"計",null,null,null,{"$f":"データ一覧!F213","v":10546},null,null,"総　　　 数",null,null,null,null,{"$f":"データ一覧!F217","v":10546},null,null,"総　　　 数",null,null,null,null,{"$f":"データ一覧!F233","v":32792},null,null,null,null,null,null,null,null,null,null,null,null,null,null,null,null,"国庫支出金",null,null,null,{"$f":"データ一覧!F446","v":55970724},null,null,null,null,{"$f":"データ一覧!F460","v":153363307},null,null,null,null,"土木費",null,null,null,{"$f":"データ一覧!F474","v":44478565},null,null,null,null,{"$f":"データ一覧!F488","v":54359522},null,null,null,null,"         件",null,null,null,null,null,"      棟",null,null,null,null,null,null,"  ａ",null,null,null,"  千円",null,null,"        ",null,null,null,null,null,null,null,null,null,"  人",null,null,null,"  人"]
["営","・","個人経営体",null,null,null,{"$f":"データ一覧!F214","v":9871},null,null,"販 売 な し",null,null,null,null,{"$f":"データ一覧!F218","v":706},null,null,"0.5 ha 未満",null,null,null,null,{"$f":"データ一覧!F234","v":728},null,null,{"$f":"+データ一覧!$A$321","v":"令和元年"},null,null,null,null,{"$f":"データ一覧!$A$324","v":"2年"},"中の増減",null,null,null,{"$f":"+データ一覧!$A$324","v":"2年"},null,null,null,"県支出金",null,null,null,{"$f":"データ一覧!F447","v":37032340},null,null,null,null,{"$f":"データ一覧!F461","v":36743440},null,null,null,null,"消防費",null,null,null,{"$f":"データ一覧!F475","v":13319230},null,null,null,null,{"$f":"データ一覧!F489","v":14217258},null,null,null,null,null,{"$f":"データ一覧!F686","v":171},null,null,null,null,{"$f":"データ一覧!F687","v":152},null,null,null,null,{"$f":"データ一覧!F688","v":5},null,null,null,{"$f":"データ一覧!F689","v":588667},null,null,null,null,null,{"$f":"データ一覧!F690","v":262},null,null,null,{"$f":"データ一覧!F691","v":362},null,null,null,{"$f":"データ一覧!F692","v":1245},null,null,null,{"$f":"データ一覧!F693","v":5874}]
["体",{"$f":"+LEFT(データ一覧!$A$213,1)","v":"2"},"団体経営体",null,null,null,{"$f":"データ一覧!F215","v":675},null,null,"50万円未満",null,null,null,null,{"$f":"データ一覧!F219","v":3648},null,null,"0.5 ha ～ 1.0 ha",null,null,null,null,{"$f":"データ一覧!F235","v":2338},null,null,null,null,null,null,"建設した住宅",null,null,"消失した住宅",null,null,null,null,null,null,"財産収入",null,null,null,{"$f":"データ一覧!F448","v":1089004},null,null,null,null,{"$f":"データ一覧!F462","v":10632206},null,null,null,null,"教育費",null,null,null,{"$f":"データ一覧!F476","v":37490413},null,null,null,null,{"$f":"データ一覧!F490","v":45491896},null,null,null,null," ２０  そ　　　の　　　他　（令3．4．1）"]
["数","・",null,"法人経営",null,null,{"$f":"データ一覧!F216","v":414},null,null,"50～300万円",null,null,null,null,{"$f":"データ一覧!F220","v":4670},null,null,"1.0 ha ～ 2.0 ha",null,null,null,null,{"$f":"データ一覧!F236","v":4042},null,null,null,null,null,null,null,null,null,null,null,null,null,null,null,null,"繰入金",null,null,null,{"$f":"データ一覧!F449","v":16573349},null,null,null,null,{"$f":"データ一覧!F463","v":11742764},null,null,null,null,"災害復旧費",null,null,null,{"$f":"データ一覧!F477","v":128920},null,null,null,null,{"$f":"データ一覧!F491","v":357448}]
["（",{"$f":"+RIGHT(データ一覧!$A$213)","v":"1"},null,null,null,null,null,null,null,"300～500万円",null,null,null,null,{"$f":"データ一覧!F221","v":431},null,null,"2.0 ha ～ 3.0 ha",null,null,null,null,{"$f":"データ一覧!F237","v":1968},null,null,null,{"$f":"データ一覧!F321","v":307954},null,"戸",{"$f":"データ一覧!F322","v":4262},null,"戸",{"$f":"データ一覧!F323","v":2151},null,"戸",null,{"$f":"データ一覧!F324","v":310065},null,"戸","地方債",null,null,null,{"$f":"データ一覧!F450","v":33166700},null,null,null,null,{"$f":"データ一覧!F464","v":38554591},null,null,null,null,"公債費",null,null,null,{"$f":"データ一覧!F478","v":38143356},null,null,null,null,{"$f":"データ一覧!F492","v":40722987}]
["総",null,null,null,null,null,null,null,null,"500～1,000万円",null,null,null,null,{"$f":"データ一覧!F222","v":417},null,null,"3.0 ha ～ 5.0 ha",null,null,null,null,{"$f":"データ一覧!F238","v":1473},null,null,null,null,null,null,null,null,null,null,null,null,null,null,null,null,"その他",null,null,null,{"$f":"データ一覧!F451","v":19059699},null,null,null,null,{"$f":"データ一覧!F465","v":35866252},null,null,null,null,"その他",null,null,null,{"$f":"データ一覧!F479","v":1998055},null,null,null,null,{"$f":"データ一覧!F493","v":2270},null,null,null,null,null,"県内文化財数",null,null,null,null,null,null,null,null,null,null,null,"国指定",null,null,null,null,"国選択・選定",null,null,null,null,null,null,"国登録",null,null,null,null,null,"県指定"]
["数",null,null,null,null,null,null,null,null,"1,000万円以上",null,null,null,null,{"$f":"データ一覧!F223","v":674},null,null,"5.0 ha以上",null,null,null,null,{"$f":"データ一覧!F239","v":22242},null,null,null,null,null,null,null,null,null,null,null,null,null,null,null,null,null,null,null,null,null,null,null,null,null,null,null,null,null,null,null,null,null,null,null,null,null,null,null,null,null,null,null,null,null,"有形文化財",null,null,null,null,null,null,null,null,null,null,null,114,null,null,null,null,null,null,null,null,null,null,null,227,null,null,null,null,null,262]
["）",null,"15歳以上の常雇い数",null,null,null,null,null,null,"農業に60日以上従事した世帯員、役員・構成員\n（経営主を含む）の平均年齢",null,null,null,null,null,null,null,null,null,null,null,null,null,null,null,"  ９  議　 員　・　職 　員",null,null,null,null,null,null,null,null,null,null,null,null,null," １４  文　　　　　　化",null,null,null,null,null,null,null,null,null," ( ",{"$f":"データ一覧!$A$500","v":"3.3.31"},null,null,null,"ただし図書館・公民館・児童館",null,null,null,null,null,null,null,{"$f":"データ一覧!$A$494","v":"3.4.1"},null,null,null,null,null,"無形文化財",null,null,null,null,null,null,null,null,null,null,null,2]
["と",null,null,null,null,null,null,null,null,null,null,null,null,null,null,null,null,null,null,null,null,null,null,null,null,null,null,null,null,null,null,null,null,null,null,null,null,null,null,null,null,null,null,null,null,null,null,null,null,null,null,null,null,null,null,"　宗教法人数 ",null,null,null,null,null,null,{"$f":"データ一覧!$A$502","v":"2.12.31"},null,null,null,"）",null,"民俗文化財",null,null,null,null,null,null,null,null,null,null,null,6,null,null,null,null,null,12,null,null,null,null,null,1,null,null,null,null,null,75]
["就",null,null,null,null,null,null,null,null,"農業に60日以上従事",null,null,null,null,null,null,null,"農業に150日以上従事",null,null,null,null,null,null,null," 市 町 村 議 会",null,null,"有権者数",null,{"$f":"データ一覧!$A$328","v":"3.9.1"},null,"市 町 村 議 会",null,null,"市町職員数　",null,null,null,null,null,null,null,"県立図書館",null,null,null,null,null,null,"公　民　館",null,null,null,null,null,null,null,null,null,null," 社会教育学級講座",null,null,null,null,null,null,"天然記念物、史跡・名勝",null,null,null,null,null,null,null,null,null,null,null,62,null,null,null,null,null,null,null,null,null,null,null,3,null,null,null,null,null,67]
["業",null,"区　分",null,null,null,"人",null,null,"区　分",null,null,null,null,"人",null,null,"区　分",null,null,null,null,"人",null,null," 議  員  定  数",null,null,"    男",null,"    女",null,"選 挙 投 票 率",null,null," 総     数",null,"一般行政職",null,"公    共",null,null,null," 館  数",null,null," 図書数",null,null," 本  館",null,null," 分  館",null,null," 公  園",null,null," 児童館",null,null,"学級講座数",null,null,"受講者数",null,null,null,"選定保存技術"]
["状",null,"総数",null,null,null,{"$f":"データ一覧!F230","v":783},null,null,"総数",null,null,null,null,{"$f":"データ一覧!F224","v":67.900000000000006},null,null,"総数",null,null,null,null,{"$f":"データ一覧!F227","v":67.400000000000006},null,null,null,null,"人",null,"人",null,"人",null,null,"　％",null,"人",null,"人","施 設 数",null,null,null,null,{"$f":"データ一覧!F494","v":2},null,{"$f":"データ一覧!F495","v":1362649},null,null,null,{"$f":"データ一覧!F496","v":182},null,{"$f":"データ一覧!F497","v":25},null,null,{"$f":"データ一覧!F498","v":937},null,null,{"$f":"データ一覧!F499","v":99},null,null,{"$f":"データ一覧!F500","v":2163},null,null,{"$f":"データ一覧!F501","v":39557},null,null,"  ","重要伝統的建造物群保存地区",null,null,null,null,null,null,null,null,null,null,null,null,null,null,null,null,null,2]
["況",null,"男",null,null,null,{"$f":"データ一覧!F231","v":489},null,null,"男",null,null,null,null,{"$f":"データ一覧!F225","v":67.099999999999994},null,null,"男",null,null,null,null,{"$f":"データ一覧!F228","v":66.7},null,null,null,{"$f":"データ一覧!F325","v":298},null,{"$f":"データ一覧!F328","v":308546},null,{"$f":"データ一覧!F329","v":330662},null,{"$f":"データ一覧!F327","v":"-"},null,null,{"$f":"データ一覧!F330","v":7865},null,{"$f":"データ一覧!F331","v":4286},null,"宗    教",null,null,null," 仏教系",null,null,"ｷﾘｽﾄ教系",null,null,"神道諸派",null,null,"公会堂・市民会館",null,null,null,null,null," テレビ",null,null,"衛星放送契約数",null,null,null,null,null,null,"文化的景観",null,null,null,null,null,null,null,null,null,null,null,null,null,null,null,null,null,3]
[null,null,"女",null,null,null,{"$f":"データ一覧!F232","v":294},null,null,"女",null,null,null,null,{"$f":"データ一覧!F226","v":69.7},null,null,"女",null,null,null,null,{"$f":"データ一覧!F229","v":69},null,null,null,null,null,null,null,null,null,null,null,null,null,null,null,null,"法 人 数",null,null,null,{"$f":"データ一覧!F502","v":1685},null,null,{"$f":"データ一覧!F503","v":37},null,null,{"$f":"データ一覧!F504","v":1812},null,null,{"$f":"データ一覧!F505","v":37},null,null,null,null,null,"　　　等",null,null,{"$f":"データ一覧!F506","v":178314},null,null,null,null,null,null,"その他"]

{"sheet":"福井市","index":5,"n_rows":93,"n_cols":103,"rows_kept":93,"cut":false,"hidden":false,"merged":[[91,2,91,5],[91,9,91,13],[91,17,91,21],[82,6,82,8],[83,14,83,16],[84,6,84,8],[84,9,84,13],[84,14,84,16],[84,22,84,24],[85,6,85,8],[86,2,88,8],[86,9,87,24],[88,9,88,16],[88,17,88,24],[89,2,89,5],[89,9,89,13],[89,17,89,21],[90,2,90,5],[90,9,90,13],[90,17,90,21],[76,78,76,81],[92,2,92,5],[92,9,92,13],[92,14,92,16],[92,17,92,21],[85,9,85,13],[85,14,85,16],[85,22,85,24],[85,17,85,21],[76,2,76,8],[76,9,76,16],[76,17,76,24],[77,2,78,5],[77,6,78,8],[77,9,78,13],[77,14,78,16],[77,17,78,21],[77,22,78,24],[79,2,79,5],[79,6,79,8],[79,9,79,13],[79,14,79,16],[79,17,79,21],[79,22,79,24],[80,6,80,8],[80,9,80,13],[80,14,80,16],[80,17,80,21],[80,22,80,24],[81,6,81,8],[81,9,81,13],[81,14,81,16],[70,100,70,102],[82,9,82,13],[82,14,82,16],[83,6,83,8],[83,9,83,13],[65,98,65,101],[77,77,77,81],[77,87,77,90],[68,82,68,84],[74,96,74,100],[73,57,73,61],[67,53,67,56],[65,53,65,56],[65,73,65,76],[65,78,65,81],[65,68,65,71],[65,57,65,63],[67,82,67,84],[68,72,68,75],[70,79,70,81],[72,39,72,42],[70,53,70,56],[74,39,74,42],[73,43,73,47],[76,48,76,52],[66,92,66,96],[77,43,77,47],[71,57,71,61],[72,57,72,61],[80,92,80,94],[73,39,73,42],[77,91,77,94],[67,97,67,102],[79,57,79,61],[75,57,75,61],[74,57,74,61],[74,53,74,56],[76,62,76,66],[74,62,74,66],[69,39,69,66],[68,88,68,90],[71,83,72,102],[70,97,70,99],[68,100,68,102],[77,48,77,52],[78,87,78,90],[79,101,79,102],[76,87,76,90],[70,62,70,66],[68,79,68,81],[73,53,73,56],[68,94,68,96],[77,57,77,61],[75,62,75,66],[73,62,73,66],[78,72,78,76],[78,67,78,71],[78,62,78,66],[78,53,78,56],[68,76,68,78],[74,48,74,52],[73,95,73,101],[74,68,74,74],[74,77,74,83],[80,43,80,47],[77,53,77,56],[78,48,78,52],[76,96,76,99],[73,77,73,83],[68,85,68,87],[72,48,72,52],[73,48,73,52],[73,86,73,92],[68,48,68,52],[76,57,76,61],[79,62,79,66],[72,43,72,47],[70,43,70,47],[80,53,80,56],[70,94,70,96],[71,39,71,42],[71,43,71,47],[79,53,79,56],[72,53,72,56],[78,57,78,61],[77,62,77,66],[68,91,68,93],[77,82,77,86],[70,85,70,87],[70,77,70,78],[78,77,78,81],[67,67,70,71],[74,87,74,91],[78,95,78,98],[78,91,78,94],[78,82,78,86],[23,86,23,90],[25,77,25,80],[25,81,25,84],[23,77,23,80],[45,29,45,30],[38,67,38,73],[40,29,40,30],[35,40,35,46],[40,67,41,73],[27,68,27,72],[27,73,27,76],[30,60,30,64],[27,53,27,56],[29,53,29,56],[28,60,28,64],[32,77,32,80],[32,73,32,76],[39,67,39,73],[42,32,42,35],[44,36,44,37],[28,68,28,72],[31,68,31,72],[40,40,40,46],[41,49,41,51],[43,83,44,102],[45,36,45,37],[42,53,42,56],[37,97,37,100],[40,93,40,95],[40,85,40,91],[39,40,39,46],[38,79,38,82],[28,73,28,76],[36,67,36,73],[35,80,35,83],[39,97,39,100],[33,83,34,96],[30,81,30,84],[30,86,30,90],[31,73,31,76],[31,77,31,80],[31,81,31,84],[51,99,51,102],[51,91,51,94],[55,99,55,102],[55,80,55,82],[56,83,56,86],[55,95,55,98],[56,80,56,82],[33,67,34,78],[37,75,37,77],[38,75,38,77],[36,75,36,77],[53,77,53,79],[40,79,41,82],[30,68,30,72],[43,67,44,80],[49,80,49,82],[30,73,30,76],[30,77,30,80],[40,75,41,77],[39,79,39,82],[54,77,54,79],[50,91,50,94],[39,85,39,91],[45,84,45,89],[46,29,46,30],[40,49,40,51],[48,77,48,79],[49,68,49,75],[48,80,48,82],[47,91,47,94],[36,97,36,100],[36,85,36,91],[37,79,37,82],[50,87,50,90],[57,61,57,63],[47,95,47,98],[47,99,47,102],[36,60,36,64],[40,53,40,56],[50,50,50,53],[49,50,49,53],[53,36,53,37],[55,35,55,38],[49,58,49,61],[50,59,50,61],[49,62,49,66],[56,48,56,53],[42,49,42,51],[43,49,43,51],[56,39,56,42],[48,56,48,59],[38,97,38,100],[38,85,38,91],[39,93,39,95],[55,13,55,15],[44,19,44,24],[46,32,46,35],[50,29,50,32],[51,36,51,38],[44,32,44,35],[47,22,47,24],[48,68,48,75],[46,0,46,1],[47,0,47,1],[50,80,50,82],[42,97,42,100],[47,83,47,86],[47,87,47,90],[41,97,41,100],[42,36,42,37],[47,7,47,9],[46,36,46,37],[48,50,48,53],[48,95,48,98],[49,95,49,98],[48,87,48,90],[46,95,46,98],[42,85,42,91],[41,93,41,95],[48,99,48,102],[49,87,49,90],[45,92,45,101],[49,99,49,102],[48,91,48,94],[42,93,42,95],[46,99,46,102],[62,22,62,24],[61,0,61,6],[56,0,56,6],[59,7,59,9],[35,18,35,19],[42,13,42,15],[47,19,47,21],[41,22,41,24],[57,7,57,9],[55,16,55,18],[40,10,40,12],[58,19,58,21],[56,22,56,24],[61,7,61,9],[35,98,35,101],[58,0,58,6],[42,22,42,24],[55,19,55,21],[40,19,40,21],[59,13,59,15],[47,16,47,18],[35,5,35,7],[35,8,35,10],[48,7,48,9],[48,10,48,12],[40,22,40,24],[42,4,42,6],[48,16,48,18],[50,0,51,24],[40,2,40,3],[48,19,48,21],[48,22,48,24],[56,7,56,9],[48,13,48,15],[55,0,55,6],[40,7,40,9],[47,10,47,12],[42,7,42,9],[42,16,42,18],[40,13,40,15],[42,10,42,12],[34,11,34,13],[55,22,55,24],[42,19,42,21],[33,8,33,10],[41,10,41,12],[29,14,29,16],[62,7,62,9],[59,0,59,6],[41,7,41,9],[60,10,60,12],[33,5,33,7],[33,18,33,19],[33,11,33,13],[34,14,34,16],[40,4,40,6],[41,19,41,21],[40,16,40,18],[34,22,34,24],[34,20,34,21],[61,16,61,18],[57,19,57,21],[61,19,61,21],[57,10,57,12],[5,0,5,9],[6,0,8,9],[19,3,19,5],[35,11,35,13],[35,14,35,16],[30,5,30,7],[31,5,31,7],[30,8,30,10],[14,0,15,24],[15,35,15,37],[14,25,15,25],[14,26,15,28],[15,32,15,33],[15,29,15,30],[26,25,26,26],[21,29,21,31],[41,4,41,6],[34,5,34,7],[20,35,20,38],[34,8,34,10],[34,18,34,19],[24,33,24,34],[19,35,19,38],[21,25,21,28],[22,32,22,34],[27,0,27,4],[33,22,33,24],[27,25,27,26],[19,25,19,28],[17,25,17,27],[18,25,18,27],[22,25,22,28],[18,28,18,30],[19,53,19,56],[20,53,20,56],[21,53,21,56],[32,5,32,7],[55,25,55,30],[44,25,44,28],[54,25,54,32],[53,25,53,27],[45,32,45,35],[41,32,41,35],[35,29,35,30],[44,29,44,30],[34,29,34,30],[40,32,40,35],[41,29,41,30],[36,29,36,30],[46,25,46,28],[55,10,55,12],[35,20,35,21],[50,25,50,28],[50,33,50,38],[45,25,45,28],[32,22,32,24],[23,11,23,13],[21,40,21,46],[20,40,20,46],[24,37,24,38],[24,35,24,36],[29,49,29,51],[30,53,30,56],[55,7,55,9],[59,10,59,12],[58,10,58,12],[58,7,58,9],[58,16,58,18],[60,16,60,18],[58,13,58,15],[16,36,16,37],[18,35,18,38],[17,32,17,34],[17,36,17,38],[16,32,16,33],[21,32,21,34],[21,35,21,38],[38,53,38,56],[24,27,24,28],[20,16,20,18],[25,25,25,26],[25,27,25,28],[20,21,20,23],[23,16,23,18],[29,5,29,7],[22,7,22,8],[31,22,31,24],[31,18,31,19],[31,20,31,21],[20,25,20,28],[33,20,33,21],[33,53,33,56],[43,53,43,56],[41,53,41,56],[55,47,55,49],[20,11,20,13],[64,0,64,6],[65,0,65,6],[66,13,66,15],[65,10,65,12],[56,10,56,12],[62,10,62,12],[56,13,56,15],[57,43,57,46],[58,48,58,50],[61,29,61,30],[58,39,58,42],[61,39,61,42],[61,36,61,37],[62,16,62,18],[59,16,59,18],[57,16,57,18],[56,19,56,21],[56,16,56,18],[57,31,57,33],[57,25,57,29],[63,13,63,15],[60,7,60,9],[57,0,57,6],[63,0,63,6],[61,10,61,12],[64,10,64,12],[63,10,63,12],[63,7,63,9],[64,7,64,9],[65,7,65,9],[61,22,61,24],[60,0,60,6],[62,99,62,101],[54,68,54,75],[62,81,62,83],[57,67,58,102],[63,74,63,76],[60,97,60,102],[60,85,60,90],[52,91,52,94],[54,99,54,102],[56,99,56,102],[53,91,53,94],[52,95,52,98],[63,99,63,101],[52,68,52,75],[56,68,56,75],[60,91,60,96],[53,99,53,102],[62,75,62,77],[63,84,63,86],[52,87,52,90],[56,95,56,98],[55,91,55,94],[55,87,55,90],[65,19,65,21],[19,29,19,31],[19,32,19,34],[20,49,20,51],[20,29,20,31],[30,20,30,21],[30,22,30,24],[32,60,32,64],[34,36,34,37],[35,22,35,24],[58,44,58,46],[66,19,66,21],[63,19,63,21],[51,25,51,28],[51,29,51,32],[51,33,51,35],[32,20,32,21],[23,21,23,23],[32,18,32,19],[26,27,26,28],[57,22,57,24],[29,18,29,19],[29,22,29,24],[27,27,27,28],[29,20,29,21],[30,18,30,19],[57,35,57,37],[19,40,19,46],[23,35,23,38],[24,31,24,32],[66,35,66,38],[23,25,23,28],[60,36,60,37],[62,29,62,30],[65,43,65,49],[27,31,27,32],[28,49,28,51],[29,40,29,46],[41,36,41,37],[40,36,40,37],[25,33,26,34],[27,35,27,36],[60,13,60,15],[32,11,32,13],[30,14,30,16],[32,14,32,16],[30,11,30,13],[31,14,31,16],[57,13,57,15],[64,13,64,15],[50,47,50,49],[49,46,49,49],[27,33,27,34],[37,49,37,51],[25,35,26,36],[25,37,26,38],[30,40,30,46],[38,40,38,46],[36,40,36,46],[37,40,37,46],[34,40,34,46],[35,36,35,37],[32,40,32,46],[62,19,62,21],[66,0,66,6],[69,25,69,28],[71,22,71,24],[67,7,67,9],[66,10,66,12],[67,10,67,12],[67,16,67,18],[70,29,70,30],[70,22,70,24],[69,22,69,24],[54,95,54,98],[53,80,53,82],[54,80,54,82],[58,22,58,24],[70,32,70,33],[63,22,63,24],[60,22,60,24],[67,57,67,61],[67,62,67,66],[60,29,60,30],[65,13,65,15],[64,68,64,71],[66,76,66,90],[61,80,61,83],[61,68,61,71],[56,77,56,79],[65,83,65,86],[66,32,66,34],[68,19,68,21],[66,39,66,66],[67,43,67,47],[65,22,65,24],[20,60,20,64],[21,73,21,76],[24,29,24,30],[24,73,24,76],[22,40,22,46],[17,53,17,57],[23,40,23,46],[23,49,23,51],[48,62,48,65],[49,54,49,57],[41,60,41,64],[45,57,45,61],[43,60,43,64],[27,37,27,38],[25,29,26,30],[31,40,31,46],[58,61,58,63],[55,63,55,65],[49,39,49,45],[33,40,33,46],[38,49,38,51],[17,48,17,52],[17,40,17,46],[18,31,18,34],[24,40,24,46],[19,49,19,51],[22,35,22,38],[24,49,24,51],[22,49,22,51],[20,32,20,34],[19,60,19,64],[17,59,17,65],[22,60,22,64],[24,68,24,72],[17,73,17,76],[20,73,20,76],[23,32,23,34],[17,68,17,71],[24,86,24,90],[27,86,27,90],[28,77,28,80],[28,81,28,84],[35,49,35,51],[36,49,36,51],[26,53,26,56],[25,73,25,76],[21,81,21,84],[21,86,21,90],[35,86,35,90],[22,81,22,84],[26,73,26,76],[35,75,35,77],[27,77,27,80],[26,77,26,80],[29,81,29,84],[29,77,29,80],[26,81,26,84],[21,60,21,64],[34,60,34,64],[35,60,35,64],[26,49,26,51],[27,49,27,51],[31,49,31,51],[32,49,32,51],[22,77,22,80],[24,53,24,56],[34,49,34,51],[23,81,23,84],[33,49,33,51],[51,87,51,90],[53,87,53,90],[54,83,54,86],[49,83,49,86],[51,83,51,86],[51,77,51,79],[52,83,52,86],[50,83,50,86],[32,68,32,72],[22,68,22,72],[23,73,23,76],[23,68,23,72],[22,53,22,56],[24,60,24,64],[23,53,23,56],[28,53,28,56],[37,53,37,56],[23,60,23,64],[32,53,32,56],[52,77,52,79],[52,80,52,82],[40,60,40,64],[33,60,33,64],[25,60,25,64],[26,60,26,64],[38,60,38,64],[39,53,39,56],[24,81,24,84],[25,86,25,90],[35,68,35,72],[37,67,37,73],[29,86,29,90],[39,49,39,51],[55,59,55,62],[54,59,54,66],[27,29,27,30],[31,53,31,56],[31,60,31,64],[37,60,37,64],[39,60,39,64],[34,53,34,56],[36,53,36,56],[41,40,41,46],[43,40,43,46],[42,40,42,46],[27,60,27,64],[29,60,29,64],[42,60,42,64],[51,80,51,82],[55,83,55,86],[54,87,54,90],[28,86,28,90],[27,81,27,84],[55,55,55,57],[55,31,55,34],[36,36,36,37],[27,40,27,46],[28,40,28,46],[54,39,54,42],[30,49,30,51],[25,40,25,46],[25,53,25,56],[25,49,25,51],[50,55,50,57],[35,53,35,56],[26,40,26,46],[54,55,54,58],[21,49,21,51],[54,51,54,54],[54,47,54,50],[22,29,22,31],[23,29,23,31],[25,31,26,32],[24,0,25,24],[26,22,26,24],[27,5,27,7],[54,43,54,46],[48,0,48,1],[27,22,27,24],[32,8,32,10],[29,8,29,10],[29,11,29,13],[31,8,31,10],[31,11,31,13],[33,14,33,16],[44,0,45,1],[47,13,47,15],[41,16,41,18],[41,13,41,15],[45,77,45,82],[47,77,47,79],[47,80,47,82],[50,99,50,102],[56,87,56,90],[56,91,56,94],[55,68,55,75],[50,68,50,75],[49,91,49,94],[48,83,48,86],[50,95,50,98],[49,77,49,79],[42,79,42,82],[42,75,42,77],[42,67,42,73],[53,83,53,86],[50,77,50,79],[51,68,51,75],[52,99,52,102],[53,68,53,75],[60,63,60,66],[57,47,57,50],[58,58,58,60],[55,77,55,79],[71,67,72,81],[68,43,68,47],[67,39,67,42],[68,39,68,42],[57,39,57,42],[60,39,60,42],[60,48,60,52],[60,53,60,56],[61,43,61,47],[61,48,61,52],[61,53,61,56],[58,52,58,54],[57,58,57,60],[57,51,57,54],[57,55,57,57],[67,48,67,52],[70,48,70,52],[67,79,67,81],[71,53,71,56],[71,62,71,66],[70,72,70,75],[70,57,70,61],[84,53,84,56],[84,57,84,61],[82,48,82,52],[91,52,91,57],[83,48,83,52],[89,32,89,34],[91,32,91,34],[84,48,84,52],[91,35,91,36],[90,61,90,63],[91,39,91,42],[84,39,84,42],[84,62,84,66],[51,95,51,98],[53,95,53,98],[60,59,60,62],[54,91,54,94],[72,62,72,66],[55,43,55,45],[75,35,75,37],[76,32,76,33],[62,93,62,95],[75,43,75,47],[59,59,59,62],[58,55,58,57],[80,73,80,75],[75,53,75,56],[53,33,53,34],[55,51,55,53],[58,64,58,66],[68,53,68,56],[68,57,68,61],[14,67,15,81],[14,82,15,95],[38,93,38,95],[70,88,70,90],[70,83,70,84],[70,91,70,93],[37,93,37,95],[29,73,29,76],[62,68,62,71],[29,95,29,98],[20,86,20,90],[21,91,21,94],[19,77,19,80],[27,95,27,98],[23,95,23,98],[20,81,20,84],[21,77,21,80],[24,91,24,94],[16,74,16,95],[47,68,47,75],[46,69,46,74],[36,93,36,95],[22,73,22,76],[28,91,28,94],[22,91,22,94],[20,77,20,80],[26,86,26,90],[26,68,26,72],[22,86,22,90],[36,79,36,82],[39,75,39,77],[24,77,24,80],[17,86,17,89],[19,81,19,84],[19,73,19,76],[65,88,65,91],[67,88,67,90],[80,100,80,102],[80,68,80,70],[80,78,80,80],[32,99,32,102],[35,93,35,95],[63,94,63,96],[80,88,80,90],[79,97,79,98],[80,82,80,86],[32,95,32,98],[32,91,32,94],[32,81,32,84],[80,96,80,98],[31,91,31,94],[30,91,30,94],[31,99,31,102],[31,95,31,98],[30,99,30,102],[30,95,30,98],[78,99,78,102],[62,87,62,89],[76,69,76,72],[37,85,37,91],[40,97,40,100],[41,85,41,91],[65,93,65,96],[63,89,63,91],[17,100,17,101],[19,99,19,102],[28,99,28,102],[21,99,21,102],[26,95,26,98],[25,91,25,94],[24,95,24,98],[26,91,26,94],[23,91,23,94],[17,91,17,94],[20,91,20,94],[19,91,19,94],[25,95,25,98],[29,91,29,94],[23,99,23,102],[22,99,22,102],[22,95,22,98],[27,91,27,94],[24,99,24,102],[25,99,25,102],[26,99,26,102],[27,99,27,102],[20,99,20,102],[19,95,19,98],[20,95,20,98],[21,95,21,98],[29,99,29,102],[28,95,28,98],[17,82,17,83],[50,63,50,66],[61,63,61,66],[72,25,72,28],[83,39,83,42],[61,59,61,62],[57,64,57,66],[81,53,81,56],[82,62,82,66],[55,39,55,42],[73,35,73,37],[76,25,76,28],[69,32,69,33],[68,32,68,33],[72,29,72,30],[68,35,68,37],[76,29,76,30],[81,62,81,66],[80,62,80,66],[80,48,80,52],[81,57,81,61],[80,57,80,61],[77,39,77,42],[78,43,78,47],[78,39,78,42],[76,53,76,56],[79,39,79,42],[79,48,79,52],[76,43,76,47],[82,57,82,61],[53,29,53,31],[68,62,68,66],[83,26,83,27],[69,10,69,12],[59,22,59,24],[75,32,75,33],[65,39,65,42],[75,39,75,42],[75,48,75,52],[76,39,76,42],[69,35,69,37],[71,35,71,37],[72,35,72,37],[74,43,74,47],[81,39,81,42],[68,22,68,24],[64,22,64,24],[59,19,59,21],[60,19,60,21],[69,19,69,21],[69,16,69,18],[62,13,62,15],[65,16,65,18],[67,13,67,15],[61,13,61,15],[71,29,71,30],[68,10,68,12],[70,10,70,12],[68,29,68,30],[68,25,68,28],[69,29,69,30],[59,43,59,56],[60,43,60,47],[69,13,69,15],[92,26,92,27],[92,22,92,24],[89,14,89,16],[90,6,90,8],[89,22,89,24],[72,22,72,24],[71,19,71,21],[88,30,88,31],[88,32,88,34],[88,28,88,29],[90,44,90,45],[90,46,90,48],[90,14,90,16],[90,22,90,24],[84,43,84,47],[83,36,83,37],[83,32,83,33],[92,32,92,34],[92,46,92,48],[91,43,91,45],[91,46,91,48]],"merged_total":1107,"flags":["merged_cut"]}
[{"$f":"+データ一覧!G2","v":0}]
[{"$f":"+データ一覧!G5","v":0}]
[null,null,null,null,null,null,null,null,null,null,null,null,null,null,null,null,null,null,null,null,null,null,null,null,null,null,null,null,null,null,null,null,null,null,null,null,null,null,null,0]
[null,null,null,null,null,null,null,null,null,null,null,null,null,null,null,null,null,null,null,null,null,null,null,null,null,null,null,"【市章とそのいわれ】福井城内にあった「福ノ井」の井げたに、 ",null,null,null,null,null,null,null,null,null,null,null,"  【位置および地勢】福井市は、福井県の北部に位置し、面積は536.41平方㎞、東西に",null,null,null,null,null,null,null,null,null,null,null,null,null,null,null,null,null,null,null,null,null,null,null,null,null,null,null,null,null,null,"所在地",null,null,null,null,null,null,null,"〒910-8511"]
[null,null,null,null,null,null,null,null,null,null,null,null,null,null,null,null,null,null,null,null,null,null,null,null,null,null,null,"                  福井の旧称「北ノ庄」の北を組み合せ、古きを",null,null,null,null,null,null,null,null,null,null,null,"　                  ","広がりのある形で、西方は日本海に臨み、奇岩で有名な越前海岸は風光明媚な",null,null,null,null,null,null,null,null,null,null,null,null,null,null,null,null,null,null,null,null,null,null,null,null,null,null,null,null,null,null,null,null,null,null,null,null,null,"福井市大手３丁目１０番１号"]
[{"$f":"+データ一覧!G3","v":"ふくいし"},null,null,null,null,null,null,null,null,null,null,null,null,null,null,null,null,null,null,null,null,null,null,null,null,null,null,"                  生かし新しい時代への発展と繁栄を図案化した ",null,null,null,null,null,null,null,null,null,null,null,"  ","観光地となっている。市の西部と南東部は山岳地であるが、他のほとんどは平坦地で"]
[{"$f":"データ一覧!G6","v":"福井市"},null,null,null,null,null,null,null,null,null,null,null,null,null,null,null,null,null,null,null,null,null,null,null,null,null,null,"                  もの。                                                                           ",null,null,null,null,null,null,null,null,null,null,null,"  ","穀倉地帯となっている。市南東部の豊かな森林地帯に源を発する足羽川が市の中央部を",null,null,null,null,null,null,null,null,null,null,null,null,null,null,null,null,null,null,null,null,null,null,null,null,null,null,null,null,null,"電話番号",null,null,null,null,null,null,null,"（０７７６）２０－５１１１"]
[null,null,null,null,null,null,null,null,null,null,null,null,null,null,null,null,null,null,null,null,null,null,null,null,null,null,null,0,null,null,null,null,null,null,null,null,null,null,null,"  ","流れて、南越から市街地西側に流れ込む日野川と合流し、さらに市の北部を流れる本県",null,null,null,null,null,null,null,null,null,null,null,null,null,null,null,null,null,null,null,null,null,null,null,null,null,null,null,null,null,"FAX番号",null,null,null,null,null,null,null,"     〃     ２０－５７３３"]
[null,null,null,null,null,null,null,null,null,null,null,null,null,null,null,null,null,null,null,null,null,null,null,null,null,null,null,0,null,null,null,null,null,null,null,null,null,null,null,null,"最大河川の九頭竜川へと注いでいる。ＪＲ北陸本線は市街地の東側を走り、その東を"]
[null,null,null,null,null,null,null,null,null,null,null,null,null,null,null,null,null,null,null,null,null,null,null,null,null,null,null,0,null,null,null,null,null,null,null,null,null,null,null,null,"これに平行して国道８号と北陸自動車が南北に貫いている。",null,null,null,null,null,null,null,null,null,null,null,null,null,null,null,null,null,null,null,null,null,null,null,null,null,null,null,null,null,"最寄駅および距離",null,null,null,null,null,null,null,"ＪＲ北陸本線福井駅  下車５００ｍ"]
[null,null,null,null,null,null,null,null,null,null,null,null,null,null,null,null,null,null,null,null,null,null,null,null,null,null,null,0,null,null,null,null,null,null,null,null,null,null,null,0]
[]
[null,null,null,null,null,null,null,null,null,null,null,null,null,null,null,null,null,null,null,null,null,null,null,null,null,null,null,"【市が掲げる標語】みんなが輝く　全国に誇れる　ふくい",null,null,null,null,null,null,null,null,null,null,null,null,null,null,null,null,null,null,null,null,null,null,null,null,null,null,null,null,null,null,null,null,null,null,null,null,null,null,null,null,null,null,"ホームページ",null,null,null,null,null,null,null,"http://www.city.fukui.lg.jp/"]
[]
["  １  土            　　地",null,null,null,null,null,null,null,null,null,null,null,null,null,null,null,null,null,null,null,null,null,null,null,null,{"$f":"データ一覧!$A$240","v":"2年"},"産米収穫量",null,null,"　 収　穫　量",null,null," 　作 付 面 積",null,null,"   10a当たり収量",null,null,null,null,null,null,null,null,null,null,null,null,null,null,null,null,null,null,null,null,null,null,null,null,null,null,null,null,null,null,null," １５  労　　　　　　　働",null,null,null,null,null,null,null,null,null,null,null,null,null,null,"27.10.1"]
[null,null,null,null,null,null,null,null,null,null,null,null,null,null,null,null,null,null,null,null,null,null,null,null,null,null,null,null,null,{"$f":"データ一覧!$G$240","v":28200},null,"t",{"$f":"データ一覧!$G$241","v":5290},null,"ha",{"$f":"データ一覧!G242","v":532},null,null,"kg"," １０  工　　　　　　業 ",null,null,null,null,null,null,null,null,null,null,null,null,null,{"$f":"データ一覧!$A$332","v":"2.6.1（令和元年実績）"}]
["   総          面           積",null,null,null,null,null,null,null,null,null," 固 定 資 産 概 要 調 書 に よ る 地 目 別 面 積",null,null,null,null,null,null,null,null,null,null,null,null,null,null,null,null,null,"   総　　　数",null,null,null,"うち　　田",null,null,null,"うち　　畑",null,null,null,null,null,null,null,null,null,null,null,null,null,null,null,null,null,null,null,null,null,null,null,null,null,null,null,null,null,null,null,null,null,null,null,null,null,"産業別就業者数   "]
[null,null,{"$f":"データ一覧!$A$7","v":"3.10.1"},null,null,null,null,null,null,null,null,null,null,null,null,null,{"$f":"データ一覧!$A$9","v":"3.1.1"},null,null,null,null,null,null,null,null," 耕  地  面  積",null,null,null,"       ha",null,null,"ha ",null,null,null,"ha ",null,null,"      ","産業分類",null,null,null,null,null,null,null,"事業所数",null,null,null,null,"従業者数",null,null,null,null,null,"年間製造品出荷額等",null,null,null,null,null,null,null,null,"区  分",null,null,null,null,"総    数",null,null,null,null,"男",null,null,null,"女",null,null,"  ","区  分",null,null,null,null,"総    数",null,null,null,null,"男",null,null,null,"女"]
[null,null,null,null,null,null,"㎢",null,null,null,"   総       数",null,null,null,null,"  う ち     田",null,null,null,null,"  う ち     畑",null,null,null,null,{"$f":"データ一覧!A243","v":"2.7.15"},null,null,{"$f":"データ一覧!$G$243","v":7800},null,null,{"$f":"データ一覧!$G$244","v":7410},null,null,null,{"$f":"データ一覧!$G$245","v":388},null,null,null,null,null,null,null,null,null,null,null,null,"　　   ",null,null,"事業所",null,"　　　　　　　 人",null,null,"人",null,"　　　　　　　　　　　　　　万円",null,null,null,null,null,null,"万円",null,null,null,null,null,null,null,"      人",null,null,null,null,null," 人",null,null,null," 人",null,null,null,null,null,null,null,"      人",null,null,null,"      人",null,null,null,"      人"]
[null,null,null,{"$f":"データ一覧!G7","v":536.41},null,null,null,null,null,null,null,null,null,null,"ha",null,null,null,null,"ha",null,null,null,null,"ha","農 業 生 産 物",null,null,null,"作 付 面 積",null,null,"収 穫 量",null,null,"10a当たり収量",null,null,null,"     ","総数",null,null,null,null,null,null,null,null,{"$f":"データ一覧!G332","v":557},null,null,null,{"$f":"+データ一覧!G357","v":17511},null,null,null,null,null,null,{"$f":"データ一覧!G382","v":46040083},null,null,null,null,null,null," 総　　　数",null,null,null,null,null,{"$f":"BZ20+CD20","v":129888},null,null,null,{"$f":"データ一覧!G507","v":70147},null,null,null,{"$f":"データ一覧!G532","v":59741}]
[null,null,null,null,null,null,null,null,null,null,null,{"$f":"データ一覧!G9","v":34922.199999999997},null,null,null,null,{"$f":"データ一覧!G10","v":7879.8},null,null,null,null,{"$f":"データ一覧!G11","v":884.3},null,null,null,{"$f":"データ一覧!$A$246","v":"2年中"},null,null,null,"ha",null,null,"t",null,null,"kg",null,null,null,"     食料品","食料品",null,null,null,null,null,null,null,null,{"$f":"データ一覧!G333","v":68},null,null,null,{"$f":"+データ一覧!G358","v":1801},null,null,null,null,null,null,{"$f":"データ一覧!G383","v":2126054},null,null,null,null,null,null,null,null,null,null,null,null,null,null,null,null,null,null,null,null,null,null,null,null,null,"卸売業,小売業",null,null,null,null,{"$f":"CR21+CV21","v":22922},null,null,null,{"$f":"データ一覧!G520","v":11326},null,null,null,{"$f":"データ一覧!G545","v":11596}]
["  町 ･ 丁 ･ 大 字",null,null,null,null,null,null,null,null,null,"  う ち  宅 地",null,null,null,null,"  う ち  山 林",null,null,null,null,"  う ち  原 野",null,null,null,null,"水　　　　　稲",null,null,null,{"$f":"データ一覧!G246","v":5290},null,null,{"$f":"データ一覧!G247","v":28200},null,null,{"$f":"データ一覧!G248","v":532},null,null,null,"     飲料・飼料","飲料・飼料",null,null,null,null,null,null,null,null,{"$f":"データ一覧!G334","v":5},null,null,null,{"$f":"+データ一覧!G359","v":27},null,null,null,null,null,null,{"$f":"データ一覧!G384","v":30167},null,null,null,null,null,null," 第１次産業",null,null,null,null,null,{"$f":"BZ22+CD22","v":2824},null,null,null,{"$f":"データ一覧!G508","v":1889},null,null,null,{"$f":"データ一覧!G533","v":935},null,null,null,null,"金融業,保険業",null,null,null,null,{"$f":"CR22+CV22","v":4136},null,null,null,{"$f":"データ一覧!G521","v":1818},null,null,null,{"$f":"データ一覧!G546","v":2318}]
["  区    画    数",null,null,null,null,null,null,{"$f":"データ一覧!G8","v":733},null,null,null,null,null,null,"ha",null,null,null,null,"ha",null,null,null,null,"ha","六　条　大　麦",null,null,null,{"$f":"データ一覧!G249","v":928},null,null,{"$f":"データ一覧!G250","v":3050},null,null,{"$f":"データ一覧!G251","v":329},null,null,null,"     繊維","繊維",null,null,null,null,null,null,null,null,{"$f":"データ一覧!G335","v":130},null,null,null,{"$f":"+データ一覧!G360","v":4821},null,null,null,null,null,null,{"$f":"データ一覧!G385","v":8496615},null,null,null,null,null,null,"  ","農業",null,null,null,null,{"$f":"BZ23+CD23","v":2614},null,null,null,{"$f":"データ一覧!G509","v":1710},null,null,null,{"$f":"データ一覧!G534","v":904},null,null,null,"  ","不動産業",null,null,null,null,1949,null,null,null,{"$f":"データ一覧!G522","v":1132},null,null,null,{"$f":"データ一覧!G547","v":817}]
[{"$f":"データ一覧!$A$8","v":"2.4.1"},null,null,null,null,null,null,null,null,null,null,{"$f":"データ一覧!G12","v":4897.7},null,null,null,null,{"$f":"データ一覧!G13","v":17348.7},null,null,null,null,{"$f":"データ一覧!G14","v":102.5},null,null,null,"大　　      豆",null,null,null,{"$f":"データ一覧!G252","v":412},null,null,{"$f":"データ一覧!G253","v":503},null,null,{"$f":"データ一覧!G254","v":122},null,null,null,"     衣服","木材",null,null,null,null,null,null,null,null,{"$f":"データ一覧!G336","v":18},null,null,null,{"$f":"+データ一覧!G361","v":373},null,null,null,null,null,null,{"$f":"データ一覧!G386","v":4488023},null,null,null,null,null,null,"  ","林業",null,null,null,null,150,null,null,null,{"$f":"データ一覧!G510","v":126},null,null,null,{"$f":"データ一覧!G535","v":24},null,null,null,"  ","学術研究",null,null,null,null,3993,null,null,null,{"$f":"データ一覧!G523","v":2449},null,null,null,{"$f":"データ一覧!G548","v":1544}]
["  ２  世　帯　数　と　人　口",null,null,null,null,null,null,null,null,null,null,null,null,null,null,null,null,null,null,null,null,null,null,null,null,null,null,"  区　分",null," 乳 用 牛",null," 肉 用 牛",null,"豚",null,"採卵鶏",null,"ブロイラー",null,"     木材","家具",null,null,null,null,null,null,null,null,{"$f":"データ一覧!G337","v":10},null,null,null,{"$f":"+データ一覧!G362","v":290},null,null,null,null,null,null,{"$f":"データ一覧!G387","v":433136},null,null,null,null,null,null,"  ","漁業",null,null,null,null,60,null,null,null,{"$f":"データ一覧!G511","v":53},null,null,null,{"$f":"データ一覧!G536","v":7},null,null,null,"  ","宿泊業,飲食ｻｰﾋﾞｽ",null,null,null,null,7060,null,null,null,{"$f":"データ一覧!G524","v":2649},null,null,null,{"$f":"データ一覧!G549","v":4411}]
[null,null,null,null,null,null,null,null,null,null,null,null,null,null,null,null,null,null,null,null,null,null,null,null,null,"畜　産",null,"飼養農家",null,{"$f":"データ一覧!$G$255","v":3},null,{"$f":"データ一覧!$G$257","v":5},null,{"$f":"データ一覧!$G$259","v":"-"},null,{"$f":"データ一覧!$G$261","v":6},null,{"$f":"データ一覧!$G$263","v":"x"},null,"     家具","パルプ・紙",null,null,null,null,null,null,null,null,{"$f":"データ一覧!G338","v":22},null,null,null,{"$f":"+データ一覧!G363","v":350},null,null,null,null,null,null,{"$f":"データ一覧!G388","v":785820},null,null,null,null,null,null," 第２次産業",null,null,null,null,null,32932,null,null,null,{"$f":"データ一覧!G512","v":23283},null,null,null,{"$f":"データ一覧!G537","v":9649},null,null,null,"  ","生活関連ｻｰﾋﾞｽ業",null,null,null,null,4719,null,null,null,{"$f":"データ一覧!G525","v":1831},null,null,null,{"$f":"データ一覧!G550","v":2888}]
[null,null,null,null,null,null,null,null,"        人　　　　　　　　　　口",null,null,null,null,null,null,null,null,null,null,null,"１世帯当",null,"人    口",null,null,{"$f":"データ一覧!$A$255","v":"3.3.31"},null,"（戸）",null,null,null,null,null,null,null,null,null,null,null,"     パルプ・紙","印刷",null,null,null,null,null,null,null,null,{"$f":"データ一覧!G339","v":45},null,null,null,{"$f":"+データ一覧!G364","v":1280},null,null,null,null,null,null,{"$f":"データ一覧!G389","v":2134093},null,null,null,null,null,null,null,"鉱業，採石業",null,null,null,null,22,null,null,null,{"$f":"データ一覧!G513","v":16},null,null,null,{"$f":"データ一覧!G538","v":6},null,null,null,"  ","教育,学習支援業",null,null,null,null,6918,null,null,null,{"$f":"データ一覧!G526","v":2861},null,null,null,{"$f":"データ一覧!G551","v":4057}]
[" 区　　　　分",null,null,null,null,"世帯数",null,null," 総   数",null,null,"    男",null,null,"    女",null,null,"  男／女",null,null,"たり人員",null,"密    度",null,null,null,null,"頭 羽",null,{"$f":"データ一覧!$G$256","v":102},null,{"$f":"データ一覧!$G$258","v":255},null,{"$f":"データ一覧!$G$260","v":0},null,{"$f":"データ一覧!$G$262","v":6720},null,{"$f":"データ一覧!$G$264","v":23300},null,"     出版・印刷","化学",null,null,null,null,null,null,null,null,{"$f":"データ一覧!G340","v":16},null,null,null,{"$f":"+データ一覧!G365","v":1055},null,null,null,null,null,null,{"$f":"データ一覧!G390","v":6647193},null,null,null,null,null,null,"  ","建設業",null,null,null,null,10657,null,null,null,{"$f":"データ一覧!G514","v":8864},null,null,null,{"$f":"データ一覧!G539","v":1793},null,null,null,null,"医療，福祉",null,null,null,null,17236,null,null,null,{"$f":"データ一覧!G527","v":4069},null,null,null,{"$f":"データ一覧!G552","v":13167}]
[null,null,null,null,null,"    世 帯",null,null,"       人",null,null,"       人",null,null,"       人",null,null,null,"　　％",null,"    人",null,"    人/㎢",null,null,null,null,null,null,null,null,null,null,null,null,null,null,null,null,"     化学","石油・石炭",null,null,null,null,null,null,null,null,{"$f":"データ一覧!G341","v":3},null,null,null,{"$f":"+データ一覧!G366","v":25},null,null,null,null,null,null,{"$f":"データ一覧!G391","v":152786},null,null,null,null,null,null,null,"製造業",null,null,null,null,22253,null,null,null,{"$f":"データ一覧!G515","v":14403},null,null,null,{"$f":"データ一覧!G540","v":7850},null,null,null,null,"複合サービス事業",null,null,null,null,1258,null,null,null,{"$f":"データ一覧!G528","v":746},null,null,null,{"$f":"データ一覧!G553","v":512}]
[{"$f":"データ一覧!$A$22","v":" 2.10.1"},null,null,null,null,{"$f":"データ一覧!G22","v":81287},null,null,{"$f":"+L30+O30","v":270911},null,null,{"$f":"データ一覧!G24","v":131608},null,null,{"$f":"データ一覧!G25","v":139303},null,null,null,{"$f":"+L30/O30*100","v":94.476070149243014},null,{"$f":"データ一覧!G27","v":3.33},null,{"$f":"データ一覧!G21","v":0},null,null,"  ５  林               業",null,null,null,null,null,null,null,null,null,null,null,null,null,"     石油・石炭","プラスチック",null,null,null,null,null,null,null,null,{"$f":"データ一覧!G342","v":28},null,null,null,{"$f":"+データ一覧!G367","v":1246},null,null,null,null,null,null,{"$f":"データ一覧!G392","v":4011659},null,null,null,null,null,null," 第３次産業",null,null,null,null,null,90375,null,null,null,{"$f":"データ一覧!G516","v":42993},null,null,null,{"$f":"データ一覧!G541","v":47382},null,null,null,null,"サービス業",null,null,null,null,6945,null,null,null,{"$f":"データ一覧!G529","v":4194},null,null,null,{"$f":"データ一覧!G554","v":2751}]
[{"$f":"データ一覧!$A$29","v":" 7.10.1"},null,null,null,null,{"$f":"データ一覧!G29","v":87719},null,null,{"$f":"+L31+O31","v":272970},null,null,{"$f":"データ一覧!G31","v":133444},null,null,{"$f":"データ一覧!G32","v":139526},null,null,null,95.640955807519745,null,{"$f":"データ一覧!G34","v":3.11},null,{"$f":"データ一覧!G28","v":0},null,null,null,null,null,null,null,null,null,null,null,null,null,null,null,null,"     プラスチック","ゴム",null,null,null,null,null,null,null,null,{"$f":"データ一覧!G343","v":4},null,null,null,{"$f":"+データ一覧!G368","v":67},null,null,null,null,null,null,{"$f":"データ一覧!G393","v":"x"},null,null,null,null,null,null,null,"電気･ｶﾞｽ･水道業",null,null,null,null,627,null,null,null,{"$f":"データ一覧!G517","v":533},null,null,null,{"$f":"データ一覧!G542","v":94},null,null,null,null,"公務",null,null,null,null,4708,null,null,null,{"$f":"データ一覧!G530","v":3314},null,null,null,{"$f":"データ一覧!G555","v":1394}]
[{"$f":"データ一覧!$A$36","v":"12.10.1"},null,null,null,null,{"$f":"データ一覧!G36","v":89946},null,null,{"$f":"+L32+O32","v":269557},null,null,{"$f":"データ一覧!G38","v":131344},null,null,{"$f":"データ一覧!G39","v":138213},null,null,null,95.030134647247365,null,{"$f":"データ一覧!G41","v":3},null,{"$f":"データ一覧!G35","v":0},null,null,"    　森　　　林　　　総　　　面　　　積   ",null,null,null,null,null,null,null,{"$f":"データ一覧!$A$265","v":"3.3.31"},null,null,null,null,null,"     ゴム","皮革",null,null,null,null,null,null,null,null,{"$f":"データ一覧!G344","v":0},null,null,null,{"$f":"+データ一覧!G369","v":0},null,null,null,null,null,null,{"$f":"データ一覧!G394","v":0},null,null,null,null,null,null,null,"情報通信業",null,null,null,null,2639,null,null,null,{"$f":"データ一覧!G518","v":1807},null,null,null,{"$f":"データ一覧!G543","v":832},null,null,null," 分類不能の産業",null,null,null,null,null,3757,null,null,null,{"$f":"データ一覧!G531","v":1982},null,null,null,{"$f":"データ一覧!G556","v":1775}]
[{"$f":"+データ一覧!$A$43","v":"17.10.1"},null,null,null,null,{"$f":"データ一覧!G43","v":93694},null,null,{"$f":"+L33+O33","v":269144},null,null,{"$f":"データ一覧!G45","v":130834},null,null,{"$f":"データ一覧!G46","v":138310},null,null,null,94.594750921842234,null,{"$f":"データ一覧!G48","v":2.87},null,{"$f":"データ一覧!G49","v":502},null,null,"　　　森　　　　　　　林　　　　　　　の　　　　　　　構　　　　　　　成",null,null,null,null,null,null,null,null,null,null,null,null,null,"     皮革","窯業・土石",null,null,null,null,null,null,null,null,{"$f":"データ一覧!G345","v":12},null,null,null,{"$f":"+データ一覧!G370","v":200},null,null,null,null,null,null,{"$f":"データ一覧!G395","v":819899},null,null,null,null,null,null,"  ","運輸業,郵便業",null,null,null,null,{"$f":"BZ33+CD33","v":5265},null,null,null,{"$f":"データ一覧!G519","v":4264},null,null,null,{"$f":"データ一覧!G544","v":1001}]
[{"$f":"+データ一覧!$A$50","v":"22.10.1"},null,null,null,null,{"$f":"+データ一覧!G50","v":97446},null,null,{"$f":"+L34+O34","v":266796},null,null,{"$f":"+データ一覧!G52","v":128692},null,null,{"$f":"+データ一覧!G53","v":138104},null,null,null,93.184846202861621,null,{"$f":"+データ一覧!G55","v":2.74},null,{"$f":"+データ一覧!G56","v":497.6},null,null,null,null,null,null,null,"       ha",null,null,null,null,null,null,"       ha",null,"     窯業・土石","鉄鋼",null,null,null,null,null,null,null,null,{"$f":"データ一覧!G346","v":6},null,null,null,{"$f":"+データ一覧!G371","v":75},null,null,null,null,null,null,{"$f":"データ一覧!G396","v":285168},null,null,null,null,null,null," １６  社　 会 　福　 祉",null,null,null,null,null,null,null,null,null,null,null,null,null,null,null,{"$f":"データ一覧!$A$557","v":"3.4.1"}]
[{"$f":"データ一覧!$A$57","v":"27.10.1"},null,null,null,null,{"$f":"データ一覧!G57","v":99872},null,null,{"$f":"データ一覧!G58","v":265904},null,null,{"$f":"データ一覧!G59","v":128892},null,null,{"$f":"データ一覧!G60","v":137012},null,null,null,94.073511809184595,null,{"$f":"データ一覧!G62","v":2.6624479333546942},null,{"$f":"データ一覧!G63","v":495.7},null,null,"  総　　　　　   数",null,null,null,{"$f":"データ一覧!G265","v":31943.210000000003},null,null," 天然林       針葉樹",null,null,null,{"$f":"データ一覧!G268","v":750.28},null,null,"     鉄鋼","非鉄金属",null,null,null,null,null,null,null,null,{"$f":"データ一覧!G347","v":3},null,null,null,{"$f":"+データ一覧!G372","v":120},null,null,null,null,null,null,{"$f":"データ一覧!G397","v":679080}]
["令　2.10.1（国調）",null,null,null,null,{"$f":"データ一覧!G64","v":104470},null,null,{"$f":"データ一覧!G65","v":262328},null,null,{"$f":"データ一覧!G66","v":127867},null,null,{"$f":"データ一覧!G67","v":134461},null,null,null,{"$f":"+L36/O36*100","v":95.095975784800061},null,{"$f":"データ一覧!G72","v":2.48},null,{"$f":"データ一覧!G73","v":485.6490371171306},null,null,"  人工林     針葉樹",null,null,null,{"$f":"データ一覧!G266","v":19360.16},null,null," 天然林       広葉樹",null,null,null,{"$f":"データ一覧!G269","v":10922.710000000001},null,null,"     非鉄金属","金属",null,null,null,null,null,null,null,null,{"$f":"データ一覧!G348","v":57},null,null,null,{"$f":"+データ一覧!G373","v":1413},null,null,null,null,null,null,{"$f":"データ一覧!G398","v":3727662},null,null,null,null,null,null,"    ","区分",null,null,null,null,null,null,"施設数",null,null,null,null,"収容定員",null,null,null,null,null,"区分",null,null,null,null,null,null,"施設数",null,null,null,null,"収容定員"]
["年",null,"  区",null," 0歳",null,null,"15歳",null,null,"25歳",null,null,"35歳",null,null,"45歳",null,null,"55歳",null,null,"65歳",null,null,"  人工林     広葉樹",null,null,null,{"$f":"データ一覧!G267","v":70.180000000000007},null,null," 竹               林",null,null,null,{"$f":"データ一覧!G270","v":303.48},null,null,"     金属","はん用機械",null,null,null,null,null,null,null,null,{"$f":"データ一覧!G349","v":11},null,null,null,{"$f":"+データ一覧!G374","v":153},null,null,null,null,null,null,{"$f":"データ一覧!G399","v":285030},null,null,null,null,null,null,"生活保護施設",null,null,null,null,null,null,null,{"$f":"データ一覧!G557","v":1},null,null,null,{"$f":"データ一覧!G570","v":0},null,null,null,"人",null,"指定障害者支援施設",null,null,null,null,null,null,null,{"$f":"データ一覧!G563","v":8},null,null,null,{"$f":"データ一覧!G576","v":490},null,null,null,"人"]
["齢","令",null,null,null,"～",null,null,"～",null,null,"～",null,null,"～",null,null,"～",null,null,"～",null,null,null,null,null,null,null,null,null,null,null,null,null,null,null,null,null,null,"     一般機械","生産用機械",null,null,null,null,null,null,null,null,{"$f":"データ一覧!G350","v":57},null,null,null,{"$f":"+データ一覧!G375","v":1838},null,null,null,null,null,null,{"$f":"データ一覧!G400","v":4941744},null,null,null,null,null,null,"地域福祉施設",null,null,null,null,null,null,null,{"$f":"データ一覧!G558","v":0},null,null,null,{"$f":"データ一覧!G571","v":0},null,null,null,null,null,"指定相談支援事業所",null,null,null,null,null,null,null,{"$f":"データ一覧!G564","v":4},null,null,null,{"$f":"データ一覧!G577","v":0}]
["階",{"$f":"+LEFT(データ一覧!$A$83,1)","v":"3"},"  分",null,null,null,"14歳",null,null,"24歳",null,null,"34歳",null,null,"44歳",null,null,"54歳",null,null,"64歳",null,null,"以上","    林     野     の     構     成",null,null,null,null,null,null,"保     有     形     態     別",null,null,null,null,null,null,"     電気機械","業務用機械",null,null,null,null,null,null,null,null,{"$f":"データ一覧!G351","v":3},null,null,null,{"$f":"+データ一覧!G376","v":40},null,null,null,null,null,null,{"$f":"データ一覧!G401","v":73988},null,null,null,null,null,null,"老人福祉施設",null,null,null,null,null,null,null,{"$f":"データ一覧!G559","v":57},null,null,null,{"$f":"データ一覧!G572","v":1802},null,null,null,null,null,"児童福祉施設",null,null,null,null,null,null,null,{"$f":"データ一覧!G565","v":200},null,null,null,{"$f":"データ一覧!G578","v":11945}]
["級","・",null,null,null,null,"人",null,null,"人",null,"    人",null,null,"    人",null,null,"    人",null,null,"    人",null,null,"    人",null,null,null,null,null,null,null,"ha",null,null,null,null,null,"       ha",null,null,"電子・デバイス",null,null,null,null,null,null,null,null,{"$f":"データ一覧!G352","v":8},null,null,null,{"$f":"+データ一覧!G377","v":969},null,null,null,null,null,null,{"$f":"データ一覧!G402","v":3734953},null,null,null,null,null,null,"介護保険施設",null,null,null,null,null,null,null,{"$f":"データ一覧!G560","v":438},null,null,null,{"$f":"データ一覧!G573","v":8243},null,null,null,null,null,"母子福祉施設",null,null,null,null,null,null,null,{"$f":"データ一覧!G566","v":1},null,null,null,{"$f":"データ一覧!G579","v":0}]
["別",{"$f":"+MID(データ一覧!$A$83,3,2)","v":"10"},"総 数",null,{"$f":"+E42+E43","v":32488},null,null,{"$f":"+H42+H43","v":23360},null,null,{"$f":"+K42+K43","v":24343},null,null,{"$f":"+N42+N43","v":30845},null,null,{"$f":"+Q42+Q43","v":37188},null,null,{"$f":"+T42+T43","v":31373},null,null,{"$f":"+W42+W43","v":76091},null,null," 無立木地   伐採跡地",null,null,null,{"$f":"データ一覧!G271","v":21.310000000000002},null,null,"国   　　　 　 有",null,null,null,{"$f":"データ一覧!G273","v":109.08},null,null,null,"電気機械",null,null,null,null,null,null,null,null,{"$f":"データ一覧!G353","v":10},null,null,null,{"$f":"+データ一覧!G378","v":227},null,null,null,null,null,null,{"$f":"データ一覧!G403","v":396176},null,null,null,null,null,null,"障害者自立支援法施行前からの身体障害者福祉施設",null,null,null,null,null,null,null,{"$f":"データ一覧!G561","v":2},null,null,null,{"$f":"データ一覧!G574","v":0},null,null,null,null,null,"婦人保護施設",null,null,null,null,null,null,null,{"$f":"データ一覧!G567","v":1},null,null,null,{"$f":"データ一覧!G580","v":15}]
["人","・","  男",null,{"$f":"データ一覧!G83","v":16832},null,null,{"$f":"データ一覧!G84","v":12697},null,null,{"$f":"データ一覧!G85","v":12372},null,null,{"$f":"データ一覧!G86","v":15669},null,null,{"$f":"データ一覧!G87","v":18655},null,null,{"$f":"データ一覧!G88","v":15309},null,null,{"$f":"データ一覧!G89","v":32733},null,null," 無立木地   未立木地",null,null,null,{"$f":"データ一覧!G272","v":515.09},null,null,"公       　　  有",null,null,null,{"$f":"データ一覧!G274","v":1529.5500000000002},null,null,"     輸送機械","情報通信機械",null,null,null,null,null,null,null,null,{"$f":"データ一覧!G354","v":1},null,null,null,{"$f":"+データ一覧!G379","v":85},null,null,null,null,null,null,{"$f":"データ一覧!G404","v":"x"},null,null,null,null,null,null,null,null,null,null,null,null,null,null,null,null,null,null,null,null,null,null,null,null,"その他の社会福祉施設",null,null,null,null,null,null,null,{"$f":"データ一覧!G568+データ一覧!G569","v":9},null,null,null,{"$f":"SUM(データ一覧!G581,データ一覧!G582)","v":0}]
["口",{"$f":"+RIGHT(データ一覧!$A$83,1)","v":"1"},"  女",null,{"$f":"データ一覧!G91","v":15656},null,null,{"$f":"データ一覧!G92","v":10663},null,null,{"$f":"データ一覧!G93","v":11971},null,null,{"$f":"データ一覧!G94","v":15176},null,null,{"$f":"データ一覧!G95","v":18533},null,null,{"$f":"データ一覧!G96","v":16064},null,null,{"$f":"データ一覧!G97","v":43358},null,null,null,null,null,null,null,null,null,"私          　 有",null,null,null,{"$f":"データ一覧!G275","v":30304.579999999991},null,null,"     精密機械","輸送機械",null,null,null,null,null,null,null,null,{"$f":"データ一覧!G355","v":3},null,null,null,{"$f":"+データ一覧!G380","v":244},null,null,null,null,null,null,{"$f":"データ一覧!G405","v":568792},null,null,null,null,null,null,"障害福祉サービス事業所",null,null,null,null,null,null,null,{"$f":"データ一覧!G562","v":202},null,null,null,{"$f":"データ一覧!G575","v":2919}]
[null,null,null,null,null,null,null,null,null,null,null,null,null,null,null,null,null,null,null,null,null,null,null,null,null,"            林     産     物     生     産     量 ",null,null,null,null,null,null,null,null,null,{"$f":"データ一覧!$A$276","v":"2年中"},null,null,null,"     その他","その他",null,null,null,null,null,null,null,null,{"$f":"データ一覧!G356","v":37},null,null,null,{"$f":"+データ一覧!G381","v":812},null,null,null,null,null,null,{"$f":"データ一覧!G406","v":927229},null,null,null,null,null,null," １７  教　　　　　　　育",null,null,null,null,null,null,null,null,null,null,null,null,null,null,null,{"$f":"データ一覧!$A$583","v":"3.5.1"}]
["人口動態",null,null,null,null,null,null,"   自　然　動　態",null,null,null,null,null,"   社  会  動  態",null,null,null,null,null,{"$f":"データ一覧!$A78","v":"2.1.1～3.12.31"},null,null,null,null,null,"生椎茸",null,null,null,{"$f":"データ一覧!G276","v":10903},null,"㎏","乾椎茸",null,null,null,{"$f":"データ一覧!G277","v":111},null,"㎏"]
[null,null,"   区       分",null,null,null,null," 出   生",null,null," 死   亡",null,null," 転   入",null,null," 転   出",null,null," 婚   姻",null,null," 離   婚",null,null,"えのきだけ",null,null,null,{"$f":"データ一覧!G279","v":114212},null,"㎏","なめこ",null,null,null,{"$f":"データ一覧!G278","v":"-"},null,"㎏","    ","工　業　用　水　量",null,null,null,null,null,"（従業者30人以上の事業所）",null,null,null,null,null,null,null,null,null,null,{"$f":"データ一覧!G407","v":63894},null,null,null,null,"㎥／日",null,null,null,null,null,null,null,null,null,null,null,null,null,null,"学校数（校）",null,null,null,null,null,null,"教員数（人）",null,null,null,null,null,null,null,"学生・生徒・児童数（人）"]
[{"$f":"LEFT(データ一覧!$A74,6)","v":"2.10.1"},null,null,null,null,null,null,"       人",null,null,"       人",null,null,"       人",null,null,"       人",null,null,null,"    件",null,null,"    件",null,"ひらたけ",null,null,null,{"$f":"+データ一覧!G280","v":8954},null,"㎏","まいたけ",null,null,null,{"$f":"+データ一覧!G281","v":450},null,"㎏",null,null,null,null,null,null,null,null,null,null,null,null,null,null,null,null,null,null,null,null,null,null,null,null,null,null,null,null,null,"　","区分",null,null,null,null,null,null,null," 本 校",null,null," 分 校",null,null," 本   務",null,null,null," 兼   務",null,null,null," 総   数",null,null,null,"男",null,null,null,"女"]
["～",null," 実          数",null,null,null,null,{"$f":"データ一覧!G74","v":908},null,null,{"$f":"データ一覧!G75","v":1537},null,null,{"$f":"データ一覧!G76","v":3027},null,null,{"$f":"データ一覧!G77","v":3486},null,null,{"$f":"データ一覧!G78","v":1165},null,null,{"$f":"データ一覧!G79","v":376},null,null,null,null,null,null,null,null,null,null,null,null,null,null,null,null," １１ 　上　・　下　水　道",null,null,null,null,null,null,null,null,null,null,null,null,null,null,null,null,null,null,null,null,null,null,null,null,null,null,null,null,"小学校",null,null,null,null,null,null,null,null,{"$f":"データ一覧!G584","v":53},null,null,{"$f":"データ一覧!G585","v":0},null,null,{"$f":"データ一覧!G586","v":949},null,null,null,{"$f":"データ一覧!G587","v":141},null,null,null,{"$f":"データ一覧!G588","v":13189},null,null,null,{"$f":"データ一覧!G589","v":6848},null,null,null,{"$f":"データ一覧!G590","v":6341}]
[{"$f":"RIGHT(データ一覧!$A76,6)","v":"3.9.30"},null,"比率(対1,000人)",null,null,null,null,{"$f":"+H48/I35*1000","v":3.4147662314218667},null,null,{"$f":"+K48/I35*1000","v":5.7802816053914192},null,null,"- ",null,null,"- ",null,null,{"$f":"+T48/I35*1000","v":4.3812804621216674},null,null,{"$f":"+W48/I35*1000","v":1.4140441663156629},null,null,"  ６  漁               業",null,null,null,null,null,null,null,null,null,null,null,null,null,null,null,null,null,null,null,null,null,null,null,null,null,null,null,null,null,null,null,null,null,null,null,null,null,null,null,null,null,"  ","中学校",null,null,null,null,null,null,null,null,{"$f":"データ一覧!G592","v":28},null,null,{"$f":"データ一覧!G593","v":1},null,null,{"$f":"データ一覧!G594","v":614},null,null,null,{"$f":"データ一覧!G595","v":193},null,null,null,{"$f":"データ一覧!G596","v":7274},null,null,null,{"$f":"データ一覧!G597","v":3721},null,null,null,{"$f":"データ一覧!G598","v":3553}]
[null,null,null,null,null,null,null,null,null,null,null,null,null,null,null,null,null,null,null,null,null,null,null,null,null,null,null,null,null,null,null,null,null,null,null,null,null,null,null,"水 道 供 給 人 口",null,null,null,null,null,null,"上 水 道",null,null,null,"簡易水道",null,null,null,"専用水道",null,null,null,"飲料水供給施設",null,null,null,"下水道処理人口",null,null,null,null,"  ","高等学校",null,null,null,null,null,null,null,null,{"$f":"データ一覧!G600","v":13},null,null,{"$f":"データ一覧!G601","v":0},null,null,{"$f":"データ一覧!G602","v":711},null,null,null,{"$f":"データ一覧!G603","v":372},null,null,null,{"$f":"データ一覧!G604","v":10619},null,null,null,{"$f":"データ一覧!G605","v":5035},null,null,null,{"$f":"データ一覧!G606","v":5584}]
["  ３  事　　業　　所（民　　営）    （平 28.6.1）",null,null,null,null,null,null,null,null,null,null,null,null,null,null,null,null,null,null,null,null,null,null,null,null,"漁船隻数・トン数",null,null,null,{"$f":"データ一覧!$A$282","v":"2.12.31"},null,null,null,"動　力　船",null,null,null,null,null,{"$f":"データ一覧!$A$408","v":"3.3.31"},null,null,null,null,null,"人",null,{"$f":"データ一覧!G408","v":254568},null,null,{"$f":"データ一覧!G409","v":4608},null,null,null,null,{"$f":"データ一覧!G410","v":332},null,null,null,{"$f":"データ一覧!G411","v":471},null,null,null,{"$f":"データ一覧!G412","v":230237},null,null,null,"  ","大学・短期大学",null,null,null,null,null,null,null,null,{"$f":"データ一覧!G607","v":4},null,null,{"$f":"データ一覧!G608","v":0},null,null,{"$f":"データ一覧!G609","v":483},null,null,null,{"$f":"データ一覧!G610","v":381},null,null,null,{"$f":"データ一覧!G611","v":7135},null,null,null,{"$f":"データ一覧!G612","v":5063},null,null,null,{"$f":"データ一覧!G613","v":2072}]
[null,null,null,null,null,null,null,null,null,null,null,null,null,null,null,null,null,null,null,null,null,null,null,null,null,"無動力船隻数",null,null,null,"船外機付漁船隻数",null,null,null,"隻　数",null,null,"総 ト ン 数",null,null,null,null,null,null,null,null,null,null,null,null,null,null,null,null,null,null,null,null,null,null,null,null,null,null,null,null,null,null,"  ","高等専門学校",null,null,null,null,null,null,null,null,{"$f":"データ一覧!G614","v":0},null,null,{"$f":"データ一覧!G615","v":0},null,null,{"$f":"データ一覧!G616","v":0},null,null,null,{"$f":"データ一覧!G617","v":0},null,null,null,{"$f":"データ一覧!G618","v":0},null,null,null,{"$f":"データ一覧!G619","v":0},null,null,null,{"$f":"データ一覧!G620","v":0}]
[null,null,null,null,null,null,null,"    総　　　　　数",null,null,null,null,null,"    民　　　　　営",null,null,null,null,null,"  国 ･ 地方公共団体",null,null,null,null,null,null,null,null,"隻",null,null,null,"隻",null,null,"隻",null,null,"t"," １２  交   通　・　通   信",null,null,null,null,null,null,null,null,null,null,null,null,null,null,null,null,null,null,null,null,null,null,null,null,null,null,null,"  ","特別支援学校",null,null,null,null,null,null,null,null,{"$f":"+データ一覧!G622","v":7},null,null,{"$f":"+データ一覧!G623","v":0},null,null,{"$f":"+データ一覧!G624","v":367},null,null,null,{"$f":"+データ一覧!G625","v":60},null,null,null,{"$f":"+データ一覧!G626","v":418},null,null,null,{"$f":"+データ一覧!G627","v":254},null,null,null,{"$f":"+データ一覧!G628","v":164}]
["  　区　　　　　　分",null,null,null,null,null,null," 事業所数",null,null," 従業者数",null,null," 事業所数",null,null," 従業者数",null,null," 事業所数",null,null," 従業者数",null,null,{"$f":"データ一覧!$G$282","v":0},null,null,null,{"$f":"データ一覧!$G$283","v":140},null,null,null,{"$f":"データ一覧!G284","v":69},null,null,{"$f":"データ一覧!G285","v":497.39000000000004},null,null,null,null,null,null,null,null,null,null,null,null,null,null,null,null,null,null,null,null,null,null,null,null,null,null,null,null,null,null,"  ","幼稚園",null,null,null,null,null,null,null,null,{"$f":"データ一覧!G630","v":23},null,null,{"$f":"データ一覧!G631","v":0},null,null,{"$f":"データ一覧!G632","v":67},null,null,null,{"$f":"データ一覧!G633","v":28},null,null,null,{"$f":"データ一覧!G634","v":459},null,null,null,{"$f":"データ一覧!G635","v":224},null,null,null,{"$f":"データ一覧!G636","v":235}]
[null,null,null,null,null,null,null,null,null,null,"       人",null,null,null,null,null,"       人",null,null,null,null,null,"       人",null,null,"  男女別就業者数",null,null,null,null,null,null,null,{"$f":"データ一覧!$A$286","v":"30.11.1"},null,null,null,null,null,"道     路",null,null,null,"実 延 長",null,null,null,"国     道",null,null,null,"県     道",null,null,null,"市町道",null,null,null," 鉄 道 営 業 キ ロ 数",null,null,null,null,null,null,null,"  ","幼保連携認定こども園",null,null,null,null,null,null,null,null,{"$f":"データ一覧!G638","v":62},null,null,{"$f":"データ一覧!G639","v":1},null,null,{"$f":"データ一覧!G640","v":1255},null,null,null,{"$f":"データ一覧!G641","v":265},null,null,null,{"$f":"データ一覧!G642","v":7402},null,null,null,{"$f":"データ一覧!G643","v":3809},null,null,null,{"$f":"データ一覧!G644","v":3593}]
["総数",null,null,null,null,null,null,{"$f":"データ一覧!G99","v":"…"},null,null,{"$f":"データ一覧!G156","v":"…"},null,null,{"$f":"データ一覧!G100","v":15789},null,null,{"$f":"データ一覧!G157","v":149061},null,null,{"$f":"データ一覧!G101","v":"…"},null,null,{"$f":"データ一覧!G158","v":"…"},null,null,"総　　数",null,null,null,null,null,"男",null,null,null,"女",null,null,null,{"$f":"データ一覧!$A$413","v":"2.4.1"},null,null,null,{"$f":"データ一覧!G413","v":2486},null,null,"㎞",{"$f":"データ一覧!G414","v":108.8},null,null,"㎞",{"$f":"データ一覧!G415","v":300.7},null,null,"㎞",{"$f":"データ一覧!G416","v":2076.5},null,null,"km",{"$f":"データ一覧!$A$417","v":"3.4.1"},null,null,null,{"$f":"データ一覧!G417","v":69.91},null,null,"㎞","  ","各種学校",null,null,null,null,null,null,null,null,{"$f":"データ一覧!G646","v":4},null,null,{"$f":"データ一覧!G647","v":0},null,null,{"$f":"データ一覧!G648","v":114},null,null,null,{"$f":"データ一覧!G649","v":6},null,null,null,{"$f":"データ一覧!G650","v":1354},null,null,null,{"$f":"データ一覧!G651","v":927},null,null,null,{"$f":"データ一覧!G652","v":427}]
["農林漁業",null,null,null,null,null,null,{"$f":"データ一覧!G102","v":"…"},null,null,{"$f":"データ一覧!G159","v":"…"},null,null,{"$f":"データ一覧!G103","v":56},null,null,{"$f":"データ一覧!G160","v":743},null,null,{"$f":"データ一覧!G104","v":"…"},null,null,{"$f":"データ一覧!G161","v":"…"},null,null,null,null,null,null,null,"人",null,null,"　　　　人",null,null,null,null,"  人","自動車",null,null,null,null,null,null,null,null,"乗用車",null,null,null,null,null,null,null,null,null,null,null,null,null,null,null,null,null,null,"  ","専修学校",null,null,null,null,null,null,null,null,{"$f":"データ一覧!G654","v":12},null,null,{"$f":"データ一覧!G655","v":0},null,null,{"$f":"データ一覧!G656","v":97},null,null,null,{"$f":"データ一覧!G657","v":205},null,null,null,{"$f":"データ一覧!G658","v":973},null,null,null,{"$f":"データ一覧!G659","v":356},null,null,null,{"$f":"データ一覧!G660","v":617}]
["鉱業",null,null,null,null,null,null,{"$f":"データ一覧!G105","v":"…"},null,null,{"$f":"データ一覧!G162","v":"…"},null,null,{"$f":"データ一覧!G106","v":7},null,null,{"$f":"データ一覧!G163","v":32},null,null,{"$f":"データ一覧!G107","v":"…"},null,null,{"$f":"データ一覧!G164","v":"…"},null,null,{"$f":"AF58+AJ58","v":114},null,null,null,null,null,{"$f":"データ一覧!$G$287","v":109},null,null,null,{"$f":"データ一覧!G288","v":5},null,null,null,"台  数",null,null,null,"貨    物",null,null,null,"普     通",null,null,null,"小     型",null,null,null,"乗  合",null,null,"特  種",null,null,"小型二輪",null,null,"軽自動車",null,null," １８  衛　　　　　　　生"]
["建設業",null,null,null,null,null,null,{"$f":"データ一覧!G108","v":"…"},null,null,{"$f":"データ一覧!G165","v":"…"},null,null,{"$f":"データ一覧!G109","v":1525},null,null,{"$f":"データ一覧!G166","v":11445},null,null,{"$f":"データ一覧!G110","v":"…"},null,null,{"$f":"データ一覧!G167","v":"…"},null,null,"　　　　海 面 漁 業 漁 獲 量 （属人）",null,null,null,null,null,null,null,{"$f":"データ一覧!$A$289","v":"30年中"},null,null,null,null,null,{"$f":"データ一覧!$A$418","v":"3.3.31"},null,null,null,null,{"$f":"データ一覧!G418","v":18058},null,null,null,{"$f":"データ一覧!G420","v":54326},null,null,null,{"$f":"データ一覧!G421","v":56863},null,null,{"$f":"データ一覧!G419","v":542},null,null,{"$f":"データ一覧!G422","v":5243},null,null,{"$f":"データ一覧!G423","v":2591},null,null,{"$f":"データ一覧!G424","v":86854}]
["製造業",null,null,null,null,null,null,{"$f":"データ一覧!G111","v":"…"},null,null,{"$f":"データ一覧!G168","v":"…"},null,null,{"$f":"データ一覧!G112","v":1441},null,null,{"$f":"データ一覧!G169","v":20796},null,null,{"$f":"データ一覧!G113","v":"…"},null,null,{"$f":"データ一覧!G170","v":"…"},null,null,null,null,null,null,null,"       ","ｔ",null,null,null,null,null,null,"t",null,null,"     ",null,"郵　便　局　数",null,null,null,null,null,null,null,null,null,null,null,null,null,{"$f":"+MID(データ一覧!$A$428,3,2)","v":"12"},"令","一般加入",null,null,null,"ＩＮＳネット",null,null,null,null,null,null,null,"医療関係施設",null,null,null,null,null,{"$f":"データ一覧!$A$661","v":"元.10.1"},null,null,null,null,null,null,"および医療関係者数",null,null,null,null,null,null,null,{"$f":"データ一覧!$A$666","v":"30.12.31"}]
["電気・ｶﾞ ｽ・熱供給・水道業",null,null,null,null,null,null,{"$f":"データ一覧!G114","v":"…"},null,null,{"$f":"データ一覧!G171","v":"…"},null,null,{"$f":"データ一覧!G115","v":5},null,null,{"$f":"データ一覧!G172","v":396},null,null,{"$f":"データ一覧!G116","v":"…"},null,null,{"$f":"データ一覧!G173","v":"…"},null,null,"   総　　　　　　数",null,null,null,{"$f":"データ一覧!G289","v":1038},null,null,"   藻　　　　　　類",null,null,null,{"$f":"データ一覧!G292","v":4},null,null,"通  信",null,null,null," 総     数",null,null,null,null," 郵 便 局",null,null,null,null," 簡 易 局",null,null,null,"・",{"$f":"+LEFT(データ一覧!$A$428,1)","v":"2"},"電話数",null,null,null,"加入数",null,null,null,null,null,null,null,null,null,"　","病",null,null,"院",null,"　",null,null,null,null," ","一般診療所",null,null,null,null,null,null,null,null,null,null,null,"歯科診療所"]
["情報通信業",null,null,null,null,null,null,{"$f":"データ一覧!G117","v":"…"},null,null,{"$f":"データ一覧!G174","v":"…"},null,null,{"$f":"データ一覧!G118","v":195},null,null,{"$f":"データ一覧!G175","v":3411},null,null,{"$f":"データ一覧!G119","v":"…"},null,null,{"$f":"データ一覧!G176","v":"…"},null,null,"   魚　　　　　　類",null,null,null,{"$f":"データ一覧!G290","v":583},null,null,"   そ　   の　　 他",null,null,null,{"$f":"データ一覧!G293","v":445},null,null,{"$f":"データ一覧!$A$428","v":"2.12.31"},null,null,null,{"$f":"データ一覧!G425","v":71},null,null,null,null,{"$f":"データ一覧!G426","v":65},null,null,null,null,{"$f":"データ一覧!G427","v":6},null,null,null,{"$f":"+RIGHT(データ一覧!$A$428,2)","v":"31"},"・",{"$f":"データ一覧!G428","v":21437},null,null,null,{"$f":"データ一覧!G429","v":4307},null,null,null," ","医療関係",null,null,null,null,null,null,null,null,null,null,null,"一般病院",null,null,null,null,null,null,null,null,null,null,null,"有",null,null,"床"]
["運輸業、郵便業",null,null,null,null,null,null,{"$f":"データ一覧!G120","v":"…"},null,null,{"$f":"データ一覧!G177","v":"…"},null,null,{"$f":"データ一覧!G121","v":310},null,null,{"$f":"データ一覧!G178","v":7119},null,null,{"$f":"データ一覧!G122","v":"…"},null,null,{"$f":"データ一覧!G179","v":"…"},null,null,"   貝　　　　　　類",null,null,null,{"$f":"データ一覧!G291","v":6},null,null,null,null,null,null,null,null,null,null,null,null,null,null,null,null,null,null,null,null,null,null,null,null,null,null,null,null,null,null,null,null,null,null,null,null,null,null,"施設数",null,null,null,null,null,null,{"$f":"データ一覧!G661","v":27},null,null,null,null,null,{"$f":"データ一覧!G662","v":23},null,null,null,null,null,{"$f":"データ一覧!G663","v":257},null,null,null,null,null,{"$f":"データ一覧!G664","v":34},null,null,null,null,null,{"$f":"データ一覧!G665","v":136}]
["卸売業、小売業",null,null,null,null,null,null,{"$f":"データ一覧!G123","v":"…"},null,null,{"$f":"データ一覧!G180","v":"…"},null,null,{"$f":"データ一覧!G124","v":4305},null,null,{"$f":"データ一覧!G181","v":34043},null,null,{"$f":"データ一覧!G125","v":"…"},null,null,{"$f":"データ一覧!G182","v":"…"},null,null,null,null,null,null,null,null,null,null,null,null,null,null,null,null," １３  税　　・　　財　　政",null,null,null,null,null,null,null,null,null,null,null,null,null,null,null,null,null,null,null,null,null,null,null,null,null,null,null,null,null,null,null,null,null,null,"医師",null,null,null,null,"歯科医師",null,null,null,null,"薬剤師",null,null,null,null,"保健師",null,null,null,null,"助産師",null,null," ",null,"看護師",null,null," "]
["金融業、保険業",null,null,null,null,null,null,{"$f":"データ一覧!G126","v":"…"},null,null,{"$f":"データ一覧!G183","v":"…"},null,null,{"$f":"データ一覧!G127","v":394},null,null,{"$f":"データ一覧!G184","v":5552},null,null,{"$f":"データ一覧!G128","v":"…"},null,null,{"$f":"データ一覧!G185","v":"…"},null,null,"  ７  商        　　　業 ",null,null,null,null,null,null,{"$f":"データ一覧!$A$294","v":"28.6.1(平成27年実績）"},null,null,null,null,null,null,null,null,null,null,null,null,null,null,null,null,null,null,null,null,null,null,null,null,null,null,null,null,null,null,null,null,null,null," ","医療",null,null,null,null,null,null,null,null,"人",null,null,null,null,"人",null,null,null,null,"人",null,null,null,null,"人",null,null,null,null,"人",null,null,null,null,"人"]
["不動産業、物品賃貸業",null,null,null,null,null,null,{"$f":"データ一覧!G129","v":"…"},null,null,{"$f":"データ一覧!G186","v":"…"},null,null,{"$f":"データ一覧!G130","v":697},null,null,{"$f":"データ一覧!G187","v":2900},null,null,{"$f":"データ一覧!G131","v":"…"},null,null,{"$f":"データ一覧!G188","v":"…"},null,null,null,null,null,null,null,null,null,null,null,null,null,null,null,null,"           ",null,null,null,"歳入",null,null,null,null,null,null,null,null,"(千円）"," ",null,null,null,"歳出",null,null,null,null,null,null,null,null,"(千円）",null,"関係者",null,null,null,null,{"$f":"データ一覧!G666","v":979},null,null,null,null,{"$f":"データ一覧!G667","v":201},null,null,null,null,{"$f":"データ一覧!G668","v":677},null,null,null,null,{"$f":"データ一覧!G669","v":155},null,null,null,null,{"$f":"データ一覧!G670","v":137},null,null,null,null,{"$f":"データ一覧!G671","v":5490}]
["学術研究、専門・技術ｻｰﾋﾞｽ業",null,null,null,null,null,null,{"$f":"データ一覧!G132","v":"…"},null,null,{"$f":"データ一覧!G189","v":"…"},null,null,{"$f":"データ一覧!G133","v":757},null,null,{"$f":"データ一覧!G190","v":4136},null,null,{"$f":"データ一覧!G134","v":"…"},null,null,{"$f":"データ一覧!G191","v":"…"},null,null,"  産   業　 分　 類",null,null,null,"  商　 店 　数",null,null," 従　業　者　数",null,null,"年　間　販　売　額",null,null,null,"一人当たり歳入歳出予算決算額",null,null,null,null,null,null,null,null,null,null,null,null,null,null,null,null,null,null,null,null,null,null,null,null,null,null,null,"                   ",null,null,null,null,null,null,null,null,"死因別死亡数　　　　　　    ",null,null,null,null,null,null,null,null,null,null,null,null,null,null,null,{"$f":"データ一覧!$A$672","v":"2年中"},null,null,null,null,null,null,null,null,"      単 位：人"]
["宿泊業、飲食サービス業",null,null,null,null,null,null,{"$f":"データ一覧!G135","v":"…"},null,null,{"$f":"データ一覧!G192","v":"…"},null,null,{"$f":"データ一覧!G136","v":1977},null,null,{"$f":"データ一覧!G193","v":13787},null,null,{"$f":"データ一覧!G137","v":"…"},null,null,{"$f":"データ一覧!G194","v":"…"},null,null,null,null,null,null,null,"        店",null,null,null,"　人",null,"         百万円",null,null,"区分",null,null,null,{"$f":"データ一覧!$A$438","v":"3年度"},null,null,null,null,{"$f":"データ一覧!$A$452","v":"2年度"},null,null,null,null,"区分",null,null,null,{"$f":"+AR68","v":"3年度"},null,null,null,null,{"$f":"データ一覧!$A$452","v":"2年度"},null,null,null,null," 死     因",null,null,null,null,null,null,null,null,null,null,null,"悪  性",null,null,"高血圧",null,null,null,null,null,"脳血管",null,null,null,null,null," ",null,null,"不慮の事故"]
["生活関連サービス業、娯楽業",null,null,null,null,null,null,{"$f":"データ一覧!G138","v":"…"},null,null,{"$f":"データ一覧!G195","v":"…"},null,null,{"$f":"データ一覧!G139","v":1333},null,null,{"$f":"データ一覧!G196","v":6418},null,null,{"$f":"データ一覧!G140","v":"…"},null,null,{"$f":"データ一覧!G197","v":"…"},null,null,"総　　　　　　計",null,null,null,{"$f":"データ一覧!$G$294","v":3539},null,null,{"$f":"データ一覧!G303","v":27824},null,null,{"$f":"データ一覧!G312","v":1186220},null,null,null,null,null,null,null,{"$f":"データ一覧!G434","v":432811.60583016963},null,null,null,null,{"$f":"データ一覧!G435","v":578506.77282597451},null,null,null,null,null,null,null,null,{"$f":"データ一覧!G436","v":432811.60583016963},null,null,null,null,{"$f":"データ一覧!G437","v":564489.77661354875},null,null,null,null,null,null,null,null,null,"全 死 因",null,null,null,"結 核",null,null,"新生物",null,null,"性疾患",null,null,"心疾患",null,null,"疾  患",null,null,"肺  炎",null,null,"老  衰",null,null,null,null," ","交通事故"]
["教育、学習支援業",null,null,null,null,null,null,{"$f":"データ一覧!G141","v":"…"},null,null,{"$f":"データ一覧!G198","v":"…"},null,null,{"$f":"データ一覧!G142","v":413},null,null,{"$f":"データ一覧!G199","v":4626},null,null,{"$f":"データ一覧!G143","v":"…"},null,null,{"$f":"データ一覧!G200","v":"…"},null,null,"卸売業",null,null,null,{"$f":"データ一覧!G295","v":1051},null,null,{"$f":"データ一覧!G304","v":10424},null,null,{"$f":"データ一覧!G313","v":814926},null,null,null,"項目別歳入歳出予算決算額"]
["医療、福祉",null,null,null,null,null,null,{"$f":"データ一覧!G144","v":"…"},null,null,{"$f":"データ一覧!G201","v":"…"},null,null,{"$f":"データ一覧!G145","v":1024},null,null,{"$f":"データ一覧!G202","v":20340},null,null,{"$f":"データ一覧!G146","v":"…"},null,null,{"$f":"データ一覧!G203","v":"…"},null,null,"小売業",null,null,null,{"$f":"データ一覧!G296","v":2488},null,null,{"$f":"データ一覧!G305","v":17400},null,null,{"$f":"データ一覧!G314","v":371293},null,null,null,"区分",null,null,null,{"$f":"データ一覧!$A$438","v":"3年度"},null,null,null,null,{"$f":"データ一覧!$A$452","v":"2年度"},null,null,null,null,"区分",null,null,null,{"$f":"+AR71","v":"3年度"},null,null,null,null,{"$f":"データ一覧!$A$452","v":"2年度"},null,null,null,null,null,null,null,null,null,{"$f":"データ一覧!G672","v":2946},null,null,null,"   －",{"$f":"データ一覧!G673","v":4},null,{"$f":"データ一覧!G674","v":175},null,null,null,{"$f":"データ一覧!G675","v":10},null,{"$f":"データ一覧!G676","v":31},null,null,{"$f":"データ一覧!G677","v":5},null,null,{"$f":"データ一覧!G678","v":203},null,null,{"$f":"データ一覧!G679","v":204},null,null,{"$f":"データ一覧!G680","v":88},null,null,{"$f":"データ一覧!G681","v":12}]
["複合サービス事業",null,null,null,null,null,null,{"$f":"データ一覧!G147","v":"…"},null,null,{"$f":"データ一覧!G204","v":"…"},null,null,{"$f":"データ一覧!G148","v":116},null,null,{"$f":"データ一覧!G205","v":1431},null,null,{"$f":"データ一覧!G149","v":"…"},null,null,{"$f":"データ一覧!G206","v":"…"},null,null,"各種商品",null,null,null,{"$f":"データ一覧!G297","v":12},null,null,{"$f":"データ一覧!G306","v":1046},null,null,{"$f":"データ一覧!G315","v":35475},null,null,null,"総額",null,null,null,{"$f":"SUM(AR73:AV85)","v":112750453},null,null,null,null,{"$f":"SUM(AW73:BA85)","v":150463530},null,null,null,null,"総額",null,null,null,{"$f":"SUM(BF73:BJ85)","v":112750453},null,null,null,null,{"$f":"SUM(BK73:BO85)","v":147397877},null,null,null,null," １９  警　察　・　消　防  ",null,null,null,null,null,null,null,null,null,null,null,null,null,null,null,{"$f":"+データ一覧!$A682","v":"3.4.1"}]
["サービス業",null,null,null,null,null,null,{"$f":"データ一覧!G150","v":"…"},null,null,{"$f":"データ一覧!G207","v":"…"},null,null,{"$f":"データ一覧!G151","v":1234},null,null,{"$f":"データ一覧!G208","v":11886},null,null,{"$f":"データ一覧!G152","v":"…"},null,null,{"$f":"データ一覧!G209","v":"…"},null,null,"織物・衣服・身の回り品",null,null,null,{"$f":"データ一覧!G298","v":455},null,null,{"$f":"データ一覧!G307","v":1990},null,null,{"$f":"データ一覧!G316","v":29283},null,null,null,"地方税",null,null,null,{"$f":"データ一覧!G439","v":41939000},null,null,null,null,{"$f":"データ一覧!G453","v":44480240},null,null,null,null,"議会費",null,null,null,{"$f":"データ一覧!G467","v":684664},null,null,null,null,{"$f":"データ一覧!G481","v":650411}]
["公務",null,null,null,null,null,null,{"$f":"データ一覧!G153","v":"…"},null,null,{"$f":"データ一覧!G210","v":"…"},null,null,{"$f":"データ一覧!G154","v":"…"},null,null,{"$f":"データ一覧!G211","v":"…"},null,null,{"$f":"データ一覧!G155","v":"…"},null,null,{"$f":"データ一覧!G212","v":"…"},null,null,"飲食料品",null,null,null,{"$f":"データ一覧!G299","v":665},null,null,{"$f":"データ一覧!G308","v":5305},null,null,{"$f":"データ一覧!G317","v":83516},null,null,null,"地方譲与税",null,null,null,{"$f":"データ一覧!G440","v":905000},null,null,null,null,{"$f":"データ一覧!G454","v":959254},null,null,null,null,"総務費",null,null,null,{"$f":"データ一覧!G468","v":8316352},null,null,null,null,{"$f":"データ一覧!G482","v":38743519},null,null,null,null,null,null,null,null,null,null,null,null,null,null,"交番・駐在所",null,null,null,null,null,null,null,null,"刑法犯認知件数",null,null,null,null,null,null,null,null,"交通人身事故発生件数"]
["  ４  農        　　　業 ",null,null,null,null,null,null,null,null,null,null,null,null,null,null,null,null,null,null,null,null,null,null,null,null,"機械器具",null,null,null,{"$f":"データ一覧!G300","v":388},null,null,{"$f":"データ一覧!G309","v":2815},null,null,{"$f":"データ一覧!G318","v":93970},null,null,null,"各種交付金",null,null,null,{"$f":"データ一覧!G441","v":6685000},null,null,null,null,{"$f":"データ一覧!G455","v":6518803},null,null,null,null,"民生費",null,null,null,{"$f":"データ一覧!G469","v":45645415},null,null,null,null,{"$f":"データ一覧!G483","v":44484424},null,null,null,null,null,"警察署数",null,null,null,null,null,null,null,null,"検問所数",null,null,null,null,null,null,null,null,null,{"$f":"データ一覧!$A$684","v":"2年中"},null,null,null,null,null,null,null,null,{"$f":"データ一覧!$A$684","v":"2年中"}]
[null,null,null,null,null,null,null,null,null,null,null,null,null,null,null,null,null,null,null,null,null,null,null,null,null,"その他",null,null,null,{"$f":"データ一覧!G301","v":879},null,null,{"$f":"データ一覧!G310","v":5444},null,null,{"$f":"データ一覧!G319","v":105519},null,null,null,"地方特例交付金",null,null,null,{"$f":"データ一覧!G442","v":1331000},null,null,null,null,{"$f":"データ一覧!G456","v":268978},null,null,null,null,"衛生費",null,null,null,{"$f":"データ一覧!G470","v":8288194},null,null,null,null,{"$f":"データ一覧!G484","v":6110685},null,null,null,null,null,null,null,null,null,null,null,null,null,null,null,null,null,null,null,null,null,null,null,null,null,null,null,null," 件",null,null,null,null,null,null,null,null,"　件"]
[null,null,"農業経営体数",null,null,null,null,null,null,"農産物販売額規模別経営体数",null,null,null,null,null,null,null,"経営耕地面積規模別経営体数",null,null,null,null,null,null,null,"無店舗",null,null,null,{"$f":"データ一覧!G302","v":89},null,null,{"$f":"データ一覧!G311","v":800},null,null,{"$f":"データ一覧!G320","v":23530},null,null,null,"地方交付税",null,null,null,{"$f":"データ一覧!G443","v":10400000},null,null,null,null,{"$f":"データ一覧!G457","v":11596114},null,null,null,null,"労働費",null,null,null,{"$f":"データ一覧!G471","v":523612},null,null,null,null,{"$f":"データ一覧!G485","v":405649},null,null,null,null,null,null,{"$f":"データ一覧!G682","v":2},null,null,null,null,null,null,null,null,{"$f":"データ一覧!G683","v":36},null,null,null,null,null,null,null,null,{"$f":"データ一覧!G684","v":1160},null,null,null,null,null,null,null,null,{"$f":"データ一覧!G685","v":380}]
["農",null,"区　分",null,null,null,"経営体数\n（経営体）",null,null,"区　分",null,null,null,null,"経営体数\n（経営体）",null,null,"区　分",null,null,null,null,"経営体数\n（経営体）",null,null,null,null,null,null,null,null,null,null,null,null,null,null,null,null,"分担金および負担金",null,null,null,{"$f":"データ一覧!G444","v":224629},null,null,null,null,{"$f":"データ一覧!G458","v":203336},null,null,null,null,"農林水産業費",null,null,null,{"$f":"データ一覧!G472","v":3543601},null,null,null,null,{"$f":"データ一覧!G486","v":3427153},null,null,null,null,"火災発生件数",null,null,null,null,null,null,null,null,null,"林野焼損",null,null,null,null,"損      害",null,null,null,null,"消 防 自",null,null,null,"その他の",null,null,null," ",null,null,null,null," "]
["業","令",null,null,null,null,null,null,null,null,null,null,null,null,null,null,null,null,null,null,null,null,null,null,null,"  ８  住　　　　　　 　宅",null,null,null,null,null,null,null,null,null,null,null,null,null,"使用料および手数料",null,null,null,{"$f":"データ一覧!G445","v":1257477},null,null,null,null,{"$f":"データ一覧!G459","v":1175723},null,null,null,null,"商工費",null,null,null,{"$f":"データ一覧!G473","v":2811745},null,null,null,null,{"$f":"データ一覧!G487","v":4103794},null,null,null,null,{"$f":"+データ一覧!$A$686","v":"2年中"},null,null,null,null,"焼損棟数",null,null,null,null,"面    積",null,null,null,null,"見  積  額",null,null,null,null,"動 車 数",null,null,null,"ﾎﾟﾝﾌﾟ数",null,null,null," 消防吏員",null,null,null," 消防団員"]
["経",{"$f":"+LEFT(データ一覧!$A$213)","v":"2"},"計",null,null,null,{"$f":"データ一覧!G213","v":2333},null,null,"総　　　 数",null,null,null,null,{"$f":"データ一覧!G217","v":2333},null,null,"総　　　 数",null,null,null,null,{"$f":"データ一覧!G233","v":6910},null,null,null,null,null,null,null,null,null,null,null,null,null,null,null,null,"国庫支出金",null,null,null,{"$f":"データ一覧!G446","v":21486846},null,null,null,null,{"$f":"データ一覧!G460","v":49750618},null,null,null,null,"土木費",null,null,null,{"$f":"データ一覧!G474","v":16212433},null,null,null,null,{"$f":"データ一覧!G488","v":18567880},null,null,null,null,"         件",null,null,null,null,null,"      棟",null,null,null,null,null,null,"  ａ",null,null,null,"  千円",null,null,"        ",null,null,null,null,null,null,null,null,null,"  人",null,null,null,"  人"]
["営","・","個人経営体",null,null,null,{"$f":"データ一覧!G214","v":2195},null,null,"販 売 な し",null,null,null,null,{"$f":"データ一覧!G218","v":129},null,null,"0.5 ha 未満",null,null,null,null,{"$f":"データ一覧!G234","v":163},null,null,{"$f":"+データ一覧!$A$321","v":"令和元年"},null,null,null,null,{"$f":"データ一覧!$A$324","v":"2年"},"中の増減",null,null,null,{"$f":"+データ一覧!$A$324","v":"2年"},null,null,null,"県支出金",null,null,null,{"$f":"データ一覧!G447","v":10700154},null,null,null,null,{"$f":"データ一覧!G461","v":10117896},null,null,null,null,"消防費",null,null,null,{"$f":"データ一覧!G475","v":3524784},null,null,null,null,{"$f":"データ一覧!G489","v":3447520},null,null,null,null,null,{"$f":"データ一覧!G686","v":46},null,null,null,null,{"$f":"データ一覧!G687","v":52},null,null,null,null,{"$f":"データ一覧!G688","v":5},null,null,null,{"$f":"データ一覧!G689","v":381322},null,null,null,null,null,{"$f":"データ一覧!G690","v":36},null,null,null,{"$f":"データ一覧!G691","v":100},null,null,null,{"$f":"データ一覧!G692","v":368},null,null,null,{"$f":"データ一覧!G693","v":999}]
["体",{"$f":"+LEFT(データ一覧!$A$213,1)","v":"2"},"団体経営体",null,null,null,{"$f":"データ一覧!G215","v":138},null,null,"50万円未満",null,null,null,null,{"$f":"データ一覧!G219","v":816},null,null,"0.5 ha ～ 1.0 ha",null,null,null,null,{"$f":"データ一覧!G235","v":549},null,null,null,null,null,null,"建設した住宅",null,null,"消失した住宅",null,null,null,null,null,null,"財産収入",null,null,null,{"$f":"データ一覧!G448","v":107553},null,null,null,null,{"$f":"データ一覧!G462","v":9496992},null,null,null,null,"教育費",null,null,null,{"$f":"データ一覧!G476","v":9373201},null,null,null,null,{"$f":"データ一覧!G490","v":10350350},null,null,null,null," ２０  そ　　　の　　　他　"]
["数","・",null,"法人経営",null,null,{"$f":"データ一覧!G216","v":73},null,null,"50～300万円",null,null,null,null,{"$f":"データ一覧!G220","v":1075},null,null,"1.0 ha ～ 2.0 ha",null,null,null,null,{"$f":"データ一覧!G236","v":908},null,null,null,null,null,null,null,null,null,null,null,null,null,null,null,null,"繰入金",null,null,null,{"$f":"データ一覧!G449","v":960177},null,null,null,null,{"$f":"データ一覧!G463","v":41357},null,null,null,null,"災害復旧費",null,null,null,{"$f":"データ一覧!G477","v":30750},null,null,null,null,{"$f":"データ一覧!G491","v":72365}]
["（",{"$f":"+RIGHT(データ一覧!$A$213)","v":"1"},null,null,null,null,null,null,null,"300～500万円",null,null,null,null,{"$f":"データ一覧!G221","v":92},null,null,"2.0 ha ～ 3.0 ha",null,null,null,null,{"$f":"データ一覧!G237","v":398},null,null,null,{"$f":"データ一覧!G321","v":107546},null,"戸",{"$f":"データ一覧!G322","v":1503},null,"戸",{"$f":"データ一覧!G323","v":606},null,"戸",null,{"$f":"データ一覧!G324","v":108443},null,"戸","地方債",null,null,null,{"$f":"データ一覧!G450","v":12194800},null,null,null,null,{"$f":"データ一覧!G464","v":8966498},null,null,null,null,"公債費",null,null,null,{"$f":"データ一覧!G478","v":13495702},null,null,null,null,{"$f":"データ一覧!G492","v":17034127},null,null,null,null,null,null,null,null,null,"一乗谷朝倉氏遺跡、一乗谷朝倉氏庭園、養浩館庭園、免鳥長山古墳、越前海岸、福井城址、北の庄城址・柴田公園､グリフィス記念館、足羽川の桜並木、愛宕坂、丹巌洞、大安禅寺、コスモス広苑、絹本著色　羅漢図、木造十一面観音菩薩立像、鉄製銀象嵌冑、糸崎の仏舞、睦月神事"]
["総",null,null,null,null,null,null,null,null,"500～1,000万円",null,null,null,null,{"$f":"データ一覧!G222","v":81},null,null,"3.0 ha ～ 5.0 ha",null,null,null,null,{"$f":"データ一覧!G238","v":287},null,null,null,null,null,null,null,null,null,null,null,null,null,null,null,null,"その他",null,null,null,{"$f":"データ一覧!G451","v":4558817},null,null,null,null,{"$f":"データ一覧!G465","v":6887721},null,null,null,null,"その他",null,null,null,{"$f":"データ一覧!G479","v":300000},null,null,null,null,{"$f":"データ一覧!G493","v":0},null,null,null,null,"　名所・旧跡"]
["数",null,null,null,null,null,null,null,null,"1,000万円以上",null,null,null,null,{"$f":"データ一覧!G223","v":140},null,null,"5.0 ha以上",null,null,null,null,{"$f":"データ一覧!G239","v":4608},null,null,null,null,null,null,null,null,null,null,null,null,null,null,null,null,null,null,null,null,null,null,null,null,null,null,null,null,null,null,null,null,null,null,null,null,null,null,null,null,null,null,null,null,"  文化財等"]
["）",null,"15歳以上の常雇い数",null,null,null,null,null,null,"農業に60日以上従事した世帯員、役員・構成員\n（経営主を含む）の平均年齢",null,null,null,null,null,null,null,null,null,null,null,null,null,null,null,"  ９  議　 員　・　職 　員",null,null,null,null,null,null,null,null,null,null,null,null,null," １４  文　　　　　　化",null,null,null,null,null,null,null,null,null," ( ",{"$f":"データ一覧!$A$500","v":"3.3.31"},null,null,null,"ただし図書館・公民館・児童館",null,null,null,null,null,null,null,{"$f":"データ一覧!$A$494","v":"3.4.1"}]
["と",null,null,null,null,null,null,null,null,null,null,null,null,null,null,null,null,null,null,null,null,null,null,null,null,null,null,null,null,null,null,null,null,null,null,null,null,null,null,null,null,null,null,null,null,null,null,null,null,null,null,null,null,null,null,"　宗教法人数 ",null,null,null,null,null,null,{"$f":"データ一覧!$A$502","v":"2.12.31"},null,null,null,"）"]
["就",null,null,null,null,null,null,null,null,"農業に60日以上従事",null,null,null,null,null,null,null,"農業に150日以上従事",null,null,null,null,null,null,null," 市 町 村 議 会",null,null,"有権者数",null,{"$f":"データ一覧!$A$328","v":"3.9.1"},null,"市 町 村 議 会",null,null,"  職      員      数",null,null,null,null,null,null,null,null,"図書館",null,null,null,null,null,"公　民　館",null,null,null,null,null,null,null,null,null,null," 社会教育学級講座",null,null,null,null,null,"　　特産物",null,null,null,null,"羽二重餅、水ようかん、越前がに、越前おろしそば、金福すいか、越のルビー、越前金時、水菜、坊ちゃんかぼちゃ、六条大麦、河内赤かぶら､木田ちそ、明里ネギ、新保ナス、越前水仙、ワカメ、ソースカツ丼、あべかわ餅"]
["業",null,"区　分",null,null,null,"人",null,null,"区　分",null,null,null,null,"人",null,null,"区　分",null,null,null,null,"人",null,null," 議  員  定  数",null,null,"    男",null,"    女",null,"選 挙 投 票 率",null,null," 総     数",null,"一般行政職",null,"公    共",null,null,null," 館  数",null,null," 図書数",null,null," 本  館",null,null," 分  館",null,null," 公  園",null,null," 児童館",null,null,"学級講座数",null,null,"受講者数"]
["状",null,"総数",null,null,null,{"$f":"データ一覧!G230","v":113},null,null,"総数",null,null,null,null,{"$f":"データ一覧!G224","v":67.8},null,null,"総数",null,null,null,null,{"$f":"データ一覧!G227","v":66.400000000000006},null,null,null,null,"人",null,"人",null,"人",null,null,"　％",null,"人",null,"人","施 設 数",null,null,null,null,{"$f":"データ一覧!G494","v":5},null,{"$f":"データ一覧!G495","v":1241588},null,null,null,{"$f":"データ一覧!G496","v":50},null,{"$f":"データ一覧!G497","v":6},null,null,{"$f":"データ一覧!G498","v":398},null,null,{"$f":"データ一覧!G499","v":28},null,null,{"$f":"データ一覧!G500","v":0},null,null,{"$f":"データ一覧!G501","v":0}]
["況",null,"男",null,null,null,{"$f":"データ一覧!G231","v":79},null,null,"男",null,null,null,null,{"$f":"データ一覧!G225","v":67.3},null,null,"男",null,null,null,null,{"$f":"データ一覧!G228","v":65.8},null,null,null,{"$f":"データ一覧!G325","v":32},null,{"$f":"データ一覧!G328","v":103760},null,{"$f":"データ一覧!G329","v":112418},null,{"$f":"データ一覧!G327","v":46.73},null,null,{"$f":"データ一覧!G330","v":2279},null,{"$f":"データ一覧!G331","v":1207},null,"宗    教",null,null,null," 仏教系",null,null,"ｷﾘｽﾄ教系",null,null,"神道諸派",null,null,"公会堂・市民会館",null,null,null,null,null," テレビ",null,null,"衛星放送契約数",null,null,null,null,null," 　年中行事",null,null,null,null,"オシッサマのお渡り、越前朝倉万灯夜(規模縮小して実施）"]
[null,null,"女",null,null,null,{"$f":"データ一覧!G232","v":34},null,null,"女",null,null,null,null,{"$f":"データ一覧!G226","v":69.2},null,null,"女",null,null,null,null,{"$f":"データ一覧!G229","v":67.900000000000006},null,null,null,null,null,null,null,null,null,{"$f":"データ一覧!G326","v":"31.4.21"},null,null,null,null,null,null,"法 人 数",null,null,null,{"$f":"データ一覧!G502","v":384},null,null,{"$f":"データ一覧!G503","v":12},null,null,{"$f":"データ一覧!G504","v":469},null,null,{"$f":"データ一覧!G505","v":6},null,null,null,null,null,"      等",null,null,{"$f":"データ一覧!G506","v":65700}]

{"sheet":"敦賀市","index":6,"n_rows":93,"n_cols":103,"rows_kept":93,"cut":false,"hidden":false,"merged":[[83,6,83,8],[83,9,83,13],[83,14,83,16],[84,6,84,8],[84,9,84,13],[84,14,84,16],[86,2,88,8],[86,9,87,24],[88,9,88,16],[88,17,88,24],[89,2,89,5],[89,9,89,13],[89,17,89,21],[90,2,90,5],[90,9,90,13],[90,17,90,21],[91,2,91,5],[91,9,91,13],[91,17,91,21],[89,22,89,24],[91,6,91,8],[91,14,91,16],[91,22,91,24],[92,2,92,5],[92,9,92,13],[92,14,92,16],[92,17,92,21],[89,14,89,16],[90,22,90,24],[84,22,84,24],[85,6,85,8],[85,9,85,13],[85,14,85,16],[85,22,85,24],[85,17,85,21],[76,2,76,8],[76,9,76,16],[76,17,76,24],[77,2,78,5],[77,6,78,8],[77,9,78,13],[77,14,78,16],[77,17,78,21],[77,22,78,24],[79,2,79,5],[79,6,79,8],[79,9,79,13],[79,14,79,16],[79,17,79,21],[79,22,79,24],[80,6,80,8],[80,9,80,13],[80,14,80,16],[80,17,80,21],[80,22,80,24],[36,60,36,64],[36,75,36,77],[81,6,81,8],[81,9,81,13],[81,14,81,16],[82,6,82,8],[82,9,82,13],[82,14,82,16],[39,75,39,77],[39,79,39,82],[39,67,39,73],[30,40,30,46],[35,53,35,56],[29,53,29,56],[32,53,32,56],[30,53,30,56],[34,60,34,64],[32,40,32,46],[33,40,33,46],[35,40,35,46],[35,68,35,72],[30,73,30,76],[32,5,32,7],[31,14,31,16],[32,20,32,21],[30,22,30,24],[35,14,35,16],[35,18,35,19],[60,22,60,24],[59,19,59,21],[60,19,60,21],[69,19,69,21],[23,99,23,102],[23,81,23,84],[23,86,23,90],[25,86,25,90],[25,81,25,84],[24,60,24,64],[27,99,27,102],[38,93,38,95],[38,79,38,82],[38,67,38,73],[38,40,38,46],[36,49,36,51],[28,91,28,94],[29,91,29,94],[29,95,29,98],[31,77,31,80],[26,99,26,102],[28,73,28,76],[26,40,26,46],[24,40,24,46],[25,40,25,46],[35,80,35,83],[35,86,35,90],[35,75,35,77],[34,53,34,56],[36,79,36,82],[37,67,37,73],[31,81,31,84],[35,93,35,95],[37,97,37,100],[36,97,36,100],[36,85,36,91],[24,95,24,98],[29,49,29,51],[27,81,27,84],[27,86,27,90],[29,73,29,76],[29,77,29,80],[30,86,30,90],[32,99,32,102],[32,77,32,80],[32,81,32,84],[32,68,32,72],[22,99,22,102],[24,99,24,102],[25,95,25,98],[27,68,27,72],[23,49,23,51],[23,53,23,56],[24,91,24,94],[26,91,26,94],[26,95,26,98],[28,86,28,90],[29,99,29,102],[28,49,28,51],[26,81,26,84],[30,77,30,80],[30,81,30,84],[28,77,28,80],[26,86,26,90],[26,68,26,72],[26,73,26,76],[24,49,24,51],[29,60,29,64],[32,8,32,10],[30,49,30,51],[28,68,28,72],[56,19,56,21],[36,93,36,95],[38,97,38,100],[31,73,31,76],[40,93,40,95],[39,49,39,51],[40,79,41,82],[40,75,41,77],[42,97,42,100],[21,99,21,102],[35,60,35,64],[22,81,22,84],[22,86,22,90],[23,68,23,72],[23,73,23,76],[24,68,24,72],[24,73,24,76],[24,77,24,80],[24,81,24,84],[24,86,24,90],[33,60,33,64],[34,49,34,51],[31,60,31,64],[26,77,26,80],[22,91,22,94],[25,49,25,51],[22,95,22,98],[23,91,23,94],[23,95,23,98],[30,95,30,98],[30,99,30,102],[33,49,33,51],[28,95,28,98],[25,99,25,102],[25,73,25,76],[28,81,28,84],[27,77,27,80],[27,95,27,98],[32,91,32,94],[34,20,34,21],[33,22,33,24],[32,22,32,24],[31,53,31,56],[33,53,33,56],[27,22,27,24],[35,11,35,13],[30,60,30,64],[29,81,29,84],[28,99,28,102],[27,91,27,94],[28,60,28,64],[31,99,31,102],[31,95,31,98],[32,95,32,98],[31,91,31,94],[30,91,30,94],[35,98,35,101],[73,0,73,6],[66,0,66,6],[70,0,70,6],[72,19,72,21],[73,22,73,24],[73,16,73,18],[73,19,73,21],[59,22,59,24],[65,19,65,21],[63,19,63,21],[64,19,64,21],[64,22,64,24],[71,16,71,18],[70,22,70,24],[70,19,70,21],[71,19,71,21],[59,16,59,18],[60,13,60,15],[59,13,59,15],[64,16,64,18],[71,7,71,9],[62,16,62,18],[63,16,63,18],[67,7,67,9],[65,10,65,12],[70,7,70,9],[70,10,70,12],[62,0,62,6],[67,13,67,15],[63,10,63,12],[62,10,62,12],[62,13,62,15],[63,13,63,15],[60,39,60,42],[56,16,56,18],[55,16,55,18],[40,22,40,24],[47,10,47,12],[71,13,71,15],[71,39,71,42],[30,68,30,72],[33,67,34,80],[68,43,68,47],[68,48,68,52],[68,53,68,56],[68,57,68,61],[37,40,37,46],[31,68,31,72],[37,79,37,82],[34,40,34,46],[35,49,35,51],[34,14,34,16],[33,18,33,19],[33,20,33,21],[33,11,33,13],[33,14,33,16],[32,18,32,19],[63,22,63,24],[33,8,33,10],[38,53,38,56],[32,60,32,64],[32,73,32,76],[37,75,37,77],[71,10,71,12],[35,5,35,7],[55,13,55,15],[56,13,56,15],[21,73,21,76],[21,77,21,80],[21,81,21,84],[22,73,22,76],[22,77,22,80],[20,25,20,28],[22,68,22,72],[20,11,20,13],[20,16,20,18],[20,21,20,23],[27,73,27,76],[25,77,25,80],[29,20,29,21],[35,20,35,21],[34,22,34,24],[40,16,40,18],[47,22,47,24],[48,22,48,24],[40,67,41,73],[28,40,28,46],[31,40,31,46],[23,77,23,80],[33,83,34,96],[31,5,31,7],[27,40,27,46],[42,7,42,9],[22,40,22,46],[29,86,29,90],[21,60,21,64],[22,49,22,51],[21,40,21,46],[23,32,23,34],[27,60,27,64],[25,60,25,64],[26,60,26,64],[31,18,31,19],[30,5,30,7],[30,8,30,10],[31,8,31,10],[31,11,31,13],[27,37,27,38],[21,32,21,34],[31,22,31,24],[29,5,29,7],[27,25,27,26],[30,20,30,21],[31,20,31,21],[30,11,30,13],[30,14,30,16],[30,18,30,19],[29,8,29,10],[29,40,29,46],[29,14,29,16],[29,22,29,24],[24,0,25,24],[21,49,21,51],[21,53,21,56],[28,53,28,56],[31,49,31,51],[23,40,23,46],[27,0,27,4],[27,5,27,7],[29,11,29,13],[14,67,15,81],[14,82,15,95],[14,25,15,25],[14,26,15,28],[15,29,15,30],[15,32,15,33],[15,35,15,37],[17,25,17,27],[18,25,18,27],[40,7,40,9],[27,27,27,28],[27,29,27,30],[27,31,27,32],[27,33,27,34],[21,25,21,28],[20,77,20,80],[20,86,20,90],[20,81,20,84],[35,8,35,10],[32,14,32,16],[34,18,34,19],[34,8,34,10],[34,11,34,13],[38,85,38,91],[37,85,37,91],[37,60,37,64],[39,40,39,46],[25,91,25,94],[21,29,21,31],[25,25,25,26],[5,0,5,9],[6,0,8,9],[17,53,17,57],[19,49,19,51],[19,53,19,56],[17,40,17,46],[14,0,15,24],[19,3,19,5],[18,28,18,30],[19,25,19,28],[19,73,19,76],[20,73,20,76],[26,22,26,24],[24,27,24,28],[25,27,25,28],[26,25,26,26],[25,37,26,38],[19,35,19,38],[26,27,26,28],[25,29,26,30],[25,31,26,32],[23,35,23,38],[24,29,24,30],[24,31,24,32],[24,33,24,34],[24,35,24,36],[22,35,22,38],[25,33,26,34],[25,35,26,36],[19,29,19,31],[19,32,19,34],[23,25,23,28],[20,99,20,102],[20,35,20,38],[20,91,20,94],[20,95,20,98],[20,60,20,64],[19,77,19,80],[19,81,19,84],[16,74,16,95],[16,32,16,33],[16,36,16,37],[17,32,17,34],[17,36,17,38],[18,31,18,34],[18,35,18,38],[17,48,17,52],[17,68,17,71],[19,40,19,46],[19,99,19,102],[17,59,17,65],[17,91,17,94],[17,100,17,101],[19,60,19,64],[19,91,19,94],[19,95,19,98],[17,73,17,76],[17,82,17,83],[17,86,17,89],[20,40,20,46],[20,49,20,51],[20,53,20,56],[20,29,20,31],[20,32,20,34],[33,5,33,7],[40,19,40,21],[21,86,21,90],[21,91,21,94],[21,95,21,98],[23,29,23,31],[32,11,32,13],[27,35,27,36],[23,11,23,13],[23,16,23,18],[23,21,23,23],[23,60,23,64],[22,25,22,28],[22,29,22,31],[22,53,22,56],[22,60,22,64],[24,53,24,56],[25,53,25,56],[27,49,27,51],[26,53,26,56],[26,49,26,51],[27,53,27,56],[24,37,24,38],[37,93,37,95],[36,40,36,46],[36,67,36,73],[38,60,38,64],[29,18,29,19],[21,35,21,38],[22,7,22,8],[38,75,38,77],[22,32,22,34],[42,93,42,95],[45,92,45,101],[48,56,48,59],[49,62,49,66],[39,60,39,64],[42,67,42,73],[42,85,42,91],[39,97,39,100],[49,58,49,61],[43,60,43,64],[46,95,46,98],[43,53,43,56],[46,69,46,74],[41,49,41,51],[40,49,40,51],[42,49,42,51],[40,97,40,100],[41,97,41,100],[40,85,40,91],[43,49,43,51],[41,85,41,91],[42,75,42,77],[48,99,48,102],[41,93,41,95],[39,93,39,95],[42,79,42,82],[43,83,44,102],[39,85,39,91],[54,68,54,75],[43,40,43,46],[42,53,42,56],[50,25,50,28],[49,95,49,98],[49,87,49,90],[47,91,47,94],[49,83,49,86],[49,68,49,75],[47,95,47,98],[47,99,47,102],[55,95,55,98],[48,83,48,86],[48,87,48,90],[47,87,47,90],[55,91,55,94],[52,77,52,79],[42,40,42,46],[52,80,52,82],[50,77,50,79],[53,83,53,86],[52,91,52,94],[48,95,48,98],[52,68,52,75],[54,99,54,102],[55,99,55,102],[52,99,52,102],[52,95,52,98],[53,99,53,102],[53,95,53,98],[43,67,44,81],[47,83,47,86],[54,91,54,94],[54,95,54,98],[54,80,54,82],[52,83,52,86],[68,16,68,18],[50,91,50,94],[45,77,45,82],[44,25,44,28],[68,19,68,21],[51,95,51,98],[45,25,45,28],[46,25,46,28],[47,80,47,82],[46,99,46,102],[49,99,49,102],[55,77,55,79],[56,99,56,102],[56,68,56,75],[56,80,56,82],[56,83,56,86],[56,87,56,90],[56,91,56,94],[56,95,56,98],[60,97,60,102],[60,59,60,62],[61,80,61,83],[56,77,56,79],[66,92,66,96],[45,84,45,89],[47,68,47,75],[47,77,47,79],[53,68,53,75],[55,68,55,75],[50,99,50,102],[49,91,49,94],[60,91,60,96],[60,85,60,90],[55,43,55,45],[54,47,54,50],[55,22,55,24],[51,83,51,86],[51,77,51,79],[51,80,51,82],[56,48,56,53],[51,99,51,102],[54,55,54,58],[50,83,50,86],[66,13,66,15],[66,16,66,18],[53,91,53,94],[51,91,51,94],[52,87,52,90],[53,87,53,90],[53,77,53,79],[62,22,62,24],[62,81,62,83],[61,22,61,24],[61,59,61,62],[61,63,61,66],[62,75,62,77],[65,93,65,96],[62,87,62,89],[62,99,62,101],[63,84,63,86],[69,10,69,12],[68,29,68,30],[68,32,68,33],[66,19,66,21],[65,68,65,71],[66,76,66,90],[69,35,69,37],[69,22,69,24],[68,39,68,42],[68,10,68,12],[68,13,68,15],[66,39,66,66],[67,43,67,47],[67,67,70,71],[67,79,67,81],[70,39,70,42],[69,29,69,30],[66,22,66,24],[69,32,69,33],[67,22,67,24],[65,22,65,24],[69,25,69,28],[68,62,68,66],[69,39,69,66],[70,72,70,75],[70,77,70,78],[68,76,68,78],[65,57,65,63],[70,83,70,84],[67,57,67,61],[65,73,65,76],[68,88,68,90],[65,88,65,91],[64,13,64,15],[71,67,72,81],[71,57,71,61],[72,57,72,61],[71,82,72,102],[72,48,72,52],[65,0,65,6],[58,0,58,6],[57,67,58,102],[60,7,60,9],[57,64,57,66],[59,7,59,9],[58,7,58,9],[64,10,64,12],[62,68,62,71],[65,13,65,15],[65,16,65,18],[65,39,65,42],[64,68,64,71],[61,68,61,71],[65,53,65,56],[57,7,57,9],[61,19,61,21],[62,93,62,95],[58,61,58,63],[61,0,61,6],[60,0,60,6],[65,98,65,101],[65,78,65,81],[65,83,65,86],[64,0,64,6],[69,13,69,15],[68,35,68,37],[67,48,67,52],[68,82,68,84],[68,85,68,87],[68,91,68,93],[68,94,68,96],[67,19,67,21],[70,97,70,99],[70,100,70,102],[72,53,72,56],[72,62,72,66],[68,79,68,81],[70,91,70,93],[70,94,70,96],[70,85,70,87],[70,88,70,90],[68,72,68,75],[70,29,70,30],[67,97,67,102],[67,82,67,84],[70,79,70,81],[71,62,71,66],[67,53,67,56],[67,62,67,66],[70,62,70,66],[68,100,68,102],[67,88,67,90],[67,39,67,42],[68,25,68,28],[71,43,71,47],[70,35,70,37],[79,97,79,98],[81,67,82,102],[79,53,79,56],[79,57,79,61],[79,62,79,66],[79,101,79,102],[80,96,80,98],[80,78,80,80],[84,53,84,56],[68,22,68,24],[75,39,75,42],[75,25,75,28],[75,35,75,37],[73,77,73,83],[73,86,73,92],[73,95,73,101],[74,87,74,91],[74,96,74,100],[75,53,75,56],[74,43,74,47],[74,48,74,52],[75,48,75,52],[74,39,74,42],[74,32,74,33],[74,35,74,37],[73,25,73,28],[91,26,91,27],[91,28,91,29],[91,30,91,31],[91,32,91,34],[91,52,91,57],[90,46,90,48],[91,35,91,36],[91,37,91,38],[91,39,91,42],[90,39,90,42],[88,30,88,31],[83,36,83,37],[82,39,82,42],[81,48,81,52],[80,48,80,52],[84,57,84,61],[81,29,81,31],[81,39,81,42],[88,32,88,34],[88,44,88,47],[91,43,91,45],[91,46,91,48],[91,49,91,51],[88,50,88,53],[83,39,83,42],[84,48,84,52],[83,43,83,47],[84,39,84,42],[90,44,90,45],[80,39,80,42],[80,43,80,47],[81,32,81,34],[63,89,63,91],[63,99,63,101],[63,94,63,96],[63,74,63,76],[57,47,57,50],[92,39,92,42],[92,43,92,45],[92,46,92,48],[92,49,92,51],[90,61,90,63],[90,64,90,66],[81,43,81,47],[77,43,77,47],[77,48,77,52],[77,53,77,56],[77,57,77,61],[77,62,77,66],[76,53,76,56],[76,57,76,61],[76,62,76,66],[77,77,77,81],[76,69,76,72],[76,39,76,42],[78,43,78,47],[79,39,79,42],[84,62,84,66],[80,100,80,102],[80,88,80,90],[74,77,74,83],[80,92,80,94],[80,68,80,70],[80,73,80,75],[88,72,89,102],[80,53,80,56],[80,57,80,61],[80,62,80,66],[74,53,74,56],[74,57,74,61],[74,62,74,66],[70,53,70,56],[70,57,70,61],[66,32,66,34],[89,32,89,34],[89,39,89,42],[78,91,78,94],[78,95,78,98],[78,99,78,102],[78,67,78,71],[78,72,78,76],[78,77,78,81],[78,82,78,86],[77,82,77,86],[77,87,77,90],[76,87,76,90],[77,91,77,94],[77,39,77,42],[76,78,76,81],[82,43,82,47],[80,35,81,38],[76,43,76,47],[76,48,76,52],[76,96,76,99],[78,87,78,90],[78,57,78,61],[60,29,60,30],[61,43,61,47],[61,48,61,52],[61,53,61,56],[42,60,42,64],[55,31,55,34],[56,39,56,42],[58,52,58,54],[45,57,45,61],[40,53,40,56],[39,53,39,56],[60,48,60,52],[60,53,60,56],[61,36,61,37],[91,61,91,66],[90,58,90,60],[88,61,88,66],[81,57,81,61],[83,53,83,56],[81,53,81,56],[89,61,89,63],[42,36,42,37],[42,32,42,35],[45,36,45,37],[50,63,50,66],[48,50,48,53],[41,53,41,56],[44,36,44,37],[44,32,44,35],[45,32,45,35],[40,29,40,30],[40,40,40,46],[41,40,41,46],[42,19,42,21],[51,36,51,38],[48,13,48,15],[58,64,58,66],[55,47,55,49],[55,51,55,53],[61,39,61,42],[38,49,38,51],[50,29,50,32],[46,32,46,35],[50,47,50,49],[49,46,49,49],[55,59,55,62],[50,59,50,61],[49,50,49,53],[41,29,41,30],[41,60,41,64],[57,61,57,63],[57,58,57,60],[57,55,57,57],[58,55,58,57],[58,58,58,60],[58,48,58,50],[46,0,46,1],[40,2,40,3],[47,0,47,1],[47,7,47,9],[41,4,41,6],[40,4,40,6],[36,53,36,56],[37,49,37,51],[50,33,50,38],[46,36,46,37],[41,13,41,15],[41,36,41,37],[40,32,40,35],[40,36,40,37],[41,32,41,35],[58,22,58,24],[57,19,57,21],[54,39,54,42],[37,53,37,56],[44,0,45,1],[48,16,48,18],[48,19,48,21],[44,19,44,24],[41,19,41,21],[42,10,42,12],[48,0,48,1],[41,10,41,12],[41,7,41,9],[55,19,55,21],[50,0,51,24],[55,7,55,9],[61,7,61,9],[55,0,55,6],[47,13,47,15],[47,16,47,18],[47,19,47,21],[57,13,57,15],[58,19,58,21],[56,22,56,24],[56,7,56,9],[56,10,56,12],[58,16,58,18],[58,13,58,15],[57,22,57,24],[55,10,55,12],[48,10,48,12],[48,7,48,9],[60,10,60,12],[59,10,59,12],[34,29,34,30],[36,29,36,30],[48,62,48,65],[40,60,40,64],[36,36,36,37],[54,43,54,46],[51,33,51,35],[32,49,32,51],[72,0,72,6],[66,7,66,9],[66,10,66,12],[57,51,57,54],[71,35,71,37],[57,25,57,29],[57,43,57,46],[58,39,58,42],[58,44,58,46],[57,39,57,42],[66,35,66,38],[71,53,71,56],[34,36,34,37],[35,36,35,37],[35,29,35,30],[44,29,44,30],[46,29,46,30],[45,29,45,30],[41,16,41,18],[34,5,34,7],[57,16,57,18],[60,16,60,18],[56,0,56,6],[59,0,59,6],[35,22,35,24],[92,32,92,34],[81,22,81,24],[54,25,54,32],[55,25,55,30],[82,22,82,24],[57,0,57,6],[58,10,58,12],[57,10,57,12],[51,29,51,32],[51,25,51,28],[42,4,42,6],[42,22,42,24],[41,22,41,24],[40,10,40,12],[40,13,40,15],[42,13,42,15],[42,16,42,18],[90,6,90,8],[90,14,90,16],[70,25,70,28],[83,29,83,30],[71,32,71,33],[61,29,61,30],[83,22,83,24],[72,7,72,9],[72,10,72,12],[72,13,72,15],[74,0,75,24],[61,16,61,18],[62,29,62,30],[68,7,68,9],[60,63,60,66],[59,59,59,62],[72,39,72,42],[72,43,72,47],[73,57,73,61],[69,0,69,6],[68,0,68,6],[67,0,67,6],[83,26,83,27],[88,28,88,29],[80,25,81,28],[73,29,73,30],[67,10,67,12],[67,16,67,18],[62,7,62,9],[69,7,69,9],[69,16,69,18],[70,13,70,15],[70,16,70,18],[71,22,71,24],[65,7,65,9],[63,7,63,9]],"merged_total":1106,"flags":["merged_cut"]}
[{"$f":"+データ一覧!H2","v":0}]
[{"$f":"+データ一覧!H5","v":0}]
[null,null,null,null,null,null,null,null,null,null,null,null,null,null,null,null,null,null,null,null,null,null,null,null,null,null,null,null,null,null,null,null,null,null,null,null,null,null,null,0]
[null,null,null,null,null,null,null,null,null,null,null,null,null,null,null,null,null,null,null,null,null,null,null,null,null,null,null,"【市章とそのいわれ】周囲の円形は敦賀港を現して地勢を物語り、                    ",null,null,null,null,null,null,null,null,null,null,null,"  【位置および地勢】敦賀市は福井県の中央部に位置し、北に敦賀湾口を開いて",null,null,null,null,null,null,null,null,null,null,null,null,null,null,null,null,null,null,null,null,null,null,null,null,null,null,null,null,null,null,"所在地",null,null,null,null,null,null,null,"〒914-8501"]
[null,null,null,null,null,null,null,null,null,null,null,null,null,null,null,null,null,null,null,null,null,null,null,null,null,null,null,"                  中央の角は「都怒我阿羅斯等」来朝にちなんで                                        ",null,null,null,null,null,null,null,null,null,null,null,"                  ","日本海に面し、他の三方は山岳が連なり、敦賀湾と平野部を囲んでいる。",null,null,null,null,null,null,null,null,null,null,null,null,null,null,null,null,null,null,null,null,null,null,null,null,null,null,null,null,null,null,null,null,null,null,null,null,null,"敦賀市中央町２丁目１番１号"]
[{"$f":"+データ一覧!H3","v":"つるがし"},null,null,null,null,null,null,null,null,null,null,null,null,null,null,null,null,null,null,null,null,null,null,null,null,null,null,"                  その沿革を象徴する。角の上部は敦賀港最初の",null,null,null,null,null,null,null,null,null,null,null,"　　　　　　　　　","東西約１４㎞、南北約２６km、面積は２５１．４１平方kmで若狭湾に大きく"]
[{"$f":"データ一覧!H6","v":"敦賀市"},null,null,null,null,null,null,null,null,null,null,null,null,null,null,null,null,null,null,null,null,null,null,null,null,null,null,"                  文明施設としての灯台を具現し、港湾都市と",null,null,null,null,null,null,null,null,null,null,null,"　","張り出た敦賀半島と５４㎞に及ぶ海岸線が敦賀湾を日本海の風や波浪から",null,null,null,null,null,null,null,null,null,null,null,null,null,null,null,null,null,null,null,null,null,null,null,null,null,null,null,null,null,"電話番号",null,null,null,null,null,null,null,"（０７７０）２１－１１１１"]
[null,null,null,null,null,null,null,null,null,null,null,null,null,null,null,null,null,null,null,null,null,null,null,null,null,null,null,"                  しての将来への発展を意味する。",null,null,null,null,null,null,null,null,null,null,null," ","防ぎ、天然の良港を形成している。",null,null,null,null,null,null,null,null,null,null,null,null,null,null,null,null,null,null,null,null,null,null,null,null,null,null,null,null,null,"FAX番号",null,null,null,null,null,null,null,"     〃     ２２－６２２０"]
[null,null,null,null,null,null,null,null,null,null,null,null,null,null,null,null,null,null,null,null,null,null,null,null,null,null,null,0,null,null,null,null,null,null,null,null,null,null,null," ","日本三大松原の一つに数えられる気比の松原は、敦賀湾の最奥部に位置し、"]
[null,null,null,null,null,null,null,null,null,null,null,null,null,null,null,null,null,null,null,null,null,null,null,null,null,null,null,0,null,null,null,null,null,null,null,null,null,null,null,"　","海との織り成す景観は、見事である。",null,null,null,null,null,null,null,null,null,null,null,null,null,null,null,null,null,null,null,null,null,null,null,null,null,null,null,null,null,"最寄駅および距離",null,null,null,null,null,null,null,"ＪＲ北陸本線敦賀駅  下車２ｋｍ"]
[null,null,null,null,null,null,null,null,null,null,null,null,null,null,null,null,null,null,null,null,null,null,null,null,null,null,null,0,null,null,null,null,null,null,null,null,null,null,null,"  "]
[]
[null,null,null,null,null,null,null,null,null,null,null,null,null,null,null,null,null,null,null,null,null,null,null,null,null,null,null,"【市が掲げる標語】次世代につなげる　夢と希望に満ちた　住みたくなるまち敦賀",null,null,null,null,null,null,null,null,null,null,null,null,null,null,null,null,null,null,null,null,null,null,null,null,null,null,null,null,null,null,null,null,null,null,null,null,null,null,null,null,null,null,"ホームページ",null,null,null,null,null,null,null,"http://www.city.tsuruga.lg.jp/"]
[]
["  １  土            　　地",null,null,null,null,null,null,null,null,null,null,null,null,null,null,null,null,null,null,null,null,null,null,null,null,{"$f":"データ一覧!$A$240","v":"2年"},"産米収穫量",null,null,"　 収　穫　量",null,null," 　作 付 面 積",null,null,"   10a当たり収量",null,null,null,null,null,null,null,null,null,null,null,null,null,null,null,null,null,null,null,null,null,null,null,null,null,null,null,null,null,null,null," １５  労　　　　　　　働",null,null,null,null,null,null,null,null,null,null,null,null,null,null,"27.10.1"]
[null,null,null,null,null,null,null,null,null,null,null,null,null,null,null,null,null,null,null,null,null,null,null,null,null,null,null,null,null,{"$f":"データ一覧!$H$240","v":2000},null,"t",{"$f":"データ一覧!$H$241","v":416},null,"ha",{"$f":"データ一覧!H242","v":481},null,null,"kg"," １０  工　　　　　　業 ",null,null,null,null,null,null,null,null,null,null,null,null,null,{"$f":"データ一覧!$A$332","v":"2.6.1（令和元年実績）"}]
["   総          面           積",null,null,null,null,null,null,null,null,null," 固 定 資 産 概 要 調 書 に よ る 地 目 別 面 積",null,null,null,null,null,null,null,null,null,null,null,null,null,null,null,null,null,"   総　　　数",null,null,null,"うち　　田",null,null,null,"うち　　畑",null,null,null,null,null,null,null,null,null,null,null,null,null,null,null,null,null,null,null,null,null,null,null,null,null,null,null,null,null,null,null,null,null,null,null,null,null,"産業別就業者数   "]
[null,null,{"$f":"データ一覧!$A$7","v":"3.10.1"},null,null,null,null,null,null,null,null,null,null,null,null,null,{"$f":"データ一覧!$A$9","v":"3.1.1"},null,null,null,null,null,null,null,null," 耕  地  面  積",null,null,null,"       ha",null,null,"ha ",null,null,null,"ha ",null,null,"      ","産業分類",null,null,null,null,null,null,null,"事業所数",null,null,null,null,"従業者数",null,null,null,null,null,"年間製造品出荷額等",null,null,null,null,null,null,null,null,"区  分",null,null,null,null,"総    数",null,null,null,null,"男",null,null,null,"女",null,null,"  ","区  分",null,null,null,null,"総    数",null,null,null,null,"男",null,null,null,"女"]
[null,null,null,null,null,null,"㎢",null,null,null,"   総       数",null,null,null,null,"  う ち     田",null,null,null,null,"  う ち     畑",null,null,null,null,{"$f":"データ一覧!A243","v":"2.7.15"},null,null,{"$f":"データ一覧!$H$243","v":872},null,null,{"$f":"データ一覧!$H$244","v":769},null,null,null,{"$f":"データ一覧!$H$245","v":103},null,null,null,null,null,null,null,null,null,null,null,null,"　　   ",null,null,"事業所",null,"　　　　　　　 人",null,null,"人",null,"　　　　　　　　　　　　　　万円",null,null,null,null,null,null,"万円",null,null,null,null,null,null,null,"      人",null,null,null,null,null," 人",null,null,null," 人",null,null,null,null,null,null,null,"      人",null,null,null,"      人",null,null,null,"      人"]
[null,null,null,{"$f":"データ一覧!H7","v":251.41},null,null,null,null,null,null,null,null,null,null,"ha",null,null,null,null,"ha",null,null,null,null,"ha","農 業 生 産 物",null,null,null,"作 付 面 積",null,null,"収 穫 量",null,null,"10a当たり収量",null,null,null,"     ","総数",null,null,null,null,null,null,null,null,{"$f":"データ一覧!H332","v":74},null,null,null,{"$f":"+データ一覧!H357","v":3538},null,null,null,null,null,null,{"$f":"データ一覧!H382","v":13169275},null,null,null,null,null,null," 総　　　数",null,null,null,null,null,{"$f":"BZ20+CD20","v":32820},null,null,null,{"$f":"データ一覧!H507","v":18800},null,null,null,{"$f":"データ一覧!H532","v":14020}]
[null,null,null,null,null,null,null,null,null,null,null,{"$f":"データ一覧!H9","v":11213.6},null,null,null,null,{"$f":"データ一覧!H10","v":1298.8},null,null,null,null,{"$f":"データ一覧!H11","v":253},null,null,null,{"$f":"データ一覧!$A$246","v":"2年中"},null,null,null,"ha",null,null,"t",null,null,"kg",null,null,null,"     食料品","食料品",null,null,null,null,null,null,null,null,{"$f":"データ一覧!H333","v":16},null,null,null,{"$f":"+データ一覧!H358","v":315},null,null,null,null,null,null,{"$f":"データ一覧!H383","v":332679},null,null,null,null,null,null,null,null,null,null,null,null,null,null,null,null,null,null,null,null,null,null,null,null,null,"卸売業,小売業",null,null,null,null,{"$f":"CR21+CV21","v":4628},null,null,null,{"$f":"データ一覧!H520","v":1910},null,null,null,{"$f":"データ一覧!H545","v":2718}]
["  町 ･ 丁 ･ 大 字",null,null,null,null,null,null,null,null,null,"  う ち  宅 地",null,null,null,null,"  う ち  山 林",null,null,null,null,"  う ち  原 野",null,null,null,null,"水　　　　　稲",null,null,null,{"$f":"データ一覧!H246","v":416},null,null,{"$f":"データ一覧!H247","v":2000},null,null,{"$f":"データ一覧!H248","v":481},null,null,null,"     飲料・飼料","飲料・飼料",null,null,null,null,null,null,null,null,{"$f":"データ一覧!H334","v":0},null,null,null,{"$f":"+データ一覧!H359","v":0},null,null,null,null,null,null,{"$f":"データ一覧!H384","v":0},null,null,null,null,null,null," 第１次産業",null,null,null,null,null,{"$f":"BZ22+CD22","v":615},null,null,null,{"$f":"データ一覧!H508","v":380},null,null,null,{"$f":"データ一覧!H533","v":235},null,null,null,null,"金融業,保険業",null,null,null,null,{"$f":"CR22+CV22","v":578},null,null,null,{"$f":"データ一覧!H521","v":206},null,null,null,{"$f":"データ一覧!H546","v":372}]
["  区    画    数",null,null,null,null,null,null,{"$f":"データ一覧!H8","v":158},null,null,null,null,null,null,"ha",null,null,null,null,"ha",null,null,null,null,"ha","六　条　大　麦",null,null,null,{"$f":"データ一覧!H249","v":"-"},null,null,{"$f":"データ一覧!H250","v":"-"},null,null,{"$f":"データ一覧!H251","v":"-"},null,null,null,"     繊維","繊維",null,null,null,null,null,null,null,null,{"$f":"データ一覧!H335","v":4},null,null,null,{"$f":"+データ一覧!H360","v":215},null,null,null,null,null,null,{"$f":"データ一覧!H385","v":615875},null,null,null,null,null,null,"  ","農業",null,null,null,null,{"$f":"BZ23+CD23","v":521},null,null,null,{"$f":"データ一覧!H509","v":303},null,null,null,{"$f":"データ一覧!H534","v":218},null,null,null,"  ","不動産業",null,null,null,null,362,null,null,null,{"$f":"データ一覧!H522","v":199},null,null,null,{"$f":"データ一覧!H547","v":163}]
[{"$f":"データ一覧!$A$8","v":"2.4.1"},null,null,null,null,null,null,null,null,null,null,{"$f":"データ一覧!H12","v":1247.2},null,null,null,null,{"$f":"データ一覧!H13","v":4518.8999999999996},null,null,null,null,{"$f":"データ一覧!H14","v":216.4},null,null,null,"大　　      豆",null,null,null,{"$f":"データ一覧!H252","v":"x"},null,null,{"$f":"データ一覧!H253","v":"x"},null,null,{"$f":"データ一覧!H254","v":"x"},null,null,null,"     衣服","木材",null,null,null,null,null,null,null,null,{"$f":"データ一覧!H336","v":2},null,null,null,{"$f":"+データ一覧!H361","v":251},null,null,null,null,null,null,{"$f":"データ一覧!H386","v":"x"},null,null,null,null,null,null,"  ","林業",null,null,null,null,12,null,null,null,{"$f":"データ一覧!H510","v":10},null,null,null,{"$f":"データ一覧!H535","v":2},null,null,null,"  ","学術研究",null,null,null,null,1766,null,null,null,{"$f":"データ一覧!H523","v":1369},null,null,null,{"$f":"データ一覧!H548","v":397}]
["  ２  世　帯　数　と　人　口",null,null,null,null,null,null,null,null,null,null,null,null,null,null,null,null,null,null,null,null,null,null,null,null,null,null,"  区　分",null," 乳 用 牛",null," 肉 用 牛",null,"豚",null,"採卵鶏",null,"ブロイラー",null,"     木材","家具",null,null,null,null,null,null,null,null,{"$f":"データ一覧!H337","v":1},null,null,null,{"$f":"+データ一覧!H362","v":4},null,null,null,null,null,null,{"$f":"データ一覧!H387","v":"x"},null,null,null,null,null,null,"  ","漁業",null,null,null,null,82,null,null,null,{"$f":"データ一覧!H511","v":67},null,null,null,{"$f":"データ一覧!H536","v":15},null,null,null,"  ","宿泊業,飲食ｻｰﾋﾞｽ",null,null,null,null,2113,null,null,null,{"$f":"データ一覧!H524","v":580},null,null,null,{"$f":"データ一覧!H549","v":1533}]
[null,null,null,null,null,null,null,null,null,null,null,null,null,null,null,null,null,null,null,null,null,null,null,null,null,"畜　産",null," 飼養農家",null,{"$f":"データ一覧!$H$255","v":"x"},null,{"$f":"データ一覧!$H$257","v":3},null,{"$f":"データ一覧!$H$259","v":"-"},null,{"$f":"データ一覧!$H$261","v":"x"},null,{"$f":"データ一覧!$H$263","v":0},null,"     家具","パルプ・紙",null,null,null,null,null,null,null,null,{"$f":"データ一覧!H338","v":4},null,null,null,{"$f":"+データ一覧!H363","v":256},null,null,null,null,null,null,{"$f":"データ一覧!H388","v":1949879},null,null,null,null,null,null," 第２次産業",null,null,null,null,null,8759,null,null,null,{"$f":"データ一覧!H512","v":6700},null,null,null,{"$f":"データ一覧!H537","v":2059},null,null,null,"  ","生活関連ｻｰﾋﾞｽ業",null,null,null,null,1108,null,null,null,{"$f":"データ一覧!H525","v":376},null,null,null,{"$f":"データ一覧!H550","v":732}]
[null,null,null,null,null,null,null,null,"        人　　　　　　　　　　口",null,null,null,null,null,null,null,null,null,null,null,"１世帯当",null,"人    口",null,null,{"$f":"データ一覧!$A$255","v":"3.3.31"},null,"（戸）",null,null,null,null,null,null,null,null,null,null,null,"     パルプ・紙","印刷",null,null,null,null,null,null,null,null,{"$f":"データ一覧!H339","v":2},null,null,null,{"$f":"+データ一覧!H364","v":62},null,null,null,null,null,null,{"$f":"データ一覧!H389","v":"x"},null,null,null,null,null,null,null,"鉱業，採石業",null,null,null,null,11,null,null,null,{"$f":"データ一覧!H513","v":8},null,null,null,{"$f":"データ一覧!H538","v":3},null,null,null,"  ","教育,学習支援業",null,null,null,null,1255,null,null,null,{"$f":"データ一覧!H526","v":546},null,null,null,{"$f":"データ一覧!H551","v":709}]
[" 区　　　　分",null,null,null,null,"世帯数",null,null," 総   数",null,null,"    男",null,null,"    女",null,null,"  男／女",null,null,"たり人員",null,"密    度",null,null,null,null," 頭 羽",null,{"$f":"データ一覧!$H$256","v":35},null,{"$f":"データ一覧!$H$258","v":73},null,{"$f":"データ一覧!$H$260","v":0},null,{"$f":"データ一覧!$H$262","v":350},null,{"$f":"データ一覧!$H$264","v":0},null,"     出版・印刷","化学",null,null,null,null,null,null,null,null,{"$f":"データ一覧!H340","v":2},null,null,null,{"$f":"+データ一覧!H365","v":255},null,null,null,null,null,null,{"$f":"データ一覧!H390","v":"x"},null,null,null,null,null,null,"  ","建設業",null,null,null,null,4404,null,null,null,{"$f":"データ一覧!H514","v":3736},null,null,null,{"$f":"データ一覧!H539","v":668},null,null,null,null,"医療，福祉",null,null,null,null,3904,null,null,null,{"$f":"データ一覧!H527","v":762},null,null,null,{"$f":"データ一覧!H552","v":3142}]
[null,null,null,null,null,"    世 帯",null,null,"       人",null,null,"       人",null,null,"       人",null,null,null,"　　％",null,"    人",null,"    人/㎢",null,null,null,null,null,null,null,null,null,null,null,null,null,null,null,null,"     化学","石油・石炭",null,null,null,null,null,null,null,null,{"$f":"データ一覧!H341","v":1},null,null,null,{"$f":"+データ一覧!H366","v":7},null,null,null,null,null,null,{"$f":"データ一覧!H391","v":"x"},null,null,null,null,null,null,null,"製造業",null,null,null,null,4344,null,null,null,{"$f":"データ一覧!H515","v":2956},null,null,null,{"$f":"データ一覧!H540","v":1388},null,null,null,null,"複合サービス事業",null,null,null,null,293,null,null,null,{"$f":"データ一覧!H528","v":166},null,null,null,{"$f":"データ一覧!H553","v":127}]
[{"$f":"データ一覧!$A$22","v":" 2.10.1"},null,null,null,null,{"$f":"データ一覧!H22","v":22995},null,null,{"$f":"+L30+O30","v":68041},null,null,{"$f":"データ一覧!H24","v":34091},null,null,{"$f":"データ一覧!H25","v":33950},null,null,null,{"$f":"+L30/O30*100","v":100.41531664212076},null,{"$f":"データ一覧!H27","v":2.96},null,{"$f":"データ一覧!H28","v":271.60000000000002},null,null,"  ５  林               業",null,null,null,null,null,null,null,null,null,null,null,null,null,"     石油・石炭","プラスチック",null,null,null,null,null,null,null,null,{"$f":"データ一覧!H342","v":7},null,null,null,{"$f":"+データ一覧!H367","v":739},null,null,null,null,null,null,{"$f":"データ一覧!H392","v":4452166},null,null,null,null,null,null," 第３次産業",null,null,null,null,null,22957,null,null,null,{"$f":"データ一覧!H516","v":11435},null,null,null,{"$f":"データ一覧!H541","v":11522},null,null,null,null,"サービス業",null,null,null,null,2396,null,null,null,{"$f":"データ一覧!H529","v":1643},null,null,null,{"$f":"データ一覧!H554","v":753}]
[{"$f":"データ一覧!$A$29","v":" 7.10.1"},null,null,null,null,{"$f":"データ一覧!H29","v":23115},null,null,{"$f":"+L31+O31","v":67204},null,null,{"$f":"データ一覧!H31","v":33047},null,null,{"$f":"データ一覧!H32","v":34157},null,null,null,96.750300084902079,null,{"$f":"データ一覧!H34","v":2.91},null,{"$f":"データ一覧!H35","v":268.10000000000002},null,null,null,null,null,null,null,null,null,null,null,null,null,null,null,null,"     プラスチック","ゴム",null,null,null,null,null,null,null,null,{"$f":"データ一覧!H343","v":0},null,null,null,{"$f":"+データ一覧!H368","v":0},null,null,null,null,null,null,{"$f":"データ一覧!H393","v":0},null,null,null,null,null,null,null,"電気･ｶﾞｽ･水道業",null,null,null,null,1294,null,null,null,{"$f":"データ一覧!H517","v":1187},null,null,null,{"$f":"データ一覧!H542","v":107},null,null,null,null,"公務",null,null,null,null,1027,null,null,null,{"$f":"データ一覧!H530","v":699},null,null,null,{"$f":"データ一覧!H555","v":328}]
[{"$f":"データ一覧!$A$36","v":"12.10.1"},null,null,null,null,{"$f":"データ一覧!H36","v":24539},null,null,{"$f":"+L32+O32","v":68145},null,null,{"$f":"データ一覧!H38","v":33504},null,null,{"$f":"データ一覧!H39","v":34641},null,null,null,96.717762189313234,null,{"$f":"データ一覧!H41","v":2.78},null,{"$f":"データ一覧!H42","v":271.8},null,null,"    　森　　　林　　　総　　　面　　　積   ",null,null,null,null,null,null,null,{"$f":"データ一覧!$A$265","v":"3.3.31"},null,null,null,null,null,"     ゴム","皮革",null,null,null,null,null,null,null,null,{"$f":"データ一覧!H344","v":0},null,null,null,{"$f":"+データ一覧!H369","v":0},null,null,null,null,null,null,{"$f":"データ一覧!H394","v":0},null,null,null,null,null,null,null,"情報通信業",null,null,null,null,352,null,null,null,{"$f":"データ一覧!H518","v":210},null,null,null,{"$f":"データ一覧!H543","v":142},null,null,null," 分類不能の産業",null,null,null,null,null,489,null,null,null,{"$f":"データ一覧!H531","v":285},null,null,null,{"$f":"データ一覧!H556","v":204}]
[{"$f":"+データ一覧!$A$43","v":"17.10.1"},null,null,null,null,{"$f":"データ一覧!H43","v":25742},null,null,{"$f":"+L33+O33","v":68402},null,null,{"$f":"データ一覧!H45","v":33475},null,null,{"$f":"データ一覧!H46","v":34927},null,null,null,95.842757751882502,null,{"$f":"データ一覧!H48","v":2.66},null,{"$f":"データ一覧!H49","v":272.8},null,null,"　　　森　　　　　　　林　　　　　　　の　　　　　　　構　　　　　　　成",null,null,null,null,null,null,null,null,null,null,null,null,null,"     皮革","窯業・土石",null,null,null,null,null,null,null,null,{"$f":"データ一覧!H345","v":9},null,null,null,{"$f":"+データ一覧!H370","v":591},null,null,null,null,null,null,{"$f":"データ一覧!H395","v":1125792},null,null,null,null,null,null,"  ","運輸業,郵便業",null,null,null,null,{"$f":"BZ33+CD33","v":1881},null,null,null,{"$f":"データ一覧!H519","v":1582},null,null,null,{"$f":"データ一覧!H544","v":299}]
[{"$f":"+データ一覧!$A$50","v":"22.10.1"},null,null,null,null,{"$f":"+データ一覧!H50","v":26453},null,null,{"$f":"+L34+O34","v":67760},null,null,{"$f":"+データ一覧!H52","v":33396},null,null,{"$f":"+データ一覧!H53","v":34364},null,null,null,97.183098591549296,null,{"$f":"+データ一覧!H55","v":2.56},null,{"$f":"+データ一覧!H56","v":269.7},null,null,null,null,null,null,null,"       ha",null,null,null,null,null,null,"       ha",null,"     窯業・土石","鉄鋼",null,null,null,null,null,null,null,null,{"$f":"データ一覧!H346","v":0},null,null,null,{"$f":"+データ一覧!H371","v":0},null,null,null,null,null,null,{"$f":"データ一覧!H396","v":0},null,null,null,null,null,null," １６  社　 会 　福　 祉",null,null,null,null,null,null,null,null,null,null,null,null,null,null,null,{"$f":"データ一覧!$A$557","v":"3.4.1"}]
[{"$f":"データ一覧!$A$57","v":"27.10.1"},null,null,null,null,{"$f":"データ一覧!H57","v":26545},null,null,{"$f":"データ一覧!H58","v":66165},null,null,{"$f":"データ一覧!H59","v":32558},null,null,{"$f":"データ一覧!H60","v":33607},null,null,null,96.878626476626891,null,{"$f":"データ一覧!H62","v":2.4925598041062349},null,{"$f":"データ一覧!H63","v":263.2},null,null,"  総　　　　　   数",null,null,null,{"$f":"データ一覧!H265","v":19899.71},null,null," 天然林       針葉樹",null,null,null,{"$f":"データ一覧!H268","v":2066.5500000000002},null,null,"     鉄鋼","非鉄金属",null,null,null,null,null,null,null,null,{"$f":"データ一覧!H347","v":1},null,null,null,{"$f":"+データ一覧!H372","v":29},null,null,null,null,null,null,{"$f":"データ一覧!H397","v":"x"}]
["令　2.10.1（国調）",null,null,null,null,{"$f":"データ一覧!H64","v":27849},null,null,{"$f":"データ一覧!H65","v":64264},null,null,{"$f":"データ一覧!H66","v":31785},null,null,{"$f":"データ一覧!H67","v":32479},null,null,null,{"$f":"+L36/O36*100","v":97.863234705502009},null,{"$f":"データ一覧!H72","v":2.2799999999999998},null,{"$f":"データ一覧!H73","v":253.1084682391313},null,null,"  人工林     針葉樹",null,null,null,{"$f":"データ一覧!H266","v":4449.71},null,null," 天然林       広葉樹",null,null,null,{"$f":"データ一覧!H269","v":12596.189999999999},null,null,"     非鉄金属","金属",null,null,null,null,null,null,null,null,{"$f":"データ一覧!H348","v":8},null,null,null,{"$f":"+データ一覧!H373","v":71},null,null,null,null,null,null,{"$f":"データ一覧!H398","v":287826},null,null,null,null,null,null,"    ","区分",null,null,null,null,null,null,"施設数",null,null,null,null,"収容定員",null,null,null,null,null,"区分",null,null,null,null,null,null,"施設数",null,null,null,null,"収容定員"]
["年",null,"  区",null," 0歳",null,null,"15歳",null,null,"25歳",null,null,"35歳",null,null,"45歳",null,null,"55歳",null,null,"65歳",null,null,"  人工林     広葉樹",null,null,null,{"$f":"データ一覧!H267","v":335.63},null,null," 竹               林",null,null,null,{"$f":"データ一覧!H270","v":72.56},null,null,"     金属","はん用機械",null,null,null,null,null,null,null,null,{"$f":"データ一覧!H349","v":0},null,null,null,{"$f":"+データ一覧!H374","v":0},null,null,null,null,null,null,{"$f":"データ一覧!H399","v":0},null,null,null,null,null,null,"生活保護施設",null,null,null,null,null,null,null,{"$f":"データ一覧!H557","v":0},null,null,null,{"$f":"データ一覧!H570","v":0},null,null,null,"人",null,"指定障害者支援施設",null,null,null,null,null,null,null,{"$f":"データ一覧!H563","v":1},null,null,null,{"$f":"データ一覧!H576","v":30},null,null,null,"人"]
["齢","令",null,null,null,"～",null,null,"～",null,null,"～",null,null,"～",null,null,"～",null,null,"～",null,null,null,null,null,null,null,null,null,null,null,null,null,null,null,null,null,null,"     一般機械","生産用機械",null,null,null,null,null,null,null,null,{"$f":"データ一覧!H350","v":2},null,null,null,{"$f":"+データ一覧!H375","v":36},null,null,null,null,null,null,{"$f":"データ一覧!H400","v":"x"},null,null,null,null,null,null,"地域福祉施設",null,null,null,null,null,null,null,{"$f":"データ一覧!H558","v":1},null,null,null,{"$f":"データ一覧!H571","v":0},null,null,null,null,null,"指定相談支援事業所",null,null,null,null,null,null,null,{"$f":"データ一覧!H564","v":3},null,null,null,{"$f":"データ一覧!H577","v":0}]
["階",{"$f":"+LEFT(データ一覧!$A$83,1)","v":"3"},"  分",null,null,null,"14歳",null,null,"24歳",null,null,"34歳",null,null,"44歳",null,null,"54歳",null,null,"64歳",null,null,"以上","    林     野     の     構     成",null,null,null,null,null,null,"保     有     形     態     別",null,null,null,null,null,null,"     電気機械","業務用機械",null,null,null,null,null,null,null,null,{"$f":"データ一覧!H351","v":0},null,null,null,{"$f":"+データ一覧!H376","v":0},null,null,null,null,null,null,{"$f":"データ一覧!H401","v":0},null,null,null,null,null,null,"老人福祉施設",null,null,null,null,null,null,null,{"$f":"データ一覧!H559","v":11},null,null,null,{"$f":"データ一覧!H572","v":214},null,null,null,null,null,"児童福祉施設",null,null,null,null,null,null,null,{"$f":"データ一覧!H565","v":42},null,null,null,{"$f":"データ一覧!H578","v":2549}]
["級","・",null,null,null,null,"人",null,null,"人",null,"    人",null,null,"    人",null,null,"    人",null,null,"    人",null,null,"    人",null,null,null,null,null,null,null,"ha",null,null,null,null,null,"       ha",null,null,"電子・デバイス",null,null,null,null,null,null,null,null,{"$f":"データ一覧!H352","v":5},null,null,null,{"$f":"+データ一覧!H377","v":574},null,null,null,null,null,null,{"$f":"データ一覧!H402","v":1935933},null,null,null,null,null,null,"介護保険施設",null,null,null,null,null,null,null,{"$f":"データ一覧!H560","v":100},null,null,null,{"$f":"データ一覧!H573","v":1961},null,null,null,null,null,"母子福祉施設",null,null,null,null,null,null,null,{"$f":"データ一覧!H566","v":0},null,null,null,{"$f":"データ一覧!H579","v":0}]
["別",{"$f":"+MID(データ一覧!$A$83,3,2)","v":"10"},"総 数",null,{"$f":"+E42+E43","v":7883},null,null,{"$f":"+H42+H43","v":5230},null,null,{"$f":"+K42+K43","v":5620},null,null,{"$f":"+N42+N43","v":7516},null,null,{"$f":"+Q42+Q43","v":9267},null,null,{"$f":"+T42+T43","v":7994},null,null,{"$f":"+W42+W43","v":18665},null,null," 無立木地   伐採跡地",null,null,null,{"$f":"データ一覧!H271","v":0.35},null,null,"国   　　　 　 有",null,null,null,{"$f":"データ一覧!H273","v":4794.99},null,null,null,"電気機械",null,null,null,null,null,null,null,null,{"$f":"データ一覧!H353","v":2},null,null,null,{"$f":"+データ一覧!H378","v":42},null,null,null,null,null,null,{"$f":"データ一覧!H403","v":"x"},null,null,null,null,null,null,"障害者自立支援法施行前からの身体障害者福祉施設",null,null,null,null,null,null,null,{"$f":"データ一覧!H561","v":0},null,null,null,{"$f":"データ一覧!H574","v":0},null,null,null,null,null,"婦人保護施設",null,null,null,null,null,null,null,{"$f":"データ一覧!H567","v":0},null,null,null,{"$f":"データ一覧!H580","v":0}]
["人","・","  男",null,{"$f":"データ一覧!H83","v":3998},null,null,{"$f":"データ一覧!H84","v":2766},null,null,{"$f":"データ一覧!H85","v":3025},null,null,{"$f":"データ一覧!H86","v":3880},null,null,{"$f":"データ一覧!H87","v":4715},null,null,{"$f":"データ一覧!H88","v":4095},null,null,{"$f":"データ一覧!H89","v":8135},null,null," 無立木地   未立木地",null,null,null,{"$f":"データ一覧!H272","v":378.71999999999997},null,null,"公       　　  有",null,null,null,{"$f":"データ一覧!H274","v":1873.73},null,null,"     輸送機械","情報通信機械",null,null,null,null,null,null,null,null,{"$f":"データ一覧!H354","v":0},null,null,null,{"$f":"+データ一覧!H379","v":0},null,null,null,null,null,null,{"$f":"データ一覧!H404","v":0},null,null,null,null,null,null,null,null,null,null,null,null,null,null,null,null,null,null,null,null,null,null,null,null,"その他の社会福祉施設",null,null,null,null,null,null,null,{"$f":"データ一覧!H568+データ一覧!H569","v":2},null,null,null,{"$f":"データ一覧!H581+データ一覧!H582","v":0}]
["口",{"$f":"+RIGHT(データ一覧!$A$83,1)","v":"1"},"  女",null,{"$f":"データ一覧!H91","v":3885},null,null,{"$f":"データ一覧!H92","v":2464},null,null,{"$f":"データ一覧!H93","v":2595},null,null,{"$f":"データ一覧!H94","v":3636},null,null,{"$f":"データ一覧!H95","v":4552},null,null,{"$f":"データ一覧!H96","v":3899},null,null,{"$f":"データ一覧!H97","v":10530},null,null,null,null,null,null,null,null,null,"私          　 有",null,null,null,{"$f":"データ一覧!H275","v":13230.99},null,null,"     精密機械","輸送機械",null,null,null,null,null,null,null,null,{"$f":"データ一覧!H355","v":3},null,null,null,{"$f":"+データ一覧!H380","v":36},null,null,null,null,null,null,{"$f":"データ一覧!H405","v":22090},null,null,null,null,null,null,"障害福祉サービス事業所",null,null,null,null,null,null,null,{"$f":"データ一覧!H562","v":40},null,null,null,{"$f":"データ一覧!H575","v":431}]
[null,null,null,null,null,null,null,null,null,null,null,null,null,null,null,null,null,null,null,null,null,null,null,null,null,"            林     産     物     生     産     量 ",null,null,null,null,null,null,null,null,null,{"$f":"データ一覧!$A$276","v":"2年中"},null,null,null,"     その他","その他",null,null,null,null,null,null,null,null,{"$f":"データ一覧!H356","v":5},null,null,null,{"$f":"+データ一覧!H381","v":55},null,null,null,null,null,null,{"$f":"データ一覧!H406","v":134886},null,null,null,null,null,null," １７  教　　　　　　　育",null,null,null,null,null,null,null,null,null,null,null,null,null,null,null,{"$f":"データ一覧!$A$583","v":"3.5.1"}]
["人口動態",null,null,null,null,null,null,"   自　然　動　態",null,null,null,null,null,"   社  会  動  態",null,null,null,null,null,{"$f":"データ一覧!$A78","v":"2.1.1～3.12.31"},null,null,null,null,null,"生椎茸",null,null,null,{"$f":"データ一覧!H276","v":3674},null,"㎏","乾椎茸",null,null,null,{"$f":"データ一覧!H277","v":126},null,"㎏"]
[null,null,"   区       分",null,null,null,null," 出   生",null,null," 死   亡",null,null," 転   入",null,null," 転   出",null,null," 婚   姻",null,null," 離   婚",null,null,"えのきだけ",null,null,null,{"$f":"データ一覧!H279","v":"-"},null,"㎏","なめこ",null,null,null,{"$f":"データ一覧!H278","v":35},null,"㎏","    ","工　業　用　水　量",null,null,null,null,null,"（従業者30人以上の事業所）",null,null,null,null,null,null,null,null,null,null,{"$f":"データ一覧!H407","v":63803},null,null,null,null,"㎥／日",null,null,null,null,null,null,null,null,null,null,null,null,null,null,"学校数（校）",null,null,null,null,null,null,"教員数（人）",null,null,null,null,null,null,null,"学生・生徒・児童数（人）"]
[{"$f":"LEFT(データ一覧!$A74,6)","v":"2.10.1"},null,null,null,null,null,null,"       人",null,null,"       人",null,null,"       人",null,null,"       人",null,null,null,"    件",null,null,"    件",null,"ひらたけ",null,null,null,{"$f":"+データ一覧!H280","v":"-"},null,"㎏","まいたけ",null,null,null,{"$f":"+データ一覧!H281","v":"-"},null,"㎏",null,null,null,null,null,null,null,null,null,null,null,null,null,null,null,null,null,null,null,null,null,null,null,null,null,null,null,null,null,"　","区分",null,null,null,null,null,null,null," 本 校",null,null," 分 校",null,null," 本   務",null,null,null," 兼   務",null,null,null," 総   数",null,null,null,"男",null,null,null,"女"]
["～",null," 実          数",null,null,null,null,{"$f":"データ一覧!H74","v":229},null,null,{"$f":"データ一覧!H75","v":357},null,null,{"$f":"データ一覧!H76","v":726},null,null,{"$f":"データ一覧!H77","v":909},null,null,{"$f":"データ一覧!H78","v":272},null,null,{"$f":"データ一覧!H79","v":115},null,null,null,null,null,null,null,null,null,null,null,null,null,null,null,null," １１ 　上　・　下　水　道",null,null,null,null,null,null,null,null,null,null,null,null,null,null,null,null,null,null,null,null,null,null,null,null,null,null,null,null,"小学校",null,null,null,null,null,null,null,null,{"$f":"データ一覧!H584","v":13},null,null,{"$f":"データ一覧!H585","v":0},null,null,{"$f":"データ一覧!H586","v":221},null,null,null,{"$f":"データ一覧!H587","v":53},null,null,null,{"$f":"データ一覧!H588","v":3383},null,null,null,{"$f":"データ一覧!H589","v":1715},null,null,null,{"$f":"データ一覧!H590","v":1668}]
[{"$f":"RIGHT(データ一覧!$A76,6)","v":"3.9.30"},null,"比率(対1,000人)",null,null,null,null,{"$f":"+H48/I35*1000","v":3.4610443587999695},null,null,{"$f":"+K48/I35*1000","v":5.3956019043300838},null,null,"- ",null,null,"- ",null,null,{"$f":"+T48/I35*1000","v":4.1109347842514925},null,null,{"$f":"+W48/I35*1000","v":1.7380790448122119},null,null,"  ６  漁               業",null,null,null,null,null,null,null,null,null,null,null,null,null,null,null,null,null,null,null,null,null,null,null,null,null,null,null,null,null,null,null,null,null,null,null,null,null,null,null,null,null,"  ","中学校",null,null,null,null,null,null,null,null,{"$f":"データ一覧!H592","v":7},null,null,{"$f":"データ一覧!H593","v":0},null,null,{"$f":"データ一覧!H594","v":147},null,null,null,{"$f":"データ一覧!H595","v":55},null,null,null,{"$f":"データ一覧!H596","v":1825},null,null,null,{"$f":"データ一覧!H597","v":916},null,null,null,{"$f":"データ一覧!H598","v":909}]
[null,null,null,null,null,null,null,null,null,null,null,null,null,null,null,null,null,null,null,null,null,null,null,null,null,null,null,null,null,null,null,null,null,null,null,null,null,null,null,"水 道 供 給 人 口",null,null,null,null,null,null,"上 水 道",null,null,null,"簡易水道",null,null,null,"専用水道",null,null,null,"飲料水供給施設",null,null,null,"下水道処理人口",null,null,null,null,"  ","高等学校",null,null,null,null,null,null,null,null,{"$f":"データ一覧!H600","v":4},null,null,{"$f":"データ一覧!H601","v":0},null,null,{"$f":"データ一覧!H602","v":146},null,null,null,{"$f":"データ一覧!H603","v":63},null,null,null,{"$f":"データ一覧!H604","v":1747},null,null,null,{"$f":"データ一覧!H605","v":1018},null,null,null,{"$f":"データ一覧!H606","v":729}]
["  ３  事　　業　　所（民　　営）    （平 28.6.1）",null,null,null,null,null,null,null,null,null,null,null,null,null,null,null,null,null,null,null,null,null,null,null,null,"漁船隻数・トン数",null,null,null,{"$f":"データ一覧!$A$282","v":"2.12.31"},null,null,null,"動　力　船",null,null,null,null,null,{"$f":"データ一覧!$A$408","v":"3.3.31"},null,null,null,null,null,"人",null,{"$f":"データ一覧!H408","v":63223},null,null,{"$f":"データ一覧!H409","v":0},null,null,null,null,{"$f":"データ一覧!H410","v":0},null,null,null,{"$f":"データ一覧!H411","v":0},null,null,null,{"$f":"データ一覧!H412","v":55989},null,null,null,"  ","大学・短期大学",null,null,null,null,null,null,null,null,{"$f":"データ一覧!H607","v":2},null,null,{"$f":"データ一覧!H608","v":0},null,null,{"$f":"データ一覧!H609","v":43},null,null,null,{"$f":"データ一覧!H610","v":34},null,null,null,{"$f":"データ一覧!H611","v":357},null,null,null,{"$f":"データ一覧!H612","v":123},null,null,null,{"$f":"データ一覧!H613","v":234}]
[null,null,null,null,null,null,null,null,null,null,null,null,null,null,null,null,null,null,null,null,null,null,null,null,null,"無動力船隻数",null,null,null,"船外機付漁船隻数",null,null,null,"隻　数",null,null,"総 ト ン 数",null,null,null,null,null,null,null,null,null,null,null,null,null,null,null,null,null,null,null,null,null,null,null,null,null,null,null,null,null,null,"  ","高等専門学校",null,null,null,null,null,null,null,null,{"$f":"データ一覧!H614","v":0},null,null,{"$f":"データ一覧!H615","v":0},null,null,{"$f":"データ一覧!H616","v":0},null,null,null,{"$f":"データ一覧!H617","v":0},null,null,null,{"$f":"データ一覧!H618","v":0},null,null,null,{"$f":"データ一覧!H619","v":0},null,null,null,{"$f":"データ一覧!H620","v":0}]
[null,null,null,null,null,null,null,"    総　　　　　数",null,null,null,null,null,"    民　　　　　営",null,null,null,null,null,"  国 ･ 地方公共団体",null,null,null,null,null,null,null,null,"隻",null,null,null,"隻",null,null,"隻",null,null,"t"," １２  交   通　・　通   信",null,null,null,null,null,null,null,null,null,null,null,null,null,null,null,null,null,null,null,null,null,null,null,null,null,null,null,"  ","特別支援学校",null,null,null,null,null,null,null,null,{"$f":"データ一覧!H622","v":0},null,null,{"$f":"データ一覧!H623","v":0},null,null,{"$f":"+データ一覧!H624","v":0},null,null,null,{"$f":"+データ一覧!H625","v":0},null,null,null,{"$f":"+データ一覧!H626","v":0},null,null,null,{"$f":"+データ一覧!H627","v":0},null,null,null,{"$f":"+データ一覧!H628","v":0}]
["  　区　　　　　　分",null,null,null,null,null,null," 事業所数",null,null," 従業者数",null,null," 事業所数",null,null," 従業者数",null,null," 事業所数",null,null," 従業者数",null,null,{"$f":"データ一覧!$H$282","v":0},null,null,null,{"$f":"データ一覧!$H$283","v":67},null,null,null,{"$f":"データ一覧!H284","v":136},null,null,{"$f":"データ一覧!H285","v":670.19},null,null,null,null,null,null,null,null,null,null,null,null,null,null,null,null,null,null,null,null,null,null,null,null,null,null,null,null,null,null,"  ","幼稚園",null,null,null,null,null,null,null,null,{"$f":"データ一覧!H630","v":4},null,null,{"$f":"データ一覧!H631","v":0},null,null,{"$f":"データ一覧!H632","v":23},null,null,null,{"$f":"データ一覧!H633","v":13},null,null,null,{"$f":"データ一覧!$H$634","v":157},null,null,null,{"$f":"データ一覧!H635","v":81},null,null,null,{"$f":"データ一覧!H636","v":76}]
[null,null,null,null,null,null,null,null,null,null,"       人",null,null,null,null,null,"       人",null,null,null,null,null,"       人",null,null,"  男女別就業者数",null,null,null,null,null,null,null,{"$f":"データ一覧!$A$286","v":"30.11.1"},null,null,null,null,null,"道     路",null,null,null,"実 延 長",null,null,null,"国     道",null,null,null,"県     道",null,null,null,"市町道",null,null,null," 鉄 道 営 業 キ ロ 数",null,null,null,null,null,null,null,"  ","幼保連携認定こども園",null,null,null,null,null,null,null,null,{"$f":"データ一覧!H638","v":3},null,null,{"$f":"データ一覧!H639","v":0},null,null,{"$f":"データ一覧!H640","v":58},null,null,null,{"$f":"データ一覧!H641","v":22},null,null,null,{"$f":"データ一覧!H642","v":550},null,null,null,{"$f":"データ一覧!H643","v":278},null,null,null,{"$f":"データ一覧!H644","v":272}]
["総数",null,null,null,null,null,null,{"$f":"データ一覧!H99","v":"…"},null,null,{"$f":"データ一覧!H156","v":"…"},null,null,{"$f":"データ一覧!H100","v":3335},null,null,{"$f":"データ一覧!H157","v":31828},null,null,{"$f":"データ一覧!H101","v":"…"},null,null,{"$f":"データ一覧!H158","v":"…"},null,null,"総　　数",null,null,null,null,null,"男",null,null,null,"女",null,null,null,{"$f":"データ一覧!$A$413","v":"2.4.1"},null,null,null,{"$f":"データ一覧!H413","v":517.5},null,null,"㎞",{"$f":"データ一覧!H414","v":12.2},null,null,"㎞",{"$f":"データ一覧!H415","v":71.599999999999994},null,null,"㎞",{"$f":"データ一覧!H416","v":433.7},null,null,"km",{"$f":"データ一覧!$A$417","v":"3.4.1"},null,null,null,{"$f":"データ一覧!H417","v":30.245999999999999},null,null,"㎞","  ","各種学校",null,null,null,null,null,null,null,null,{"$f":"データ一覧!H646","v":3},null,null,{"$f":"データ一覧!H647","v":0},null,null,{"$f":"データ一覧!H648","v":35},null,null,null,{"$f":"データ一覧!H649","v":"-"},null,null,null,{"$f":"データ一覧!H650","v":245},null,null,null,{"$f":"データ一覧!H651","v":146},null,null,null,{"$f":"データ一覧!H652","v":99}]
["農林漁業",null,null,null,null,null,null,{"$f":"データ一覧!H102","v":"…"},null,null,{"$f":"データ一覧!H159","v":"…"},null,null,{"$f":"データ一覧!H103","v":4},null,null,{"$f":"データ一覧!H160","v":77},null,null,{"$f":"データ一覧!H104","v":"…"},null,null,{"$f":"データ一覧!H161","v":"…"},null,null,null,null,null,null,null,"人",null,null,"　　　　人",null,null,null,null,"  人","自動車",null,null,null,null,null,null,null,null,"乗用車",null,null,null,null,null,null,null,null,null,null,null,null,null,null,null,null,null,null,"  ","専修学校",null,null,null,null,null,null,null,null,{"$f":"データ一覧!H654","v":0},null,null,{"$f":"データ一覧!H655","v":0},null,null,{"$f":"データ一覧!H656","v":0},null,null,null,{"$f":"データ一覧!H657","v":0},null,null,null,{"$f":"データ一覧!H658","v":0},null,null,null,{"$f":"データ一覧!H659","v":0},null,null,null,{"$f":"データ一覧!H660","v":0}]
["鉱業",null,null,null,null,null,null,{"$f":"データ一覧!H105","v":"…"},null,null,{"$f":"データ一覧!H162","v":"…"},null,null,{"$f":"データ一覧!H106","v":0},null,null,{"$f":"データ一覧!H163","v":0},null,null,{"$f":"データ一覧!H107","v":"…"},null,null,{"$f":"データ一覧!H164","v":"…"},null,null,{"$f":"AF58+AJ58","v":134},null,null,null,null,null,{"$f":"データ一覧!$H$287","v":121},null,null,null,{"$f":"データ一覧!H288","v":13},null,null,null,"台  数",null,null,null,"貨    物",null,null,null,"普     通",null,null,null,"小     型",null,null,null,"乗  合",null,null,"特  種",null,null,"小型二輪",null,null,"軽自動車",null,null," １８  衛　　　　　　　生"]
["建設業",null,null,null,null,null,null,{"$f":"データ一覧!H108","v":"…"},null,null,{"$f":"データ一覧!H165","v":"…"},null,null,{"$f":"データ一覧!H109","v":463},null,null,{"$f":"データ一覧!H166","v":3911},null,null,{"$f":"データ一覧!H110","v":"…"},null,null,{"$f":"データ一覧!H167","v":"…"},null,null,"　　　　海 面 漁 業 漁 獲 量 （属人）",null,null,null,null,null,null,null,{"$f":"データ一覧!$A$289","v":"30年中"},null,null,null,null,null,{"$f":"データ一覧!$A$418","v":"3.3.31"},null,null,null,null,{"$f":"データ一覧!H418","v":4644},null,null,null,{"$f":"データ一覧!H420","v":12116},null,null,null,{"$f":"データ一覧!H421","v":11291},null,null,{"$f":"データ一覧!H419","v":197},null,null,{"$f":"データ一覧!H422","v":1531},null,null,{"$f":"データ一覧!H423","v":921},null,null,{"$f":"データ一覧!H424","v":24937}]
["製造業",null,null,null,null,null,null,{"$f":"データ一覧!H111","v":"…"},null,null,{"$f":"データ一覧!H168","v":"…"},null,null,{"$f":"データ一覧!H112","v":170},null,null,{"$f":"データ一覧!H169","v":3953},null,null,{"$f":"データ一覧!H113","v":"…"},null,null,{"$f":"データ一覧!H170","v":"…"},null,null,null,null,null,null,null,"       ","ｔ",null,null,null,null,null,null,"t",null,null,"     ",null,"郵　便　局　数",null,null,null,null,null,null,null,null,null,null,null,null,null,{"$f":"+MID(データ一覧!$A$428,3,2)","v":"12"},"令","一般加入",null,null,null,"ＩＮＳネット",null,null,null,null,null,null,null,"医療関係施設",null,null,null,null,null,{"$f":"データ一覧!$A$661","v":"元.10.1"},null,null,null,null,null,null,"および医療関係者数",null,null,null,null,null,null,null,{"$f":"データ一覧!$A$666","v":"30.12.31"}]
["電気・ｶﾞ ｽ・熱供給・水道業",null,null,null,null,null,null,{"$f":"データ一覧!H114","v":"…"},null,null,{"$f":"データ一覧!H171","v":"…"},null,null,{"$f":"データ一覧!H115","v":9},null,null,{"$f":"データ一覧!H172","v":524},null,null,{"$f":"データ一覧!H116","v":"…"},null,null,{"$f":"データ一覧!H173","v":"…"},null,null,"   総　　　　　　数",null,null,null,{"$f":"データ一覧!H289","v":503},null,null,"   藻　　　　　　類",null,null,null,{"$f":"データ一覧!H292","v":2},null,null,"通  信",null,null,null," 総     数",null,null,null,null," 郵 便 局",null,null,null,null," 簡 易 局",null,null,null,"・",{"$f":"+LEFT(データ一覧!$A$428,1)","v":"2"},"電話数",null,null,null,"加入数",null,null,null,null,null,null,null,null,null,"　","病",null,null,"院",null,"　",null,null,null,null," ","一般診療所",null,null,null,null,null,null,null,null,null,null,null,"歯科診療所"]
["情報通信業",null,null,null,null,null,null,{"$f":"データ一覧!H117","v":"…"},null,null,{"$f":"データ一覧!H174","v":"…"},null,null,{"$f":"データ一覧!H118","v":24},null,null,{"$f":"データ一覧!H175","v":216},null,null,{"$f":"データ一覧!H119","v":"…"},null,null,{"$f":"データ一覧!H176","v":"…"},null,null,"   魚　　　　　　類",null,null,null,{"$f":"データ一覧!H290","v":420},null,null,"   そ　   の　　 他",null,null,null,{"$f":"データ一覧!H293","v":71},null,null,{"$f":"データ一覧!$A$428","v":"2.12.31"},null,null,null,{"$f":"データ一覧!H425","v":12},null,null,null,null,{"$f":"データ一覧!H426","v":11},null,null,null,null,{"$f":"データ一覧!H427","v":1},null,null,null,{"$f":"+RIGHT(データ一覧!$A$428,2)","v":"31"},"・",{"$f":"データ一覧!H428","v":6832},null,null,null,{"$f":"データ一覧!H429","v":1227},null,null,null," ","医療関係",null,null,null,null,null,null,null,null,null,null,null,"一般病院",null,null,null,null,null,null,null,null,null,null,null,"有",null,null,"床"]
["運輸業、郵便業",null,null,null,null,null,null,{"$f":"データ一覧!H120","v":"…"},null,null,{"$f":"データ一覧!H177","v":"…"},null,null,{"$f":"データ一覧!H121","v":92},null,null,{"$f":"データ一覧!H178","v":2182},null,null,{"$f":"データ一覧!H122","v":"…"},null,null,{"$f":"データ一覧!H179","v":"…"},null,null,"   貝　　　　　　類",null,null,null,{"$f":"データ一覧!H291","v":10},null,null,null,null,null,null,null,null,null,null,null,null,null,null,null,null,null,null,null,null,null,null,null,null,null,null,null,null,null,null,null,null,null,null,null,null,null,null,"施設数",null,null,null,null,null,null,{"$f":"データ一覧!H661","v":5},null,null,null,null,null,{"$f":"データ一覧!H662","v":3},null,null,null,null,null,{"$f":"データ一覧!H663","v":47},null,null,null,null,null,{"$f":"データ一覧!H664","v":3},null,null,null,null,null,{"$f":"データ一覧!H665","v":23}]
["卸売業、小売業",null,null,null,null,null,null,{"$f":"データ一覧!H123","v":"…"},null,null,{"$f":"データ一覧!H180","v":"…"},null,null,{"$f":"データ一覧!H124","v":875},null,null,{"$f":"データ一覧!H181","v":6007},null,null,{"$f":"データ一覧!H125","v":"…"},null,null,{"$f":"データ一覧!H182","v":"…"},null,null,null,null,null,null,null,null,null,null,null,null,null,null,null,null," １３  税　　・　　財　　政",null,null,null,null,null,null,null,null,null,null,null,null,null,null,null,null,null,null,null,null,null,null,null,null,null,null,null,null,null,null,null,null,null,null,"医師",null,null,null,null,"歯科医師",null,null,null,null,"薬剤師",null,null,null,null,"保健師",null,null,null,null,"助産師",null,null," ",null,"看護師",null,null," "]
["金融業、保険業",null,null,null,null,null,null,{"$f":"データ一覧!H126","v":"…"},null,null,{"$f":"データ一覧!H183","v":"…"},null,null,{"$f":"データ一覧!H127","v":56},null,null,{"$f":"データ一覧!H184","v":639},null,null,{"$f":"データ一覧!H128","v":"…"},null,null,{"$f":"データ一覧!H185","v":"…"},null,null,"  ７  商        　　　業 ",null,null,null,null,null,null,{"$f":"データ一覧!$A$294","v":"28.6.1(平成27年実績）"},null,null,null,null,null,null,null,null,null,null,null,null,null,null,null,null,null,null,null,null,null,null,null,null,null,null,null,null,null,null,null,null,null,null," ","医療",null,null,null,null,null,null,null,null,"人",null,null,null,null,"人",null,null,null,null,"人",null,null,null,null,"人",null,null,null,null,"人",null,null,null,null,"人"]
["不動産業、物品賃貸業",null,null,null,null,null,null,{"$f":"データ一覧!H129","v":"…"},null,null,{"$f":"データ一覧!H186","v":"…"},null,null,{"$f":"データ一覧!H130","v":107},null,null,{"$f":"データ一覧!H187","v":538},null,null,{"$f":"データ一覧!H131","v":"…"},null,null,{"$f":"データ一覧!H188","v":"…"},null,null,null,null,null,null,null,null,null,null,null,null,null,null,null,null,"           ",null,null,null,"歳入",null,null,null,null,null,null,null,null,"(千円）"," ",null,null,null,"歳出",null,null,null,null,null,null,null,null,"(千円）",null,"関係者",null,null,null,null,{"$f":"データ一覧!H666","v":126},null,null,null,null,{"$f":"データ一覧!H667","v":35},null,null,null,null,{"$f":"データ一覧!H668","v":130},null,null,null,null,{"$f":"データ一覧!H669","v":54},null,null,null,null,{"$f":"データ一覧!H670","v":37},null,null,null,null,{"$f":"データ一覧!H671","v":1033}]
["学術研究、専門・技術ｻｰﾋﾞｽ業",null,null,null,null,null,null,{"$f":"データ一覧!H132","v":"…"},null,null,{"$f":"データ一覧!H189","v":"…"},null,null,{"$f":"データ一覧!H133","v":136},null,null,{"$f":"データ一覧!H190","v":1765},null,null,{"$f":"データ一覧!H134","v":"…"},null,null,{"$f":"データ一覧!H191","v":"…"},null,null,"  産   業　 分　 類",null,null,null,"  商　 店 　数",null,null," 従　業　者　数",null,null,"年　間　販　売　額",null,null,null,"一人当たり歳入歳出予算決算額",null,null,null,null,null,null,null,null,null,null,null,null,null,null,null,null,null,null,null,null,null,null,null,null,null,null,null,"                   ",null,null,null,null,null,null,null,null,"死因別死亡数　　　　　　    ",null,null,null,null,null,null,null,null,null,null,null,null,null,null,null,{"$f":"データ一覧!$A$672","v":"2年中"},null,null,null,null,null,null,null,null,"      単 位：人"]
["宿泊業、飲食サービス業",null,null,null,null,null,null,{"$f":"データ一覧!H135","v":"…"},null,null,{"$f":"データ一覧!H192","v":"…"},null,null,{"$f":"データ一覧!H136","v":569},null,null,{"$f":"データ一覧!H193","v":3423},null,null,{"$f":"データ一覧!H137","v":"…"},null,null,{"$f":"データ一覧!H194","v":"…"},null,null,null,null,null,null,null,"        店",null,null,null,"　人",null,"         百万円",null,null,"区分",null,null,null,{"$f":"データ一覧!$A$438","v":"3年度"},null,null,null,null,{"$f":"データ一覧!$A$452","v":"2年度"},null,null,null,null,"区分",null,null,null,{"$f":"+AR68","v":"3年度"},null,null,null,null,{"$f":"データ一覧!$A$452","v":"2年度"},null,null,null,null," 死     因",null,null,null,null,null,null,null,null,null,null,null,"悪  性",null,null,"高血圧",null,null,null,null,null,"脳血管",null,null,null,null,null," ",null,null,"不慮の事故"]
["生活関連サービス業、娯楽業",null,null,null,null,null,null,{"$f":"データ一覧!H138","v":"…"},null,null,{"$f":"データ一覧!H195","v":"…"},null,null,{"$f":"データ一覧!H139","v":275},null,null,{"$f":"データ一覧!H196","v":1224},null,null,{"$f":"データ一覧!H140","v":"…"},null,null,{"$f":"データ一覧!H197","v":"…"},null,null,"総　　　　　　計",null,null,null,{"$f":"データ一覧!$H$294","v":735},null,null,{"$f":"データ一覧!H303","v":5066},null,null,{"$f":"データ一覧!H312","v":156769},null,null,null,null,null,null,null,{"$f":"データ一覧!H434","v":515341.73555017752},null,null,null,null,{"$f":"データ一覧!H435","v":736862.08730195975},null,null,null,null,null,null,null,null,{"$f":"データ一覧!H436","v":515341.73555017752},null,null,null,null,{"$f":"データ一覧!H437","v":697974.39747259102},null,null,null,null,null,null,null,null,null,"全 死 因",null,null,null,"結 核",null,null,"新生物",null,null,"性疾患",null,null,"心疾患",null,null,"疾  患",null,null,"肺  炎",null,null,"老  衰",null,null,null,null," ","交通事故"]
["教育、学習支援業",null,null,null,null,null,null,{"$f":"データ一覧!H141","v":"…"},null,null,{"$f":"データ一覧!H198","v":"…"},null,null,{"$f":"データ一覧!H142","v":70},null,null,{"$f":"データ一覧!H199","v":509},null,null,{"$f":"データ一覧!H143","v":"…"},null,null,{"$f":"データ一覧!H200","v":"…"},null,null,"卸売業",null,null,null,{"$f":"データ一覧!H295","v":152},null,null,{"$f":"データ一覧!H304","v":1148},null,null,{"$f":"データ一覧!H313","v":75791},null,null,null,"項目別歳入歳出予算決算額"]
["医療、福祉",null,null,null,null,null,null,{"$f":"データ一覧!H144","v":"…"},null,null,{"$f":"データ一覧!H201","v":"…"},null,null,{"$f":"データ一覧!H145","v":201},null,null,{"$f":"データ一覧!H202","v":3682},null,null,{"$f":"データ一覧!H146","v":"…"},null,null,{"$f":"データ一覧!H203","v":"…"},null,null,"小売業",null,null,null,{"$f":"データ一覧!H296","v":583},null,null,{"$f":"データ一覧!H305","v":3918},null,null,{"$f":"データ一覧!H314","v":80978},null,null,null,"区分",null,null,null,{"$f":"データ一覧!$A$438","v":"3年度"},null,null,null,null,{"$f":"データ一覧!$A$452","v":"2年度"},null,null,null,null,"区分",null,null,null,{"$f":"+AR71","v":"3年度"},null,null,null,null,{"$f":"データ一覧!$A$452","v":"2年度"},null,null,null,null,null,null,null,null,null,{"$f":"データ一覧!H672","v":763},null,null,null,"   －",{"$f":"データ一覧!H673","v":1},null,{"$f":"データ一覧!H674","v":42},null,null,null,{"$f":"データ一覧!H675","v":5},null,{"$f":"データ一覧!H676","v":18},null,null,{"$f":"データ一覧!H677","v":0},null,null,{"$f":"データ一覧!H678","v":26},null,null,{"$f":"データ一覧!H679","v":105},null,null,{"$f":"データ一覧!H680","v":21},null,null,{"$f":"データ一覧!H681","v":3}]
["複合サービス事業",null,null,null,null,null,null,{"$f":"データ一覧!H147","v":"…"},null,null,{"$f":"データ一覧!H204","v":"…"},null,null,{"$f":"データ一覧!H148","v":17},null,null,{"$f":"データ一覧!H205","v":381},null,null,{"$f":"データ一覧!H149","v":"…"},null,null,{"$f":"データ一覧!H206","v":"…"},null,null,"各種商品",null,null,null,{"$f":"データ一覧!H297","v":3},null,null,{"$f":"データ一覧!H306","v":342},null,null,{"$f":"データ一覧!H315","v":7877},null,null,null,"総額",null,null,null,{"$f":"SUM(AR73:AV85)","v":32793256},null,null,null,null,{"$f":"SUM(AW73:BA85)","v":47006846},null,null,null,null,"総額",null,null,null,{"$f":"SUM(BF73:BJ85)","v":32793256},null,null,null,null,{"$f":"SUM(BK73:BO85)","v":44627785},null,null,null,null," １９  警　察　・　消　防  ",null,null,null,null,null,null,null,null,null,null,null,null,null,null,{"$f":"+データ一覧!$A682","v":"3.4.1"}]
["サービス業",null,null,null,null,null,null,{"$f":"データ一覧!H150","v":"…"},null,null,{"$f":"データ一覧!H207","v":"…"},null,null,{"$f":"データ一覧!H151","v":267},null,null,{"$f":"データ一覧!H208","v":2797},null,null,{"$f":"データ一覧!H152","v":"…"},null,null,{"$f":"データ一覧!H209","v":"…"},null,null,"織物・衣服・身の回り品",null,null,null,{"$f":"データ一覧!H298","v":90},null,null,{"$f":"データ一覧!H307","v":294},null,null,{"$f":"データ一覧!H316","v":3627},null,null,null,"地方税",null,null,null,{"$f":"データ一覧!H439","v":12187646},null,null,null,null,{"$f":"データ一覧!H453","v":13199993},null,null,null,null,"議会費",null,null,null,{"$f":"データ一覧!H467","v":289361},null,null,null,null,{"$f":"データ一覧!H481","v":271179}]
["公務",null,null,null,null,null,null,{"$f":"データ一覧!H153","v":"…"},null,null,{"$f":"データ一覧!H210","v":"…"},null,null,{"$f":"データ一覧!H154","v":"…"},null,null,{"$f":"データ一覧!H211","v":"…"},null,null,{"$f":"データ一覧!H155","v":"…"},null,null,{"$f":"データ一覧!H212","v":"…"},null,null,"飲食料品",null,null,null,{"$f":"データ一覧!H299","v":180},null,null,{"$f":"データ一覧!H308","v":1425},null,null,{"$f":"データ一覧!H317","v":23405},null,null,null,"地方譲与税",null,null,null,{"$f":"データ一覧!H440","v":216677},null,null,null,null,{"$f":"データ一覧!H454","v":227810},null,null,null,null,"総務費",null,null,null,{"$f":"データ一覧!H468","v":5389304},null,null,null,null,{"$f":"データ一覧!H482","v":14703462},null,null,null,null,null,null,null,null,null,null,null,null,null,null,"交番・駐在所",null,null,null,null,null,null,null,null,"刑法犯認知件数",null,null,null,null,null,null,null,null,"交通人身事故発生件数"]
["  ４  農        　　　業 ",null,null,null,null,null,null,null,null,null,null,null,null,null,null,null,null,null,null,null,null,null,null,null,null,"機械器具",null,null,null,{"$f":"データ一覧!H300","v":91},null,null,{"$f":"データ一覧!H309","v":652},null,null,{"$f":"データ一覧!H318","v":19293},null,null,null,"各種交付金",null,null,null,{"$f":"データ一覧!H441","v":1658000},null,null,null,null,{"$f":"データ一覧!H455","v":1579113},null,null,null,null,"民生費",null,null,null,{"$f":"データ一覧!H469","v":10163031},null,null,null,null,{"$f":"データ一覧!H483","v":10099700},null,null,null,null,null,"警察署数",null,null,null,null,null,null,null,null,"検問所数",null,null,null,null,null,null,null,null,null,{"$f":"データ一覧!$A$684","v":"2年中"},null,null,null,null,null,null,null,null,{"$f":"データ一覧!$A$684","v":"2年中"}]
[null,null,null,null,null,null,null,null,null,null,null,null,null,null,null,null,null,null,null,null,null,null,null,null,null,"その他",null,null,null,{"$f":"データ一覧!H301","v":205},null,null,{"$f":"データ一覧!H310","v":1120},null,null,{"$f":"データ一覧!H319","v":22895},null,null,null,"地方特例交付金",null,null,null,{"$f":"データ一覧!H442","v":465000},null,null,null,null,{"$f":"データ一覧!H456","v":70462},null,null,null,null,"衛生費",null,null,null,{"$f":"データ一覧!H470","v":3122221},null,null,null,null,{"$f":"データ一覧!H484","v":2941911},null,null,null,null,null,null,null,null,null,null,null,null,null,null,null,null,null,null,null,null,null,null,null,null,null,null,null,null," 件",null,null,null,null,null,null,null,null,"　件"]
[null,null,"農業経営体数",null,null,null,null,null,null,"農産物販売額規模別経営体数",null,null,null,null,null,null,null,"経営耕地面積規模別経営体数",null,null,null,null,null,null,null,"無店舗",null,null,null,{"$f":"データ一覧!H302","v":14},null,null,{"$f":"データ一覧!H311","v":85},null,null,{"$f":"データ一覧!H320","v":3881},null,null,null,"地方交付税",null,null,null,{"$f":"データ一覧!H443","v":1350000},null,null,null,null,{"$f":"データ一覧!H457","v":1456323},null,null,null,null,"労働費",null,null,null,{"$f":"データ一覧!H471","v":138427},null,null,null,null,{"$f":"データ一覧!H485","v":140743},null,null,null,null,null,null,{"$f":"データ一覧!H682","v":1},null,null,null,null,null,null,null,null,{"$f":"データ一覧!H683","v":8},null,null,null,null,null,null,null,null,{"$f":"データ一覧!H684","v":292},null,null,null,null,null,null,null,null,{"$f":"データ一覧!H685","v":85}]
["農",null,"区　分",null,null,null,"経営体数\n（経営体）",null,null,"区　分",null,null,null,null,"経営体数\n（経営体）",null,null,"区　分",null,null,null,null,"経営体数\n（経営体）",null,null,null,null,null,null,null,null,null,null,null,null,null,null,null,null,"分担金および負担金",null,null,null,{"$f":"データ一覧!H444","v":1094889},null,null,null,null,{"$f":"データ一覧!H458","v":541058},null,null,null,null,"農林水産業費",null,null,null,{"$f":"データ一覧!H472","v":488691},null,null,null,null,{"$f":"データ一覧!H486","v":409370},null,null,null,null,"火災発生件数",null,null,null,null,null,null,null,null,null,"林野焼損",null,null,null,null,"損      害",null,null,null,null,"消 防 自",null,null,null,"その他の",null,null,null," ",null,null,null,null," "]
["業","令",null,null,null,null,null,null,null,null,null,null,null,null,null,null,null,null,null,null,null,null,null,null,null,"  ８  住　　　　　　 　宅",null,null,null,null,null,null,null,null,null,null,null,null,null,"使用料および手数料",null,null,null,{"$f":"データ一覧!H445","v":555974},null,null,null,null,{"$f":"データ一覧!H459","v":487304},null,null,null,null,"商工費",null,null,null,{"$f":"データ一覧!H473","v":1369642},null,null,null,null,{"$f":"データ一覧!H487","v":2737843},null,null,null,null,{"$f":"+データ一覧!$A$686","v":"2年中"},null,null,null,null,"焼損棟数",null,null,null,null,"面    積",null,null,null,null,"見  積  額",null,null,null,null,"動 車 数",null,null,null,"ﾎﾟﾝﾌﾟ数",null,null,null," 消防吏員",null,null,null," 消防団員"]
["経",{"$f":"+LEFT(データ一覧!$A$213)","v":"2"},"計",null,null,null,{"$f":"データ一覧!H213","v":356},null,null,"総　　　 数",null,null,null,null,{"$f":"データ一覧!H217","v":356},null,null,"総　　　 数",null,null,null,null,{"$f":"データ一覧!H233","v":418},null,null,null,null,null,null,null,null,null,null,null,null,null,null,null,null,"国庫支出金",null,null,null,{"$f":"データ一覧!H446","v":5000860},null,null,null,null,{"$f":"データ一覧!H460","v":14343330},null,null,null,null,"土木費",null,null,null,{"$f":"データ一覧!H474","v":5015132},null,null,null,null,{"$f":"データ一覧!H488","v":3588417},null,null,null,null,"         件",null,null,null,null,null,"      棟",null,null,null,null,null,null,"  ａ",null,null,null,"  千円",null,null,"        ",null,null,null,null,null,null,null,null,null,"  人",null,null,null,"  人"]
["営","・","個人経営体",null,null,null,{"$f":"データ一覧!H214","v":351},null,null,"販 売 な し",null,null,null,null,{"$f":"データ一覧!H218","v":41},null,null,"0.5 ha 未満",null,null,null,null,{"$f":"データ一覧!H234","v":42},null,null,{"$f":"+データ一覧!$A$321","v":"令和元年"},null,null,null,null,{"$f":"データ一覧!$A$324","v":"2年"},"中の増減",null,null,null,{"$f":"+データ一覧!$A$324","v":"2年"},null,null,null,"県支出金",null,null,null,{"$f":"データ一覧!H447","v":2698566},null,null,null,null,{"$f":"データ一覧!H461","v":2636787},null,null,null,null,"消防費",null,null,null,{"$f":"データ一覧!H475","v":1105886},null,null,null,null,{"$f":"データ一覧!H489","v":1124437},null,null,null,null,null,{"$f":"データ一覧!H686","v":14},null,null,null,null,{"$f":"データ一覧!H687","v":12},null,null,null,null,{"$f":"データ一覧!H688","v":0},null,null,null,{"$f":"データ一覧!H689","v":38078},null,null,null,null,null,{"$f":"データ一覧!H690","v":21},null,null,null,{"$f":"データ一覧!H691","v":13},null,null,null,{"$f":"データ一覧!H692","v":111},null,null,null,{"$f":"データ一覧!H693","v":279}]
["体",{"$f":"+LEFT(データ一覧!$A$213,1)","v":"2"},"団体経営体",null,null,null,{"$f":"データ一覧!H215","v":5},null,null,"50万円未満",null,null,null,null,{"$f":"データ一覧!H219","v":177},null,null,"0.5 ha ～ 1.0 ha",null,null,null,null,{"$f":"データ一覧!H235","v":94},null,null,null,null,null,null,"建設した住宅",null,null,"消失した住宅",null,null,null,null,null,null,"財産収入",null,null,null,{"$f":"データ一覧!H448","v":39032},null,null,null,null,{"$f":"データ一覧!H462","v":76433},null,null,null,null,"教育費",null,null,null,{"$f":"データ一覧!H476","v":3622511},null,null,null,null,{"$f":"データ一覧!H490","v":6667470},null,null,null,null," ２０  そ　　　の　　　他　"]
["数","・",null,"法人経営",null,null,{"$f":"データ一覧!H216","v":2},null,null,"50～300万円",null,null,null,null,{"$f":"データ一覧!H220","v":112},null,null,"1.0 ha ～ 2.0 ha",null,null,null,null,{"$f":"データ一覧!H236","v":89},null,null,null,null,null,null,null,null,null,null,null,null,null,null,null,null,"繰入金",null,null,null,{"$f":"データ一覧!H449","v":1352213},null,null,null,null,{"$f":"データ一覧!H463","v":1457720},null,null,null,null,"災害復旧費",null,null,null,{"$f":"データ一覧!H477","v":4000},null,null,null,null,{"$f":"データ一覧!H491","v":1235}]
["（",{"$f":"+RIGHT(データ一覧!$A$213)","v":"1"},null,null,null,null,null,null,null,"300～500万円",null,null,null,null,{"$f":"データ一覧!H221","v":11},null,null,"2.0 ha ～ 3.0 ha",null,null,null,null,{"$f":"データ一覧!H237","v":31},null,null,null,{"$f":"データ一覧!H321","v":25098},null,"戸",{"$f":"データ一覧!H322","v":387},null,"戸",{"$f":"データ一覧!H323","v":265},null,"戸",null,{"$f":"データ一覧!H324","v":25220},null,"戸","地方債",null,null,null,{"$f":"データ一覧!H450","v":3284400},null,null,null,null,{"$f":"データ一覧!H464","v":4592700},null,null,null,null,"公債費",null,null,null,{"$f":"データ一覧!H478","v":2065050},null,null,null,null,{"$f":"データ一覧!H492","v":1942018},null,null,null,null,null,null,null,null,null,"気比の松原、柴田氏庭園、西福寺書院庭園、西福寺御影堂・阿弥陀堂・書院及び庫裏、金ヶ崎城跡、武田耕雲斎等墓、氣比神宮大鳥居、朝鮮鐘、疋壇城跡、穴地蔵古墳、立洞古墳、中郷古墳群、洲崎の高燈籠、玄蕃尾城跡、旧大和田銀行本店本館、旧紐育スタンダード石油会社倉庫（赤レンガ倉庫）、旧敦賀倉庫株式会社新港第一号・第二号・第三号倉庫"]
["総",null,null,null,null,null,null,null,null,"500～1,000万円",null,null,null,null,{"$f":"データ一覧!H222","v":9},null,null,"3.0 ha ～ 5.0 ha",null,null,null,null,{"$f":"データ一覧!H238","v":52},null,null,null,null,null,null,null,null,null,null,null,null,null,null,null,null,"その他",null,null,null,{"$f":"データ一覧!H451","v":2889999},null,null,null,null,{"$f":"データ一覧!H465","v":6337813},null,null,null,null,"その他",null,null,null,{"$f":"データ一覧!H479","v":20000},null,null,null,null,{"$f":"データ一覧!H493","v":0},null,null,null,null,"　名所・旧跡"]
["数",null,null,null,null,null,null,null,null,"1,000万円以上",null,null,null,null,{"$f":"データ一覧!H223","v":6},null,null,"5.0 ha以上",null,null,null,null,{"$f":"データ一覧!H239","v":110},null,null,null,null,null,null,null,null,null,null,null,null,null,null,null,null,null,null,null,null,null,null,null,null,null,null,null,null,null,null,null,null,null,null,null,null,null,null,null,null,null,null,null,null,"  文化財等"]
["）",null,"15歳以上の常雇い数",null,null,null,null,null,null,"農業に60日以上従事した世帯員、役員・構成員\n（経営主を含む）の平均年齢",null,null,null,null,null,null,null,null,null,null,null,null,null,null,null,"  ９  議　 員　・　職 　員",null,null,null,null,null,null,null,null,null,null,null,null,null," １４  文　　　　　　化",null,null,null,null,null,null,null,null,null," ( ",{"$f":"データ一覧!$A$500","v":"3.3.31"},null,null,null,"ただし図書館・公民館・児童館",null,null,null,null,null,null,null,{"$f":"データ一覧!$A$494","v":"3.4.1"}]
["と",null,null,null,null,null,null,null,null,null,null,null,null,null,null,null,null,null,null,null,null,null,null,null,null,null,null,null,null,null,null,null,null,null,null,null,null,null,null,null,null,null,null,null,null,null,null,null,null,null,null,null,null,null,null,"　宗教法人数 ",null,null,null,null,null,null,{"$f":"データ一覧!$A$502","v":"2.12.31"},null,null,null,"）"]
["就",null,null,null,null,null,null,null,null,"農業に60日以上従事",null,null,null,null,null,null,null,"農業に150日以上従事",null,null,null,null,null,null,null," 市 町 村 議 会",null,null,"有権者数",null,{"$f":"データ一覧!$A$328","v":"3.9.1"},null,"市 町 村 議 会",null,null,"  職      員      数",null,null,null,null,null,null,null,null,"図書館",null,null,null,null,null,"公　民　館",null,null,null,null,null,null,null,null,null,null," 社会教育学級講座",null,null,null,null,null,"　　特産物",null,null,null,null,"昆布加工品、かまぼこ、越前かに、敦賀ふぐ、敦賀真鯛、杉箸アカカンバ、古田苅かぶら、黒河マナ、東浦みかん、豆らくがん、かたパン、敦賀ラーメン、ソースカツ丼"]
["業",null,"区　分",null,null,null,"人",null,null,"区　分",null,null,null,null,"人",null,null,"区　分",null,null,null,null,"人",null,null," 議  員  定  数",null,null,"    男",null,"    女",null,"選 挙 投 票 率",null,null," 総     数",null,"一般行政職",null,"公    共",null,null,null," 館  数",null,null," 図書数",null,null," 本  館",null,null," 分  館",null,null," 公  園",null,null," 児童館",null,null,"学級講座数",null,null,"受講者数"]
["状",null,"総数",null,null,null,{"$f":"データ一覧!H230","v":8},null,null,"総数",null,null,null,null,{"$f":"データ一覧!H224","v":69.2},null,null,"総数",null,null,null,null,{"$f":"データ一覧!H227","v":69.599999999999994},null,null,null,null,"人",null,"人",null,"人",null,null,"　％",null,"人",null,"人","施 設 数",null,null,null,null,{"$f":"データ一覧!H494","v":1},null,{"$f":"データ一覧!H495","v":270021},null,null,null,{"$f":"データ一覧!H496","v":9},null,{"$f":"データ一覧!H497","v":0},null,null,{"$f":"データ一覧!H498","v":40},null,null,{"$f":"データ一覧!H499","v":3},null,null,{"$f":"データ一覧!H500","v":268},null,null,{"$f":"データ一覧!H501","v":3984},null,null," 　年中行事",null,null,null,null,"敦賀西町の綱引き､花換まつり､沓見御田植祭､総参祭､とうろう流しと大花火大会､氣比神宮例大祭敦賀まつり、赤崎の獅子舞、相撲甚句、菊花大会、厄除せんべい焼､彼岸祭、野坂だのせ祭、御船遊管絃祭、昆沙講"]
["況",null,"男",null,null,null,{"$f":"データ一覧!H231","v":3},null,null,"男",null,null,null,null,{"$f":"データ一覧!H225","v":68.2},null,null,"男",null,null,null,null,{"$f":"データ一覧!H228","v":69.2},null,null,null,{"$f":"データ一覧!H325","v":24},null,{"$f":"データ一覧!H328","v":26375},null,{"$f":"データ一覧!H329","v":27298},null,{"$f":"データ一覧!H327","v":"無投票"},null,null,{"$f":"データ一覧!H330","v":1031},null,{"$f":"データ一覧!H331","v":351},null,"宗    教",null,null,null," 仏教系",null,null,"ｷﾘｽﾄ教系",null,null,"神道諸派",null,null,"公会堂・市民会館",null,null,null,null,null," テレビ",null,null,"衛星放送契約数"]
[null,null,"女",null,null,null,{"$f":"データ一覧!H232","v":5},null,null,"女",null,null,null,null,{"$f":"データ一覧!H226","v":70.900000000000006},null,null,"女",null,null,null,null,{"$f":"データ一覧!H229","v":70.2},null,null,null,null,null,null,null,null,null,{"$f":"データ一覧!H326","v":"31.4.21"},null,null,null,null,null,null,"法 人 数",null,null,null,{"$f":"データ一覧!H502","v":127},null,null,{"$f":"データ一覧!H503","v":6},null,null,{"$f":"データ一覧!H504","v":106},null,null,{"$f":"データ一覧!H505","v":2},null,null,null,null,null,"      等",null,null,{"$f":"データ一覧!H506","v":15612}]

{"sheet":"小浜市","index":7,"n_rows":93,"n_cols":103,"rows_kept":93,"cut":false,"hidden":false,"merged":[[89,6,89,8],[89,14,89,16],[89,22,89,24],[90,6,90,8],[77,2,78,5],[77,6,78,8],[77,9,78,13],[80,9,80,13],[80,14,80,16],[80,17,80,21],[81,6,81,8],[91,2,91,5],[91,9,91,13],[91,17,91,21],[92,2,92,5],[92,9,92,13],[92,14,92,16],[92,17,92,21],[85,17,85,21],[84,6,84,8],[84,9,84,13],[84,14,84,16],[85,6,85,8],[85,9,85,13],[85,14,85,16],[86,2,88,8],[86,9,87,24],[88,9,88,16],[88,17,88,24],[89,2,89,5],[89,9,89,13],[89,17,89,21],[90,2,90,5],[90,9,90,13],[90,17,90,21],[92,6,92,8],[83,6,83,8],[83,9,83,13],[83,14,83,16],[68,57,68,61],[73,95,73,101],[66,92,66,96],[81,22,81,24],[36,60,36,64],[82,22,82,24],[33,8,33,10],[33,11,33,13],[60,19,60,21],[65,19,65,21],[56,7,56,9],[59,7,59,9],[57,10,57,12],[61,13,61,15],[60,13,60,15],[62,22,62,24],[63,13,63,15],[55,16,55,18],[59,10,59,12],[58,0,58,6],[57,0,57,6],[65,0,65,6],[79,6,79,8],[92,22,92,24],[88,72,90,102],[65,57,65,63],[66,39,66,66],[67,43,67,47],[67,48,67,52],[67,53,67,56],[73,57,73,61],[68,43,68,47],[68,48,68,52],[71,67,72,82],[76,78,76,81],[76,87,76,90],[76,96,76,99],[73,77,73,83],[73,86,73,92],[68,53,68,56],[76,17,76,24],[84,22,84,24],[85,22,85,24],[68,79,68,81],[65,73,65,76],[71,22,71,24],[70,22,70,24],[71,19,71,21],[75,62,75,66],[77,82,77,86],[76,32,76,33],[71,25,71,28],[76,39,76,42],[80,100,80,102],[80,88,80,90],[80,92,80,94],[30,14,30,16],[32,11,32,13],[32,14,32,16],[79,14,79,16],[79,17,79,21],[79,22,79,24],[76,2,76,8],[76,9,76,16],[82,9,82,13],[82,14,82,16],[33,14,33,16],[17,25,17,27],[18,25,18,27],[40,2,40,3],[30,77,30,80],[79,9,79,13],[35,22,35,24],[45,29,45,30],[41,29,41,30],[40,29,40,30],[46,29,46,30],[35,5,35,7],[35,8,35,10],[35,11,35,13],[35,14,35,16],[35,18,35,19],[31,5,31,7],[30,8,30,10],[30,11,30,13],[32,8,32,10],[32,5,32,7],[41,22,41,24],[42,32,42,35],[33,5,33,7],[34,5,34,7],[32,18,32,19],[28,68,28,72],[28,73,28,76],[28,77,28,80],[28,81,28,84],[28,86,28,90],[29,73,29,76],[29,77,29,80],[29,81,29,84],[29,86,29,90],[35,20,35,21],[28,49,28,51],[32,22,32,24],[31,20,31,21],[31,49,31,51],[33,20,33,21],[32,20,32,21],[30,5,30,7],[30,18,30,19],[33,18,33,19],[31,8,31,10],[31,11,31,13],[31,14,31,16],[33,49,33,51],[17,86,17,89],[19,73,19,76],[19,77,19,80],[19,81,19,84],[20,73,20,76],[19,95,19,98],[21,91,21,94],[17,91,17,94],[17,68,17,71],[17,73,17,76],[17,82,17,83],[17,48,17,52],[34,53,34,56],[34,49,34,51],[21,86,21,90],[32,53,32,56],[30,60,30,64],[32,49,32,51],[32,73,32,76],[32,77,32,80],[32,81,32,84],[32,68,32,72],[28,91,28,94],[28,95,28,98],[30,81,30,84],[20,29,20,31],[21,60,21,64],[21,49,21,51],[22,32,22,34],[21,77,21,80],[21,81,21,84],[24,77,24,80],[23,81,23,84],[22,40,22,46],[22,49,22,51],[21,35,21,38],[20,53,20,56],[22,60,22,64],[20,40,20,46],[20,49,20,51],[24,53,24,56],[24,31,24,32],[19,29,19,31],[18,28,18,30],[19,35,19,38],[20,25,20,28],[20,32,20,34],[20,35,20,38],[21,29,21,31],[22,29,22,31],[25,95,25,98],[24,68,24,72],[24,73,24,76],[25,77,25,80],[25,81,25,84],[27,68,27,72],[27,73,27,76],[27,77,27,80],[27,81,27,84],[27,86,27,90],[26,68,26,72],[22,77,22,80],[22,53,22,56],[23,68,23,72],[24,81,24,84],[24,86,24,90],[22,81,22,84],[22,86,22,90],[23,73,23,76],[23,77,23,80],[24,35,24,36],[25,40,25,46],[25,49,25,51],[26,25,26,26],[23,21,23,23],[24,60,24,64],[23,32,23,34],[24,33,24,34],[30,20,30,21],[31,18,31,19],[51,29,51,32],[55,25,55,30],[50,29,50,32],[45,25,45,28],[46,25,46,28],[61,29,61,30],[70,32,70,33],[50,25,50,28],[49,39,49,45],[49,46,49,49],[51,33,51,35],[53,36,53,37],[57,39,57,42],[70,25,70,28],[68,32,68,33],[31,22,31,24],[30,22,30,24],[35,40,35,46],[65,39,65,42],[42,40,42,46],[60,39,60,42],[59,59,59,62],[25,25,25,26],[26,22,26,24],[24,0,25,24],[46,0,46,1],[46,95,46,98],[32,99,32,102],[46,99,46,102],[48,99,48,102],[58,44,58,46],[50,77,50,79],[50,80,50,82],[50,83,50,86],[49,95,49,98],[49,99,49,102],[50,91,50,94],[49,91,49,94],[54,43,54,46],[50,47,50,49],[57,43,57,46],[42,97,42,100],[45,84,45,89],[42,93,42,95],[40,79,41,82],[38,85,38,91],[53,87,53,90],[40,97,40,100],[42,79,42,82],[42,75,42,77],[53,91,53,94],[36,97,36,100],[33,83,34,96],[32,91,32,94],[37,53,37,56],[37,75,37,77],[37,60,37,64],[37,67,37,73],[27,99,27,102],[27,91,27,94],[38,93,38,95],[21,99,21,102],[21,95,21,98],[29,91,29,94],[24,91,24,94],[26,86,26,90],[26,40,26,46],[26,49,26,51],[26,53,26,56],[26,60,26,64],[25,73,25,76],[32,60,32,64],[32,40,32,46],[35,53,35,56],[26,77,26,80],[29,99,29,102],[28,99,28,102],[25,99,25,102],[26,95,26,98],[26,91,26,94],[26,99,26,102],[30,95,30,98],[32,95,32,98],[35,98,35,101],[37,97,37,100],[30,99,30,102],[31,99,31,102],[31,95,31,98],[30,91,30,94],[38,97,38,100],[22,99,22,102],[23,95,23,98],[22,91,22,94],[59,16,59,18],[55,7,55,9],[42,36,42,37],[46,69,46,74],[43,53,43,56],[42,67,42,73],[42,53,42,56],[42,60,42,64],[54,39,54,42],[55,63,55,65],[55,59,55,62],[55,47,55,49],[50,50,50,53],[56,13,56,15],[40,13,40,15],[40,16,40,18],[22,7,22,8],[23,49,23,51],[23,53,23,56],[23,60,23,64],[23,11,23,13],[23,16,23,18],[23,91,23,94],[24,95,24,98],[23,86,23,90],[22,68,22,72],[22,73,22,76],[26,27,26,28],[24,27,24,28],[47,0,47,1],[47,7,47,9],[47,10,47,12],[42,16,42,18],[58,16,58,18],[43,60,43,64],[50,59,50,61],[49,68,49,75],[55,68,55,75],[42,13,42,15],[56,10,56,12],[50,0,51,24],[55,0,55,6],[44,0,45,1],[42,10,42,12],[55,22,55,24],[56,19,56,21],[55,10,55,12],[55,13,55,15],[48,22,48,24],[48,7,48,9],[48,10,48,12],[57,35,57,37],[55,43,55,45],[55,39,55,42],[51,36,51,38],[45,36,45,37],[57,25,57,29],[46,36,46,37],[46,32,46,35],[55,31,55,34],[44,19,44,24],[14,0,15,24],[19,3,19,5],[17,100,17,101],[41,4,41,6],[41,7,41,9],[40,19,40,21],[41,10,41,12],[41,13,41,15],[41,16,41,18],[41,19,41,21],[40,4,40,6],[19,25,19,28],[40,7,40,9],[40,10,40,12],[15,35,15,37],[25,33,26,34],[25,35,26,36],[40,36,40,37],[36,40,36,46],[16,32,16,33],[25,86,25,90],[24,99,24,102],[25,60,25,64],[36,36,36,37],[37,40,37,46],[41,53,41,56],[38,79,38,82],[29,95,29,98],[23,99,23,102],[22,95,22,98],[25,91,25,94],[27,95,27,98],[64,0,64,6],[63,0,63,6],[56,22,56,24],[62,0,62,6],[64,22,64,24],[63,22,63,24],[61,0,61,6],[60,0,60,6],[63,19,63,21],[64,19,64,21],[48,13,48,15],[58,19,58,21],[42,22,42,24],[42,19,42,21],[57,16,57,18],[60,16,60,18],[59,0,59,6],[59,22,59,24],[60,22,60,24],[58,13,58,15],[62,10,62,12],[64,10,64,12],[57,13,57,15],[58,10,58,12],[64,13,64,15],[56,0,56,6],[47,13,47,15],[47,16,47,18],[47,19,47,21],[48,19,48,21],[48,0,48,1],[42,4,42,6],[16,36,16,37],[17,32,17,34],[24,29,24,30],[22,35,22,38],[24,37,24,38],[23,35,23,38],[21,32,21,34],[28,40,28,46],[40,40,40,46],[22,25,22,28],[25,29,26,30],[25,31,26,32],[36,29,36,30],[34,29,34,30],[29,40,29,46],[31,40,31,46],[30,40,30,46],[35,36,35,37],[17,36,17,38],[18,31,18,34],[27,33,27,34],[40,32,40,35],[27,35,27,36],[27,27,27,28],[27,29,27,30],[18,35,18,38],[23,40,23,46],[23,29,23,31],[23,25,23,28],[21,40,21,46],[25,37,26,38],[24,40,24,46],[19,99,19,102],[19,91,19,94],[20,91,20,94],[21,53,21,56],[19,60,19,64],[20,77,20,80],[20,81,20,84],[20,86,20,90],[21,73,21,76],[21,25,21,28],[20,99,20,102],[5,0,5,9],[17,53,17,57],[17,59,17,65],[6,0,8,9],[17,40,17,46],[20,11,20,13],[14,67,15,81],[14,82,15,95],[16,74,16,95],[20,16,20,18],[20,21,20,23],[19,32,19,34],[15,29,15,30],[15,32,15,33],[20,60,20,64],[19,40,19,46],[19,49,19,51],[19,53,19,56],[14,25,15,25],[14,26,15,28],[20,95,20,98],[25,27,25,28],[26,73,26,76],[25,53,25,56],[24,49,24,51],[26,81,26,84],[27,0,27,4],[27,5,27,7],[27,22,27,24],[29,53,29,56],[29,60,29,64],[29,20,29,21],[27,40,27,46],[27,31,27,32],[29,22,29,24],[27,25,27,26],[28,60,28,64],[27,37,27,38],[27,49,27,51],[29,49,29,51],[28,53,28,56],[27,53,27,56],[27,60,27,64],[29,5,29,7],[29,8,29,10],[29,11,29,13],[29,14,29,16],[29,18,29,19],[41,93,41,95],[39,93,39,95],[40,93,40,95],[37,85,37,91],[35,86,35,90],[35,93,35,95],[41,85,41,91],[39,60,39,64],[39,75,39,77],[39,49,39,51],[38,53,38,56],[38,60,38,64],[38,67,38,73],[39,67,39,73],[30,73,30,76],[36,49,36,51],[36,93,36,95],[36,85,36,91],[40,60,40,64],[37,93,37,95],[31,68,31,72],[31,73,31,76],[31,77,31,80],[31,81,31,84],[30,68,30,72],[31,91,31,94],[30,49,30,51],[31,53,31,56],[31,60,31,64],[30,53,30,56],[30,86,30,90],[36,75,36,77],[41,36,41,37],[39,40,39,46],[38,75,38,77],[38,49,38,51],[38,40,38,46],[33,53,33,56],[33,22,33,24],[34,22,34,24],[35,29,35,30],[33,40,33,46],[33,60,33,64],[37,49,37,51],[39,79,39,82],[40,67,41,73],[41,32,41,35],[41,60,41,64],[40,49,40,51],[40,22,40,24],[40,75,41,77],[34,40,34,46],[34,36,34,37],[36,67,36,73],[36,79,36,82],[33,67,34,80],[35,68,35,72],[35,75,35,77],[35,80,35,83],[37,79,37,82],[39,53,39,56],[36,53,36,56],[35,49,35,51],[35,60,35,64],[41,40,41,46],[41,49,41,51],[34,60,34,64],[34,8,34,10],[34,11,34,13],[34,14,34,16],[34,20,34,21],[34,18,34,19],[42,7,42,9],[49,77,49,79],[53,95,53,98],[62,29,62,30],[61,36,61,37],[53,29,53,31],[52,91,52,94],[49,50,49,53],[49,54,49,57],[49,62,49,66],[50,55,50,57],[50,95,50,98],[50,87,50,90],[49,87,49,90],[42,49,42,51],[39,97,39,100],[41,97,41,100],[51,99,51,102],[49,80,49,82],[50,63,50,66],[49,58,49,61],[51,83,51,86],[53,33,53,34],[50,33,50,38],[47,22,47,24],[48,16,48,18],[52,95,52,98],[53,99,53,102],[53,83,53,86],[52,87,52,90],[54,47,54,50],[44,36,44,37],[53,25,53,27],[45,32,45,35],[44,32,44,35],[44,29,44,30],[44,25,44,28],[63,94,63,96],[51,91,51,94],[49,83,49,86],[56,68,56,75],[56,77,56,79],[58,61,58,63],[51,77,51,79],[63,84,63,86],[62,81,62,83],[62,93,62,95],[43,83,44,102],[48,91,48,94],[56,95,56,98],[62,99,62,101],[43,67,44,82],[62,87,62,89],[60,85,60,90],[43,49,43,51],[43,40,43,46],[48,56,48,59],[48,77,48,79],[48,80,48,82],[48,83,48,86],[48,87,48,90],[48,62,48,65],[48,50,48,53],[55,80,55,82],[57,64,57,66],[57,47,57,50],[57,51,57,54],[57,61,57,63],[57,67,58,102],[56,99,56,102],[58,64,58,66],[54,59,54,66],[55,95,55,98],[52,77,52,79],[52,68,52,75],[51,95,51,98],[50,99,50,102],[50,68,50,75],[48,95,48,98],[57,31,57,33],[58,48,58,50],[62,75,62,77],[61,16,61,18],[54,25,54,32],[51,25,51,28],[56,16,56,18],[57,58,57,60],[57,22,57,24],[57,19,57,21],[58,22,58,24],[56,48,56,53],[61,68,61,71],[58,58,58,60],[58,39,58,42],[55,19,55,21],[51,87,51,90],[51,68,51,75],[54,99,54,102],[55,99,55,102],[54,87,54,90],[54,83,54,86],[54,91,54,94],[55,77,55,79],[55,83,55,86],[55,87,55,90],[55,91,55,94],[54,95,54,98],[58,52,58,54],[54,68,54,75],[54,77,54,79],[54,80,54,82],[56,80,56,82],[56,83,56,86],[56,91,56,94],[56,87,56,90],[58,55,58,57],[55,55,55,57],[54,51,54,54],[55,35,55,38],[60,7,60,9],[69,7,69,9],[62,7,62,9],[61,7,61,9],[66,7,66,9],[68,7,68,9],[64,7,64,9],[65,13,65,15],[62,13,62,15],[61,10,61,12],[60,10,60,12],[65,16,65,18],[63,16,63,18],[64,16,64,18],[61,19,61,21],[56,39,56,42],[68,16,68,18],[67,22,67,24],[68,10,68,12],[65,10,65,12],[68,22,68,24],[61,22,61,24],[62,19,62,21],[67,13,67,15],[69,13,69,15],[69,19,69,21],[57,7,57,9],[63,7,63,9],[58,7,58,9],[63,10,63,12],[65,7,65,9],[65,43,65,49],[71,57,71,61],[74,48,74,52],[74,62,74,66],[74,57,74,61],[72,48,72,52],[65,53,65,56],[65,78,65,81],[74,87,74,91],[74,96,74,100],[74,39,74,42],[69,39,69,66],[68,39,68,42],[67,57,67,61],[67,62,67,66],[68,62,68,66],[71,53,71,56],[73,62,73,66],[72,62,72,66],[70,62,70,66],[70,53,70,56],[66,76,66,90],[67,39,67,42],[69,25,69,28],[61,59,61,62],[61,63,61,66],[61,39,61,42],[64,68,64,71],[69,29,69,30],[70,97,70,99],[70,100,70,102],[71,16,71,18],[71,48,71,52],[71,83,72,102],[75,43,75,47],[72,53,72,56],[73,53,73,56],[65,98,65,101],[62,68,62,71],[68,25,68,28],[66,32,66,34],[66,22,66,24],[68,35,68,37],[67,19,67,21],[70,35,70,37],[71,32,71,33],[71,35,71,37],[69,35,69,37],[66,35,66,38],[75,32,75,33],[74,68,74,74],[74,77,74,83],[61,80,61,83],[63,99,63,101],[79,97,79,98],[79,48,79,52],[79,53,79,56],[79,57,79,61],[79,62,79,66],[78,39,78,42],[78,53,78,56],[78,57,78,61],[78,62,78,66],[78,99,78,102],[78,67,78,71],[78,72,78,76],[78,77,78,81],[77,87,77,90],[77,91,77,94],[76,69,76,72],[77,39,77,42],[77,43,77,47],[77,48,77,52],[77,53,77,56],[76,53,76,56],[78,91,78,94],[78,87,78,90],[71,29,71,30],[82,62,82,66],[83,48,83,52],[83,62,83,66],[83,53,83,56],[80,39,80,42],[80,43,80,47],[81,53,81,56],[81,57,81,61],[80,53,80,56],[80,48,80,52],[80,62,80,66],[80,68,80,70],[82,39,82,42],[80,78,80,80],[80,82,80,86],[78,82,78,86],[80,57,80,61],[80,73,80,75],[81,43,81,47],[91,72,92,102],[83,72,87,102],[90,44,90,45],[88,32,88,34],[83,43,83,47],[92,32,92,34],[72,13,72,15],[73,10,73,12],[73,0,73,6],[81,48,81,52],[73,48,73,52],[72,43,72,47],[73,25,73,28],[73,29,73,30],[73,22,73,24],[73,19,73,21],[72,29,72,30],[81,32,81,34],[80,25,81,28],[77,77,77,81],[76,43,76,47],[74,25,74,28],[74,29,74,30],[76,62,76,66],[76,48,76,52],[74,53,74,56],[75,57,75,61],[75,53,75,56],[76,57,76,61],[75,48,75,52],[74,32,74,33],[74,35,74,37],[84,62,84,66],[92,39,92,42],[92,43,92,45],[92,46,92,48],[92,49,92,51],[90,61,90,63],[88,61,88,66],[89,61,89,63],[88,44,88,47],[88,50,88,53],[90,64,90,66],[91,61,91,66],[90,58,90,60],[90,50,90,51],[90,52,90,54],[91,52,91,57],[90,46,90,48],[92,52,92,57],[92,61,92,66],[91,39,91,42],[54,55,54,58],[53,77,53,79],[42,85,42,91],[39,85,39,91],[45,57,45,61],[48,68,48,75],[40,85,40,91],[51,80,51,82],[55,51,55,53],[57,55,57,57],[40,53,40,56],[89,39,89,42],[83,39,83,42],[47,95,47,98],[53,68,53,75],[52,83,52,86],[63,89,63,91],[60,91,60,96],[65,93,65,96],[81,67,82,102],[84,53,84,56],[79,101,79,102],[80,96,80,98],[78,95,78,98],[70,88,70,90],[77,62,77,66],[77,57,77,61],[71,62,71,66],[72,57,72,61],[45,77,45,82],[47,68,47,75],[47,77,47,79],[47,80,47,82],[47,83,47,86],[47,87,47,90],[47,91,47,94],[45,92,45,101],[65,83,65,86],[65,88,65,91],[68,76,68,78],[68,72,68,75],[67,79,67,81],[67,88,67,90],[68,82,68,84],[67,97,67,102],[67,67,70,71],[70,72,70,75],[68,100,68,102],[68,91,68,93],[68,85,68,87],[70,91,70,93],[70,94,70,96],[70,77,70,78],[70,85,70,87],[68,94,68,96],[67,82,67,84],[70,83,70,84],[47,99,47,102],[68,88,68,90],[65,68,65,71],[52,99,52,102],[63,74,63,76],[52,80,52,82],[53,80,53,82],[66,13,66,15],[69,0,69,6],[67,7,67,9],[70,13,70,15],[68,13,68,15],[70,19,70,21],[70,16,70,18],[59,43,59,56],[60,43,60,47],[60,48,60,52],[60,53,60,56],[61,43,61,47],[61,48,61,52],[61,53,61,56],[60,97,60,102],[59,19,59,21],[62,16,62,18],[68,29,68,30],[68,19,68,21],[66,10,66,12],[66,19,66,21],[66,16,66,18]],"merged_total":1106,"flags":["merged_cut"]}
[{"$f":"+データ一覧!I2","v":0}]
[{"$f":"+データ一覧!I5","v":0}]
[null,null,null,null,null,null,null,null,null,null,null,null,null,null,null,null,null,null,null,null,null,null,null,null,null,null,null,null,null,null,null,null,null,null,null,null,null,null,null,0]
[null,null,null,null,null,null,null,null,null,null,null,null,null,null,null,null,null,null,null,null,null,null,null,null,null,null,null,"【市章とそのいわれ】小浜市の「小」の字を、未来への飛躍を                      ",null,null,null,null,null,null,null,null,null,null,null,"  【位置および地勢】小浜市は福井県の南西部に位置し南は東西に走る京都",null,null,null,null,null,null,null,null,null,null,null,null,null,null,null,null,null,null,null,null,null,null,null,null,null,null,null,null,null,null,"所在地",null,null,null,null,null,null,null,"〒917-8585"]
[null,null,null,null,null,null,null,null,null,null,null,null,null,null,null,null,null,null,null,null,null,null,null,null,null,null,null,"                  こめて、鳥の羽ばたく姿にデザインしたもので、                                    ",null,null,null,null,null,null,null,null,null,null,null,"                  ","北部一帯に連なる山岳で、一部滋賀県と境を接し、北は内外海半島、",null,null,null,null,null,null,null,null,null,null,null,null,null,null,null,null,null,null,null,null,null,null,null,null,null,null,null,null,null,null,null,null,null,null,null,null,null,"小浜市大手町６番３号"]
[{"$f":"+データ一覧!I3","v":"おばまし"},null,null,null,null,null,null,null,null,null,null,null,null,null,null,null,null,null,null,null,null,null,null,null,null,null,null,"                  市制発足の際、市民の公募作品から選定した。                                          ",null,null,null,null,null,null,null,null,null,null,null,"  ","大島半島で囲まれた小浜湾に面している。付近一帯の海岸は 国定公園の"]
[{"$f":"データ一覧!I6","v":"小浜市"},null,null,null,null,null,null,null,null,null,null,null,null,null,null,null,null,null,null,null,null,null,null,null,null,null,null,0,null,null,null,null,null,null,null,null,null,null,null," ","指定を受け、各所に明媚な風光をかもしだしており、遠く南の山岳地帯に",null,null,null,null,null,null,null,null,null,null,null,null,null,null,null,null,null,null,null,null,null,null,null,null,null,null,null,null,null,"電話番号",null,null,null,null,null,null,null,"（０７７０）５３－１１１１"]
[null,null,null,null,null,null,null,null,null,null,null,null,null,null,null,null,null,null,null,null,null,null,null,null,null,null,null,0,null,null,null,null,null,null,null,null,null,null,null,"  ","源を発する北川、南川の両河川は海岸に細長く走る肥沃な平野を貫流して、",null,null,null,null,null,null,null,null,null,null,null,null,null,null,null,null,null,null,null,null,null,null,null,null,null,null,null,null,null,"FAX番号",null,null,null,null,null,null,null,"     〃     ５３－０７４２"]
[null,null,null,null,null,null,null,null,null,null,null,null,null,null,null,null,null,null,null,null,null,null,null,null,null,null,null,0,null,null,null,null,null,null,null,null,null,null,null,"  ","下流にかんがいをもたらし小浜湾に注いでいる。"]
[null,null,null,null,null,null,null,null,null,null,null,null,null,null,null,null,null,null,null,null,null,null,null,null,null,null,null,0,null,null,null,null,null,null,null,null,null,null,null,0,null,null,null,null,null,null,null,null,null,null,null,null,null,null,null,null,null,null,null,null,null,null,null,null,null,null,null,null,null,null,"最寄駅および距離",null,null,null,null,null,null,null,"ＪＲ小浜線小浜駅  下車４００ｍ"]
[null,null,null,null,null,null,null,null,null,null,null,null,null,null,null,null,null,null,null,null,null,null,null,null,null,null,null,0,null,null,null,null,null,null,null,null,null,null,null,0]
[]
[null,null,null,null,null,null,null,null,null,null,null,null,null,null,null,null,null,null,null,null,null,null,null,null,null,null,null,"【市が掲げる標語】「夢、無限大」感動おばま",null,null,null,null,null,null,null,null,null,null,null,null,null,null,null,null,null,null,null,null,null,null,null,null,null,null,null,null,null,null,null,null,null,null,null,null,null,null,null,null,null,null,"ホームページ",null,null,null,null,null,null,null,"http://www1.city.obama.fukui.jp/"]
[]
["  １  土            　　地",null,null,null,null,null,null,null,null,null,null,null,null,null,null,null,null,null,null,null,null,null,null,null,null,{"$f":"データ一覧!$A$240","v":"2年"},"産米収穫量",null,null,"　 収　穫　量",null,null," 　作 付 面 積",null,null,"   10a当たり収量",null,null,null,null,null,null,null,null,null,null,null,null,null,null,null,null,null,null,null,null,null,null,null,null,null,null,null,null,null,null,null," １５  労　　　　　　　働",null,null,null,null,null,null,null,null,null,null,null,null,null,null,"27.10.1"]
[null,null,null,null,null,null,null,null,null,null,null,null,null,null,null,null,null,null,null,null,null,null,null,null,null,null,null,null,null,{"$f":"データ一覧!$I$240","v":4520},null,"t",{"$f":"データ一覧!$I$241","v":929},null,"ha",{"$f":"データ一覧!I242","v":487},null,null,"kg"," １０  工　　　　　　業 ",null,null,null,null,null,null,null,null,null,null,null,null,null,{"$f":"データ一覧!$A$332","v":"2.6.1（令和元年実績）"}]
["   総          面           積",null,null,null,null,null,null,null,null,null," 固 定 資 産 概 要 調 書 に よ る 地 目 別 面 積",null,null,null,null,null,null,null,null,null,null,null,null,null,null,null,null,null,"   総　　　数",null,null,null,"うち　　田",null,null,null,"うち　　畑",null,null,null,null,null,null,null,null,null,null,null,null,null,null,null,null,null,null,null,null,null,null,null,null,null,null,null,null,null,null,null,null,null,null,null,null,null,"産業別就業者数   "]
[null,null,{"$f":"データ一覧!$A$7","v":"3.10.1"},null,null,null,null,null,null,null,null,null,null,null,null,null,{"$f":"データ一覧!$A$9","v":"3.1.1"},null,null,null,null,null,null,null,null," 耕  地  面  積",null,null,null,"       ha",null,null,"ha ",null,null,null,"ha ",null,null,"      ","産業分類",null,null,null,null,null,null,null,"事業所数",null,null,null,null,"従業者数",null,null,null,null,null,"年間製造品出荷額等",null,null,null,null,null,null,null,null,"区  分",null,null,null,null,"総    数",null,null,null,null,"男",null,null,null,"女",null,null,"  ","区  分",null,null,null,null,"総    数",null,null,null,null,"男",null,null,null,"女"]
[null,null,null,null,null,null,"㎢",null,null,null,"   総       数",null,null,null,null,"  う ち     田",null,null,null,null,"  う ち     畑",null,null,null,null,{"$f":"データ一覧!A243","v":"2.7.15"},null,null,{"$f":"データ一覧!$I$243","v":1420},null,null,{"$f":"データ一覧!$I$244","v":1300},null,null,null,{"$f":"データ一覧!$I$245","v":118},null,null,null,null,null,null,null,null,null,null,null,null,"　　   ",null,null,"事業所",null,"　　　　　　　 人",null,null,"人",null,"　　　　　　　　　　　　　　万円",null,null,null,null,null,null,"万円",null,null,null,null,null,null,null,"      人",null,null,null,null,null," 人",null,null,null," 人",null,null,null,null,null,null,null,"      人",null,null,null,"      人",null,null,null,"      人"]
[null,null,null,{"$f":"データ一覧!I7","v":233.11},null,null,null,null,null,null,null,null,null,null,"ha",null,null,null,null,"ha",null,null,null,null,"ha","農 業 生 産 物",null,null,null,"作 付 面 積",null,null,"収 穫 量",null,null,"10a当たり収量",null,null,null,"     ","総数",null,null,null,null,null,null,null,null,{"$f":"データ一覧!I332","v":63},null,null,null,{"$f":"+データ一覧!I357","v":1616},null,null,null,null,null,null,{"$f":"データ一覧!I382","v":4343232},null,null,null,null,null,null," 総　　　数",null,null,null,null,null,{"$f":"BZ20+CD20","v":15214},null,null,null,{"$f":"データ一覧!I507","v":8537},null,null,null,{"$f":"データ一覧!I532","v":6677}]
[null,null,null,null,null,null,null,null,null,null,null,{"$f":"データ一覧!I9","v":13506.2},null,null,null,null,{"$f":"データ一覧!I10","v":1482.5},null,null,null,null,{"$f":"データ一覧!I11","v":234.8},null,null,null,{"$f":"データ一覧!$A$246","v":"2年中"},null,null,null,"ha",null,null,"t",null,null,"kg",null,null,null,"     食料品","食料品",null,null,null,null,null,null,null,null,{"$f":"データ一覧!I333","v":13},null,null,null,{"$f":"+データ一覧!I358","v":287},null,null,null,null,null,null,{"$f":"データ一覧!I383","v":374864},null,null,null,null,null,null,null,null,null,null,null,null,null,null,null,null,null,null,null,null,null,null,null,null,null,"卸売業,小売業",null,null,null,null,{"$f":"CR21+CV21","v":2358},null,null,null,{"$f":"データ一覧!I520","v":1170},null,null,null,{"$f":"データ一覧!I545","v":1188}]
["  町 ･ 丁 ･ 大 字",null,null,null,null,null,null,null,null,null,"  う ち  宅 地",null,null,null,null,"  う ち  山 林",null,null,null,null,"  う ち  原 野",null,null,null,null,"水　　　　　稲",null,null,null,{"$f":"データ一覧!I246","v":929},null,null,{"$f":"データ一覧!I247","v":4520},null,null,{"$f":"データ一覧!I248","v":487},null,null,null,"     飲料・飼料","飲料・飼料",null,null,null,null,null,null,null,null,{"$f":"データ一覧!I334","v":0},null,null,null,{"$f":"+データ一覧!I359","v":0},null,null,null,null,null,null,{"$f":"データ一覧!I384","v":0},null,null,null,null,null,null," 第１次産業",null,null,null,null,null,{"$f":"BZ22+CD22","v":637},null,null,null,{"$f":"データ一覧!I508","v":399},null,null,null,{"$f":"データ一覧!I533","v":238},null,null,null,null,"金融業,保険業",null,null,null,null,{"$f":"CR22+CV22","v":284},null,null,null,{"$f":"データ一覧!I521","v":113},null,null,null,{"$f":"データ一覧!I546","v":171}]
["  区    画    数",null,null,null,null,null,null,{"$f":"データ一覧!I8","v":143},null,null,null,null,null,null,"ha",null,null,null,null,"ha",null,null,null,null,"ha","六　条　大　麦",null,null,null,{"$f":"データ一覧!I249","v":36},null,null,{"$f":"データ一覧!I250","v":94},null,null,{"$f":"データ一覧!I251","v":261},null,null,null,"     繊維","繊維",null,null,null,null,null,null,null,null,{"$f":"データ一覧!I335","v":8},null,null,null,{"$f":"+データ一覧!I360","v":186},null,null,null,null,null,null,{"$f":"データ一覧!I385","v":303141},null,null,null,null,null,null,"  ","農業",null,null,null,null,{"$f":"BZ23+CD23","v":514},null,null,null,{"$f":"データ一覧!I509","v":300},null,null,null,{"$f":"データ一覧!I534","v":214},null,null,null,"  ","不動産業",null,null,null,null,114,null,null,null,{"$f":"データ一覧!I522","v":73},null,null,null,{"$f":"データ一覧!I547","v":41}]
[{"$f":"データ一覧!$A$8","v":"2.4.1"},null,null,null,null,null,null,null,null,null,null,{"$f":"データ一覧!I12","v":652.20000000000005},null,null,null,null,{"$f":"データ一覧!I13","v":7285.2},null,null,null,null,{"$f":"データ一覧!I14","v":150.30000000000001},null,null,null,"大　　      豆",null,null,null,{"$f":"データ一覧!I252","v":23},null,null,{"$f":"データ一覧!I253","v":18},null,null,{"$f":"データ一覧!I254","v":77},null,null,null,"     衣服","木材",null,null,null,null,null,null,null,null,{"$f":"データ一覧!I336","v":5},null,null,null,{"$f":"+データ一覧!I361","v":41},null,null,null,null,null,null,{"$f":"データ一覧!I386","v":52444},null,null,null,null,null,null,"  ","林業",null,null,null,null,23,null,null,null,{"$f":"データ一覧!I510","v":19},null,null,null,{"$f":"データ一覧!I535","v":4},null,null,null,"  ","学術研究",null,null,null,null,503,null,null,null,{"$f":"データ一覧!I523","v":399},null,null,null,{"$f":"データ一覧!I548","v":104}]
["  ２  世　帯　数　と　人　口",null,null,null,null,null,null,null,null,null,null,null,null,null,null,null,null,null,null,null,null,null,null,null,null,null,null,"  区　分",null," 乳 用 牛",null," 肉 用 牛",null,"豚",null,"採卵鶏",null,"ブロイラー",null,"     木材","家具",null,null,null,null,null,null,null,null,{"$f":"データ一覧!I337","v":2},null,null,null,{"$f":"+データ一覧!I362","v":16},null,null,null,null,null,null,{"$f":"データ一覧!I387","v":"x"},null,null,null,null,null,null,"  ","漁業",null,null,null,null,100,null,null,null,{"$f":"データ一覧!I511","v":80},null,null,null,{"$f":"データ一覧!I536","v":20},null,null,null,"  ","宿泊業,飲食ｻｰﾋﾞｽ",null,null,null,null,891,null,null,null,{"$f":"データ一覧!I524","v":315},null,null,null,{"$f":"データ一覧!I549","v":576}]
[null,null,null,null,null,null,null,null,null,null,null,null,null,null,null,null,null,null,null,null,null,null,null,null,null,"畜　産",null," 飼養農家",null,{"$f":"データ一覧!$I$255","v":0},null,{"$f":"データ一覧!$I$257","v":0},null,{"$f":"データ一覧!$I$259","v":"-"},null,{"$f":"データ一覧!$I$261","v":0},null,{"$f":"データ一覧!$I$263","v":0},null,"     家具","パルプ・紙",null,null,null,null,null,null,null,null,{"$f":"データ一覧!I338","v":1},null,null,null,{"$f":"+データ一覧!I363","v":36},null,null,null,null,null,null,{"$f":"データ一覧!I388","v":"x"},null,null,null,null,null,null," 第２次産業",null,null,null,null,null,4332,null,null,null,{"$f":"データ一覧!I512","v":3020},null,null,null,{"$f":"データ一覧!I537","v":1312},null,null,null,"  ","生活関連ｻｰﾋﾞｽ業",null,null,null,null,465,null,null,null,{"$f":"データ一覧!I525","v":191},null,null,null,{"$f":"データ一覧!I550","v":274}]
[null,null,null,null,null,null,null,null,"        人　　　　　　　　　　口",null,null,null,null,null,null,null,null,null,null,null,"１世帯当",null,"人    口",null,null,{"$f":"データ一覧!$A$255","v":"3.3.31"},null,"（戸）",null,null,null,null,null,null,null,null,null,null,null,"     パルプ・紙","印刷",null,null,null,null,null,null,null,null,{"$f":"データ一覧!I339","v":2},null,null,null,{"$f":"+データ一覧!I364","v":14},null,null,null,null,null,null,{"$f":"データ一覧!I389","v":"x"},null,null,null,null,null,null,null,"鉱業，採石業",null,null,null,null,1,null,null,null,{"$f":"データ一覧!I513","v":1},null,null,null,{"$f":"データ一覧!I538","v":0},null,null,null,"  ","教育,学習支援業",null,null,null,null,829,null,null,null,{"$f":"データ一覧!I526","v":384},null,null,null,{"$f":"データ一覧!I551","v":445}]
[" 区　　　　分",null,null,null,null,"世帯数",null,null," 総   数",null,null,"    男",null,null,"    女",null,null,"  男／女",null,null,"たり人員",null,"密    度",null,null,null,null," 頭 羽",null,{"$f":"データ一覧!$I$256","v":0},null,{"$f":"データ一覧!$I$258","v":0},null,{"$f":"データ一覧!$I$260","v":0},null,{"$f":"データ一覧!$I$262","v":0},null,{"$f":"データ一覧!$I$264","v":0},null,"     出版・印刷","化学",null,null,null,null,null,null,null,null,{"$f":"データ一覧!I340","v":1},null,null,null,{"$f":"+データ一覧!I365","v":48},null,null,null,null,null,null,{"$f":"データ一覧!I390","v":"x"},null,null,null,null,null,null,"  ","建設業",null,null,null,null,1726,null,null,null,{"$f":"データ一覧!I514","v":1498},null,null,null,{"$f":"データ一覧!I539","v":228},null,null,null,null,"医療，福祉",null,null,null,null,1990,null,null,null,{"$f":"データ一覧!I527","v":459},null,null,null,{"$f":"データ一覧!I552","v":1531}]
[null,null,null,null,null,"    世 帯",null,null,"       人",null,null,"       人",null,null,"       人",null,null,null,"　　％",null,"    人",null,"    人/㎢",null,null,null,null,null,null,null,null,null,null,null,null,null,null,null,null,"     化学","石油・石炭",null,null,null,null,null,null,null,null,{"$f":"データ一覧!I341","v":1},null,null,null,{"$f":"+データ一覧!I366","v":14},null,null,null,null,null,null,{"$f":"データ一覧!I391","v":"x"},null,null,null,null,null,null,null,"製造業",null,null,null,null,2605,null,null,null,{"$f":"データ一覧!I515","v":1521},null,null,null,{"$f":"データ一覧!I540","v":1084},null,null,null,null,"複合サービス事業",null,null,null,null,277,null,null,null,{"$f":"データ一覧!I528","v":185},null,null,null,{"$f":"データ一覧!I553","v":92}]
[{"$f":"データ一覧!$A$22","v":" 2.10.1"},null,null,null,null,{"$f":"データ一覧!I22","v":9920},null,null,{"$f":"+L30+O30","v":33774},null,null,{"$f":"データ一覧!I24","v":16175},null,null,{"$f":"データ一覧!I25","v":17599},null,null,null,{"$f":"+L30/O30*100","v":91.908631172225697},null,{"$f":"データ一覧!I27","v":3.4},null,{"$f":"データ一覧!I28","v":145.1},null,null,"  ５  林               業",null,null,null,null,null,null,null,null,null,null,null,null,null,"     石油・石炭","プラスチック",null,null,null,null,null,null,null,null,{"$f":"データ一覧!I342","v":1},null,null,null,{"$f":"+データ一覧!I367","v":44},null,null,null,null,null,null,{"$f":"データ一覧!I392","v":"x"},null,null,null,null,null,null," 第３次産業",null,null,null,null,null,10174,null,null,null,{"$f":"データ一覧!I516","v":5073},null,null,null,{"$f":"データ一覧!I541","v":5101},null,null,null,null,"サービス業",null,null,null,null,1089,null,null,null,{"$f":"データ一覧!I529","v":743},null,null,null,{"$f":"データ一覧!I554","v":346}]
[{"$f":"データ一覧!$A$29","v":" 7.10.1"},null,null,null,null,{"$f":"データ一覧!I29","v":10383},null,null,{"$f":"+L31+O31","v":33496},null,null,{"$f":"データ一覧!I31","v":16164},null,null,{"$f":"データ一覧!I32","v":17332},null,null,null,93.261020078467567,null,{"$f":"データ一覧!I34","v":3.23},null,{"$f":"データ一覧!I35","v":143.9},null,null,null,null,null,null,null,null,null,null,null,null,null,null,null,null,"     プラスチック","ゴム",null,null,null,null,null,null,null,null,{"$f":"データ一覧!I343","v":0},null,null,null,{"$f":"+データ一覧!I368","v":0},null,null,null,null,null,null,{"$f":"データ一覧!I393","v":0},null,null,null,null,null,null,null,"電気･ｶﾞｽ･水道業",null,null,null,null,277,null,null,null,{"$f":"データ一覧!I517","v":245},null,null,null,{"$f":"データ一覧!I542","v":32},null,null,null,null,"公務",null,null,null,null,626,null,null,null,{"$f":"データ一覧!I530","v":433},null,null,null,{"$f":"データ一覧!I555","v":193}]
[{"$f":"データ一覧!$A$36","v":"12.10.1"},null,null,null,null,{"$f":"データ一覧!I36","v":10962},null,null,{"$f":"+L32+O32","v":33295},null,null,{"$f":"データ一覧!I38","v":16134},null,null,{"$f":"データ一覧!I39","v":17161},null,null,null,94.015500262222488,null,{"$f":"データ一覧!I41","v":3.04},null,{"$f":"データ一覧!I42","v":143},null,null,"    　森　　　林　　　総　　　面　　　積   ",null,null,null,null,null,null,null,{"$f":"データ一覧!$A$265","v":"3.3.31"},null,null,null,null,null,"     ゴム","皮革",null,null,null,null,null,null,null,null,{"$f":"データ一覧!I344","v":0},null,null,null,{"$f":"+データ一覧!I369","v":0},null,null,null,null,null,null,{"$f":"データ一覧!I394","v":0},null,null,null,null,null,null,null,"情報通信業",null,null,null,null,104,null,null,null,{"$f":"データ一覧!I518","v":57},null,null,null,{"$f":"データ一覧!I543","v":47},null,null,null," 分類不能の産業",null,null,null,null,null,71,null,null,null,{"$f":"データ一覧!I531","v":45},null,null,null,{"$f":"データ一覧!I556","v":26}]
[{"$f":"+データ一覧!$A$43","v":"17.10.1"},null,null,null,null,{"$f":"データ一覧!I43","v":11136},null,null,{"$f":"+L33+O33","v":32182},null,null,{"$f":"データ一覧!I45","v":15620},null,null,{"$f":"データ一覧!I46","v":16562},null,null,null,94.312281125467933,null,{"$f":"データ一覧!I48","v":2.89},null,{"$f":"データ一覧!I49","v":138.19999999999999},null,null,"　　　森　　　　　　　林　　　　　　　の　　　　　　　構　　　　　　　成",null,null,null,null,null,null,null,null,null,null,null,null,null,"     皮革","窯業・土石",null,null,null,null,null,null,null,null,{"$f":"データ一覧!I345","v":2},null,null,null,{"$f":"+データ一覧!I370","v":31},null,null,null,null,null,null,{"$f":"データ一覧!I395","v":"x"},null,null,null,null,null,null,"  ","運輸業,郵便業",null,null,null,null,{"$f":"BZ33+CD33","v":367},null,null,null,{"$f":"データ一覧!I519","v":306},null,null,null,{"$f":"データ一覧!I544","v":61}]
[{"$f":"+データ一覧!$A$50","v":"22.10.1"},null,null,null,null,{"$f":"+データ一覧!I50","v":11477},null,null,{"$f":"+L34+O34","v":31340},null,null,{"$f":"+データ一覧!I52","v":15376},null,null,{"$f":"+データ一覧!I53","v":15964},null,null,null,96.316712603357558,null,{"$f":"+データ一覧!I55","v":2.73},null,{"$f":"+データ一覧!I56","v":134.6},null,null,null,null,null,null,null,"       ha",null,null,null,null,null,null,"       ha",null,"     窯業・土石","鉄鋼",null,null,null,null,null,null,null,null,{"$f":"データ一覧!I346","v":0},null,null,null,{"$f":"+データ一覧!I371","v":0},null,null,null,null,null,null,{"$f":"データ一覧!I396","v":0},null,null,null,null,null,null," １６  社　 会 　福　 祉",null,null,null,null,null,null,null,null,null,null,null,null,null,null,null,{"$f":"データ一覧!$A$557","v":"3.4.1"}]
[{"$f":"データ一覧!$A$57","v":"27.10.1"},null,null,null,null,{"$f":"データ一覧!I57","v":11220},null,null,{"$f":"データ一覧!I58","v":29670},null,null,{"$f":"データ一覧!I59","v":14539},null,null,{"$f":"データ一覧!I60","v":15131},null,null,null,96.087502478355688,null,{"$f":"データ一覧!I72","v":2.38},null,{"$f":"データ一覧!I63","v":127.3},null,null,"  総　　　　　   数",null,null,null,{"$f":"データ一覧!I265","v":19030.38},null,null," 天然林       針葉樹",null,null,null,{"$f":"データ一覧!I268","v":1177.73},null,null,"     鉄鋼","非鉄金属",null,null,null,null,null,null,null,null,{"$f":"データ一覧!I347","v":0},null,null,null,{"$f":"+データ一覧!I372","v":0},null,null,null,null,null,null,{"$f":"データ一覧!I397","v":0}]
["令　2.10.1（国調）",null,null,null,null,{"$f":"データ一覧!I64","v":12082},null,null,{"$f":"データ一覧!I65","v":28991},null,null,{"$f":"データ一覧!I66","v":14317},null,null,{"$f":"データ一覧!I67","v":14674},null,null,null,{"$f":"+L36/O36*100","v":97.567125528145013},null,{"$f":"データ一覧!I72","v":2.38},null,{"$f":"データ一覧!I73","v":122.91621981038993},null,null,"  人工林     針葉樹",null,null,null,{"$f":"データ一覧!I266","v":7345.22},null,null," 天然林       広葉樹",null,null,null,{"$f":"データ一覧!I269","v":10147.220000000001},null,null,"     非鉄金属","金属",null,null,null,null,null,null,null,null,{"$f":"データ一覧!I348","v":1},null,null,null,{"$f":"+データ一覧!I373","v":17},null,null,null,null,null,null,{"$f":"データ一覧!I398","v":"x"},null,null,null,null,null,null,"    ","区分",null,null,null,null,null,null,"施設数",null,null,null,null,"収容定員",null,null,null,null,null,"区分",null,null,null,null,null,null,"施設数",null,null,null,null,"収容定員"]
["年",null,"  区",null," 0歳",null,null,"15歳",null,null,"25歳",null,null,"35歳",null,null,"45歳",null,null,"55歳",null,null,"65歳",null,null,"  人工林     広葉樹",null,null,null,{"$f":"データ一覧!I267","v":34.730000000000004},null,null," 竹               林",null,null,null,{"$f":"データ一覧!I270","v":181.56},null,null,"     金属","はん用機械",null,null,null,null,null,null,null,null,{"$f":"データ一覧!I349","v":0},null,null,null,{"$f":"+データ一覧!I374","v":0},null,null,null,null,null,null,{"$f":"データ一覧!I399","v":0},null,null,null,null,null,null,"生活保護施設",null,null,null,null,null,null,null,{"$f":"データ一覧!I557","v":0},null,null,null,{"$f":"データ一覧!I570","v":0},null,null,null,"人",null,"指定障害者支援施設",null,null,null,null,null,null,null,{"$f":"データ一覧!I563","v":3},null,null,null,{"$f":"データ一覧!I576","v":120},null,null,null,"人"]
["齢","令",null,null,null,"～",null,null,"～",null,null,"～",null,null,"～",null,null,"～",null,null,"～",null,null,null,null,null,null,null,null,null,null,null,null,null,null,null,null,null,null,"     一般機械","生産用機械",null,null,null,null,null,null,null,null,{"$f":"データ一覧!I350","v":3},null,null,null,{"$f":"+データ一覧!I375","v":104},null,null,null,null,null,null,{"$f":"データ一覧!I400","v":125837},null,null,null,null,null,null,"地域福祉施設",null,null,null,null,null,null,null,{"$f":"データ一覧!I558","v":0},null,null,null,{"$f":"データ一覧!I571","v":0},null,null,null,null,null,"指定相談支援事業所",null,null,null,null,null,null,null,{"$f":"データ一覧!I564","v":3},null,null,null,{"$f":"データ一覧!I577","v":0}]
["階",{"$f":"+LEFT(データ一覧!$A$83,1)","v":"3"},"  分",null,null,null,"14歳",null,null,"24歳",null,null,"34歳",null,null,"44歳",null,null,"54歳",null,null,"64歳",null,null,"以上","    林     野     の     構     成",null,null,null,null,null,null,"保     有     形     態     別",null,null,null,null,null,null,"     電気機械","業務用機械",null,null,null,null,null,null,null,null,{"$f":"データ一覧!I351","v":1},null,null,null,{"$f":"+データ一覧!I376","v":53},null,null,null,null,null,null,{"$f":"データ一覧!I401","v":"x"},null,null,null,null,null,null,"老人福祉施設",null,null,null,null,null,null,null,{"$f":"データ一覧!I559","v":10},null,null,null,{"$f":"データ一覧!I572","v":111},null,null,null,null,null,"児童福祉施設",null,null,null,null,null,null,null,{"$f":"データ一覧!I565","v":24},null,null,null,{"$f":"データ一覧!I578","v":1182}]
["級","・",null,null,null,null,"人",null,null,"人",null,"    人",null,null,"    人",null,null,"    人",null,null,"    人",null,null,"    人",null,null,null,null,null,null,null,"ha",null,null,null,null,null,"       ha",null,null,"電子・デバイス",null,null,null,null,null,null,null,null,{"$f":"データ一覧!I352","v":2},null,null,null,{"$f":"+データ一覧!I377","v":154},null,null,null,null,null,null,{"$f":"データ一覧!I402","v":"x"},null,null,null,null,null,null,"介護保険施設",null,null,null,null,null,null,null,{"$f":"データ一覧!I560","v":45},null,null,null,{"$f":"データ一覧!I573","v":820},null,null,null,null,null,"母子福祉施設",null,null,null,null,null,null,null,{"$f":"データ一覧!I566","v":0},null,null,null,{"$f":"データ一覧!I579","v":0}]
["別",{"$f":"+MID(データ一覧!$A$83,3,2)","v":"10"},"総 数",null,{"$f":"+E42+E43","v":3428},null,null,{"$f":"+H42+H43","v":2093},null,null,{"$f":"+K42+K43","v":2538},null,null,{"$f":"+N42+N43","v":3095},null,null,{"$f":"+Q42+Q43","v":3657},null,null,{"$f":"+T42+T43","v":3724},null,null,{"$f":"+W42+W43","v":9210},null,null," 無立木地   伐採跡地",null,null,null,{"$f":"データ一覧!I271","v":3.12},null,null,"国   　　　 　 有",null,null,null,{"$f":"データ一覧!I273","v":705.7},null,null,null,"電気機械",null,null,null,null,null,null,null,null,{"$f":"データ一覧!I353","v":4},null,null,null,{"$f":"+データ一覧!I378","v":225},null,null,null,null,null,null,{"$f":"データ一覧!I403","v":1545940},null,null,null,null,null,null,"障害者自立支援法施行前からの身体障害者福祉施設",null,null,null,null,null,null,null,{"$f":"データ一覧!I561","v":0},null,null,null,{"$f":"データ一覧!I574","v":0},null,null,null,null,null,"婦人保護施設",null,null,null,null,null,null,null,{"$f":"データ一覧!I567","v":0},null,null,null,{"$f":"データ一覧!I580","v":0}]
["人","・","  男",null,{"$f":"データ一覧!I83","v":1783},null,null,{"$f":"データ一覧!I84","v":1149},null,null,{"$f":"データ一覧!I85","v":1400},null,null,{"$f":"データ一覧!I86","v":1634},null,null,{"$f":"データ一覧!I87","v":1863},null,null,{"$f":"データ一覧!I88","v":1897},null,null,{"$f":"データ一覧!I89","v":3961},null,null," 無立木地   未立木地",null,null,null,{"$f":"データ一覧!I272","v":140.80000000000001},null,null,"公       　　  有",null,null,null,{"$f":"データ一覧!I274","v":1887.25},null,null,"     輸送機械","情報通信機械",null,null,null,null,null,null,null,null,{"$f":"データ一覧!I354","v":0},null,null,null,{"$f":"+データ一覧!I379","v":0},null,null,null,null,null,null,{"$f":"データ一覧!I404","v":0},null,null,null,null,null,null,null,null,null,null,null,null,null,null,null,null,null,null,null,null,null,null,null,null,"その他の社会福祉施設",null,null,null,null,null,null,null,{"$f":"データ一覧!I568+データ一覧!I569","v":0},null,null,null,{"$f":"データ一覧!I581+データ一覧!I582","v":0}]
["口",{"$f":"+RIGHT(データ一覧!$A$83,1)","v":"1"},"  女",null,{"$f":"データ一覧!I91","v":1645},null,null,{"$f":"データ一覧!I92","v":944},null,null,{"$f":"データ一覧!I93","v":1138},null,null,{"$f":"データ一覧!I94","v":1461},null,null,{"$f":"データ一覧!I95","v":1794},null,null,{"$f":"データ一覧!I96","v":1827},null,null,{"$f":"データ一覧!I97","v":5249},null,null,null,null,null,null,null,null,null,"私          　 有",null,null,null,{"$f":"データ一覧!I275","v":16437.430000000004},null,null,"     精密機械","輸送機械",null,null,null,null,null,null,null,null,{"$f":"データ一覧!I355","v":2},null,null,null,{"$f":"+データ一覧!I380","v":25},null,null,null,null,null,null,{"$f":"データ一覧!I405","v":"x"},null,null,null,null,null,null,"障害福祉サービス事業所",null,null,null,null,null,null,null,{"$f":"データ一覧!I562","v":27},null,null,null,{"$f":"データ一覧!I575","v":256}]
[null,null,null,null,null,null,null,null,null,null,null,null,null,null,null,null,null,null,null,null,null,null,null,null,null,"            林     産     物     生     産     量 ",null,null,null,null,null,null,null,null,null,{"$f":"データ一覧!$A$276","v":"2年中"},null,null,null,"     その他","その他",null,null,null,null,null,null,null,null,{"$f":"データ一覧!I356","v":14},null,null,null,{"$f":"+データ一覧!I381","v":321},null,null,null,null,null,null,{"$f":"データ一覧!I406","v":516791},null,null,null,null,null,null," １７  教　　　　　　　育",null,null,null,null,null,null,null,null,null,null,null,null,null,null,null,{"$f":"データ一覧!$A$583","v":"3.5.1"}]
["人口動態",null,null,null,null,null,null,"   自　然　動　態",null,null,null,null,null,"   社  会  動  態",null,null,null,null,null,{"$f":"データ一覧!$A78","v":"2.1.1～3.12.31"},null,null,null,null,null,"生椎茸",null,null,null,{"$f":"データ一覧!I276","v":30},null,"㎏","乾椎茸",null,null,null,{"$f":"データ一覧!I277","v":"-"},null,"㎏"]
[null,null,"   区       分",null,null,null,null," 出   生",null,null," 死   亡",null,null," 転   入",null,null," 転   出",null,null," 婚   姻",null,null," 離   婚",null,null,"えのきだけ",null,null,null,{"$f":"データ一覧!I279","v":"-"},null,"㎏","なめこ",null,null,null,{"$f":"データ一覧!I278","v":"-"},null,"㎏","    ","工　業　用　水　量",null,null,null,null,null,"（従業者30人以上の事業所）",null,null,null,null,null,null,null,null,null,null,{"$f":"データ一覧!I407","v":527},null,null,null,null,"㎥／日",null,null,null,null,null,null,null,null,null,null,null,null,null,null,"学校数（校）",null,null,null,null,null,null,"教員数（人）",null,null,null,null,null,null,null,"学生・生徒・児童数（人）"]
[{"$f":"LEFT(データ一覧!$A74,6)","v":"2.10.1"},null,null,null,null,null,null,"       人",null,null,"       人",null,null,"       人",null,null,"       人",null,null,null,"    件",null,null,"    件",null,"ひらたけ",null,null,null,{"$f":"+データ一覧!I280","v":"-"},null,"㎏","まいたけ",null,null,null,{"$f":"+データ一覧!I281","v":"-"},null,"㎏",null,null,null,null,null,null,null,null,null,null,null,null,null,null,null,null,null,null,null,null,null,null,null,null,null,null,null,null,null,"　","区分",null,null,null,null,null,null,null," 本 校",null,null," 分 校",null,null," 本   務",null,null,null," 兼   務",null,null,null," 総   数",null,null,null,"男",null,null,null,"女"]
["～",null," 実          数",null,null,null,null,{"$f":"データ一覧!I74","v":98},null,null,{"$f":"データ一覧!I75","v":230},null,null,{"$f":"データ一覧!I76","v":324},null,null,{"$f":"データ一覧!I77","v":387},null,null,{"$f":"データ一覧!I78","v":102},null,null,{"$f":"データ一覧!I79","v":33},null,null,null,null,null,null,null,null,null,null,null,null,null,null,null,null," １１ 　上　・　下　水　道",null,null,null,null,null,null,null,null,null,null,null,null,null,null,null,null,null,null,null,null,null,null,null,null,null,null,null,null,"小学校",null,null,null,null,null,null,null,null,{"$f":"データ一覧!I584","v":9},null,null,{"$f":"データ一覧!I585","v":0},null,null,{"$f":"データ一覧!I586","v":138},null,null,null,{"$f":"データ一覧!I587","v":21},null,null,null,{"$f":"データ一覧!I588","v":1465},null,null,null,{"$f":"データ一覧!I589","v":744},null,null,null,{"$f":"データ一覧!I590","v":721}]
[{"$f":"RIGHT(データ一覧!$A76,6)","v":"3.9.30"},null,"比率(対1,000人)",null,null,null,null,{"$f":"+H48/I35*1000","v":3.302999662959218},null,null,{"$f":"+K48/I35*1000","v":7.7519379844961236},null,null,"- ",null,null,"- ",null,null,{"$f":"+T48/I35*1000","v":3.4378159757330637},null,null,{"$f":"+W48/I35*1000","v":1.1122345803842264},null,null,"  ６  漁               業",null,null,null,null,null,null,null,null,null,null,null,null,null,null,null,null,null,null,null,null,null,null,null,null,null,null,null,null,null,null,null,null,null,null,null,null,null,null,null,null,null,"  ","中学校",null,null,null,null,null,null,null,null,{"$f":"データ一覧!I592","v":2},null,null,{"$f":"データ一覧!I593","v":0},null,null,{"$f":"データ一覧!I594","v":61},null,null,null,{"$f":"データ一覧!I595","v":6},null,null,null,{"$f":"データ一覧!I596","v":739},null,null,null,{"$f":"データ一覧!I597","v":391},null,null,null,{"$f":"データ一覧!I598","v":348}]
[null,null,null,null,null,null,null,null,null,null,null,null,null,null,null,null,null,null,null,null,null,null,null,null,null,null,null,null,null,null,null,null,null,null,null,null,null,null,null,"水 道 供 給 人 口",null,null,null,null,null,null,"上 水 道",null,null,null,"簡易水道",null,null,null,"専用水道",null,null,null,"飲料水供給施設",null,null,null,"下水道処理人口",null,null,null,null,"  ","高等学校",null,null,null,null,null,null,null,null,{"$f":"データ一覧!I600","v":2},null,null,{"$f":"データ一覧!I601","v":0},null,null,{"$f":"データ一覧!I602","v":112},null,null,null,{"$f":"データ一覧!I603","v":20},null,null,null,{"$f":"データ一覧!I604","v":1203},null,null,null,{"$f":"データ一覧!I605","v":614},null,null,null,{"$f":"データ一覧!I606","v":589}]
["  ３  事　　業　　所（民　　営）    （平 28.6.1）",null,null,null,null,null,null,null,null,null,null,null,null,null,null,null,null,null,null,null,null,null,null,null,null,"漁船隻数・トン数",null,null,null,{"$f":"データ一覧!$A$282","v":"2.12.31"},null,null,null,"動　力　船",null,null,null,null,null,{"$f":"データ一覧!$A$408","v":"3.3.31"},null,null,null,null,null,"人",null,{"$f":"データ一覧!I408","v":23961},null,null,{"$f":"データ一覧!I409","v":4067},null,null,null,null,{"$f":"データ一覧!I410","v":0},null,null,null,{"$f":"データ一覧!I411","v":135},null,null,null,{"$f":"データ一覧!I412","v":19911},null,null,null,"  ","大学・短期大学",null,null,null,null,null,null,null,null,{"$f":"データ一覧!I607","v":0},null,null,{"$f":"データ一覧!I608","v":1},null,null,{"$f":"データ一覧!I609","v":23},null,null,null,{"$f":"データ一覧!I610","v":20},null,null,null,{"$f":"データ一覧!I611","v":188},null,null,null,{"$f":"データ一覧!I612","v":146},null,null,null,{"$f":"データ一覧!I613","v":42}]
[null,null,null,null,null,null,null,null,null,null,null,null,null,null,null,null,null,null,null,null,null,null,null,null,null,"無動力船隻数",null,null,null,"船外機付漁船隻数",null,null,null,"隻　数",null,null,"総 ト ン 数",null,null,null,null,null,null,null,null,null,null,null,null,null,null,null,null,null,null,null,null,null,null,null,null,null,null,null,null,null,null,"  ","高等専門学校",null,null,null,null,null,null,null,null,{"$f":"データ一覧!I614","v":0},null,null,{"$f":"データ一覧!I615","v":0},null,null,{"$f":"データ一覧!I616","v":0},null,null,null,{"$f":"データ一覧!I617","v":0},null,null,null,{"$f":"データ一覧!I618","v":0},null,null,null,{"$f":"データ一覧!I619","v":0},null,null,null,{"$f":"データ一覧!I620","v":0}]
[null,null,null,null,null,null,null,"    総　　　　　数",null,null,null,null,null,"    民　　　　　営",null,null,null,null,null,"  国 ･ 地方公共団体",null,null,null,null,null,null,null,null,"隻",null,null,null,"隻",null,null,"隻",null,null,"t"," １２  交   通　・　通   信",null,null,null,null,null,null,null,null,null,null,null,null,null,null,null,null,null,null,null,null,null,null,null,null,null,null,null,"  ","特別支援学校",null,null,null,null,null,null,null,null,{"$f":"+データ一覧!I622","v":1},null,null,{"$f":"+データ一覧!I623","v":0},null,null,{"$f":"+データ一覧!I624","v":57},null,null,null,{"$f":"+データ一覧!I625","v":1},null,null,null,{"$f":"+データ一覧!I626","v":70},null,null,null,{"$f":"+データ一覧!I627","v":46},null,null,null,{"$f":"+データ一覧!I628","v":24}]
["  　区　　　　　　分",null,null,null,null,null,null," 事業所数",null,null," 従業者数",null,null," 事業所数",null,null," 従業者数",null,null," 事業所数",null,null," 従業者数",null,null,{"$f":"データ一覧!$I$282","v":2},null,null,null,{"$f":"データ一覧!$I$283","v":140},null,null,null,{"$f":"データ一覧!I284","v":149},null,null,{"$f":"データ一覧!I285","v":577.82000000000005},null,null,null,null,null,null,null,null,null,null,null,null,null,null,null,null,null,null,null,null,null,null,null,null,null,null,null,null,null,null,"  ","幼稚園",null,null,null,null,null,null,null,null,{"$f":"データ一覧!I630","v":0},null,null,{"$f":"データ一覧!I631","v":0},null,null,{"$f":"データ一覧!I632","v":0},null,null,null,{"$f":"データ一覧!I633","v":0},null,null,null,{"$f":"データ一覧!I634","v":0},null,null,null,{"$f":"データ一覧!I635","v":0},null,null,null,{"$f":"データ一覧!I636","v":0}]
[null,null,null,null,null,null,null,null,null,null,"       人",null,null,null,null,null,"       人",null,null,null,null,null,"       人",null,null,"  男女別就業者数",null,null,null,null,null,null,null,{"$f":"データ一覧!$A$286","v":"30.11.1"},null,null,null,null,null,"道     路",null,null,null,"実 延 長",null,null,null,"国     道",null,null,null,"県     道",null,null,null,"市町道",null,null,null," 鉄 道 営 業 キ ロ 数",null,null,null,null,null,null,null,"  ","幼保連携認定こども園",null,null,null,null,null,null,null,null,{"$f":"データ一覧!I638","v":3},null,null,{"$f":"データ一覧!I639","v":0},null,null,{"$f":"データ一覧!I640","v":60},null,null,null,{"$f":"データ一覧!I641","v":8},null,null,null,{"$f":"データ一覧!I642","v":409},null,null,null,{"$f":"データ一覧!I643","v":205},null,null,null,{"$f":"データ一覧!I644","v":204}]
["総数",null,null,null,null,null,null,{"$f":"データ一覧!I99","v":"…"},null,null,{"$f":"データ一覧!I156","v":"…"},null,null,{"$f":"データ一覧!I100","v":1765},null,null,{"$f":"データ一覧!I157","v":12822},null,null,{"$f":"データ一覧!I101","v":"…"},null,null,{"$f":"データ一覧!I158","v":"…"},null,null,"総　　数",null,null,null,null,null,"男",null,null,null,"女",null,null,null,{"$f":"データ一覧!$A$413","v":"2.4.1"},null,null,null,{"$f":"データ一覧!I413","v":558.25700000000006},null,null,"㎞",{"$f":"データ一覧!I414","v":31.1},null,null,"㎞",{"$f":"データ一覧!I415","v":87.3},null,null,"㎞",{"$f":"データ一覧!I416","v":439.85700000000003},null,null,"km",{"$f":"データ一覧!$A$417","v":"3.4.1"},null,null,null,{"$f":"データ一覧!I417","v":16.247},null,null,"㎞","  ","各種学校",null,null,null,null,null,null,null,null,{"$f":"データ一覧!I646","v":1},null,null,{"$f":"データ一覧!I647","v":0},null,null,{"$f":"データ一覧!I648","v":13},null,null,null,{"$f":"データ一覧!I649","v":0},null,null,null,{"$f":"データ一覧!I650","v":126},null,null,null,{"$f":"データ一覧!I651","v":93},null,null,null,{"$f":"データ一覧!I652","v":33}]
["農林漁業",null,null,null,null,null,null,{"$f":"データ一覧!I102","v":"…"},null,null,{"$f":"データ一覧!I159","v":"…"},null,null,{"$f":"データ一覧!I103","v":13},null,null,{"$f":"データ一覧!I160","v":185},null,null,{"$f":"データ一覧!I104","v":"…"},null,null,{"$f":"データ一覧!I161","v":"…"},null,null,null,null,null,null,null,"人",null,null,"　　　　人",null,null,null,null,"  人","自動車",null,null,null,null,null,null,null,null,"乗用車",null,null,null,null,null,null,null,null,null,null,null,null,null,null,null,null,null,null,"  ","専修学校",null,null,null,null,null,null,null,null,{"$f":"データ一覧!I654","v":3},null,null,{"$f":"データ一覧!I655","v":0},null,null,{"$f":"データ一覧!I656","v":19},null,null,null,{"$f":"データ一覧!I657","v":93},null,null,null,{"$f":"データ一覧!I658","v":140},null,null,null,{"$f":"データ一覧!I659","v":34},null,null,null,{"$f":"データ一覧!I660","v":106}]
["鉱業",null,null,null,null,null,null,{"$f":"データ一覧!I105","v":"…"},null,null,{"$f":"データ一覧!I162","v":"…"},null,null,{"$f":"データ一覧!I106","v":0},null,null,{"$f":"データ一覧!I163","v":0},null,null,{"$f":"データ一覧!I107","v":"…"},null,null,{"$f":"データ一覧!I164","v":"…"},null,null,{"$f":"AF58+AJ58","v":154},null,null,null,null,null,{"$f":"データ一覧!$I$287","v":139},null,null,null,{"$f":"データ一覧!I288","v":15},null,null,null,"台  数",null,null,null,"貨    物",null,null,null,"普     通",null,null,null,"小     型",null,null,null,"乗  合",null,null,"特  種",null,null,"小型二輪",null,null,"軽自動車",null,null," １８  衛　　　　　　　生"]
["建設業",null,null,null,null,null,null,{"$f":"データ一覧!I108","v":"…"},null,null,{"$f":"データ一覧!I165","v":"…"},null,null,{"$f":"データ一覧!I109","v":190},null,null,{"$f":"データ一覧!I166","v":983},null,null,{"$f":"データ一覧!I110","v":"…"},null,null,{"$f":"データ一覧!I167","v":"…"},null,null,"　　　　海 面 漁 業 漁 獲 量 （属人）",null,null,null,null,null,null,null,{"$f":"データ一覧!$A$289","v":"30年中"},null,null,null,null,null,{"$f":"データ一覧!$A$418","v":"3.3.31"},null,null,null,null,{"$f":"データ一覧!I418","v":4758},null,null,null,{"$f":"データ一覧!I420","v":15692},null,null,null,{"$f":"データ一覧!I421","v":15837},null,null,{"$f":"データ一覧!I419","v":183},null,null,{"$f":"データ一覧!I422","v":1384},null,null,{"$f":"データ一覧!I423","v":896},null,null,{"$f":"データ一覧!I424","v":30417}]
["製造業",null,null,null,null,null,null,{"$f":"データ一覧!I111","v":"…"},null,null,{"$f":"データ一覧!I168","v":"…"},null,null,{"$f":"データ一覧!I112","v":167},null,null,{"$f":"データ一覧!I169","v":2084},null,null,{"$f":"データ一覧!I113","v":"…"},null,null,{"$f":"データ一覧!I170","v":"…"},null,null,null,null,null,null,null,"       ","ｔ",null,null,null,null,null,null,"t",null,null,"     ",null,"郵　便　局　数",null,null,null,null,null,null,null,null,null,null,null,null,null,{"$f":"+MID(データ一覧!$A$428,3,2)","v":"12"},"令","一般加入",null,null,null,"ＩＮＳネット",null,null,null,null,null,null,null,"医療関係施設",null,null,null,null,null,{"$f":"データ一覧!$A$661","v":"元.10.1"},null,null,null,null,null,null,"および医療関係者数",null,null,null,null,null,null,null,{"$f":"データ一覧!$A$666","v":"30.12.31"}]
["電気・ｶﾞ ｽ・熱供給・水道業",null,null,null,null,null,null,{"$f":"データ一覧!I114","v":"…"},null,null,{"$f":"データ一覧!I171","v":"…"},null,null,{"$f":"データ一覧!I115","v":2},null,null,{"$f":"データ一覧!I172","v":34},null,null,{"$f":"データ一覧!I116","v":"…"},null,null,{"$f":"データ一覧!I173","v":"…"},null,null,"   総　　　　　　数",null,null,null,{"$f":"データ一覧!I289","v":675},null,null,"   藻　　　　　　類",null,null,null,{"$f":"データ一覧!I292","v":9},null,null,"通  信",null,null,null," 総     数",null,null,null,null," 郵 便 局",null,null,null,null," 簡 易 局",null,null,null,"・",{"$f":"+LEFT(データ一覧!$A$428,1)","v":"2"},"電話数",null,null,null,"加入数",null,null,null,null,null,null,null,null,null,"　","病",null,null,"院",null,"　",null,null,null,null," ","一般診療所",null,null,null,null,null,null,null,null,null,null,null,"歯科診療所"]
["情報通信業",null,null,null,null,null,null,{"$f":"データ一覧!I117","v":"…"},null,null,{"$f":"データ一覧!I174","v":"…"},null,null,{"$f":"データ一覧!I118","v":10},null,null,{"$f":"データ一覧!I175","v":59},null,null,{"$f":"データ一覧!I119","v":"…"},null,null,{"$f":"データ一覧!I176","v":"…"},null,null,"   魚　　　　　　類",null,null,null,{"$f":"データ一覧!I290","v":570},null,null,"   そ　   の　　 他",null,null,null,{"$f":"データ一覧!I293","v":64},null,null,{"$f":"データ一覧!$A$428","v":"2.12.31"},null,null,null,{"$f":"データ一覧!I425","v":14},null,null,null,null,{"$f":"データ一覧!I426","v":13},null,null,null,null,{"$f":"データ一覧!I427","v":1},null,null,null,{"$f":"+RIGHT(データ一覧!$A$428,2)","v":"31"},"・",{"$f":"データ一覧!I428","v":4745},null,null,null,{"$f":"データ一覧!I429","v":527},null,null,null," ","医療関係",null,null,null,null,null,null,null,null,null,null,null,"一般病院",null,null,null,null,null,null,null,null,null,null,null,"有",null,null,"床"]
["運輸業、郵便業",null,null,null,null,null,null,{"$f":"データ一覧!I120","v":"…"},null,null,{"$f":"データ一覧!I177","v":"…"},null,null,{"$f":"データ一覧!I121","v":19},null,null,{"$f":"データ一覧!I178","v":297},null,null,{"$f":"データ一覧!I122","v":"…"},null,null,{"$f":"データ一覧!I179","v":"…"},null,null,"   貝　　　　　　類",null,null,null,{"$f":"データ一覧!I291","v":32},null,null,null,null,null,null,null,null,null,null,null,null,null,null,null,null,null,null,null,null,null,null,null,null,null,null,null,null,null,null,null,null,null,null,null,null,null,null,"施設数",null,null,null,null,null,null,{"$f":"データ一覧!I661","v":2},null,null,null,null,null,{"$f":"データ一覧!I662","v":2},null,null,null,null,null,{"$f":"データ一覧!I663","v":19},null,null,null,null,null,{"$f":"データ一覧!I664","v":1},null,null,null,null,null,{"$f":"データ一覧!I665","v":8}]
["卸売業、小売業",null,null,null,null,null,null,{"$f":"データ一覧!I123","v":"…"},null,null,{"$f":"データ一覧!I180","v":"…"},null,null,{"$f":"データ一覧!I124","v":489},null,null,{"$f":"データ一覧!I181","v":3144},null,null,{"$f":"データ一覧!I125","v":"…"},null,null,{"$f":"データ一覧!I182","v":"…"},null,null,null,null,null,null,null,null,null,null,null,null,null,null,null,null," １３  税　　・　　財　　政",null,null,null,null,null,null,null,null,null,null,null,null,null,null,null,null,null,null,null,null,null,null,null,null,null,null,null,null,null,null,null,null,null,null,"医師",null,null,null,null,"歯科医師",null,null,null,null,"薬剤師",null,null,null,null,"保健師",null,null,null,null,"助産師",null,null," ",null,"看護師",null,null," "]
["金融業、保険業",null,null,null,null,null,null,{"$f":"データ一覧!I126","v":"…"},null,null,{"$f":"データ一覧!I183","v":"…"},null,null,{"$f":"データ一覧!I127","v":34},null,null,{"$f":"データ一覧!I184","v":348},null,null,{"$f":"データ一覧!I128","v":"…"},null,null,{"$f":"データ一覧!I185","v":"…"},null,null,"  ７  商        　　　業 ",null,null,null,null,null,null,{"$f":"データ一覧!$A$294","v":"28.6.1(平成27年実績）"},null,null,null,null,null,null,null,null,null,null,null,null,null,null,null,null,null,null,null,null,null,null,null,null,null,null,null,null,null,null,null,null,null,null," ","医療",null,null,null,null,null,null,null,null,"人",null,null,null,null,"人",null,null,null,null,"人",null,null,null,null,"人",null,null,null,null,"人",null,null,null,null,"人"]
["不動産業、物品賃貸業",null,null,null,null,null,null,{"$f":"データ一覧!I129","v":"…"},null,null,{"$f":"データ一覧!I186","v":"…"},null,null,{"$f":"データ一覧!I130","v":67},null,null,{"$f":"データ一覧!I187","v":220},null,null,{"$f":"データ一覧!I131","v":"…"},null,null,{"$f":"データ一覧!I188","v":"…"},null,null,null,null,null,null,null,null,null,null,null,null,null,null,null,null,"           ",null,null,null,"歳入",null,null,null,null,null,null,null,null,"(千円）"," ",null,null,null,"歳出",null,null,null,null,null,null,null,null,"(千円）",null,"関係者",null,null,null,null,{"$f":"データ一覧!I666","v":68},null,null,null,null,{"$f":"データ一覧!I667","v":15},null,null,null,null,{"$f":"データ一覧!I668","v":53},null,null,null,null,{"$f":"データ一覧!I669","v":28},null,null,null,null,{"$f":"データ一覧!I670","v":23},null,null,null,null,{"$f":"データ一覧!I671","v":459}]
["学術研究、専門・技術ｻｰﾋﾞｽ業",null,null,null,null,null,null,{"$f":"データ一覧!I132","v":"…"},null,null,{"$f":"データ一覧!I189","v":"…"},null,null,{"$f":"データ一覧!I133","v":68},null,null,{"$f":"データ一覧!I190","v":748},null,null,{"$f":"データ一覧!I134","v":"…"},null,null,{"$f":"データ一覧!I191","v":"…"},null,null,"  産   業　 分　 類",null,null,null,"  商　 店 　数",null,null," 従　業　者　数",null,null,"年　間　販　売　額",null,null,null,"一人当たり歳入歳出予算決算額",null,null,null,null,null,null,null,null,null,null,null,null,null,null,null,null,null,null,null,null,null,null,null,null,null,null,null,"                   ",null,null,null,null,null,null,null,null,"死因別死亡数　　　　　　    ",null,null,null,null,null,null,null,null,null,null,null,null,null,null,null,{"$f":"データ一覧!$A$672","v":"2年中"},null,null,null,null,null,null,null,null,"      単 位：人"]
["宿泊業、飲食サービス業",null,null,null,null,null,null,{"$f":"データ一覧!I135","v":"…"},null,null,{"$f":"データ一覧!I192","v":"…"},null,null,{"$f":"データ一覧!I136","v":244},null,null,{"$f":"データ一覧!I193","v":1406},null,null,{"$f":"データ一覧!I137","v":"…"},null,null,{"$f":"データ一覧!I194","v":"…"},null,null,null,null,null,null,null,"        店",null,null,null,"　人",null,"         百万円",null,null,"区分",null,null,null,{"$f":"データ一覧!$A$438","v":"3年度"},null,null,null,null,{"$f":"データ一覧!$A$452","v":"2年度"},null,null,null,null,"区分",null,null,null,{"$f":"+AR68","v":"3年度"},null,null,null,null,{"$f":"データ一覧!$A$452","v":"2年度"},null,null,null,null," 死     因",null,null,null,null,null,null,null,null,null,null,null,"悪  性",null,null,"高血圧",null,null,null,null,null,"脳血管",null,null,null,null,null," ",null,null,"不慮の事故"]
["生活関連サービス業、娯楽業",null,null,null,null,null,null,{"$f":"データ一覧!I138","v":"…"},null,null,{"$f":"データ一覧!I195","v":"…"},null,null,{"$f":"データ一覧!I139","v":167},null,null,{"$f":"データ一覧!I196","v":598},null,null,{"$f":"データ一覧!I140","v":"…"},null,null,{"$f":"データ一覧!I197","v":"…"},null,null,"総　　　　　　計",null,null,null,{"$f":"データ一覧!$I$294","v":407},null,null,{"$f":"データ一覧!I303","v":2685},null,null,{"$f":"データ一覧!I312","v":59330},null,null,null,null,null,null,null,{"$f":"データ一覧!I434","v":566488.81443478866},null,null,null,null,{"$f":"データ一覧!I435","v":728126.05606419453},null,null,null,null,null,null,null,null,{"$f":"データ一覧!I436","v":566488.81443478866},null,null,null,null,{"$f":"データ一覧!I437","v":704124.35929159739},null,null,null,null,null,null,null,null,null,"全 死 因",null,null,null,"結 核",null,null,"新生物",null,null,"性疾患",null,null,"心疾患",null,null,"疾  患",null,null,"肺  炎",null,null,"老  衰",null,null,null,null," ","交通事故"]
["教育、学習支援業",null,null,null,null,null,null,{"$f":"データ一覧!I141","v":"…"},null,null,{"$f":"データ一覧!I198","v":"…"},null,null,{"$f":"データ一覧!I142","v":46},null,null,{"$f":"データ一覧!I199","v":218},null,null,{"$f":"データ一覧!I143","v":"…"},null,null,{"$f":"データ一覧!I200","v":"…"},null,null,"卸売業",null,null,null,{"$f":"データ一覧!I295","v":92},null,null,{"$f":"データ一覧!I304","v":679},null,null,{"$f":"データ一覧!I313","v":24287},null,null,null,"項目別歳入歳出予算決算額"]
["医療、福祉",null,null,null,null,null,null,{"$f":"データ一覧!I144","v":"…"},null,null,{"$f":"データ一覧!I201","v":"…"},null,null,{"$f":"データ一覧!I145","v":81},null,null,{"$f":"データ一覧!I202","v":1336},null,null,{"$f":"データ一覧!I146","v":"…"},null,null,{"$f":"データ一覧!I203","v":"…"},null,null,"小売業",null,null,null,{"$f":"データ一覧!I296","v":315},null,null,{"$f":"データ一覧!I305","v":2006},null,null,{"$f":"データ一覧!I314","v":35043},null,null,null,"区分",null,null,null,{"$f":"データ一覧!$A$438","v":"3年度"},null,null,null,null,{"$f":"データ一覧!$A$452","v":"2年度"},null,null,null,null,"区分",null,null,null,{"$f":"+AR71","v":"3年度"},null,null,null,null,{"$f":"データ一覧!$A$452","v":"2年度"},null,null,null,null,null,null,null,null,null,{"$f":"データ一覧!I672","v":371},null,null,null,"   －",{"$f":"データ一覧!I673","v":1},null,{"$f":"データ一覧!I674","v":20},null,null,null,{"$f":"データ一覧!I675","v":3},null,{"$f":"データ一覧!I676","v":10},null,null,{"$f":"データ一覧!I677","v":1},null,null,{"$f":"データ一覧!I678","v":18},null,null,{"$f":"データ一覧!I679","v":46},null,null,{"$f":"データ一覧!I680","v":18},null,null,{"$f":"データ一覧!I681","v":0}]
["複合サービス事業",null,null,null,null,null,null,{"$f":"データ一覧!I147","v":"…"},null,null,{"$f":"データ一覧!I204","v":"…"},null,null,{"$f":"データ一覧!I148","v":21},null,null,{"$f":"データ一覧!I205","v":306},null,null,{"$f":"データ一覧!I149","v":"…"},null,null,{"$f":"データ一覧!I206","v":"…"},null,null,"各種商品",null,null,null,{"$f":"データ一覧!I297","v":1},null,null,{"$f":"データ一覧!I306","v":5},null,null,{"$f":"データ一覧!I315","v":"x"},null,null,null,"総額",null,null,null,{"$f":"SUM(AR73:AV85)","v":16231604},null,null,null,null,{"$f":"SUM(AW73:BA85)","v":20565936},null,null,null,null,"総額",null,null,null,{"$f":"SUM(BF73:BJ85)","v":16231604},null,null,null,null,{"$f":"SUM(BK73:BO85)","v":19918974},null,null,null,null," １９  警　察　・　消　防  ",null,null,null,null,null,null,null,null,null,null,null,null,null,null,null,{"$f":"+データ一覧!$A682","v":"3.4.1"}]
["サービス業",null,null,null,null,null,null,{"$f":"データ一覧!I150","v":"…"},null,null,{"$f":"データ一覧!I207","v":"…"},null,null,{"$f":"データ一覧!I151","v":147},null,null,{"$f":"データ一覧!I208","v":856},null,null,{"$f":"データ一覧!I152","v":"…"},null,null,{"$f":"データ一覧!I209","v":"…"},null,null,"織物・衣服・身の回り品",null,null,null,{"$f":"データ一覧!I298","v":33},null,null,{"$f":"データ一覧!I307","v":98},null,null,{"$f":"データ一覧!I316","v":1276},null,null,null,"地方税",null,null,null,{"$f":"データ一覧!I439","v":3559321},null,null,null,null,{"$f":"データ一覧!I453","v":3734281},null,null,null,null,"議会費",null,null,null,{"$f":"データ一覧!I467","v":185232},null,null,null,null,{"$f":"データ一覧!I481","v":174870}]
["公務",null,null,null,null,null,null,{"$f":"データ一覧!I153","v":"…"},null,null,{"$f":"データ一覧!I210","v":"…"},null,null,{"$f":"データ一覧!I154","v":"…"},null,null,{"$f":"データ一覧!I211","v":"…"},null,null,{"$f":"データ一覧!I155","v":"…"},null,null,{"$f":"データ一覧!I212","v":"…"},null,null,"飲食料品",null,null,null,{"$f":"データ一覧!I299","v":106},null,null,{"$f":"データ一覧!I308","v":843},null,null,{"$f":"データ一覧!I317","v":11565},null,null,null,"地方譲与税",null,null,null,{"$f":"データ一覧!I440","v":116000},null,null,null,null,{"$f":"データ一覧!I454","v":160751},null,null,null,null,"総務費",null,null,null,{"$f":"データ一覧!I468","v":1857400},null,null,null,null,{"$f":"データ一覧!I482","v":5439891},null,null,null,null,null,null,null,null,null,null,null,null,null,null,"交番・駐在所",null,null,null,null,null,null,null,null,"刑法犯認知件数",null,null,null,null,null,null,null,null,"交通人身事故発生件数"]
["  ４  農        　　　業 ",null,null,null,null,null,null,null,null,null,null,null,null,null,null,null,null,null,null,null,null,null,null,null,null,"機械器具",null,null,null,{"$f":"データ一覧!I300","v":37},null,null,{"$f":"データ一覧!I309","v":311},null,null,{"$f":"データ一覧!I318","v":7255},null,null,null,"各種交付金",null,null,null,{"$f":"データ一覧!I441","v":621500},null,null,null,null,{"$f":"データ一覧!I455","v":681880},null,null,null,null,"民生費",null,null,null,{"$f":"データ一覧!I469","v":5352744},null,null,null,null,{"$f":"データ一覧!I483","v":4624494},null,null,null,null,null,"警察署数",null,null,null,null,null,null,null,null,"検問所数",null,null,null,null,null,null,null,null,null,{"$f":"データ一覧!$A$684","v":"2年中"},null,null,null,null,null,null,null,null,{"$f":"データ一覧!$A$684","v":"2年中"}]
[null,null,null,null,null,null,null,null,null,null,null,null,null,null,null,null,null,null,null,null,null,null,null,null,null,"その他",null,null,null,{"$f":"データ一覧!I301","v":118},null,null,{"$f":"データ一覧!I310","v":682},null,null,{"$f":"データ一覧!I319","v":"x"},null,null,null,"地方特例交付金",null,null,null,{"$f":"データ一覧!I442","v":74000},null,null,null,null,{"$f":"データ一覧!I456","v":29362},null,null,null,null,"衛生費",null,null,null,{"$f":"データ一覧!I470","v":2118616},null,null,null,null,{"$f":"データ一覧!I484","v":1859558},null,null,null,null,null,null,null,null,null,null,null,null,null,null,null,null,null,null,null,null,null,null,null,null,null,null,null,null," 件",null,null,null,null,null,null,null,null,"　件"]
[null,null,"農業経営体数",null,null,null,null,null,null,"農産物販売額規模別経営体数",null,null,null,null,null,null,null,"経営耕地面積規模別経営体数",null,null,null,null,null,null,null,"無店舗",null,null,null,{"$f":"データ一覧!I302","v":20},null,null,{"$f":"データ一覧!I311","v":67},null,null,{"$f":"データ一覧!I320","v":1548},null,null,null,"地方交付税",null,null,null,{"$f":"データ一覧!I443","v":5415000},null,null,null,null,{"$f":"データ一覧!I457","v":5564802},null,null,null,null,"労働費",null,null,null,{"$f":"データ一覧!I471","v":172510},null,null,null,null,{"$f":"データ一覧!I485","v":164988},null,null,null,null,null,null,{"$f":"データ一覧!I682","v":1},null,null,null,null,null,null,null,null,{"$f":"データ一覧!I683","v":6},null,null,null,null,null,null,null,null,{"$f":"データ一覧!I684","v":74},null,null,null,null,null,null,null,null,{"$f":"データ一覧!I685","v":16}]
["農",null,"区　分",null,null,null,"経営体数\n（経営体）",null,null,"区　分",null,null,null,null,"経営体数\n（経営体）",null,null,"区　分",null,null,null,null,"経営体数\n（経営体）",null,null,null,null,null,null,null,null,null,null,null,null,null,null,null,null,"分担金および負担金",null,null,null,{"$f":"データ一覧!I444","v":192597},null,null,null,null,{"$f":"データ一覧!I458","v":226759},null,null,null,null,"農林水産業費",null,null,null,{"$f":"データ一覧!I472","v":745835},null,null,null,null,{"$f":"データ一覧!I486","v":859376},null,null,null,null,"火災発生件数",null,null,null,null,null,null,null,null,null,"林野焼損",null,null,null,null,"損      害",null,null,null,null,"消 防 自",null,null,null,"その他の",null,null,null," ",null,null,null,null," "]
["業","令",null,null,null,null,null,null,null,null,null,null,null,null,null,null,null,null,null,null,null,null,null,null,null,"  ８  住　　　　　　 　宅",null,null,null,null,null,null,null,null,null,null,null,null,null,"使用料および手数料",null,null,null,{"$f":"データ一覧!I445","v":240037},null,null,null,null,{"$f":"データ一覧!I459","v":240160},null,null,null,null,"商工費",null,null,null,{"$f":"データ一覧!I473","v":529382},null,null,null,null,{"$f":"データ一覧!I487","v":845757},null,null,null,null,{"$f":"+データ一覧!$A$686","v":"2年中"},null,null,null,null,"焼損棟数",null,null,null,null,"面    積",null,null,null,null,"見  積  額",null,null,null,null,"動 車 数",null,null,null,"ﾎﾟﾝﾌﾟ数",null,null,null," 消防吏員",null,null,null," 消防団員"]
["経",{"$f":"+LEFT(データ一覧!$A$213)","v":"2"},"計",null,null,null,{"$f":"データ一覧!I213","v":443},null,null,"総　　　 数",null,null,null,null,{"$f":"データ一覧!I217","v":443},null,null,"総　　　 数",null,null,null,null,{"$f":"データ一覧!I233","v":1011},null,null,null,null,null,null,null,null,null,null,null,null,null,null,null,null,"国庫支出金",null,null,null,{"$f":"データ一覧!I446","v":2079747},null,null,null,null,{"$f":"データ一覧!I460","v":5535909},null,null,null,null,"土木費",null,null,null,{"$f":"データ一覧!I474","v":1690965},null,null,null,null,{"$f":"データ一覧!I488","v":1943942},null,null,null,null,"         件",null,null,null,null,null,"      棟",null,null,null,null,null,null,"  ａ",null,null,null,"  千円",null,null,"        ",null,null,null,null,null,null,null,null,null,"  人",null,null,null,"  人"]
["営","・","個人経営体",null,null,null,{"$f":"データ一覧!I214","v":424},null,null,"販 売 な し",null,null,null,null,{"$f":"データ一覧!I218","v":42},null,null,"0.5 ha 未満",null,null,null,null,{"$f":"データ一覧!I234","v":40},null,null,{"$f":"+データ一覧!$A$321","v":"令和元年"},null,null,null,null,{"$f":"データ一覧!$A$324","v":"2年"},"中の増減",null,null,null,{"$f":"+データ一覧!$A$324","v":"2年"},null,null,null,"県支出金",null,null,null,{"$f":"データ一覧!I447","v":1437028},null,null,null,null,{"$f":"データ一覧!I461","v":1768245},null,null,null,null,"消防費",null,null,null,{"$f":"データ一覧!I475","v":594766},null,null,null,null,{"$f":"データ一覧!I489","v":582789},null,null,null,null,null,{"$f":"データ一覧!I686","v":12},null,null,null,null,{"$f":"データ一覧!I687","v":7},null,null,null,null,{"$f":"データ一覧!I688","v":0},null,null,null,{"$f":"データ一覧!I689","v":1785},null,null,null,null,null,{"$f":"データ一覧!I690","v":11},null,null,null,{"$f":"データ一覧!I691","v":33},null,null,null,{"$f":"データ一覧!I692","v":70},null,null,null,{"$f":"データ一覧!I693","v":368}]
["体",{"$f":"+LEFT(データ一覧!$A$213,1)","v":"2"},"団体経営体",null,null,null,{"$f":"データ一覧!I215","v":19},null,null,"50万円未満",null,null,null,null,{"$f":"データ一覧!I219","v":168},null,null,"0.5 ha ～ 1.0 ha",null,null,null,null,{"$f":"データ一覧!I235","v":100},null,null,null,null,null,null,"建設した住宅",null,null,"消失した住宅",null,null,null,null,null,null,"財産収入",null,null,null,{"$f":"データ一覧!I448","v":26483},null,null,null,null,{"$f":"データ一覧!I462","v":163602},null,null,null,null,"教育費",null,null,null,{"$f":"データ一覧!I476","v":1228748},null,null,null,null,{"$f":"データ一覧!I490","v":1700381},null,null,null,null," ２０  そ　　　の　　　他　"]
["数","・",null,"法人経営",null,null,{"$f":"データ一覧!I216","v":16},null,null,"50～300万円",null,null,null,null,{"$f":"データ一覧!I220","v":182},null,null,"1.0 ha ～ 2.0 ha",null,null,null,null,{"$f":"データ一覧!I236","v":152},null,null,null,null,null,null,null,null,null,null,null,null,null,null,null,null,"繰入金",null,null,null,{"$f":"データ一覧!I449","v":389965},null,null,null,null,{"$f":"データ一覧!I463","v":182032},null,null,null,null,"災害復旧費",null,null,null,{"$f":"データ一覧!I477","v":0},null,null,null,null,{"$f":"データ一覧!I491","v":0}]
["（",{"$f":"+RIGHT(データ一覧!$A$213)","v":"1"},null,null,null,null,null,null,null,"300～500万円",null,null,null,null,{"$f":"データ一覧!I221","v":21},null,null,"2.0 ha ～ 3.0 ha",null,null,null,null,{"$f":"データ一覧!I237","v":86},null,null,null,{"$f":"データ一覧!I321","v":11667},null,"戸",{"$f":"データ一覧!I322","v":193},null,"戸",{"$f":"データ一覧!I323","v":91},null,"戸",null,{"$f":"データ一覧!I324","v":11769},null,"戸","地方債",null,null,null,{"$f":"データ一覧!I450","v":1255600},null,null,null,null,{"$f":"データ一覧!I464","v":971960},null,null,null,null,"公債費",null,null,null,{"$f":"データ一覧!I478","v":1745406},null,null,null,null,{"$f":"データ一覧!I492","v":1722928},null,null,null,null,null,null,null,null,null,"若狭湾国定公園（若狭蘇洞門 蒼島暖地性植物群落 双児島 児島）、明通寺、羽賀寺、神宮寺、妙楽寺、飯盛寺、国分寺、多田寺、円照寺、萬徳寺、小浜西組重要伝統的建造物群保存地区、国指定文化財等67、県指定80、市指定116（R3.5.1現在）"]
["総",null,null,null,null,null,null,null,null,"500～1,000万円",null,null,null,null,{"$f":"データ一覧!I222","v":13},null,null,"3.0 ha ～ 5.0 ha",null,null,null,null,{"$f":"データ一覧!I238","v":67},null,null,null,null,null,null,null,null,null,null,null,null,null,null,null,null,"その他",null,null,null,{"$f":"データ一覧!I451","v":824326},null,null,null,null,{"$f":"データ一覧!I465","v":1306193},null,null,null,null,"その他",null,null,null,{"$f":"データ一覧!I479","v":10000},null,null,null,null,{"$f":"データ一覧!I493","v":0},null,null,null,null,"　名所・旧跡"]
["数",null,null,null,null,null,null,null,null,"1,000万円以上",null,null,null,null,{"$f":"データ一覧!I223","v":17},null,null,"5.0 ha以上",null,null,null,null,{"$f":"データ一覧!I239","v":567},null,null,null,null,null,null,null,null,null,null,null,null,null,null,null,null,null,null,null,null,null,null,null,null,null,null,null,null,null,null,null,null,null,null,null,null,null,null,null,null,null,null,null,null,"  文化財等"]
["）",null,"15歳以上の常雇い数",null,null,null,null,null,null,"農業に60日以上従事した世帯員、役員・構成員\n（経営主を含む）の平均年齢",null,null,null,null,null,null,null,null,null,null,null,null,null,null,null,"  ９  議　 員　・　職 　員",null,null,null,null,null,null,null,null,null,null,null,null,null," １４  文　　　　　　化",null,null,null,null,null,null,null,null,null," ( ",{"$f":"データ一覧!$A$500","v":"3.3.31"},null,null,null,"ただし図書館・公民館・児童館",null,null,null,null,null,null,null,{"$f":"データ一覧!$A$494","v":"3.4.1"}]
["と",null,null,null,null,null,null,null,null,null,null,null,null,null,null,null,null,null,null,null,null,null,null,null,null,null,null,null,null,null,null,null,null,null,null,null,null,null,null,null,null,null,null,null,null,null,null,null,null,null,null,null,null,null,null,"　宗教法人数 ",null,null,null,null,null,null,{"$f":"データ一覧!$A$502","v":"2.12.31"},null,null,null,"）"]
["就",null,null,null,null,null,null,null,null,"農業に60日以上従事",null,null,null,null,null,null,null,"農業に150日以上従事",null,null,null,null,null,null,null," 市 町 村 議 会",null,null,"有権者数",null,{"$f":"データ一覧!$A$328","v":"3.9.1"},null,"市 町 村 議 会",null,null,"  職      員      数",null,null,null,null,null,null,null,null,"図書館",null,null,null,null,null,"公　民　館",null,null,null,null,null,null,null,null,null,null," 社会教育学級講座",null,null,null,null,null,"　　特産物",null,null,null,null,"若狭塗（箸、漆器）、若狭めのう細工、若狭和紙、うるしダルマ、若狭かれい、小鯛ささ漬、谷田部ねぎ、浜焼き鯖、若狭ぐじ、若狭ふぐ、若狭かき、鯖へしこ、鯖のなれずし、おばま醤油干、小浜よっぱらいサバ、でっちようかん、くずまんじゅう、ふくいサーモン、若狭まはた、八百姫ひらめ"]
["業",null,"区　分",null,null,null,"人",null,null,"区　分",null,null,null,null,"人",null,null,"区　分",null,null,null,null,"人",null,null," 議  員  定  数",null,null,"    男",null,"    女",null,"選 挙 投 票 率",null,null," 総     数",null,"一般行政職",null,"公    共",null,null,null," 館  数",null,null," 図書数",null,null," 本  館",null,null," 分  館",null,null," 公  園",null,null," 児童館",null,null,"学級講座数",null,null,"受講者数"]
["状",null,"総数",null,null,null,{"$f":"データ一覧!I230","v":73},null,null,"総数",null,null,null,null,{"$f":"データ一覧!I224","v":67},null,null,"総数",null,null,null,null,{"$f":"データ一覧!I227","v":67.400000000000006},null,null,null,null,"人",null,"人",null,"人",null,null,"　％",null,"人",null,"人","施 設 数",null,null,null,null,{"$f":"データ一覧!I494","v":1},null,{"$f":"データ一覧!I495","v":195612},null,null,null,{"$f":"データ一覧!I496","v":13},null,{"$f":"データ一覧!I497","v":0},null,null,{"$f":"データ一覧!I498","v":24},null,null,{"$f":"データ一覧!I499","v":4},null,null,{"$f":"データ一覧!I500","v":94},null,null,{"$f":"データ一覧!I501","v":2719}]
["況",null,"男",null,null,null,{"$f":"データ一覧!I231","v":28},null,null,"男",null,null,null,null,{"$f":"データ一覧!I225","v":66},null,null,"男",null,null,null,null,{"$f":"データ一覧!I228","v":67},null,null,null,{"$f":"データ一覧!I325","v":18},null,{"$f":"データ一覧!I328","v":11806},null,{"$f":"データ一覧!I329","v":12317},null,{"$f":"データ一覧!I327","v":67.47},null,null,{"$f":"データ一覧!I330","v":288},null,{"$f":"データ一覧!I331","v":209},null,"宗    教",null,null,null," 仏教系",null,null,"ｷﾘｽﾄ教系",null,null,"神道諸派",null,null,"公会堂・市民会館",null,null,null,null,null," テレビ",null,null,"衛星放送契約数",null,null,null,null,null," 　年中行事",null,null,null,null,"お水送り、お城祭り(雲浜獅子)、放生祭、地蔵盆、箸まつり、若狭マリンピア、芽立ち神事、すり鉢くぐり、小浜祇園祭、OBAMA食のまつり、御食国若狭おばまYOSAKOI祭"]
[null,null,"女",null,null,null,{"$f":"データ一覧!I232","v":45},null,null,"女",null,null,null,null,{"$f":"データ一覧!I226","v":69.7},null,null,"女",null,null,null,null,{"$f":"データ一覧!I229","v":68.3},null,null,null,null,null,null,null,null,null,{"$f":"データ一覧!I326","v":"31.4.21"},null,null,null,null,null,null,"法 人 数",null,null,null,{"$f":"データ一覧!I502","v":139},null,null,{"$f":"データ一覧!I503","v":2},null,null,{"$f":"データ一覧!I504","v":108},null,null,{"$f":"データ一覧!I505","v":0},null,null,null,null,null,"      等",null,null,{"$f":"データ一覧!I506","v":4808}]

{"sheet":"大野市","index":8,"n_rows":93,"n_cols":103,"rows_kept":93,"cut":false,"hidden":false,"merged":[[89,2,89,5],[89,9,89,13],[89,17,89,21],[90,2,90,5],[90,9,90,13],[90,17,90,21],[91,2,91,5],[91,9,91,13],[91,17,91,21],[92,2,92,5],[92,9,92,13],[92,14,92,16],[92,17,92,21],[85,17,85,21],[81,9,81,13],[81,14,81,16],[82,6,82,8],[82,9,82,13],[82,14,82,16],[83,6,83,8],[83,9,83,13],[83,14,83,16],[84,6,84,8],[84,9,84,13],[84,14,84,16],[85,9,85,13],[85,14,85,16],[85,22,85,24],[86,2,88,8],[86,9,87,24],[88,9,88,16],[88,17,88,24],[76,2,76,8],[76,9,76,16],[76,17,76,24],[77,2,78,5],[77,6,78,8],[77,9,78,13],[77,14,78,16],[77,17,78,21],[77,22,78,24],[79,2,79,5],[79,6,79,8],[79,9,79,13],[79,14,79,16],[79,17,79,21],[79,22,79,24],[80,6,80,8],[80,9,80,13],[80,14,80,16],[80,17,80,21],[80,22,80,24],[81,6,81,8],[82,22,82,24],[88,72,92,102],[28,86,28,90],[27,22,27,24],[29,11,29,13],[32,81,32,84],[32,40,32,46],[29,86,29,90],[28,68,28,72],[28,73,28,76],[28,77,28,80],[70,22,70,24],[35,22,35,24],[35,11,35,13],[35,14,35,16],[35,18,35,19],[35,20,35,21],[42,10,42,12],[41,16,41,18],[73,77,73,83],[73,86,73,92],[73,95,73,101],[74,77,74,83],[74,87,74,91],[74,96,74,100],[67,57,67,61],[67,62,67,66],[57,16,57,18],[50,0,51,24],[40,2,40,3],[34,8,34,10],[84,22,84,24],[85,6,85,8],[31,8,31,10],[27,73,27,76],[26,49,26,51],[26,53,26,56],[24,40,24,46],[24,49,24,51],[24,53,24,56],[40,32,40,35],[30,53,30,56],[29,49,29,51],[29,53,29,56],[27,49,27,51],[29,40,29,46],[27,40,27,46],[25,49,25,51],[25,53,25,56],[27,0,27,4],[27,5,27,7],[25,37,26,38],[24,27,24,28],[25,40,25,46],[26,40,26,46],[35,5,35,7],[35,8,35,10],[30,5,30,7],[31,11,31,13],[30,8,30,10],[29,8,29,10],[27,53,27,56],[33,11,33,13],[34,11,34,13],[28,49,28,51],[17,25,17,27],[18,25,18,27],[17,100,17,101],[21,91,21,94],[19,95,19,98],[23,99,23,102],[24,91,24,94],[19,91,19,94],[24,95,24,98],[24,99,24,102],[34,5,34,7],[41,10,41,12],[41,13,41,15],[40,4,40,6],[17,91,17,94],[25,91,25,94],[29,5,29,7],[30,18,30,19],[28,40,28,46],[23,11,23,13],[41,4,41,6],[31,5,31,7],[30,68,30,72],[30,20,30,21],[30,11,30,13],[31,18,31,19],[30,14,30,16],[40,13,40,15],[41,19,41,21],[41,22,41,24],[41,32,41,35],[31,14,31,16],[20,21,20,23],[20,11,20,13],[20,16,20,18],[23,21,23,23],[26,22,26,24],[29,18,29,19],[29,14,29,16],[23,25,23,28],[23,29,23,31],[23,32,23,34],[23,35,23,38],[24,37,24,38],[25,27,25,28],[25,29,26,30],[25,31,26,32],[24,29,24,30],[24,31,24,32],[24,33,24,34],[24,35,24,36],[22,25,22,28],[26,27,26,28],[25,25,25,26],[27,25,27,26],[27,27,27,28],[27,29,27,30],[23,16,23,18],[27,33,27,34],[27,35,27,36],[27,37,27,38],[25,33,26,34],[25,35,26,36],[26,25,26,26],[5,0,5,9],[6,0,8,9],[17,40,17,46],[19,3,19,5],[20,60,20,64],[20,40,20,46],[20,49,20,51],[20,53,20,56],[19,40,19,46],[16,36,16,37],[21,60,21,64],[21,40,21,46],[21,49,21,51],[20,29,20,31],[20,32,20,34],[21,25,21,28],[20,25,20,28],[17,48,17,52],[17,53,17,57],[21,53,21,56],[19,32,19,34],[19,35,19,38],[19,49,19,51],[19,53,19,56],[20,35,20,38],[19,25,19,28],[19,29,19,31],[21,29,21,31],[21,32,21,34],[21,35,21,38],[14,25,15,25],[14,26,15,28],[23,40,23,46],[22,53,22,56],[22,81,22,84],[22,86,22,90],[23,68,23,72],[23,91,23,94],[23,95,23,98],[22,29,22,31],[22,32,22,34],[22,40,22,46],[22,49,22,51],[22,35,22,38],[22,7,22,8],[16,74,16,95],[17,82,17,83],[17,86,17,89],[19,73,19,76],[19,77,19,80],[17,59,17,65],[17,68,17,71],[17,73,17,76],[19,60,19,64],[19,81,19,84],[20,73,20,76],[23,60,23,64],[22,68,22,72],[22,73,22,76],[23,49,23,51],[23,53,23,56],[23,73,23,76],[23,77,23,80],[23,81,23,84],[19,99,19,102],[21,99,21,102],[21,95,21,98],[22,99,22,102],[20,91,20,94],[20,95,20,98],[25,95,25,98],[25,99,25,102],[26,95,26,98],[26,99,26,102],[22,60,22,64],[20,99,20,102],[21,73,21,76],[21,77,21,80],[26,81,26,84],[26,86,26,90],[24,86,24,90],[22,95,22,98],[22,91,22,94],[25,60,25,64],[26,60,26,64],[23,86,23,90],[20,77,20,80],[20,81,20,84],[20,86,20,90],[21,81,21,84],[21,86,21,90],[22,77,22,80],[24,73,24,76],[24,77,24,80],[26,73,26,76],[26,77,26,80],[24,60,24,64],[25,77,25,80],[25,81,25,84],[27,91,27,94],[27,86,27,90],[27,68,27,72],[27,60,27,64],[24,81,24,84],[24,68,24,72],[26,91,26,94],[30,81,30,84],[30,86,30,90],[30,77,30,80],[29,73,29,76],[29,81,29,84],[25,86,25,90],[26,68,26,72],[27,77,27,80],[27,81,27,84],[28,81,28,84],[25,73,25,76],[30,91,30,94],[27,95,27,98],[27,99,27,102],[29,99,29,102],[29,77,29,80],[28,95,28,98],[28,99,28,102],[30,95,30,98],[28,91,28,94],[29,60,29,64],[28,60,28,64],[30,99,30,102],[29,91,29,94],[29,95,29,98],[35,75,35,77],[35,80,35,83],[34,60,34,64],[33,60,33,64],[35,93,35,95],[33,83,34,96],[35,86,35,90],[32,95,32,98],[32,77,32,80],[34,18,34,19],[29,20,29,21],[29,22,29,24],[31,40,31,46],[31,49,31,51],[33,49,33,51],[34,20,34,21],[31,91,31,94],[31,77,31,80],[31,81,31,84],[31,95,31,98],[35,98,35,101],[31,99,31,102],[32,99,32,102],[32,91,32,94],[33,14,33,16],[33,18,33,19],[33,20,33,21],[34,49,34,51],[31,53,31,56],[32,53,32,56],[38,79,38,82],[38,67,38,73],[38,60,38,64],[32,68,32,72],[32,73,32,76],[30,22,30,24],[30,73,30,76],[32,49,32,51],[30,40,30,46],[30,49,30,51],[31,60,31,64],[30,60,30,64],[31,68,31,72],[33,67,34,80],[32,60,32,64],[31,73,31,76],[31,20,31,21],[31,22,31,24],[35,68,35,72],[37,79,37,82],[36,75,36,77],[33,40,33,46],[34,29,34,30],[34,36,34,37],[35,60,35,64],[35,53,35,56],[35,29,35,30],[35,40,35,46],[34,40,34,46],[35,49,35,51],[38,97,38,100],[40,67,41,73],[41,97,41,100],[40,75,41,77],[40,85,40,91],[37,60,37,64],[37,75,37,77],[37,97,37,100],[32,5,32,7],[32,8,32,10],[32,11,32,13],[32,14,32,16],[32,18,32,19],[33,5,33,7],[33,8,33,10],[37,49,37,51],[37,53,37,56],[36,49,36,51],[36,53,36,56],[33,22,33,24],[37,40,37,46],[34,22,34,24],[33,53,33,56],[35,36,35,37],[34,53,34,56],[32,20,32,21],[32,22,32,24],[36,60,36,64],[38,40,38,46],[38,49,38,51],[38,53,38,56],[34,14,34,16],[39,79,39,82],[40,79,41,82],[41,93,41,95],[48,10,48,12],[42,7,42,9],[44,0,45,1],[46,0,46,1],[47,0,47,1],[48,0,48,1],[48,7,48,9],[48,13,48,15],[48,22,48,24],[42,16,42,18],[42,19,42,21],[42,32,42,35],[48,16,48,18],[48,19,48,21],[47,7,47,9],[47,10,47,12],[47,13,47,15],[41,7,41,9],[42,4,42,6],[44,25,44,28],[45,25,45,28],[46,25,46,28],[44,32,44,35],[45,32,45,35],[46,32,46,35],[40,16,40,18],[39,53,39,56],[42,22,42,24],[39,60,39,64],[55,0,55,6],[40,7,40,9],[40,10,40,12],[40,19,40,21],[44,36,44,37],[37,67,37,73],[38,75,38,77],[47,91,47,94],[39,67,39,73],[42,13,42,15],[41,60,41,64],[46,99,46,102],[42,49,42,51],[45,84,45,89],[45,92,45,101],[42,53,42,56],[42,93,42,95],[42,97,42,100],[43,53,43,56],[43,60,43,64],[42,60,42,64],[42,40,42,46],[43,40,43,46],[43,49,43,51],[42,85,42,91],[44,19,44,24],[47,16,47,18],[47,19,47,21],[40,93,40,95],[38,93,38,95],[47,22,47,24],[40,22,40,24],[40,40,40,46],[40,49,40,51],[40,53,40,56],[40,60,40,64],[39,40,39,46],[55,99,55,102],[55,68,55,75],[55,77,55,79],[55,80,55,82],[55,83,55,86],[55,91,55,94],[40,97,40,100],[39,97,39,100],[49,99,49,102],[48,87,48,90],[48,91,48,94],[48,95,48,98],[49,68,49,75],[49,80,49,82],[48,80,48,82],[49,87,49,90],[54,87,54,90],[50,83,50,86],[52,68,52,75],[53,99,53,102],[53,95,53,98],[53,83,53,86],[53,87,53,90],[41,85,41,91],[53,91,53,94],[39,75,39,77],[47,95,47,98],[47,99,47,102],[45,77,45,82],[47,68,47,75],[47,77,47,79],[47,80,47,82],[47,83,47,86],[47,87,47,90],[49,77,49,79],[48,68,48,75],[48,77,48,79],[49,83,49,86],[48,83,48,86],[54,99,54,102],[53,77,53,79],[51,91,51,94],[52,87,52,90],[52,91,52,94],[51,77,51,79],[51,80,51,82],[51,99,51,102],[51,87,51,90],[52,80,52,82],[50,77,50,79],[50,80,50,82],[50,68,50,75],[53,80,53,82],[52,77,52,79],[48,99,48,102],[52,83,52,86],[52,99,52,102],[73,0,73,6],[70,0,70,6],[69,0,69,6],[68,0,68,6],[66,0,66,6],[65,0,65,6],[71,0,71,6],[67,0,67,6],[72,0,72,6],[73,7,73,9],[63,0,63,6],[62,0,62,6],[70,16,70,18],[71,13,71,15],[72,7,72,9],[66,7,66,9],[65,13,65,15],[65,16,65,18],[66,10,66,12],[66,13,66,15],[66,16,66,18],[63,99,63,101],[56,83,56,86],[56,87,56,90],[56,91,56,94],[56,99,56,102],[64,7,64,9],[64,10,64,12],[64,13,64,15],[64,16,64,18],[63,10,63,12],[63,94,63,96],[63,89,63,91],[62,93,62,95],[62,75,62,77],[62,81,62,83],[62,87,62,89],[63,84,63,86],[60,85,60,90],[60,91,60,96],[56,80,56,82],[64,68,64,71],[63,7,63,9],[59,22,59,24],[58,48,58,50],[57,61,57,63],[57,58,57,60],[56,22,56,24],[57,19,57,21],[57,7,57,9],[56,7,56,9],[61,59,61,62],[61,63,61,66],[56,0,56,6],[59,16,59,18],[58,39,58,42],[58,22,58,24],[60,22,60,24],[61,39,61,42],[57,22,57,24],[60,36,60,37],[58,44,58,46],[56,39,56,42],[57,39,57,42],[57,13,57,15],[58,58,58,60],[58,61,58,63],[57,67,58,102],[60,97,60,102],[62,99,62,101],[61,80,61,83],[60,59,60,62],[60,63,60,66],[62,68,62,71],[61,68,61,71],[58,52,58,54],[61,22,61,24],[61,13,61,15],[61,16,61,18],[58,16,58,18],[58,19,58,21],[56,10,56,12],[57,10,57,12],[62,7,62,9],[57,0,57,6],[65,43,65,49],[65,53,65,56],[65,57,65,63],[67,79,67,81],[64,19,64,21],[64,22,64,24],[63,74,63,76],[66,92,66,96],[59,0,59,6],[59,10,59,12],[58,0,58,6],[59,19,59,21],[58,13,58,15],[59,13,59,15],[58,10,58,12],[58,7,58,9],[59,7,59,9],[60,0,60,6],[61,0,61,6],[60,13,60,15],[60,16,60,18],[60,19,60,21],[58,55,58,57],[61,29,61,30],[65,19,65,21],[65,22,65,24],[65,68,65,71],[64,0,64,6],[66,19,66,21],[62,13,62,15],[62,16,62,18],[63,22,63,24],[63,19,63,21],[62,29,62,30],[63,16,63,18],[68,25,68,28],[62,22,62,24],[63,13,63,15],[62,19,62,21],[66,39,66,66],[71,83,72,102],[72,62,72,66],[71,62,71,66],[70,62,70,66],[67,97,67,102],[70,83,70,84],[68,82,68,84],[68,100,68,102],[68,85,68,87],[68,88,68,90],[70,88,70,90],[70,91,70,93],[68,94,68,96],[68,91,68,93],[68,72,68,75],[67,82,67,84],[65,93,65,96],[68,43,68,47],[66,76,66,90],[68,57,68,61],[68,62,68,66],[70,85,70,87],[70,94,70,96],[70,97,70,99],[70,100,70,102],[67,88,67,90],[81,67,82,102],[75,57,75,61],[78,67,78,71],[78,72,78,76],[77,77,77,81],[78,99,78,102],[78,77,78,81],[78,57,78,61],[78,87,78,90],[76,78,76,81],[76,69,76,72],[79,97,79,98],[80,100,80,102],[80,68,80,70],[80,73,80,75],[80,78,80,80],[76,96,76,99],[77,82,77,86],[78,62,78,66],[78,91,78,94],[75,62,75,66],[80,92,80,94],[80,96,80,98],[80,62,80,66],[80,82,80,86],[80,88,80,90],[79,101,79,102],[77,62,77,66],[78,95,78,98],[76,39,76,42],[69,39,69,66],[68,39,68,42],[69,22,69,24],[69,32,69,33],[75,53,75,56],[76,25,76,28],[76,29,76,30],[77,43,77,47],[70,32,70,33],[70,35,70,37],[73,57,73,61],[71,53,71,56],[70,48,70,52],[70,53,70,56],[73,62,73,66],[71,67,72,81],[75,25,75,28],[71,25,71,28],[70,57,70,61],[67,67,70,71],[68,76,68,78],[70,79,70,81],[68,79,68,81],[70,72,70,75],[77,53,77,56],[77,48,77,52],[76,35,76,37],[14,67,15,81],[15,29,15,30],[15,32,15,33],[18,28,18,30],[16,32,16,33],[17,32,17,34],[18,31,18,34],[18,35,18,38],[54,47,54,50],[51,33,51,35],[51,25,51,28],[57,55,57,57],[57,64,57,66],[76,62,76,66],[72,39,72,42],[49,50,49,53],[75,43,75,47],[73,43,73,47],[73,48,73,52],[73,53,73,56],[74,43,74,47],[76,32,76,33],[66,32,66,34],[73,32,73,33],[73,25,73,28],[70,29,70,30],[71,29,71,30],[71,32,71,33],[74,62,74,66],[65,73,65,76],[75,48,75,52],[70,77,70,78],[65,78,65,81],[74,68,74,74],[50,99,50,102],[52,95,52,98],[54,83,54,86],[57,43,57,46],[57,47,57,50],[41,36,41,37],[46,36,46,37],[45,36,45,37],[41,49,41,51],[55,39,55,42],[14,82,15,95],[54,55,54,58],[36,67,36,73],[36,79,36,82],[36,85,36,91],[54,59,54,66],[49,58,49,61],[17,36,17,38],[56,95,56,98],[55,87,55,90],[53,68,53,75],[54,43,54,46],[54,51,54,54],[55,59,55,62],[55,63,55,65],[56,48,56,53],[54,68,54,75],[54,77,54,79],[41,53,41,56],[39,49,39,51],[15,35,15,37],[37,85,37,91],[38,85,38,91],[39,85,39,91],[39,93,39,95],[37,93,37,95],[69,25,69,28],[55,25,55,30],[55,35,55,38],[68,29,68,30],[68,32,68,33],[68,35,68,37],[69,35,69,37],[69,29,69,30],[61,36,61,37],[50,29,50,32],[50,33,50,38],[36,29,36,30],[36,36,36,37],[44,29,44,30],[50,95,50,98],[50,91,50,94],[50,87,50,90],[51,95,51,98],[50,50,50,53],[54,91,54,94],[54,95,54,98],[51,83,51,86],[49,91,49,94],[49,95,49,98],[55,47,55,49],[58,64,58,66],[56,77,56,79],[54,39,54,42],[51,29,51,32],[49,54,49,57],[49,62,49,66],[49,39,49,45],[48,50,48,53],[48,62,48,65],[48,56,48,59],[46,69,46,74],[42,75,42,77],[42,79,42,82],[42,67,42,73],[43,67,44,82],[50,63,50,66],[55,43,55,45],[45,29,45,30],[46,29,46,30],[42,36,42,37],[28,53,28,56],[36,40,36,46],[55,51,55,53],[41,40,41,46],[50,59,50,61],[50,55,50,57],[55,55,55,57],[80,35,81,38],[83,36,83,37],[82,53,82,56],[83,43,83,47],[50,47,50,49],[72,35,72,37],[73,35,73,37],[81,43,81,47],[80,39,80,42],[81,48,81,52],[82,43,82,47],[83,39,83,42],[81,57,81,61],[70,39,70,42],[70,43,70,47],[71,35,71,37],[74,48,74,52],[83,57,83,61],[51,36,51,38],[77,57,77,61],[67,48,67,52],[68,48,68,52],[68,53,68,56],[78,48,78,52],[79,48,79,52],[59,59,59,62],[60,39,60,42],[91,46,91,48],[91,49,91,51],[91,28,91,29],[91,30,91,31],[90,58,90,60],[91,52,91,57],[84,57,84,61],[84,62,84,66],[82,57,82,61],[91,32,91,34],[88,50,88,53],[72,32,72,33],[83,29,83,30],[80,25,81,28],[82,62,82,66],[83,62,83,66],[84,43,84,47],[84,39,84,42],[75,35,75,37],[74,35,74,37],[76,57,76,61],[78,53,78,56],[80,57,80,61],[81,29,81,31],[75,29,75,30],[75,32,75,33],[74,25,74,28],[88,30,88,31],[81,53,81,56],[81,62,81,66],[90,39,90,42],[86,72,87,102],[88,44,88,47],[83,48,83,52],[83,53,83,56],[71,48,71,52],[72,48,72,52],[72,25,72,28],[70,25,70,28],[82,48,82,52],[72,29,72,30],[73,39,73,42],[72,43,72,47],[72,53,72,56],[71,39,71,42],[71,43,71,47],[73,29,73,30],[74,29,74,30],[88,28,88,29],[84,48,84,52],[83,72,85,102],[76,87,76,90],[77,91,77,94],[77,87,77,90],[78,82,78,86],[74,32,74,33],[80,43,80,47],[78,39,78,42],[78,43,78,47],[79,39,79,42],[75,39,75,42],[81,39,81,42],[90,44,90,45],[89,61,89,63],[89,39,89,42],[90,61,90,63],[83,22,83,24],[81,22,81,24],[71,16,71,18],[71,57,71,61],[80,53,80,56],[80,48,80,52],[79,53,79,56],[79,57,79,61],[72,57,72,61],[71,19,71,21],[74,0,75,24],[83,26,83,27],[83,32,83,33],[81,32,81,34],[82,39,82,42],[79,62,79,66],[84,53,84,56],[79,43,79,47],[74,57,74,61],[74,39,74,42],[74,53,74,56],[76,43,76,47],[76,48,76,52],[76,53,76,56],[77,39,77,42],[73,22,73,24],[71,22,71,24],[72,22,72,24],[92,39,92,42],[92,43,92,45],[92,46,92,48],[91,39,91,42],[91,43,91,45],[92,49,92,51],[90,46,90,48],[90,50,90,51],[90,64,90,66],[91,35,91,36],[91,37,91,38],[88,61,88,66],[92,32,92,34],[91,26,91,27],[89,32,89,34],[91,6,91,8],[91,14,91,16],[91,22,91,24]],"merged_total":1106,"flags":["merged_cut"]}
[{"$f":"+データ一覧!J2","v":0}]
[{"$f":"+データ一覧!J5","v":0}]
[]
[null,null,null,null,null,null,null,null,null,null,null,null,null,null,null,null,null,null,null,null,null,null,null,null,null,null,null,"【市紋章とそのいわれ】大の（大野）を図案化したもので、円は",null,null,null,null,null,null,null,null,null,null,null,"  【位置および地勢】大野市は福井県の東端に位置し、東は岐阜県郡上市、高山市、",null,null,null,null,null,null,null,null,null,null,null,null,null,null,null,null,null,null,null,null,null,null,null,null,null,null,null,null,null,null,"所在地",null,null,null,null,null,null,null,"〒912-8666"]
[null,null,null,null,null,null,null,null,null,null,null,null,null,null,null,null,null,null,null,null,null,null,null,null,null,null,null,"                 和と団結を象徴し、円満な市政の運用を意味し、",null,null,null,null,null,null,null,null,null,null,null,null,"西は福井市、池田町、 南は岐阜県関市、本巣市および揖斐川町、北は勝山市および",null,null,null,null,null,null,null,null,null,null,null,null,null,null,null,null,null,null,null,null,null,null,null,null,null,null,null,null,null,null,null,null,null,null,null,null,null,"大野市天神町１番１号"]
[{"$f":"+データ一覧!J3","v":"おおのし"},null,null,null,null,null,null,null,null,null,null,null,null,null,null,null,null,null,null,null,null,null,null,null,null,null,null,"                  剣尖は市の将来の発展性を表す。昭和２９年    ",null,null,null,null,null,null,null,null,null,null,null,null,"石川県の白山市に接している。四方を1,000ｍ級の霊峰白山の支脈に囲まれ、市域の"]
[{"$f":"データ一覧!J6","v":"大野市"},null,null,null,null,null,null,null,null,null,null,null,null,null,null,null,null,null,null,null,null,null,null,null,null,null,null,"                  ７月１日、市制施行と同時に公募により制定。  ",null,null,null,null,null,null,null,null,null,null,null,null,"約8割が林野に覆われており、これらの山岳地形の間を縫うように、岐阜県境に源を",null,null,null,null,null,null,null,null,null,null,null,null,null,null,null,null,null,null,null,null,null,null,null,null,null,null,null,null,null,"電話番号",null,null,null,null,null,null,null,"（０７７９）６６－１１１１"]
[null,null,null,null,null,null,null,null,null,null,null,null,null,null,null,null,null,null,null,null,null,null,null,null,null,null,null,0,null,null,null,null,null,null,null,null,null,null,null,null,"発する九頭竜川が貫流し、これへ石徹白川をはじめ多くの中小河川が合流している。",null,null,null,null,null,null,null,null,null,null,null,null,null,null,null,null,null,null,null,null,null,null,null,null,null,null,null,null,null,"FAX番号",null,null,null,null,null,null,null,"     〃     ６５－８３７１"]
[null,null,null,null,null,null,null,null,null,null,null,null,null,null,null,null,null,null,null,null,null,null,null,null,null,null,null,0,null,null,null,null,null,null,null,null,null,null,null,null,"市内の交通は、国道１５７号が南北に、国道１５８号が東西に走り、東は東海北陸"]
[null,null,null,null,null,null,null,null,null,null,null,null,null,null,null,null,null,null,null,null,null,null,null,null,null,null,null,0,null,null,null,null,null,null,null,null,null,null,null,null,"自動車道、西は北陸自動車道に連絡している。また、ＪＲ越美北線が国道１５８号に",null,null,null,null,null,null,null,null,null,null,null,null,null,null,null,null,null,null,null,null,null,null,null,null,null,null,null,null,null,"最寄駅および距離",null,null,null,null,null,null,null,"ＪＲ越美北線越前大野駅  下車１ｋｍ"]
[null,null,null,null,null,null,null,null,null,null,null,null,null,null,null,null,null,null,null,null,null,null,null,null,null,null,null,{"$f":"+データ一覧!#REF!","v":{"$error":"#REF!"}},null,null,null,null,null,null,null,null,null,null,null,null,"ほぼ並行して走り、越前花堂駅でＪＲ北陸本線と接続している。中部縦貫自動車道に"]
[null,null,null,null,null,null,null,null,null,null,null,null,null,null,null,null,null,null,null,null,null,null,null,null,null,null,null,null,null,null,null,null,null,null,null,null,null,null,null,null,"ついては、永平寺大野道路が全線開通し、北陸自動車道と直結している。"]
[null,null,null,null,null,null,null,null,null,null,null,null,null,null,null,null,null,null,null,null,null,null,null,null,null,null,null,"【市が掲げる標語】人がつながり地域がつながる　住み続けたい結のまち",null,null,null,null,null,null,null,null,null,null,null,null,null,null,null,null,null,null,null,null,null,null,null,null,null,null,null,null,null,null,null,null,null,null,null,null,null,null,null,null,null,null,"ホームページ",null,null,null,null,null,null,null,"http://www.city.ono.fukui.jp/"]
[]
["  １  土            　　地",null,null,null,null,null,null,null,null,null,null,null,null,null,null,null,null,null,null,null,null,null,null,null,null,{"$f":"データ一覧!$A$240","v":"2年"},"産米収穫量",null,null,"　 収　穫　量",null,null," 　作 付 面 積",null,null,"   10a当たり収量",null,null,null,null,null,null,null,null,null,null,null,null,null,null,null,null,null,null,null,null,null,null,null,null,null,null,null,null,null,null,null," １５  労　　　　　　　働",null,null,null,null,null,null,null,null,null,null,null,null,null,null,"27.10.1"]
[null,null,null,null,null,null,null,null,null,null,null,null,null,null,null,null,null,null,null,null,null,null,null,null,null,null,null,null,null,{"$f":"データ一覧!$J$240","v":14100},null,"t",{"$f":"データ一覧!$J$241","v":2660},null,"ha",{"$f":"データ一覧!J242","v":530},null,null,"kg"," １０  工　　　　　　業 ",null,null,null,null,null,null,null,null,null,null,null,null,null,{"$f":"データ一覧!$A$332","v":"2.6.1（令和元年実績）"}]
["   総          面           積",null,null,null,null,null,null,null,null,null," 固 定 資 産 概 要 調 書 に よ る 地 目 別 面 積",null,null,null,null,null,null,null,null,null,null,null,null,null,null,null,null,null,"   総　　　数",null,null,null,"うち　　田",null,null,null,"うち　　畑",null,null,null,null,null,null,null,null,null,null,null,null,null,null,null,null,null,null,null,null,null,null,null,null,null,null,null,null,null,null,null,null,null,null,null,null,null,"産業別就業者数   "]
[null,null,{"$f":"データ一覧!$A$7","v":"3.10.1"},null,null,null,null,null,null,null,null,null,null,null,null,null,{"$f":"データ一覧!$A$9","v":"3.1.1"},null,null,null,null,null,null,null,null," 耕  地  面  積",null,null,null,"       ha",null,null,"ha ",null,null,null,"ha ",null,null,"      ","産業分類",null,null,null,null,null,null,null,"事業所数",null,null,null,null,"従業者数",null,null,null,null,null,"年間製造品出荷額等",null,null,null,null,null,null,null,null,"区  分",null,null,null,null,"総    数",null,null,null,null,"男",null,null,null,"女",null,null,"  ","区  分",null,null,null,null,"総    数",null,null,null,null,"男",null,null,null,"女"]
[null,null,null,null,null,null,"㎢",null,null,null,"   総       数",null,null,null,null,"  う ち     田",null,null,null,null,"  う ち     畑",null,null,null,null,{"$f":"データ一覧!A243","v":"2.7.15"},null,null,{"$f":"データ一覧!$J$243","v":4200},null,null,{"$f":"データ一覧!$J$244","v":4060},null,null,null,{"$f":"データ一覧!$J$245","v":141},null,null,null,null,null,null,null,null,null,null,null,null,"　　   ",null,null,"事業所",null,"　　　　　　　 人",null,null,"人",null,"　　　　　　　　　　　　　　万円",null,null,null,null,null,null,"万円",null,null,null,null,null,null,null,"      人",null,null,null,null,null," 人",null,null,null," 人",null,null,null,null,null,null,null,"      人",null,null,null,"      人",null,null,null,"      人"]
[null,null,null,{"$f":"データ一覧!J7","v":872.43},null,null,null,null,null,null,null,null,null,null,"ha",null,null,null,null,"ha",null,null,null,null,"ha","農 業 生 産 物",null,null,null,"作 付 面 積",null,null,"収 穫 量",null,null,"10a当たり収量",null,null,null,"     ","総数",null,null,null,null,null,null,null,null,{"$f":"データ一覧!J332","v":79},null,null,null,{"$f":"+データ一覧!J357","v":2523},null,null,null,null,null,null,{"$f":"データ一覧!J382","v":6023106},null,null,null,null,null,null," 総　　　数",null,null,null,null,null,{"$f":"BZ20+CD20","v":17733},null,null,null,{"$f":"データ一覧!J507","v":9403},null,null,null,{"$f":"データ一覧!J532","v":8330}]
[null,null,null,null,null,null,null,null,null,null,null,{"$f":"データ一覧!J9","v":48574.7},null,null,null,null,{"$f":"データ一覧!J10","v":4201.6000000000004},null,null,null,null,{"$f":"データ一覧!J11","v":230.8},null,null,null,{"$f":"データ一覧!$A$246","v":"2年中"},null,null,null,"ha",null,null,"t",null,null,"kg",null,null,null,"     食料品","食料品",null,null,null,null,null,null,null,null,{"$f":"データ一覧!J333","v":8},null,null,null,{"$f":"+データ一覧!J358","v":152},null,null,null,null,null,null,{"$f":"データ一覧!J383","v":117944},null,null,null,null,null,null,null,null,null,null,null,null,null,null,null,null,null,null,null,null,null,null,null,null,null,"卸売業,小売業",null,null,null,null,{"$f":"CR21+CV21","v":2359},null,null,null,{"$f":"データ一覧!J520","v":1142},null,null,null,{"$f":"データ一覧!J545","v":1217}]
["  町 ･ 丁 ･ 大 字",null,null,null,null,null,null,null,null,null,"  う ち  宅 地",null,null,null,null,"  う ち  山 林",null,null,null,null,"  う ち  原 野",null,null,null,null,"水　　　　　稲",null,null,null,{"$f":"データ一覧!J246","v":2660},null,null,{"$f":"データ一覧!J247","v":14100},null,null,{"$f":"データ一覧!J248","v":530},null,null,null,"     飲料・飼料","飲料・飼料",null,null,null,null,null,null,null,null,{"$f":"データ一覧!J334","v":2},null,null,null,{"$f":"+データ一覧!J359","v":26},null,null,null,null,null,null,{"$f":"データ一覧!J384","v":"x"},null,null,null,null,null,null," 第１次産業",null,null,null,null,null,{"$f":"BZ22+CD22","v":1557},null,null,null,{"$f":"データ一覧!J508","v":934},null,null,null,{"$f":"データ一覧!J533","v":623},null,null,null,null,"金融業,保険業",null,null,null,null,{"$f":"CR22+CV22","v":333},null,null,null,{"$f":"データ一覧!J521","v":143},null,null,null,{"$f":"データ一覧!J546","v":190}]
["  区    画    数",null,null,null,null,null,null,{"$f":"データ一覧!J8","v":207},null,null,null,null,null,null,"ha",null,null,null,null,"ha",null,null,null,null,"ha","六　条　大　麦",null,null,null,{"$f":"データ一覧!J249","v":683},null,null,{"$f":"データ一覧!J250","v":1840},null,null,{"$f":"データ一覧!J251","v":270},null,null,null,"     繊維","繊維",null,null,null,null,null,null,null,null,{"$f":"データ一覧!J335","v":25},null,null,null,{"$f":"+データ一覧!J360","v":524},null,null,null,null,null,null,{"$f":"データ一覧!J385","v":456926},null,null,null,null,null,null,"  ","農業",null,null,null,null,{"$f":"BZ23+CD23","v":1462},null,null,null,{"$f":"データ一覧!J509","v":848},null,null,null,{"$f":"データ一覧!J534","v":614},null,null,null,"  ","不動産業",null,null,null,null,118,null,null,null,{"$f":"データ一覧!J522","v":79},null,null,null,{"$f":"データ一覧!J547","v":39}]
[{"$f":"データ一覧!$A$8","v":"2.4.1"},null,null,null,null,null,null,null,null,null,null,{"$f":"データ一覧!J12","v":1002.9},null,null,null,null,{"$f":"データ一覧!J13","v":13089},null,null,null,null,{"$f":"データ一覧!J14","v":673.2},null,null,null,"大　　      豆",null,null,null,{"$f":"データ一覧!J252","v":97},null,null,{"$f":"データ一覧!J253","v":119},null,null,{"$f":"データ一覧!J254","v":123},null,null,null,"     衣服","木材",null,null,null,null,null,null,null,null,{"$f":"データ一覧!J336","v":2},null,null,null,{"$f":"+データ一覧!J361","v":174},null,null,null,null,null,null,{"$f":"データ一覧!J386","v":"x"},null,null,null,null,null,null,"  ","林業",null,null,null,null,93,null,null,null,{"$f":"データ一覧!J510","v":84},null,null,null,{"$f":"データ一覧!J535","v":9},null,null,null,"  ","学術研究",null,null,null,null,380,null,null,null,{"$f":"データ一覧!J523","v":241},null,null,null,{"$f":"データ一覧!J548","v":139}]
["  ２  世　帯　数　と　人　口",null,null,null,null,null,null,null,null,null,null,null,null,null,null,null,null,null,null,null,null,null,null,null,null,null,null,"  区　分",null," 乳 用 牛",null," 肉 用 牛",null,"豚",null,"採卵鶏",null,"ブロイラー",null,"     木材","家具",null,null,null,null,null,null,null,null,{"$f":"データ一覧!J337","v":2},null,null,null,{"$f":"+データ一覧!J362","v":27},null,null,null,null,null,null,{"$f":"データ一覧!J387","v":"x"},null,null,null,null,null,null,"  ","漁業",null,null,null,null,2,null,null,null,{"$f":"データ一覧!J511","v":2},null,null,null,{"$f":"データ一覧!J536","v":0},null,null,null,"  ","宿泊業,飲食ｻｰﾋﾞｽ",null,null,null,null,693,null,null,null,{"$f":"データ一覧!J524","v":252},null,null,null,{"$f":"データ一覧!J549","v":441}]
[null,null,null,null,null,null,null,null,null,null,null,null,null,null,null,null,null,null,null,null,null,null,null,null,null,"畜　産",null," 飼養農家",null,{"$f":"データ一覧!$J$255","v":5},null,{"$f":"データ一覧!$J$257","v":"x"},null,{"$f":"データ一覧!$J$259","v":"x"},null,{"$f":"データ一覧!$J$261","v":0},null,{"$f":"データ一覧!$J$263","v":0},null,"     家具","パルプ・紙",null,null,null,null,null,null,null,null,{"$f":"データ一覧!J338","v":3},null,null,null,{"$f":"+データ一覧!J363","v":52},null,null,null,null,null,null,{"$f":"データ一覧!J388","v":35971},null,null,null,null,null,null," 第２次産業",null,null,null,null,null,5566,null,null,null,{"$f":"データ一覧!J512","v":3722},null,null,null,{"$f":"データ一覧!J537","v":1844},null,null,null,"  ","生活関連ｻｰﾋﾞｽ業",null,null,null,null,613,null,null,null,{"$f":"データ一覧!J525","v":215},null,null,null,{"$f":"データ一覧!J550","v":398}]
[null,null,null,null,null,null,null,null,"        人　　　　　　　　　　口",null,null,null,null,null,null,null,null,null,null,null,"１世帯当",null,"人    口",null,null,{"$f":"データ一覧!$A$255","v":"3.3.31"},null,"（戸）",null,null,null,null,null,null,null,null,null,null,null,"     パルプ・紙","印刷",null,null,null,null,null,null,null,null,{"$f":"データ一覧!J339","v":2},null,null,null,{"$f":"+データ一覧!J364","v":25},null,null,null,null,null,null,{"$f":"データ一覧!J389","v":"x"},null,null,null,null,null,null,null,"鉱業，採石業",null,null,null,null,6,null,null,null,{"$f":"データ一覧!J513","v":5},null,null,null,{"$f":"データ一覧!J538","v":1},null,null,null,"  ","教育,学習支援業",null,null,null,null,758,null,null,null,{"$f":"データ一覧!J526","v":314},null,null,null,{"$f":"データ一覧!J551","v":444}]
[" 区　　　　分",null,null,null,null,"世帯数",null,null," 総   数",null,null,"    男",null,null,"    女",null,null,"  男／女",null,null,"たり人員",null,"密    度",null,null,null,null," 頭 羽",null,{"$f":"データ一覧!$J$256","v":244},null,{"$f":"データ一覧!$J$258","v":5},null,{"$f":"データ一覧!$J$260","v":140},null,{"$f":"データ一覧!$J$262","v":0},null,{"$f":"データ一覧!$J$264","v":0},null,"     出版・印刷","化学",null,null,null,null,null,null,null,null,{"$f":"データ一覧!J340","v":0},null,null,null,{"$f":"+データ一覧!J365","v":0},null,null,null,null,null,null,{"$f":"データ一覧!J390","v":0},null,null,null,null,null,null,"  ","建設業",null,null,null,null,2161,null,null,null,{"$f":"データ一覧!J514","v":1833},null,null,null,{"$f":"データ一覧!J539","v":328},null,null,null,null,"医療，福祉",null,null,null,null,2635,null,null,null,{"$f":"データ一覧!J527","v":508},null,null,null,{"$f":"データ一覧!J552","v":2127}]
[null,null,null,null,null,"    世 帯",null,null,"       人",null,null,"       人",null,null,"       人",null,null,null,"　　％",null,"    人",null,"    人/㎢",null,null,null,null,null,null,null,null,null,null,null,null,null,null,null,null,"     化学","石油・石炭",null,null,null,null,null,null,null,null,{"$f":"データ一覧!J341","v":0},null,null,null,{"$f":"+データ一覧!J366","v":0},null,null,null,null,null,null,{"$f":"データ一覧!J391","v":0},null,null,null,null,null,null,null,"製造業",null,null,null,null,3399,null,null,null,{"$f":"データ一覧!J515","v":1884},null,null,null,{"$f":"データ一覧!J540","v":1515},null,null,null,null,"複合サービス事業",null,null,null,null,324,null,null,null,{"$f":"データ一覧!J528","v":197},null,null,null,{"$f":"データ一覧!J553","v":127}]
[{"$f":"データ一覧!$A$22","v":" 2.10.1"},null,null,null,null,{"$f":"データ一覧!J22","v":10758},null,null,{"$f":"+L30+O30","v":41837},null,null,{"$f":"データ一覧!J24","v":19944},null,null,{"$f":"データ一覧!J25","v":21893},null,null,null,{"$f":"+L30/O30*100","v":91.097611108573517},null,{"$f":"データ一覧!J27","v":3.89},null,{"$f":"データ一覧!J21","v":0},null,null,"  ５  林               業",null,null,null,null,null,null,null,null,null,null,null,null,null,"     石油・石炭","プラスチック",null,null,null,null,null,null,null,null,{"$f":"データ一覧!J342","v":2},null,null,null,{"$f":"+データ一覧!J367","v":41},null,null,null,null,null,null,{"$f":"データ一覧!J392","v":"x"},null,null,null,null,null,null," 第３次産業",null,null,null,null,null,10553,null,null,null,{"$f":"データ一覧!J516","v":4716},null,null,null,{"$f":"データ一覧!J541","v":5837},null,null,null,null,"サービス業",null,null,null,null,916,null,null,null,{"$f":"データ一覧!J529","v":546},null,null,null,{"$f":"データ一覧!J554","v":370}]
[{"$f":"データ一覧!$A$29","v":" 7.10.1"},null,null,null,null,{"$f":"データ一覧!J29","v":10862},null,null,{"$f":"+L31+O31","v":41069},null,null,{"$f":"データ一覧!J31","v":19537},null,null,{"$f":"データ一覧!J32","v":21532},null,null,null,90.73472041612483,null,{"$f":"データ一覧!J34","v":3.78},null,{"$f":"データ一覧!J28","v":0},null,null,null,null,null,null,null,null,null,null,null,null,null,null,null,null,"     プラスチック","ゴム",null,null,null,null,null,null,null,null,{"$f":"データ一覧!J343","v":0},null,null,null,{"$f":"+データ一覧!J368","v":0},null,null,null,null,null,null,{"$f":"データ一覧!J393","v":0},null,null,null,null,null,null,null,"電気･ｶﾞｽ･水道業",null,null,null,null,152,null,null,null,{"$f":"データ一覧!J517","v":137},null,null,null,{"$f":"データ一覧!J542","v":15},null,null,null,null,"公務",null,null,null,null,603,null,null,null,{"$f":"データ一覧!J530","v":415},null,null,null,{"$f":"データ一覧!J555","v":188}]
[{"$f":"データ一覧!$A$36","v":"12.10.1"},null,null,null,null,{"$f":"データ一覧!J36","v":11151},null,null,{"$f":"+L32+O32","v":39632},null,null,{"$f":"データ一覧!J38","v":18942},null,null,{"$f":"データ一覧!J39","v":20690},null,null,null,91.551474142097632,null,{"$f":"データ一覧!J41","v":3.55},null,{"$f":"データ一覧!J35","v":0},null,null,"    　森　　　林　　　総　　　面　　　積   ",null,null,null,null,null,null,null,{"$f":"データ一覧!$A$265","v":"3.3.31"},null,null,null,null,null,"     ゴム","皮革",null,null,null,null,null,null,null,null,{"$f":"データ一覧!J344","v":0},null,null,null,{"$f":"+データ一覧!J369","v":0},null,null,null,null,null,null,{"$f":"データ一覧!J394","v":0},null,null,null,null,null,null,null,"情報通信業",null,null,null,null,139,null,null,null,{"$f":"データ一覧!J518","v":108},null,null,null,{"$f":"データ一覧!J543","v":31},null,null,null," 分類不能の産業",null,null,null,null,null,57,null,null,null,{"$f":"データ一覧!J531","v":31},null,null,null,{"$f":"データ一覧!J556","v":26}]
[{"$f":"+データ一覧!$A$43","v":"17.10.1"},null,null,null,null,{"$f":"データ一覧!J43","v":11230},null,null,{"$f":"+L33+O33","v":37843},null,null,{"$f":"データ一覧!J45","v":17956},null,null,{"$f":"データ一覧!J46","v":19887},null,null,null,90.290139286971396,null,{"$f":"データ一覧!J48","v":3.37},null,{"$f":"データ一覧!J49","v":43.4},null,null,"　　　森　　　　　　　林　　　　　　　の　　　　　　　構　　　　　　　成",null,null,null,null,null,null,null,null,null,null,null,null,null,"     皮革","窯業・土石",null,null,null,null,null,null,null,null,{"$f":"データ一覧!J345","v":4},null,null,null,{"$f":"+データ一覧!J370","v":45},null,null,null,null,null,null,{"$f":"データ一覧!J395","v":150377},null,null,null,null,null,null,"  ","運輸業,郵便業",null,null,null,null,{"$f":"BZ33+CD33","v":530},null,null,null,{"$f":"データ一覧!J519","v":419},null,null,null,{"$f":"データ一覧!J544","v":111}]
[{"$f":"+データ一覧!$A$50","v":"22.10.1"},null,null,null,null,{"$f":"+データ一覧!J50","v":10847},null,null,{"$f":"+L34+O34","v":35291},null,null,{"$f":"+データ一覧!J52","v":16705},null,null,{"$f":"+データ一覧!J53","v":18586},null,null,null,89.879479177875822,null,{"$f":"+データ一覧!J55","v":3.25},null,{"$f":"+データ一覧!J56","v":40.5},null,null,null,null,null,null,null,"       ha",null,null,null,null,null,null,"       ha",null,"     窯業・土石","鉄鋼",null,null,null,null,null,null,null,null,{"$f":"データ一覧!J346","v":0},null,null,null,{"$f":"+データ一覧!J371","v":0},null,null,null,null,null,null,{"$f":"データ一覧!J396","v":0},null,null,null,null,null,null," １６  社　 会 　福　 祉",null,null,null,null,null,null,null,null,null,null,null,null,null,null,null,{"$f":"データ一覧!$A$557","v":"3.4.1"}]
[{"$f":"データ一覧!$A$57","v":"27.10.1"},null,null,null,null,{"$f":"データ一覧!J57","v":10698},null,null,{"$f":"データ一覧!J58","v":33109},null,null,{"$f":"データ一覧!J59","v":15683},null,null,{"$f":"データ一覧!J60","v":17426},null,null,null,89.997704579364168,null,{"$f":"データ一覧!J62","v":3.0948775472050851},null,{"$f":"データ一覧!J63","v":38},null,null,"  総　　　　　   数",null,null,null,{"$f":"データ一覧!J265","v":75824.779999999984},null,null," 天然林       針葉樹",null,null,null,{"$f":"データ一覧!J268","v":463.65},null,null,"     鉄鋼","非鉄金属",null,null,null,null,null,null,null,null,{"$f":"データ一覧!J347","v":0},null,null,null,{"$f":"+データ一覧!J372","v":0},null,null,null,null,null,null,{"$f":"データ一覧!J397","v":0}]
["令　2.10.1（国調）",null,null,null,null,{"$f":"データ一覧!J64","v":10868},null,null,{"$f":"データ一覧!J65","v":31286},null,null,{"$f":"データ一覧!J66","v":14997},null,null,{"$f":"データ一覧!J67","v":16289},null,null,null,{"$f":"+L36/O36*100","v":92.068266928602128},null,{"$f":"データ一覧!J72","v":2.84},null,{"$f":"データ一覧!J73","v":35.136343316942337},null,null,"  人工林     針葉樹",null,null,null,{"$f":"データ一覧!J266","v":18326.629999999997},null,null," 天然林       広葉樹",null,null,null,{"$f":"データ一覧!J269","v":51981.329999999994},null,null,"     非鉄金属","金属",null,null,null,null,null,null,null,null,{"$f":"データ一覧!J348","v":14},null,null,null,{"$f":"+データ一覧!J373","v":322},null,null,null,null,null,null,{"$f":"データ一覧!J398","v":594707},null,null,null,null,null,null,"    ","区分",null,null,null,null,null,null,"施設数",null,null,null,null,"収容定員",null,null,null,null,null,"区分",null,null,null,null,null,null,"施設数",null,null,null,null,"収容定員"]
["年",null,"  区",null," 0歳",null,null,"15歳",null,null,"25歳",null,null,"35歳",null,null,"45歳",null,null,"55歳",null,null,"65歳",null,null,"  人工林     広葉樹",null,null,null,{"$f":"データ一覧!J267","v":1360.6599999999999},null,null," 竹               林",null,null,null,{"$f":"データ一覧!J270","v":8.83},null,null,"     金属","はん用機械",null,null,null,null,null,null,null,null,{"$f":"データ一覧!J349","v":0},null,null,null,{"$f":"+データ一覧!J374","v":0},null,null,null,null,null,null,{"$f":"データ一覧!J399","v":0},null,null,null,null,null,null,"生活保護施設",null,null,null,null,null,null,null,{"$f":"データ一覧!J557","v":1},null,null,null,{"$f":"データ一覧!J570","v":140},null,null,null,"人",null,"指定障害者支援施設",null,null,null,null,null,null,null,{"$f":"データ一覧!J563","v":2},null,null,null,{"$f":"データ一覧!J576","v":110},null,null,null,"人"]
["齢","令",null,null,null,"～",null,null,"～",null,null,"～",null,null,"～",null,null,"～",null,null,"～",null,null,null,null,null,null,null,null,null,null,null,null,null,null,null,null,null,null,"     一般機械","生産用機械",null,null,null,null,null,null,null,null,{"$f":"データ一覧!J350","v":1},null,null,null,{"$f":"+データ一覧!J375","v":7},null,null,null,null,null,null,{"$f":"データ一覧!J400","v":"x"},null,null,null,null,null,null,"地域福祉施設",null,null,null,null,null,null,null,{"$f":"データ一覧!J558","v":0},null,null,null,{"$f":"データ一覧!J571","v":0},null,null,null,null,null,"指定相談支援事業所",null,null,null,null,null,null,null,{"$f":"データ一覧!J564","v":3},null,null,null,{"$f":"データ一覧!J577","v":0}]
["階",{"$f":"+LEFT(データ一覧!$A$83,1)","v":"3"},"  分",null,null,null,"14歳",null,null,"24歳",null,null,"34歳",null,null,"44歳",null,null,"54歳",null,null,"64歳",null,null,"以上","    林     野     の     構     成",null,null,null,null,null,null,"保     有     形     態     別",null,null,null,null,null,null,"     電気機械","業務用機械",null,null,null,null,null,null,null,null,{"$f":"データ一覧!J351","v":0},null,null,null,{"$f":"+データ一覧!J376","v":0},null,null,null,null,null,null,{"$f":"データ一覧!J401","v":0},null,null,null,null,null,null,"老人福祉施設",null,null,null,null,null,null,null,{"$f":"データ一覧!J559","v":8},null,null,null,{"$f":"データ一覧!J572","v":387},null,null,null,null,null,"児童福祉施設",null,null,null,null,null,null,null,{"$f":"データ一覧!J565","v":23},null,null,null,{"$f":"データ一覧!J578","v":1153}]
["級","・",null,null,null,null,"人",null,null,"人",null,"    人",null,null,"    人",null,null,"    人",null,null,"    人",null,null,"    人",null,null,null,null,null,null,null,"ha",null,null,null,null,null,"       ha",null,null,"電子・デバイス",null,null,null,null,null,null,null,null,{"$f":"データ一覧!J352","v":6},null,null,null,{"$f":"+データ一覧!J377","v":726},null,null,null,null,null,null,{"$f":"データ一覧!J402","v":2324248},null,null,null,null,null,null,"介護保険施設",null,null,null,null,null,null,null,{"$f":"データ一覧!J560","v":76},null,null,null,{"$f":"データ一覧!J573","v":1289},null,null,null,null,null,"母子福祉施設",null,null,null,null,null,null,null,{"$f":"データ一覧!J566","v":0},null,null,null,{"$f":"データ一覧!J579","v":0}]
["別",{"$f":"+MID(データ一覧!$A$83,3,2)","v":"10"},"総 数",null,{"$f":"+E42+E43","v":3221},null,null,{"$f":"+H42+H43","v":2189},null,null,{"$f":"+K42+K43","v":2202},null,null,{"$f":"+N42+N43","v":3231},null,null,{"$f":"+Q42+Q43","v":3760},null,null,{"$f":"+T42+T43","v":4189},null,null,{"$f":"+W42+W43","v":11680},null,null," 無立木地   伐採跡地",null,null,null,{"$f":"データ一覧!J271","v":26.14},null,null,"国   　　　 　 有",null,null,null,{"$f":"データ一覧!J273","v":20664.12},null,null,null,"電気機械",null,null,null,null,null,null,null,null,{"$f":"データ一覧!J353","v":4},null,null,null,{"$f":"+データ一覧!J378","v":117},null,null,null,null,null,null,{"$f":"データ一覧!J403","v":327121},null,null,null,null,null,null,"障害者自立支援法施行前からの身体障害者福祉施設",null,null,null,null,null,null,null,{"$f":"データ一覧!J561","v":0},null,null,null,{"$f":"データ一覧!J574","v":0},null,null,null,null,null,"婦人保護施設",null,null,null,null,null,null,null,{"$f":"データ一覧!J567","v":0},null,null,null,{"$f":"データ一覧!J580","v":0}]
["人","・","  男",null,{"$f":"データ一覧!J83","v":1628},null,null,{"$f":"データ一覧!J84","v":1107},null,null,{"$f":"データ一覧!J85","v":1158},null,null,{"$f":"データ一覧!J86","v":1636},null,null,{"$f":"データ一覧!J87","v":1937},null,null,{"$f":"データ一覧!J88","v":2046},null,null,{"$f":"データ一覧!J89","v":5048},null,null," 無立木地   未立木地",null,null,null,{"$f":"データ一覧!J272","v":3657.54},null,null,"公       　　  有",null,null,null,{"$f":"データ一覧!J274","v":11115.759999999998},null,null,"     輸送機械","情報通信機械",null,null,null,null,null,null,null,null,{"$f":"データ一覧!J354","v":0},null,null,null,{"$f":"+データ一覧!J379","v":0},null,null,null,null,null,null,{"$f":"データ一覧!J404","v":0},null,null,null,null,null,null,null,null,null,null,null,null,null,null,null,null,null,null,null,null,null,null,null,null,"その他の社会福祉施設",null,null,null,null,null,null,null,{"$f":"データ一覧!J568+データ一覧!J569","v":0},null,null,null,{"$f":"データ一覧!J581+データ一覧!J582","v":0}]
["口",{"$f":"+RIGHT(データ一覧!$A$83,1)","v":"1"},"  女",null,{"$f":"データ一覧!J91","v":1593},null,null,{"$f":"データ一覧!J92","v":1082},null,null,{"$f":"データ一覧!J93","v":1044},null,null,{"$f":"データ一覧!J94","v":1595},null,null,{"$f":"データ一覧!J95","v":1823},null,null,{"$f":"データ一覧!J96","v":2143},null,null,{"$f":"データ一覧!J97","v":6632},null,null,null,null,null,null,null,null,null,"私          　 有",null,null,null,{"$f":"データ一覧!J275","v":44044.900000000009},null,null,"     精密機械","輸送機械",null,null,null,null,null,null,null,null,{"$f":"データ一覧!J355","v":2},null,null,null,{"$f":"+データ一覧!J380","v":98},null,null,null,null,null,null,{"$f":"データ一覧!J405","v":"x"},null,null,null,null,null,null,"障害福祉サービス事業所",null,null,null,null,null,null,null,{"$f":"データ一覧!J562","v":32},null,null,null,{"$f":"データ一覧!J575","v":248}]
[null,null,null,null,null,null,null,null,null,null,null,null,null,null,null,null,null,null,null,null,null,null,null,null,null,"            林     産     物     生     産     量 ",null,null,null,null,null,null,null,null,null,{"$f":"データ一覧!$A$276","v":"2年中"},null,null,null,"     その他","その他",null,null,null,null,null,null,null,null,{"$f":"データ一覧!J356","v":2},null,null,null,{"$f":"+データ一覧!J381","v":187},null,null,null,null,null,null,{"$f":"データ一覧!J406","v":"x"},null,null,null,null,null,null," １７  教　　　　　　　育",null,null,null,null,null,null,null,null,null,null,null,null,null,null,null,{"$f":"データ一覧!$A$583","v":"3.5.1"}]
["人口動態",null,null,null,null,null,null,"   自　然　動　態",null,null,null,null,null,"   社  会  動  態",null,null,null,null,null,{"$f":"データ一覧!$A78","v":"2.1.1～3.12.31"},null,null,null,null,null,"生椎茸",null,null,null,{"$f":"データ一覧!J276","v":59014},null,"㎏","乾椎茸",null,null,null,{"$f":"データ一覧!J277","v":114},null,"㎏"]
[null,null,"   区       分",null,null,null,null," 出   生",null,null," 死   亡",null,null," 転   入",null,null," 転   出",null,null," 婚   姻",null,null," 離   婚",null,null,"えのきだけ",null,null,null,{"$f":"データ一覧!J279","v":"-"},null,"㎏","なめこ",null,null,null,{"$f":"データ一覧!J278","v":6},null,"㎏","    ","工　業　用　水　量",null,null,null,null,null,"（従業者30人以上の事業所）",null,null,null,null,null,null,null,null,null,null,{"$f":"データ一覧!J407","v":4437},null,null,null,null,"㎥／日",null,null,null,null,null,null,null,null,null,null,null,null,null,null,"学校数（校）",null,null,null,null,null,null,"教員数（人）",null,null,null,null,null,null,null,"学生・生徒・児童数（人）"]
[{"$f":"LEFT(データ一覧!$A74,6)","v":"2.10.1"},null,null,null,null,null,null,"       人",null,null,"       人",null,null,"       人",null,null,"       人",null,null,null,"    件",null,null,"    件",null,"ひらたけ",null,null,null,{"$f":"+データ一覧!J280","v":"-"},null,"㎏","まいたけ",null,null,null,{"$f":"+データ一覧!J281","v":129814},null,"㎏",null,null,null,null,null,null,null,null,null,null,null,null,null,null,null,null,null,null,null,null,null,null,null,null,null,null,null,null,null,"　","区分",null,null,null,null,null,null,null," 本 校",null,null," 分 校",null,null," 本   務",null,null,null," 兼   務",null,null,null," 総   数",null,null,null,"男",null,null,null,"女"]
["～",null," 実          数",null,null,null,null,{"$f":"データ一覧!J74","v":86},null,null,{"$f":"データ一覧!J75","v":271},null,null,{"$f":"データ一覧!J76","v":310},null,null,{"$f":"データ一覧!J77","v":448},null,null,{"$f":"データ一覧!J78","v":86},null,null,{"$f":"データ一覧!J79","v":45},null,null,null,null,null,null,null,null,null,null,null,null,null,null,null,null," １１ 　上　・　下　水　道",null,null,null,null,null,null,null,null,null,null,null,null,null,null,null,null,null,null,null,null,null,null,null,null,null,null,null,null,"小学校",null,null,null,null,null,null,null,null,{"$f":"データ一覧!J584","v":9},null,null,{"$f":"データ一覧!J585","v":0},null,null,{"$f":"データ一覧!J586","v":121},null,null,null,{"$f":"データ一覧!J587","v":18},null,null,null,{"$f":"データ一覧!J588","v":1376},null,null,null,{"$f":"データ一覧!J589","v":696},null,null,null,{"$f":"データ一覧!J590","v":680}]
[{"$f":"RIGHT(データ一覧!$A76,6)","v":"3.9.30"},null,"比率(対1,000人)",null,null,null,null,{"$f":"+H48/I35*1000","v":2.5974810474493339},null,null,{"$f":"+K48/I35*1000","v":8.1850856262647618},null,null,"- ",null,null,"- ",null,null,{"$f":"+T48/I35*1000","v":2.5974810474493339},null,null,{"$f":"+W48/I35*1000","v":1.3591470597118609},null,null,"  ６  漁               業",null,null,null,null,null,null,null,null,null,null,null,null,null,null,null,null,null,null,null,null,null,null,null,null,null,null,null,null,null,null,null,null,null,null,null,null,null,null,null,null,null,"  ","中学校",null,null,null,null,null,null,null,null,{"$f":"データ一覧!J592","v":5},null,null,{"$f":"データ一覧!J593","v":0},null,null,{"$f":"データ一覧!J594","v":80},null,null,null,{"$f":"データ一覧!J595","v":22},null,null,null,{"$f":"データ一覧!J596","v":782},null,null,null,{"$f":"データ一覧!J597","v":406},null,null,null,{"$f":"データ一覧!J598","v":376}]
[null,null,null,null,null,null,null,null,null,null,null,null,null,null,null,null,null,null,null,null,null,null,null,null,null,null,null,null,null,null,null,null,null,null,null,null,null,null,null,"水 道 供 給 人 口",null,null,null,null,null,null,"上 水 道",null,null,null,"簡易水道",null,null,null,"専用水道",null,null,null,"飲料水供給施設",null,null,null,"下水道処理人口",null,null,null,null,"  ","高等学校",null,null,null,null,null,null,null,null,{"$f":"データ一覧!J600","v":2},null,null,{"$f":"データ一覧!J601","v":0},null,null,{"$f":"データ一覧!J602","v":88},null,null,null,{"$f":"データ一覧!J603","v":30},null,null,null,{"$f":"データ一覧!J604","v":767},null,null,null,{"$f":"データ一覧!J605","v":422},null,null,null,{"$f":"データ一覧!J606","v":345}]
["  ３  事　　業　　所（民　　営）    （平 28.6.1）",null,null,null,null,null,null,null,null,null,null,null,null,null,null,null,null,null,null,null,null,null,null,null,null,"漁船隻数・トン数",null,null,null,{"$f":"データ一覧!$A$282","v":"2.12.31"},null,null,null,"動　力　船",null,null,null,null,null,{"$f":"データ一覧!$A$408","v":"3.3.31"},null,null,null,null,null,"人",null,{"$f":"データ一覧!J408","v":4559},null,null,{"$f":"データ一覧!J409","v":7333},null,null,null,null,{"$f":"データ一覧!J410","v":98},null,null,null,{"$f":"データ一覧!J411","v":253},null,null,null,{"$f":"データ一覧!J412","v":17787},null,null,null,"  ","大学・短期大学",null,null,null,null,null,null,null,null,{"$f":"データ一覧!J607","v":0},null,null,{"$f":"データ一覧!J608","v":0},null,null,{"$f":"データ一覧!J609","v":0},null,null,null,{"$f":"データ一覧!J610","v":0},null,null,null,{"$f":"データ一覧!J611","v":0},null,null,null,{"$f":"データ一覧!J612","v":0},null,null,null,{"$f":"データ一覧!J613","v":0}]
[null,null,null,null,null,null,null,null,null,null,null,null,null,null,null,null,null,null,null,null,null,null,null,null,null,"無動力船隻数",null,null,null,"船外機付漁船隻数",null,null,null,"隻　数",null,null,"総 ト ン 数",null,null,null,null,null,null,null,null,null,null,null,null,null,null,null,null,null,null,null,null,null,null,null,null,null,null,null,null,null,null,"  ","高等専門学校",null,null,null,null,null,null,null,null,{"$f":"データ一覧!J614","v":0},null,null,{"$f":"データ一覧!J615","v":0},null,null,{"$f":"データ一覧!J616","v":0},null,null,null,{"$f":"データ一覧!J617","v":0},null,null,null,{"$f":"データ一覧!J618","v":0},null,null,null,{"$f":"データ一覧!J619","v":0},null,null,null,{"$f":"データ一覧!J620","v":0}]
[null,null,null,null,null,null,null,"    総　　　　　数",null,null,null,null,null,"    民　　　　　営",null,null,null,null,null,"  国 ･ 地方公共団体",null,null,null,null,null,null,null,null,"隻",null,null,null,"隻",null,null,"隻",null,null,"t"," １２  交   通　・　通   信",null,null,null,null,null,null,null,null,null,null,null,null,null,null,null,null,null,null,null,null,null,null,null,null,null,null,null,"  ","特別支援学校",null,null,null,null,null,null,null,null,{"$f":"データ一覧!J622","v":0},null,null,{"$f":"データ一覧!J623","v":0},null,null,{"$f":"+データ一覧!J624","v":0},null,null,null,{"$f":"+データ一覧!J625","v":0},null,null,null,{"$f":"+データ一覧!J626","v":0},null,null,null,{"$f":"+データ一覧!J627","v":0},null,null,null,{"$f":"+データ一覧!J628","v":0}]
["  　区　　　　　　分",null,null,null,null,null,null," 事業所数",null,null," 従業者数",null,null," 事業所数",null,null," 従業者数",null,null," 事業所数",null,null," 従業者数",null,null,{"$f":"データ一覧!$J$282","v":0},null,null,null,{"$f":"データ一覧!$J$283","v":1},null,null,null,{"$f":"データ一覧!J284","v":0},null,null,{"$f":"データ一覧!J285","v":0},null,null,null,null,null,null,null,null,null,null,null,null,null,null,null,null,null,null,null,null,null,null,null,null,null,null,null,null,null,null,"  ","幼稚園",null,null,null,null,null,null,null,null,{"$f":"データ一覧!J630","v":6},null,null,{"$f":"データ一覧!J631","v":0},null,null,{"$f":"データ一覧!J632","v":9},null,null,null,{"$f":"データ一覧!J633","v":0},null,null,null,{"$f":"データ一覧!J634","v":28},null,null,null,{"$f":"データ一覧!J635","v":13},null,null,null,{"$f":"データ一覧!J636","v":15}]
[null,null,null,null,null,null,null,null,null,null,"       人",null,null,null,null,null,"       人",null,null,null,null,null,"       人",null,null,"  男女別就業者数",null,null,null,null,null,null,null,{"$f":"データ一覧!$A$286","v":"30.11.1"},null,null,null,null,null,"道     路",null,null,null,"実 延 長",null,null,null,"国     道",null,null,null,"県     道",null,null,null,"市町道",null,null,null," 鉄 道 営 業 キ ロ 数",null,null,null,null,null,null,null,"  ","幼保連携認定こども園",null,null,null,null,null,null,null,null,{"$f":"データ一覧!J638","v":8},null,null,{"$f":"データ一覧!J639","v":0},null,null,{"$f":"データ一覧!J640","v":151},null,null,null,{"$f":"データ一覧!J641","v":0},null,null,null,{"$f":"データ一覧!J642","v":758},null,null,null,{"$f":"データ一覧!J643","v":383},null,null,null,{"$f":"データ一覧!J644","v":375}]
["総数",null,null,null,null,null,null,{"$f":"データ一覧!J99","v":"…"},null,null,{"$f":"データ一覧!J156","v":"…"},null,null,{"$f":"データ一覧!J100","v":1837},null,null,{"$f":"データ一覧!J157","v":13996},null,null,{"$f":"データ一覧!J101","v":"…"},null,null,{"$f":"データ一覧!J158","v":"…"},null,null,"総　　数",null,null,null,null,null,"男",null,null,null,"女",null,null,null,{"$f":"データ一覧!$A$413","v":"2.4.1"},null,null,null,{"$f":"データ一覧!J413","v":764},null,null,"㎞",{"$f":"データ一覧!J414","v":110.2},null,null,"㎞",{"$f":"データ一覧!J415","v":153.4},null,null,"㎞",{"$f":"データ一覧!J416","v":500.4},null,null,"km",{"$f":"データ一覧!$A$417","v":"3.4.1"},null,null,null,{"$f":"データ一覧!J417","v":26.13},null,null,"㎞","  ","各種学校",null,null,null,null,null,null,null,null,{"$f":"データ一覧!J646","v":1},null,null,{"$f":"データ一覧!J647","v":0},null,null,{"$f":"データ一覧!J648","v":10},null,null,null,{"$f":"データ一覧!J649","v":3},null,null,null,{"$f":"データ一覧!J650","v":33},null,null,null,{"$f":"データ一覧!J651","v":24},null,null,null,{"$f":"データ一覧!J652","v":9}]
["農林漁業",null,null,null,null,null,null,{"$f":"データ一覧!J102","v":"…"},null,null,{"$f":"データ一覧!J159","v":"…"},null,null,{"$f":"データ一覧!J103","v":37},null,null,{"$f":"データ一覧!J160","v":671},null,null,{"$f":"データ一覧!J104","v":"…"},null,null,{"$f":"データ一覧!J161","v":"…"},null,null,null,null,null,null,null,"人",null,null,"　　　　人",null,null,null,null,"  人","自動車",null,null,null,null,null,null,null,null,"乗用車",null,null,null,null,null,null,null,null,null,null,null,null,null,null,null,null,null,null,"  ","専修学校",null,null,null,null,null,null,null,null,{"$f":"データ一覧!J654","v":0},null,null,{"$f":"データ一覧!J655","v":0},null,null,{"$f":"データ一覧!J656","v":0},null,null,null,{"$f":"データ一覧!J657","v":0},null,null,null,{"$f":"データ一覧!J658","v":0},null,null,null,{"$f":"データ一覧!J659","v":0},null,null,null,{"$f":"データ一覧!J660","v":0}]
["鉱業",null,null,null,null,null,null,{"$f":"データ一覧!J105","v":"…"},null,null,{"$f":"データ一覧!J162","v":"…"},null,null,{"$f":"データ一覧!J106","v":1},null,null,{"$f":"データ一覧!J163","v":1},null,null,{"$f":"データ一覧!J107","v":"…"},null,null,{"$f":"データ一覧!J164","v":"…"},null,null,{"$f":"SUM(AF58,AJ58)","v":0},null,null,null,null,null,{"$f":"データ一覧!$J$287","v":0},null,null,null,{"$f":"データ一覧!J288","v":0},null,null,null,"台  数",null,null,null,"貨    物",null,null,null,"普     通",null,null,null,"小     型",null,null,null,"乗  合",null,null,"特  種",null,null,"小型二輪",null,null,"軽自動車",null,null," １８  衛　　　　　　　生"]
["建設業",null,null,null,null,null,null,{"$f":"データ一覧!J108","v":"…"},null,null,{"$f":"データ一覧!J165","v":"…"},null,null,{"$f":"データ一覧!J109","v":283},null,null,{"$f":"データ一覧!J166","v":1695},null,null,{"$f":"データ一覧!J110","v":"…"},null,null,{"$f":"データ一覧!J167","v":"…"},null,null,"　　　　海 面 漁 業 漁 獲 量 （属人）",null,null,null,null,null,null,null,{"$f":"データ一覧!$A$289","v":"30年中"},null,null,null,null,null,{"$f":"データ一覧!$A$418","v":"3.3.31"},null,null,null,null,{"$f":"データ一覧!J418","v":1469},null,null,null,{"$f":"データ一覧!J420","v":4659},null,null,null,{"$f":"データ一覧!J421","v":5056},null,null,{"$f":"データ一覧!J419","v":104},null,null,{"$f":"データ一覧!J422","v":546},null,null,{"$f":"データ一覧!J423","v":370},null,null,{"$f":"データ一覧!J424","v":12391}]
["製造業",null,null,null,null,null,null,{"$f":"データ一覧!J111","v":"…"},null,null,{"$f":"データ一覧!J168","v":"…"},null,null,{"$f":"データ一覧!J112","v":207},null,null,{"$f":"データ一覧!J169","v":2742},null,null,{"$f":"データ一覧!J113","v":"…"},null,null,{"$f":"データ一覧!J170","v":"…"},null,null,null,null,null,null,null,"       ","ｔ",null,null,null,null,null,null,"t",null,null,"     ",null,"郵　便　局　数",null,null,null,null,null,null,null,null,null,null,null,null,null,{"$f":"+MID(データ一覧!$A$428,3,2)","v":"12"},"令","一般加入",null,null,null,"ＩＮＳネット",null,null,null,null,null,null,null,"医療関係施設",null,null,null,null,null,{"$f":"データ一覧!$A$661","v":"元.10.1"},null,null,null,null,null,null,"および医療関係者数",null,null,null,null,null,null,null,{"$f":"データ一覧!$A$666","v":"30.12.31"}]
["電気・ｶﾞ ｽ・熱供給・水道業",null,null,null,null,null,null,{"$f":"データ一覧!J114","v":"…"},null,null,{"$f":"データ一覧!J171","v":"…"},null,null,{"$f":"データ一覧!J115","v":4},null,null,{"$f":"データ一覧!J172","v":157},null,null,{"$f":"データ一覧!J116","v":"…"},null,null,{"$f":"データ一覧!J173","v":"…"},null,null,"   総　　　　　　数",null,null,null,{"$f":"データ一覧!J289","v":0},null,null,"   藻　　　　　　類",null,null,null,{"$f":"データ一覧!J292","v":0},null,null,"通  信",null,null,null," 総     数",null,null,null,null," 郵 便 局",null,null,null,null," 簡 易 局",null,null,null,"・",{"$f":"+LEFT(データ一覧!$A$428,1)","v":"2"},"電話数",null,null,null,"加入数",null,null,null,null,null,null,null,null,null,"　","病",null,null,"院",null,"　",null,null,null,null," ","一般診療所",null,null,null,null,null,null,null,null,null,null,null,"歯科診療所"]
["情報通信業",null,null,null,null,null,null,{"$f":"データ一覧!J117","v":"…"},null,null,{"$f":"データ一覧!J174","v":"…"},null,null,{"$f":"データ一覧!J118","v":3},null,null,{"$f":"データ一覧!J175","v":11},null,null,{"$f":"データ一覧!J119","v":"…"},null,null,{"$f":"データ一覧!J176","v":"…"},null,null,"   魚　　　　　　類",null,null,null,{"$f":"データ一覧!J290","v":0},null,null,"   そ　   の　　 他",null,null,null,{"$f":"データ一覧!J293","v":0},null,null,{"$f":"データ一覧!$A$428","v":"2.12.31"},null,null,null,{"$f":"データ一覧!J425","v":13},null,null,null,null,{"$f":"データ一覧!J426","v":10},null,null,null,null,{"$f":"データ一覧!J427","v":3},null,null,null,{"$f":"+RIGHT(データ一覧!$A$428,2)","v":"31"},"・",{"$f":"データ一覧!J428","v":3918},null,null,null,{"$f":"データ一覧!J429","v":381},null,null,null," ","医療関係",null,null,null,null,null,null,null,null,null,null,null,"一般病院",null,null,null,null,null,null,null,null,null,null,null,"有",null,null,"床"]
["運輸業、郵便業",null,null,null,null,null,null,{"$f":"データ一覧!J120","v":"…"},null,null,{"$f":"データ一覧!J177","v":"…"},null,null,{"$f":"データ一覧!J121","v":18},null,null,{"$f":"データ一覧!J178","v":215},null,null,{"$f":"データ一覧!J122","v":"…"},null,null,{"$f":"データ一覧!J179","v":"…"},null,null,"   貝　　　　　　類",null,null,null,{"$f":"データ一覧!J291","v":0},null,null,null,null,null,null,null,null,null,null,null,null,null,null,null,null,null,null,null,null,null,null,null,null,null,null,null,null,null,null,null,null,null,null,null,null,null,null,"施設数",null,null,null,null,null,null,{"$f":"データ一覧!J661","v":4},null,null,null,null,null,{"$f":"データ一覧!J662","v":4},null,null,null,null,null,{"$f":"データ一覧!J663","v":23},null,null,null,null,null,{"$f":"データ一覧!J664","v":1},null,null,null,null,null,{"$f":"データ一覧!J665","v":11}]
["卸売業、小売業",null,null,null,null,null,null,{"$f":"データ一覧!J123","v":"…"},null,null,{"$f":"データ一覧!J180","v":"…"},null,null,{"$f":"データ一覧!J124","v":416},null,null,{"$f":"データ一覧!J181","v":2223},null,null,{"$f":"データ一覧!J125","v":"…"},null,null,{"$f":"データ一覧!J182","v":"…"},null,null,null,null,null,null,null,null,null,null,null,null,null,null,null,null," １３  税　　・　　財　　政",null,null,null,null,null,null,null,null,null,null,null,null,null,null,null,null,null,null,null,null,null,null,null,null,null,null,null,null,null,null,null,null,null,null,"医師",null,null,null,null,"歯科医師",null,null,null,null,"薬剤師",null,null,null,null,"保健師",null,null,null,null,"助産師",null,null," ",null,"看護師",null,null," "]
["金融業、保険業",null,null,null,null,null,null,{"$f":"データ一覧!J126","v":"…"},null,null,{"$f":"データ一覧!J183","v":"…"},null,null,{"$f":"データ一覧!J127","v":23},null,null,{"$f":"データ一覧!J184","v":266},null,null,{"$f":"データ一覧!J128","v":"…"},null,null,{"$f":"データ一覧!J185","v":"…"},null,null,"  ７  商        　　　業 ",null,null,null,null,null,null,{"$f":"データ一覧!$A$294","v":"28.6.1(平成27年実績）"},null,null,null,null,null,null,null,null,null,null,null,null,null,null,null,null,null,null,null,null,null,null,null,null,null,null,null,null,null,null,null,null,null,null," ","医療",null,null,null,null,null,null,null,null,"人",null,null,null,null,"人",null,null,null,null,"人",null,null,null,null,"人",null,null,null,null,"人",null,null,null,null,"人"]
["不動産業、物品賃貸業",null,null,null,null,null,null,{"$f":"データ一覧!J129","v":"…"},null,null,{"$f":"データ一覧!J186","v":"…"},null,null,{"$f":"データ一覧!J130","v":26},null,null,{"$f":"データ一覧!J187","v":642},null,null,{"$f":"データ一覧!J131","v":"…"},null,null,{"$f":"データ一覧!J188","v":"…"},null,null,null,null,null,null,null,null,null,null,null,null,null,null,null,null,"           ",null,null,null,"歳入",null,null,null,null,null,null,null,null,"(千円）"," ",null,null,null,"歳出",null,null,null,null,null,null,null,null,"(千円）",null,"関係者",null,null,null,null,{"$f":"データ一覧!J666","v":29},null,null,null,null,{"$f":"データ一覧!J667","v":17},null,null,null,null,{"$f":"データ一覧!J668","v":31},null,null,null,null,{"$f":"データ一覧!J669","v":20},null,null,null,null,{"$f":"データ一覧!J670","v":1},null,null,null,null,{"$f":"データ一覧!J671","v":261}]
["学術研究、専門・技術ｻｰﾋﾞｽ業",null,null,null,null,null,null,{"$f":"データ一覧!J132","v":"…"},null,null,{"$f":"データ一覧!J189","v":"…"},null,null,{"$f":"データ一覧!J133","v":50},null,null,{"$f":"データ一覧!J190","v":273},null,null,{"$f":"データ一覧!J134","v":"…"},null,null,{"$f":"データ一覧!J191","v":"…"},null,null,"  産   業　 分　 類",null,null,null,"  商　 店 　数",null,null," 従　業　者　数",null,null,"年　間　販　売　額",null,null,null,"一人当たり歳入歳出予算決算額",null,null,null,null,null,null,null,null,null,null,null,null,null,null,null,null,null,null,null,null,null,null,null,null,null,null,null,"                   ",null,null,null,null,null,null,null,null,"死因別死亡数　　　　　　    ",null,null,null,null,null,null,null,null,null,null,null,null,null,null,null,{"$f":"データ一覧!$A$672","v":"2年中"},null,null,null,null,null,null,null,null,"      単 位：人"]
["宿泊業、飲食サービス業",null,null,null,null,null,null,{"$f":"データ一覧!J135","v":"…"},null,null,{"$f":"データ一覧!J192","v":"…"},null,null,{"$f":"データ一覧!J136","v":230},null,null,{"$f":"データ一覧!J193","v":848},null,null,{"$f":"データ一覧!J137","v":"…"},null,null,{"$f":"データ一覧!J194","v":"…"},null,null,null,null,null,null,null,"        店",null,null,null,"　人",null,"         百万円",null,null,"区分",null,null,null,{"$f":"データ一覧!$A$438","v":"3年度"},null,null,null,null,{"$f":"データ一覧!$A$452","v":"2年度"},null,null,null,null,"区分",null,null,null,{"$f":"+AR68","v":"3年度"},null,null,null,null,{"$f":"データ一覧!$A$452","v":"2年度"},null,null,null,null," 死     因",null,null,null,null,null,null,null,null,null,null,null,"悪  性",null,null,"高血圧",null,null,null,null,null,"脳血管",null,null,null,null,null," ",null,null,"不慮の事故"]
["生活関連サービス業、娯楽業",null,null,null,null,null,null,{"$f":"データ一覧!J138","v":"…"},null,null,{"$f":"データ一覧!J195","v":"…"},null,null,{"$f":"データ一覧!J139","v":173},null,null,{"$f":"データ一覧!J196","v":605},null,null,{"$f":"データ一覧!J140","v":"…"},null,null,{"$f":"データ一覧!J197","v":"…"},null,null,"総　　　　　　計",null,null,null,{"$f":"データ一覧!J294","v":378},null,null,{"$f":"データ一覧!J303","v":1944},null,null,{"$f":"データ一覧!J312","v":32710},null,null,null,null,null,null,null,{"$f":"データ一覧!J434","v":550487.70144189999},null,null,null,null,{"$f":"データ一覧!J435","v":810687.30609712296},null,null,null,null,null,null,null,null,{"$f":"データ一覧!J436","v":550487.70144189999},null,null,null,null,{"$f":"データ一覧!J437","v":781170.53655987722},null,null,null,null,null,null,null,null,null,"全 死 因",null,null,null,"結 核",null,null,"新生物",null,null,"性疾患",null,null,"心疾患",null,null,"疾  患",null,null,"肺  炎",null,null,"老  衰",null,null,null,null," ","交通事故"]
["教育、学習支援業",null,null,null,null,null,null,{"$f":"データ一覧!J141","v":"…"},null,null,{"$f":"データ一覧!J198","v":"…"},null,null,{"$f":"データ一覧!J142","v":36},null,null,{"$f":"データ一覧!J199","v":113},null,null,{"$f":"データ一覧!J143","v":"…"},null,null,{"$f":"データ一覧!J200","v":"…"},null,null,"卸売業",null,null,null,{"$f":"データ一覧!J295","v":48},null,null,{"$f":"データ一覧!J304","v":209},null,null,{"$f":"データ一覧!J313","v":4267},null,null,null,"項目別歳入歳出予算決算額"]
["医療、福祉",null,null,null,null,null,null,{"$f":"データ一覧!J144","v":"…"},null,null,{"$f":"データ一覧!J201","v":"…"},null,null,{"$f":"データ一覧!J145","v":151},null,null,{"$f":"データ一覧!J202","v":2194},null,null,{"$f":"データ一覧!J146","v":"…"},null,null,{"$f":"データ一覧!J203","v":"…"},null,null,"小売業",null,null,null,{"$f":"データ一覧!J296","v":330},null,null,{"$f":"データ一覧!J305","v":1735},null,null,{"$f":"データ一覧!J314","v":28443},null,null,null,"区分",null,null,null,{"$f":"データ一覧!$A$438","v":"3年度"},null,null,null,null,{"$f":"データ一覧!$A$452","v":"2年度"},null,null,null,null,"区分",null,null,null,{"$f":"+AR71","v":"3年度"},null,null,null,null,{"$f":"データ一覧!$A$452","v":"2年度"},null,null,null,null,null,null,null,null,null,{"$f":"データ一覧!J672","v":457},null,null,null,"   －",{"$f":"データ一覧!J673","v":0},null,{"$f":"データ一覧!J674","v":18},null,null,null,{"$f":"データ一覧!J675","v":1},null,{"$f":"データ一覧!J676","v":8},null,null,{"$f":"データ一覧!J677","v":0},null,null,{"$f":"データ一覧!J678","v":17},null,null,{"$f":"データ一覧!J679","v":46},null,null,{"$f":"データ一覧!J680","v":15},null,null,{"$f":"データ一覧!J681","v":3}]
["複合サービス事業",null,null,null,null,null,null,{"$f":"データ一覧!J147","v":"…"},null,null,{"$f":"データ一覧!J204","v":"…"},null,null,{"$f":"データ一覧!J148","v":17},null,null,{"$f":"データ一覧!J205","v":197},null,null,{"$f":"データ一覧!J149","v":"…"},null,null,{"$f":"データ一覧!J206","v":"…"},null,null,"各種商品",null,null,null,{"$f":"データ一覧!J297","v":0},null,null,{"$f":"データ一覧!J306","v":0},null,null,{"$f":"データ一覧!J315","v":0},null,null,null,"総額",null,null,null,{"$f":"SUM(AR73:AV85)","v":16874650},null,null,null,null,{"$f":"SUM(AW73:BA85)","v":24786918},null,null,null,null,"総額",null,null,null,{"$f":"SUM(BF73:BJ85)","v":16874650},null,null,null,null,{"$f":"SUM(BK73:BO85)","v":23920223},null,null,null,null," １９  警　察　・　消　防  ",null,null,null,null,null,null,null,null,null,null,null,null,null,null,null,{"$f":"+データ一覧!$A682","v":"3.4.1"}]
["サービス業",null,null,null,null,null,null,{"$f":"データ一覧!J150","v":"…"},null,null,{"$f":"データ一覧!J207","v":"…"},null,null,{"$f":"データ一覧!J151","v":162},null,null,{"$f":"データ一覧!J208","v":1143},null,null,{"$f":"データ一覧!J152","v":"…"},null,null,{"$f":"データ一覧!J209","v":"…"},null,null,"織物・衣服・身の回り品",null,null,null,{"$f":"データ一覧!J298","v":58},null,null,{"$f":"データ一覧!J307","v":125},null,null,{"$f":"データ一覧!J316","v":992},null,null,null,"地方税",null,null,null,{"$f":"データ一覧!J439","v":3551726},null,null,null,null,{"$f":"データ一覧!J453","v":3905328},null,null,null,null,"議会費",null,null,null,{"$f":"データ一覧!J467","v":195744},null,null,null,null,{"$f":"データ一覧!J481","v":178203}]
["公務",null,null,null,null,null,null,{"$f":"データ一覧!J153","v":"…"},null,null,{"$f":"データ一覧!J210","v":"…"},null,null,{"$f":"データ一覧!J154","v":"…"},null,null,{"$f":"データ一覧!J211","v":"…"},null,null,{"$f":"データ一覧!J155","v":"…"},null,null,{"$f":"データ一覧!J212","v":"…"},null,null,"飲食料品",null,null,null,{"$f":"データ一覧!J299","v":86},null,null,{"$f":"データ一覧!J308","v":654},null,null,{"$f":"データ一覧!J317","v":9947},null,null,null,"地方譲与税",null,null,null,{"$f":"データ一覧!J440","v":225850},null,null,null,null,{"$f":"データ一覧!J454","v":223775},null,null,null,null,"総務費",null,null,null,{"$f":"データ一覧!J468","v":2031773},null,null,null,null,{"$f":"データ一覧!J482","v":6007521},null,null,null,null,null,null,null,null,null,null,null,null,null,null,"交番・駐在所",null,null,null,null,null,null,null,null,"刑法犯認知件数",null,null,null,null,null,null,null,null,"交通人身事故発生件数"]
["  ４  農        　　　業 ",null,null,null,null,null,null,null,null,null,null,null,null,null,null,null,null,null,null,null,null,null,null,null,null,"機械器具",null,null,null,{"$f":"データ一覧!J300","v":62},null,null,{"$f":"データ一覧!J309","v":352},null,null,{"$f":"データ一覧!J318","v":7796},null,null,null,"各種交付金",null,null,null,{"$f":"データ一覧!J441","v":750500},null,null,null,null,{"$f":"データ一覧!J455","v":743455},null,null,null,null,"民生費",null,null,null,{"$f":"データ一覧!J469","v":5379527},null,null,null,null,{"$f":"データ一覧!J483","v":5454965},null,null,null,null,null,"警察署数",null,null,null,null,null,null,null,null,"検問所数",null,null,null,null,null,null,null,null,null,{"$f":"データ一覧!$A$684","v":"2年中"},null,null,null,null,null,null,null,null,{"$f":"データ一覧!$A$684","v":"2年中"}]
[null,null,null,null,null,null,null,null,null,null,null,null,null,null,null,null,null,null,null,null,null,null,null,null,null,"その他",null,null,null,{"$f":"データ一覧!J301","v":118},null,null,{"$f":"データ一覧!J310","v":576},null,null,{"$f":"データ一覧!J319","v":"x"},null,null,null,"地方特例交付金",null,null,null,{"$f":"データ一覧!J442","v":26000},null,null,null,null,{"$f":"データ一覧!J456","v":26109},null,null,null,null,"衛生費",null,null,null,{"$f":"データ一覧!J470","v":1484883},null,null,null,null,{"$f":"データ一覧!J484","v":1423409},null,null,null,null,null,null,null,null,null,null,null,null,null,null,null,null,null,null,null,null,null,null,null,null,null,null,null,null," 件",null,null,null,null,null,null,null,null,"　件"]
[null,null,"農業経営体数",null,null,null,null,null,null,"農産物販売額規模別経営体数",null,null,null,null,null,null,null,"経営耕地面積規模別経営体数",null,null,null,null,null,null,null,"無店舗",null,null,null,{"$f":"データ一覧!J302","v":6},null,null,{"$f":"データ一覧!J311","v":28},null,null,{"$f":"データ一覧!J320","v":"x"},null,null,null,"地方交付税",null,null,null,{"$f":"データ一覧!J443","v":5950000},null,null,null,null,{"$f":"データ一覧!J457","v":6597844},null,null,null,null,"労働費",null,null,null,{"$f":"データ一覧!J471","v":134109},null,null,null,null,{"$f":"データ一覧!J485","v":131758},null,null,null,null,null,null,{"$f":"データ一覧!J682","v":1},null,null,null,null,null,null,null,null,{"$f":"データ一覧!J683","v":8},null,null,null,null,null,null,null,null,{"$f":"データ一覧!J684","v":102},null,null,null,null,null,null,null,null,{"$f":"データ一覧!J685","v":19}]
["農",null,"区　分",null,null,null,"経営体数\n（経営体）",null,null,"区　分",null,null,null,null,"経営体数\n（経営体）",null,null,"区　分",null,null,null,null,"経営体数\n（経営体）",null,null,null,null,null,null,null,null,null,null,null,null,null,null,null,null,"分担金および負担金",null,null,null,{"$f":"データ一覧!J444","v":20591},null,null,null,null,{"$f":"データ一覧!J458","v":19010},null,null,null,null,"農林水産業費",null,null,null,{"$f":"データ一覧!J472","v":1284254},null,null,null,null,{"$f":"データ一覧!J486","v":1349742},null,null,null,null,"火災発生件数",null,null,null,null,null,null,null,null,null,"林野焼損",null,null,null,null,"損      害",null,null,null,null,"消 防 自",null,null,null,"その他の",null,null,null," ",null,null,null,null," "]
["業","令",null,null,null,null,null,null,null,null,null,null,null,null,null,null,null,null,null,null,null,null,null,null,null,"  ８  住　　　　　　 　宅",null,null,null,null,null,null,null,null,null,null,null,null,null,"使用料および手数料",null,null,null,{"$f":"データ一覧!J445","v":210411},null,null,null,null,{"$f":"データ一覧!J459","v":175791},null,null,null,null,"商工費",null,null,null,{"$f":"データ一覧!J473","v":901531},null,null,null,null,{"$f":"データ一覧!J487","v":880192},null,null,null,null,{"$f":"+データ一覧!$A$686","v":"2年中"},null,null,null,null,"焼損棟数",null,null,null,null,"面    積",null,null,null,null,"見  積  額",null,null,null,null,"動 車 数",null,null,null,"ﾎﾟﾝﾌﾟ数",null,null,null," 消防吏員",null,null,null," 消防団員"]
["経",{"$f":"+LEFT(データ一覧!$A$213)","v":"2"},"計",null,null,null,{"$f":"データ一覧!J213","v":933},null,null,"総　　　 数",null,null,null,null,{"$f":"データ一覧!J217","v":933},null,null,"総　　　 数",null,null,null,null,{"$f":"データ一覧!J233","v":3837},null,null,null,null,null,null,null,null,null,null,null,null,null,null,null,null,"国庫支出金",null,null,null,{"$f":"データ一覧!J446","v":2098539},null,null,null,null,{"$f":"データ一覧!J460","v":6783091},null,null,null,null,"土木費",null,null,null,{"$f":"データ一覧!J474","v":1584856},null,null,null,null,{"$f":"データ一覧!J488","v":4219476},null,null,null,null,"         件",null,null,null,null,null,"      棟",null,null,null,null,null,null,"  ａ",null,null,null,"  千円",null,null,"        ",null,null,null,null,null,null,null,null,null,"  人",null,null,null,"  人"]
["営","・","個人経営体",null,null,null,{"$f":"データ一覧!J214","v":885},null,null,"販 売 な し",null,null,null,null,{"$f":"データ一覧!J218","v":38},null,null,"0.5 ha 未満",null,null,null,null,{"$f":"データ一覧!J234","v":35},null,null,{"$f":"+データ一覧!$A$321","v":"令和元年"},null,null,null,null,{"$f":"データ一覧!$A$324","v":"2年"},"中の増減",null,null,null,{"$f":"+データ一覧!$A$324","v":"2年"},null,null,null,"県支出金",null,null,null,{"$f":"データ一覧!J447","v":1729759},null,null,null,null,{"$f":"データ一覧!J461","v":2177905},null,null,null,null,"消防費",null,null,null,{"$f":"データ一覧!J475","v":697356},null,null,null,null,{"$f":"データ一覧!J489","v":715661},null,null,null,null,null,{"$f":"データ一覧!J686","v":10},null,null,null,null,{"$f":"データ一覧!J687","v":7},null,null,null,null,{"$f":"データ一覧!J688","v":0},null,null,null,{"$f":"データ一覧!J689","v":13169},null,null,null,null,null,{"$f":"データ一覧!J690","v":17},null,null,null,{"$f":"データ一覧!J691","v":28},null,null,null,{"$f":"データ一覧!J692","v":55},null,null,null,{"$f":"データ一覧!J693","v":441}]
["体",{"$f":"+LEFT(データ一覧!$A$213,1)","v":"2"},"団体経営体",null,null,null,{"$f":"データ一覧!J215","v":48},null,null,"50万円未満",null,null,null,null,{"$f":"データ一覧!J219","v":252},null,null,"0.5 ha ～ 1.0 ha",null,null,null,null,{"$f":"データ一覧!J235","v":183},null,null,null,null,null,null,"建設した住宅",null,null,"消失した住宅",null,null,null,null,null,null,"財産収入",null,null,null,{"$f":"データ一覧!J448","v":45481},null,null,null,null,{"$f":"データ一覧!J462","v":58920},null,null,null,null,"教育費",null,null,null,{"$f":"データ一覧!J476","v":1649769},null,null,null,null,{"$f":"データ一覧!J490","v":1991048},null,null,null,null," ２０  そ　　　の　　　他　"]
["数","・",null,"法人経営",null,null,{"$f":"データ一覧!J216","v":34},null,null,"50～300万円",null,null,null,null,{"$f":"データ一覧!J220","v":508},null,null,"1.0 ha ～ 2.0 ha",null,null,null,null,{"$f":"データ一覧!J236","v":469},null,null,null,null,null,null,null,null,null,null,null,null,null,null,null,null,"繰入金",null,null,null,{"$f":"データ一覧!J449","v":951930},null,null,null,null,{"$f":"データ一覧!J463","v":932914},null,null,null,null,"災害復旧費",null,null,null,{"$f":"データ一覧!J477","v":2570},null,null,null,null,{"$f":"データ一覧!J491","v":7532}]
["（",{"$f":"+RIGHT(データ一覧!$A$213)","v":"1"},null,null,null,null,null,null,null,"300～500万円",null,null,null,null,{"$f":"データ一覧!J221","v":43},null,null,"2.0 ha ～ 3.0 ha",null,null,null,null,{"$f":"データ一覧!J237","v":263},null,null,null,{"$f":"データ一覧!J321","v":11322},null,"戸",{"$f":"データ一覧!J322","v":74},null,"戸",{"$f":"データ一覧!J323","v":103},null,"戸",null,{"$f":"データ一覧!J324","v":11293},null,"戸","地方債",null,null,null,{"$f":"データ一覧!J450","v":961500},null,null,null,null,{"$f":"データ一覧!J464","v":1906300},null,null,null,null,"公債費",null,null,null,{"$f":"データ一覧!J478","v":1508278},null,null,null,null,{"$f":"データ一覧!J492","v":1560716},null,null,null,null,"　名所・旧跡",null,null,null,null,"越前大野城、民俗資料館、歴史博物館、武家屋敷旧内山家、武家屋敷旧田村家、笛資料館、宝慶寺、和泉郷土資料館、御清水(名水百選)、本願清水(平成の名水百選)、本願清水イトヨの里、旧橋本家住宅、専福寺の大ケヤキ、朝倉義景墓所、平成大野屋、荒島岳（日本百名山）、刈込池、九頭竜峡、七間通り(朝市)、寺町通り、六呂師高原、九頭竜湖、良縁の樹、化石発掘体験センターHOROSSA!、COCONOアートプレイス"]
["総",null,null,null,null,null,null,null,null,"500～1,000万円",null,null,null,null,{"$f":"データ一覧!J222","v":25},null,null,"3.0 ha ～ 5.0 ha",null,null,null,null,{"$f":"データ一覧!J238","v":153},null,null,null,null,null,null,null,null,null,null,null,null,null,null,null,null,"その他",null,null,null,{"$f":"データ一覧!J451","v":352363},null,null,null,null,{"$f":"データ一覧!J465","v":1236476},null,null,null,null,"その他",null,null,null,{"$f":"データ一覧!J479","v":20000},null,null,null,null,{"$f":"データ一覧!J493","v":0},null,null,null,null,"  文化財等"]
["数",null,null,null,null,null,null,null,null,"1,000万円以上",null,null,null,null,{"$f":"データ一覧!J223","v":67},null,null,"5.0 ha以上",null,null,null,null,{"$f":"データ一覧!J239","v":2732}]
["）",null,"15歳以上の常雇い数",null,null,null,null,null,null,"農業に60日以上従事した世帯員、役員・構成員\n（経営主を含む）の平均年齢",null,null,null,null,null,null,null,null,null,null,null,null,null,null,null,"  ９  議　 員　・　職 　員",null,null,null,null,null,null,null,null,null,null,null,null,null," １４  文　　　　　　化",null,null,null,null,null,null,null,null,null," ( ",{"$f":"データ一覧!$A$500","v":"3.3.31"},null,null,null,"ただし図書館・公民館・児童館",null,null,null,null,null,null,null,{"$f":"データ一覧!$A$494","v":"3.4.1"},null,null,null,null,"　　特産物",null,null,null,null,"けんけら、でっち羊かん、やまぶどうワイン、地酒、はまな味噌、草木染（什器)、里芋、\n大野在来そば、越前おおの米、半夏生さば、穴馬スイートコーン、九頭竜まいたけ、とんちゃん、オウレン、醤油カツ丼"]
["と",null,null,null,null,null,null,null,null,null,null,null,null,null,null,null,null,null,null,null,null,null,null,null,null,null,null,null,null,null,null,null,null,null,null,null,null,null,null,null,null,null,null,null,null,null,null,null,null,null,null,null,null,null,null,"　宗教法人数 ",null,null,null,null,null,null,{"$f":"データ一覧!$A$502","v":"2.12.31"},null,null,null,"）"]
["就",null,null,null,null,null,null,null,null,"農業に60日以上従事",null,null,null,null,null,null,null,"農業に150日以上従事",null,null,null,null,null,null,null," 市 町 村 議 会",null,null,"有権者数",null,{"$f":"データ一覧!$A$328","v":"3.9.1"},null,"市 町 村 議 会",null,null,"  職      員      数",null,null,null,null,null,null,null,null,"図書館",null,null,null,null,null,"公　民　館",null,null,null,null,null,null,null,null,null,null," 社会教育学級講座",null,null,null,null,null," 　年中行事",null,null,null,null,"七間朝市(春分の日～12月)､結の花まつり(4月上旬～5月中旬)､七間朝市山菜フードピア(5月中旬)､名水マラソン(5月下旬)､九頭竜新緑まつり(5月中旬)､おおの城まつり(8月13日～16日)、アルプス音楽祭(9月中旬)、三大朝市物産まつり・九頭竜紅葉まつり(10月下旬)、産業と食彩フェア(11月上旬)､小京都物産五番まつり(11月上旬)、新そばまつり(11月中旬)､越前おおの冬物語・ふるさと味物語・でっち羊かんまつり(2月上旬)"]
["業",null,"区　分",null,null,null,"人",null,null,"区　分",null,null,null,null,"人",null,null,"区　分",null,null,null,null,"人",null,null," 議  員  定  数",null,null,"    男",null,"    女",null,"選 挙 投 票 率",null,null," 総     数",null,"一般行政職",null,"公    共",null,null,null," 館  数",null,null," 図書数",null,null," 本  館",null,null," 分  館",null,null," 公  園",null,null," 児童館",null,null,"学級講座数",null,null,"受講者数"]
["状",null,"総数",null,null,null,{"$f":"データ一覧!J230","v":75},null,null,"総数",null,null,null,null,{"$f":"データ一覧!J224","v":68.3},null,null,"総数",null,null,null,null,{"$f":"データ一覧!J227","v":69.3},null,null,null,null,"人",null,"人",null,"人",null,null,"　％",null,"人",null,"人","施 設 数",null,null,null,null,{"$f":"データ一覧!J494","v":1},null,{"$f":"データ一覧!J495","v":215646},null,null,null,{"$f":"データ一覧!J496","v":9},null,{"$f":"データ一覧!J497","v":0},null,null,{"$f":"データ一覧!J498","v":34},null,null,{"$f":"データ一覧!J499","v":4},null,null,{"$f":"データ一覧!J500","v":1151},null,null,{"$f":"データ一覧!J501","v":14915}]
["況",null,"男",null,null,null,{"$f":"データ一覧!J231","v":52},null,null,"男",null,null,null,null,{"$f":"データ一覧!J225","v":67.400000000000006},null,null,"男",null,null,null,null,{"$f":"データ一覧!J228","v":68.599999999999994},null,null,null,{"$f":"データ一覧!J325","v":18},null,{"$f":"データ一覧!J328","v":13031},null,{"$f":"データ一覧!J329","v":14299},null,{"$f":"データ一覧!J327","v":60.82},null,null,{"$f":"データ一覧!J330","v":362},null,{"$f":"データ一覧!J331","v":221},null,"宗    教",null,null,null," 仏教系",null,null,"ｷﾘｽﾄ教系",null,null,"神道諸派",null,null,"公会堂・市民会館",null,null,null,null,null," テレビ",null,null,"衛星放送契約数"]
[null,null,"女",null,null,null,{"$f":"データ一覧!J232","v":23},null,null,"女",null,null,null,null,{"$f":"データ一覧!J226","v":69.7},null,null,"女",null,null,null,null,{"$f":"データ一覧!J229","v":70.7},null,null,null,null,null,null,null,null,null,{"$f":"データ一覧!J326","v":"31.2.17"},null,null,null,null,null,null,"法 人 数",null,null,null,{"$f":"データ一覧!J502","v":78},null,null,{"$f":"データ一覧!J503","v":2},null,null,{"$f":"データ一覧!J504","v":102},null,null,{"$f":"データ一覧!J505","v":2},null,null,null,null,null,"      等",null,null,{"$f":"データ一覧!J506","v":7089}]

{"sheet":"勝山市","index":9,"n_rows":93,"n_cols":103,"rows_kept":93,"cut":false,"hidden":false,"merged":[[66,92,66,96],[89,17,89,21],[90,2,90,5],[90,9,90,13],[90,17,90,21],[91,2,91,5],[91,9,91,13],[91,17,91,21],[92,2,92,5],[92,9,92,13],[92,14,92,16],[92,17,92,21],[85,17,85,21],[81,6,81,8],[81,9,81,13],[81,14,81,16],[82,6,82,8],[82,9,82,13],[82,14,82,16],[83,6,83,8],[83,9,83,13],[83,14,83,16],[84,6,84,8],[84,9,84,13],[84,14,84,16],[92,6,92,8],[85,6,85,8],[85,9,85,13],[85,14,85,16],[85,22,85,24],[66,35,66,38],[70,39,70,42],[17,25,17,27],[18,25,18,27],[62,0,62,6],[61,0,61,6],[60,0,60,6],[57,19,57,21],[59,16,59,18],[57,16,57,18],[64,22,64,24],[35,36,35,37],[35,22,35,24],[51,29,51,32],[50,59,50,61],[51,36,51,38],[50,33,50,38],[27,37,27,38],[20,16,20,18],[29,5,29,7],[27,0,27,4],[34,8,34,10],[23,16,23,18],[57,10,57,12],[56,16,56,18],[47,16,47,18],[50,0,51,24],[31,5,31,7],[32,14,32,16],[33,14,33,16],[55,47,55,49],[55,51,55,53],[59,0,59,6],[48,7,48,9],[48,10,48,12],[47,0,47,1],[48,0,48,1],[55,0,55,6],[58,0,58,6],[57,0,57,6],[56,0,56,6],[55,10,55,12],[36,49,36,51],[38,75,38,77],[38,53,38,56],[36,53,36,56],[36,29,36,30],[48,13,48,15],[48,16,48,18],[41,4,41,6],[47,7,47,9],[47,10,47,12],[46,0,46,1],[42,7,42,9],[42,10,42,12],[42,13,42,15],[42,16,42,18],[57,7,57,9],[58,10,58,12],[56,39,56,42],[57,39,57,42],[42,4,42,6],[40,36,40,37],[40,32,40,35],[39,53,39,56],[36,36,36,37],[32,81,32,84],[33,83,34,96],[35,93,35,95],[35,68,35,72],[33,60,33,64],[35,80,35,83],[34,60,34,64],[31,40,31,46],[34,36,34,37],[65,39,65,42],[30,49,30,51],[42,60,42,64],[42,36,42,37],[37,93,37,95],[36,93,36,95],[38,93,38,95],[40,85,40,91],[39,85,39,91],[39,93,39,95],[37,79,37,82],[37,75,37,77],[42,49,42,51],[55,43,55,45],[55,39,55,42],[32,40,32,46],[41,40,41,46],[37,60,37,64],[39,79,39,82],[42,67,42,73],[38,40,38,46],[39,67,39,73],[38,79,38,82],[21,77,21,80],[21,81,21,84],[22,86,22,90],[23,68,23,72],[25,25,25,26],[30,53,30,56],[32,53,32,56],[33,53,33,56],[34,53,34,56],[34,40,34,46],[33,49,33,51],[29,53,29,56],[29,60,29,64],[34,49,34,51],[37,40,37,46],[38,49,38,51],[32,49,32,51],[26,25,26,26],[29,49,29,51],[29,86,29,90],[30,68,30,72],[32,68,32,72],[32,73,32,76],[32,77,32,80],[30,60,30,64],[31,49,31,51],[31,53,31,56],[34,29,34,30],[33,40,33,46],[35,49,35,51],[35,40,35,46],[30,40,30,46],[27,22,27,24],[20,21,20,23],[47,22,47,24],[27,25,27,26],[34,5,34,7],[44,0,45,1],[27,31,27,32],[45,32,45,35],[46,32,46,35],[16,74,16,95],[56,7,56,9],[21,32,21,34],[21,35,21,38],[20,60,20,64],[21,60,21,64],[49,39,49,45],[49,46,49,49],[49,50,49,53],[51,33,51,35],[16,36,16,37],[17,36,17,38],[18,35,18,38],[26,40,26,46],[21,40,21,46],[21,49,21,51],[20,91,20,94],[17,91,17,94],[22,91,22,94],[21,53,21,56],[21,86,21,90],[44,25,44,28],[45,25,45,28],[27,27,27,28],[55,25,55,30],[18,28,18,30],[16,32,16,33],[19,25,19,28],[19,29,19,31],[19,32,19,34],[26,27,26,28],[17,32,17,34],[18,31,18,34],[50,25,50,28],[25,29,26,30],[17,86,17,89],[19,73,19,76],[19,77,19,80],[24,73,24,76],[29,77,29,80],[31,68,31,72],[31,73,31,76],[31,77,31,80],[31,81,31,84],[29,73,29,76],[31,60,31,64],[29,81,29,84],[30,73,30,76],[30,77,30,80],[45,29,45,30],[44,29,44,30],[30,81,30,84],[30,86,30,90],[32,60,32,64],[24,77,24,80],[29,18,29,19],[41,13,41,15],[33,5,33,7],[33,8,33,10],[30,5,30,7],[29,14,29,16],[32,11,32,13],[41,16,41,18],[30,14,30,16],[32,8,32,10],[32,22,32,24],[40,4,40,6],[30,20,30,21],[30,18,30,19],[32,18,32,19],[32,20,32,21],[33,18,33,19],[33,22,33,24],[29,22,29,24],[35,8,35,10],[30,11,30,13],[30,8,30,10],[29,20,29,21],[34,22,34,24],[31,22,31,24],[30,22,30,24],[33,11,33,13],[33,20,33,21],[34,20,34,21],[31,8,31,10],[31,11,31,13],[31,14,31,16],[5,0,5,9],[6,0,8,9],[22,7,22,8],[27,5,27,7],[29,8,29,10],[29,11,29,13],[19,3,19,5],[23,11,23,13],[20,11,20,13],[24,0,25,24],[51,25,51,28],[48,22,48,24],[55,19,55,21],[26,22,26,24],[44,19,44,24],[21,25,21,28],[55,22,55,24],[47,19,47,21],[48,19,48,21],[22,25,22,28],[54,25,54,32],[15,29,15,30],[15,32,15,33],[14,26,15,28],[20,29,20,31],[20,32,20,34],[25,33,26,34],[25,27,25,28],[24,27,24,28],[40,2,40,3],[32,5,32,7],[35,5,35,7],[14,0,15,24],[17,40,17,46],[17,48,17,52],[20,40,20,46],[23,21,23,23],[25,40,25,46],[47,13,47,15],[15,35,15,37],[20,35,20,38],[25,35,26,36],[25,37,26,38],[22,32,22,34],[22,35,22,38],[23,29,23,31],[23,32,23,34],[23,35,23,38],[23,25,23,28],[22,29,22,31],[19,35,19,38],[20,25,20,28],[25,31,26,32],[21,29,21,31],[14,25,15,25],[27,29,27,30],[46,25,46,28],[27,33,27,34],[27,35,27,36],[34,11,34,13],[26,49,26,51],[28,40,28,46],[27,40,27,46],[36,40,36,46],[17,100,17,101],[19,40,19,46],[19,49,19,51],[19,53,19,56],[19,60,19,64],[17,59,17,65],[19,99,19,102],[19,95,19,98],[19,91,19,94],[17,53,17,57],[20,53,20,56],[20,49,20,51],[19,81,19,84],[20,73,20,76],[20,77,20,80],[20,81,20,84],[20,86,20,90],[17,68,17,71],[17,73,17,76],[17,82,17,83],[22,95,22,98],[22,77,22,80],[22,81,22,84],[20,99,20,102],[20,95,20,98],[25,99,25,102],[25,81,25,84],[25,86,25,90],[26,95,26,98],[26,99,26,102],[25,53,25,56],[21,95,21,98],[21,99,21,102],[22,40,22,46],[22,49,22,51],[22,53,22,56],[22,60,22,64],[22,99,22,102],[22,68,22,72],[22,73,22,76],[21,91,21,94],[23,73,23,76],[24,86,24,90],[23,40,23,46],[23,49,23,51],[24,53,24,56],[24,60,24,64],[24,99,24,102],[24,95,24,98],[24,91,24,94],[21,73,21,76],[24,68,24,72],[24,81,24,84],[23,99,23,102],[23,91,23,94],[23,95,23,98],[25,73,25,76],[23,77,23,80],[23,81,23,84],[23,53,23,56],[23,60,23,64],[26,53,26,56],[26,60,26,64],[25,77,25,80],[26,86,26,90],[23,86,23,90],[24,29,24,30],[24,31,24,32],[24,33,24,34],[24,40,24,46],[24,35,24,36],[24,49,24,51],[24,37,24,38],[28,91,28,94],[26,91,26,94],[27,91,27,94],[27,49,27,51],[27,53,27,56],[27,60,27,64],[26,68,26,72],[26,73,26,76],[26,77,26,80],[26,81,26,84],[25,49,25,51],[25,95,25,98],[28,77,28,80],[28,81,28,84],[28,86,28,90],[27,68,27,72],[27,73,27,76],[27,77,27,80],[27,81,27,84],[27,86,27,90],[28,68,28,72],[25,91,25,94],[28,60,28,64],[28,49,28,51],[28,53,28,56],[28,73,28,76],[25,60,25,64],[31,18,31,19],[31,20,31,21],[29,40,29,46],[34,14,34,16],[34,18,34,19],[40,7,40,9],[41,7,41,9],[40,13,40,15],[41,36,41,37],[41,32,41,35],[41,29,41,30],[41,19,41,21],[41,10,41,12],[40,16,40,18],[40,10,40,12],[40,19,40,21],[38,60,38,64],[35,53,35,56],[35,60,35,64],[37,53,37,56],[36,60,36,64],[39,40,39,46],[41,22,41,24],[41,49,41,51],[41,53,41,56],[35,11,35,13],[35,14,35,16],[35,18,35,19],[35,20,35,21],[41,60,41,64],[35,29,35,30],[40,22,40,24],[38,67,38,73],[39,49,39,51],[37,67,37,73],[36,75,36,77],[42,93,42,95],[42,19,42,21],[43,40,43,46],[42,32,42,35],[42,22,42,24],[40,29,40,30],[40,40,40,46],[40,49,40,51],[41,85,41,91],[37,49,37,51],[40,79,41,82],[40,75,41,77],[49,77,49,79],[46,29,46,30],[48,87,48,90],[48,91,48,94],[48,95,48,98],[49,87,49,90],[42,40,42,46],[42,75,42,77],[42,97,42,100],[42,53,42,56],[42,79,42,82],[45,92,45,101],[43,60,43,64],[45,36,45,37],[48,99,48,102],[43,53,43,56],[44,36,44,37],[49,62,49,66],[45,57,45,61],[46,69,46,74],[45,84,45,89],[48,80,48,82],[48,62,48,65],[48,68,48,75],[46,99,46,102],[47,91,47,94],[47,99,47,102],[44,32,44,35],[50,80,50,82],[50,63,50,66],[50,68,50,75],[50,77,50,79],[46,36,46,37],[48,50,48,53],[43,67,44,82],[50,95,50,98],[50,47,50,49],[50,50,50,53],[50,55,50,57],[49,99,49,102],[50,99,50,102],[50,29,50,32],[51,80,51,82],[51,83,51,86],[50,83,50,86],[50,87,50,90],[50,91,50,94],[51,91,51,94],[47,95,47,98],[43,49,43,51],[51,95,51,98],[49,54,49,57],[48,83,48,86],[48,77,48,79],[48,56,48,59],[46,95,46,98],[49,83,49,86],[49,80,49,82],[49,68,49,75],[45,77,45,82],[49,91,49,94],[49,95,49,98],[51,68,51,75],[51,87,51,90],[51,77,51,79],[62,87,62,89],[55,83,55,86],[54,95,54,98],[52,87,52,90],[54,83,54,86],[63,16,63,18],[53,25,53,27],[53,29,53,31],[53,68,53,75],[53,77,53,79],[52,77,52,79],[56,19,56,21],[55,35,55,38],[61,13,61,15],[57,22,57,24],[61,36,61,37],[59,22,59,24],[58,19,58,21],[62,22,62,24],[60,19,60,21],[61,19,61,21],[61,16,61,18],[60,16,60,18],[58,13,58,15],[57,13,57,15],[56,13,56,15],[54,55,54,58],[54,43,54,46],[54,47,54,50],[53,33,53,34],[61,68,61,71],[53,36,53,37],[59,10,59,12],[55,13,55,15],[56,10,56,12],[58,61,58,63],[58,52,58,54],[56,22,56,24],[58,22,58,24],[61,29,61,30],[58,44,58,46],[59,7,59,9],[60,7,60,9],[62,19,62,21],[60,22,60,24],[58,7,58,9],[55,16,55,18],[55,7,55,9],[62,16,62,18],[61,22,61,24],[60,39,60,42],[55,31,55,34],[58,39,58,42],[58,16,58,18],[56,48,56,53],[60,36,60,37],[61,10,61,12],[59,19,59,21],[60,29,60,30],[59,13,59,15],[57,25,57,29],[57,31,57,33],[57,35,57,37],[62,29,62,30],[73,35,73,37],[61,63,61,66],[69,32,69,33],[70,32,70,33],[68,32,68,33],[71,32,71,33],[61,7,61,9],[62,10,62,12],[60,10,60,12],[62,7,62,9],[60,13,60,15],[62,13,62,15],[63,10,63,12],[64,19,64,21],[65,13,65,15],[64,16,64,18],[69,10,69,12],[66,13,66,15],[66,16,66,18],[65,19,65,21],[65,7,65,9],[65,10,65,12],[69,13,69,15],[73,29,73,30],[63,13,63,15],[65,16,65,18],[70,7,70,9],[69,22,69,24],[70,22,70,24],[67,67,70,71],[67,79,67,81],[78,39,78,42],[70,72,70,75],[76,62,76,66],[73,95,73,101],[74,96,74,100],[78,87,78,90],[80,78,80,80],[77,62,77,66],[78,67,78,71],[78,57,78,61],[78,72,78,76],[80,68,80,70],[77,77,77,81],[72,62,72,66],[73,53,73,56],[72,43,72,47],[72,48,72,52],[72,53,72,56],[71,53,71,56],[71,43,71,47],[71,48,71,52],[73,57,73,61],[71,57,71,61],[71,62,71,66],[74,87,74,91],[75,57,75,61],[74,57,74,61],[70,101,70,102],[67,53,67,56],[67,62,67,66],[76,96,76,99],[67,43,67,47],[67,48,67,52],[80,48,80,52],[78,99,78,102],[69,39,69,66],[71,67,72,82],[68,76,68,78],[68,82,68,84],[71,83,72,102],[70,97,70,99],[70,91,70,93],[68,91,68,93],[68,100,68,102],[68,57,68,61],[73,48,73,52],[68,88,68,90],[78,95,78,98],[79,97,79,98],[79,39,79,42],[79,43,79,47],[79,48,79,52],[79,53,79,56],[80,39,80,42],[78,43,78,47],[78,48,78,52],[73,77,73,83],[73,86,73,92],[77,57,77,61],[76,87,76,90],[70,88,70,90],[70,79,70,81],[68,94,68,96],[70,77,70,78],[68,43,68,47],[68,48,68,52],[77,48,77,52],[69,25,69,28],[70,25,70,28],[70,29,70,30],[82,43,82,47],[77,39,77,42],[74,48,74,52],[83,29,83,30],[69,29,69,30],[83,39,83,42],[82,39,82,42],[74,29,74,30],[75,29,75,30],[70,83,70,84],[72,57,72,61],[70,62,70,66],[68,53,68,56],[77,43,77,47],[76,43,76,47],[68,39,68,42],[68,72,68,75],[73,62,73,66],[76,78,76,81],[74,77,74,83],[80,35,81,38],[71,35,71,37],[73,25,73,28],[75,32,75,33],[75,35,75,37],[76,39,76,42],[80,25,81,28],[74,39,74,42],[75,43,75,47],[75,48,75,52],[74,43,74,47],[83,22,83,24],[81,32,81,34],[81,39,81,42],[81,43,81,47],[73,32,73,33],[74,0,75,24],[76,2,76,8],[84,22,84,24],[71,7,71,9],[71,16,71,18],[72,7,72,9],[72,0,72,6],[73,16,73,18],[73,19,73,21],[73,7,73,9],[73,10,73,12],[73,13,73,15],[73,22,73,24],[77,2,78,5],[77,6,78,8],[77,9,78,13],[77,14,78,16],[77,17,78,21],[77,22,78,24],[76,9,76,16],[92,32,92,34],[88,28,88,29],[91,61,91,66],[91,35,91,36],[91,37,91,38],[91,39,91,42],[91,43,91,45],[88,44,88,47],[90,64,90,66],[91,46,91,48],[90,44,90,45],[88,61,88,66],[88,50,88,53],[89,32,89,34],[90,61,90,63],[90,46,90,48],[90,50,90,51],[90,58,90,60],[91,28,91,29],[91,30,91,31],[91,32,91,34],[88,32,88,34],[88,30,88,31],[92,39,92,42],[92,43,92,45],[92,46,92,48],[92,49,92,51],[91,52,91,57],[89,39,89,42],[91,49,91,51],[90,52,90,54],[90,39,90,42],[27,99,27,102],[27,95,27,98],[92,52,92,57],[92,61,92,66],[83,62,83,66],[77,53,77,56],[80,62,80,66],[81,57,81,61],[84,62,84,66],[84,53,84,56],[83,48,83,52],[81,53,81,56],[80,88,80,90],[80,82,80,86],[78,91,78,94],[78,62,78,66],[80,73,80,75],[79,101,79,102],[80,100,80,102],[78,77,78,81],[78,82,78,86],[80,92,80,94],[80,96,80,98],[31,91,31,94],[56,99,56,102],[56,83,56,86],[40,97,40,100],[61,80,61,83],[67,88,67,90],[70,94,70,96],[41,93,41,95],[74,53,74,56],[29,99,29,102],[67,82,67,84],[67,97,67,102],[62,81,62,83],[62,75,62,77],[66,76,66,90],[63,74,63,76],[65,73,65,76],[62,68,62,71],[65,88,65,91],[39,97,39,100],[55,99,55,102],[65,93,65,96],[64,68,64,71],[65,68,65,71],[56,87,56,90],[56,91,56,94],[56,95,56,98],[65,98,65,101],[62,93,62,95],[60,85,60,90],[60,91,60,96],[55,87,55,90],[55,91,55,94],[52,99,52,102],[53,99,53,102],[55,68,55,75],[55,77,55,79],[55,80,55,82],[56,68,56,75],[51,99,51,102],[52,91,52,94],[39,75,39,77],[49,58,49,61],[54,68,54,75],[56,80,56,82],[39,60,39,64],[40,60,40,64],[56,77,56,79],[42,85,42,91],[54,87,54,90],[52,95,52,98],[31,95,31,98],[41,97,41,100],[35,98,35,101],[37,97,37,100],[40,93,40,95],[32,99,32,102],[32,91,32,94],[32,95,32,98],[54,91,54,94],[53,91,53,94],[54,99,54,102],[53,83,53,86],[55,95,55,98],[54,80,54,82],[54,77,54,79],[53,95,53,98],[53,80,53,82],[52,80,52,82],[52,83,52,86],[36,97,36,100],[53,87,53,90],[52,68,52,75],[36,85,36,91],[31,99,31,102],[43,83,44,102],[36,67,36,73],[28,95,28,98],[47,68,47,75],[47,77,47,79],[47,80,47,82],[47,83,47,86],[47,87,47,90],[81,67,82,102],[14,67,15,81],[14,82,15,95],[35,75,35,77],[37,85,37,91],[38,85,38,91],[36,79,36,82],[30,95,30,98],[29,95,29,98],[35,86,35,90],[33,67,34,80],[28,99,28,102],[29,91,29,94],[30,91,30,94],[65,78,65,81],[65,83,65,86],[70,85,70,87],[30,99,30,102],[63,84,63,86],[63,89,63,91],[38,97,38,100],[60,97,60,102],[90,55,90,57],[82,57,82,61],[89,61,89,63],[83,53,83,56],[83,57,83,61],[78,53,78,56],[83,43,83,47],[55,55,55,57],[70,43,70,47],[70,53,70,56],[70,48,70,52],[57,61,57,63],[79,57,79,61],[68,62,68,66],[80,57,80,61],[60,63,60,66],[60,59,60,62],[58,58,58,60],[65,53,65,56],[65,57,65,63],[66,39,66,66],[58,55,58,57],[84,39,84,42],[84,43,84,47],[82,48,82,52],[76,48,76,52],[67,57,67,61],[75,39,75,42],[75,62,75,66],[75,53,75,56],[61,39,61,42],[70,57,70,61],[74,32,74,33],[71,29,71,30],[84,48,84,52],[88,72,89,102],[55,63,55,65],[63,94,63,96],[76,53,76,56],[74,62,74,66],[77,91,77,94],[77,82,77,86],[76,69,76,72],[74,68,74,74],[81,48,81,52],[80,43,80,47],[62,99,62,101],[63,99,63,101],[63,19,63,21],[63,22,63,24],[65,22,65,24],[67,22,67,24],[81,22,81,24],[82,22,82,24],[83,32,83,33],[83,36,83,37],[83,26,83,27],[81,29,81,31],[76,32,76,33],[76,35,76,37],[66,32,66,34],[68,25,68,28],[71,25,71,28],[84,57,84,61],[57,67,58,102],[73,43,73,47],[73,39,73,42],[63,0,63,6],[72,10,72,12],[69,7,69,9],[70,10,70,12],[64,10,64,12],[68,29,68,30],[72,25,72,28],[70,19,70,21],[72,32,72,33],[70,35,70,37],[68,35,68,37],[64,0,64,6],[66,7,66,9],[67,7,67,9],[71,22,71,24],[70,16,70,18],[64,7,64,9],[63,7,63,9],[71,19,71,21]],"merged_total":1104,"flags":["merged_cut"]}
[{"$f":"+データ一覧!K2","v":0}]
[{"$f":"+データ一覧!K5","v":0}]
[null,null,null,null,null,null,null,null,null,null,null,null,null,null,null,null,null,null,null,null,null,null,null,null,null,null,null,null,null,null,null,null,null,null,null,null,null,null,null,0]
[null,null,null,null,null,null,null,null,null,null,null,null,null,null,null,null,null,null,null,null,null,null,null,null,null,null,null,"【市章とそのいわれ】カツ山をもって勝山を意味する。                      ",null,null,null,null,null,null,null,null,null,null,null,"  【位置および地勢】勝山市は福井県の北東部に位置し、南東は大野市に、",null,null,null,null,null,null,null,null,null,null,null,null,null,null,null,null,null,null,null,null,null,null,null,null,null,null,null,null,null,null,"所在地",null,null,null,null,null,null,null,"〒911-8501"]
[null,null,null,null,null,null,null,null,null,null,null,null,null,null,null,null,null,null,null,null,null,null,null,null,null,null,null,"                  　福井、大野、金沢の三方面への発展を                                        ",null,null,null,null,null,null,null,null,null,null,null,"                  ","南西は福井市、北西に坂井市、西に永平寺町、北は石川県に隣接し、",null,null,null,null,null,null,null,null,null,null,null,null,null,null,null,null,null,null,null,null,null,null,null,null,null,null,null,null,null,null,null,null,null,null,null,null,null,"勝山市元町１丁目１番１号"]
[{"$f":"+データ一覧!K3","v":"かつやまし"},null,null,null,null,null,null,null,null,null,null,null,null,null,null,null,null,null,null,null,null,null,null,null,null,null,null,"                 　 三角の各頂点であらわし、丸は和合、                                     ",null,null,null,null,null,null,null,null,null,null,null,"  ","市の周辺は1,000m級の山々に囲まれ、中心部は県下最大河川 である九頭竜川の"]
[{"$f":"データ一覧!K6","v":"勝山市"},null,null,null,null,null,null,null,null,null,null,null,null,null,null,null,null,null,null,null,null,null,null,null,null,null,null,"                 　 三角は、どっしりとした安定性を意味",null,null,null,null,null,null,null,null,null,null,null," ","中流域に位置している。",null,null,null,null,null,null,null,null,null,null,null,null,null,null,null,null,null,null,null,null,null,null,null,null,null,null,null,null,null,"電話番号",null,null,null,null,null,null,null,"（０７７９）８８－１１１１"]
[null,null,null,null,null,null,null,null,null,null,null,null,null,null,null,null,null,null,null,null,null,null,null,null,null,null,null,"              　    し、三角と丸を組み合わせて勝山市と",null,null,null,null,null,null,null,null,null,null,null," ","市街地は九頭竜川の流れに沿って形成された河岸段丘に位置しており、",null,null,null,null,null,null,null,null,null,null,null,null,null,null,null,null,null,null,null,null,null,null,null,null,null,null,null,null,null,"FAX番号",null,null,null,null,null,null,null,"     〃     ８８－１１１９"]
[null,null,null,null,null,null,null,null,null,null,null,null,null,null,null,null,null,null,null,null,null,null,null,null,null,null,null,"            　      しての将来の発展を意味する。",null,null,null,null,null,null,null,null,null,null,null,"  ","明治以来の地場産業である繊維産業を中心とした商工業、古くから盛んな"]
[null,null,null,null,null,null,null,null,null,null,null,null,null,null,null,null,null,null,null,null,null,null,null,null,null,null,null,0,null,null,null,null,null,null,null,null,null,null,null," ","農林業を基幹産業とする水と緑の豊かな田園都市である。",null,null,null,null,null,null,null,null,null,null,null,null,null,null,null,null,null,null,null,null,null,null,null,null,null,null,null,null,null,"最寄駅および距離",null,null,null,null,null,null,null,"えちぜん鉄道勝山永平寺線勝山駅　下車１ｋｍ"]
[null,null,null,null,null,null,null,null,null,null,null,null,null,null,null,null,null,null,null,null,null,null,null,null,null,null,null,0]
[]
[null,null,null,null,null,null,null,null,null,null,null,null,null,null,null,null,null,null,null,null,null,null,null,null,null,null,null,"【市が掲げる標語】小さくてもキラリと光る誇りと活力に満ちたふるさと勝山",null,null,null,null,null,null,null,null,null,null,null,null,null,null,null,null,null,null,null,null,null,null,null,null,null,null,null,null,null,null,null,null,null,null,null,null,null,null,null,null,null,null,"ホームページ",null,null,null,null,null,null,null,"http://www.city.katsuyama.fukui.jp/"]
[]
["  １  土            　　地",null,null,null,null,null,null,null,null,null,null,null,null,null,null,null,null,null,null,null,null,null,null,null,null,{"$f":"データ一覧!$A$240","v":"2年"},"産米収穫量",null,null,"　 収　穫　量",null,null," 　作 付 面 積",null,null,"   10a当たり収量",null,null,null,null,null,null,null,null,null,null,null,null,null,null,null,null,null,null,null,null,null,null,null,null,null,null,null,null,null,null,null," １５  労　　　　　　　働",null,null,null,null,null,null,null,null,null,null,null,null,null,null,"27.10.1"]
[null,null,null,null,null,null,null,null,null,null,null,null,null,null,null,null,null,null,null,null,null,null,null,null,null,null,null,null,null,{"$f":"データ一覧!$K$240","v":5580},null,"t",{"$f":"データ一覧!$K$241","v":1100},null,"ha",{"$f":"データ一覧!K242","v":506},null,null,"kg"," １０  工　　　　　　業 ",null,null,null,null,null,null,null,null,null,null,null,null,null,{"$f":"データ一覧!$A$332","v":"2.6.1（令和元年実績）"}]
["   総          面           積",null,null,null,null,null,null,null,null,null," 固 定 資 産 概 要 調 書 に よ る 地 目 別 面 積",null,null,null,null,null,null,null,null,null,null,null,null,null,null,null,null,null,"   総　　　数",null,null,null,"うち　　田",null,null,null,"うち　　畑",null,null,null,null,null,null,null,null,null,null,null,null,null,null,null,null,null,null,null,null,null,null,null,null,null,null,null,null,null,null,null,null,null,null,null,null,null,"産業別就業者数   "]
[null,null,{"$f":"データ一覧!$A$7","v":"3.10.1"},null,null,null,null,null,null,null,null,null,null,null,null,null,{"$f":"データ一覧!$A$9","v":"3.1.1"},null,null,null,null,null,null,null,null," 耕  地  面  積",null,null,null,"       ha",null,null,"ha ",null,null,null,"ha ",null,null,"      ","産業分類",null,null,null,null,null,null,null,"事業所数",null,null,null,null,"従業者数",null,null,null,null,null,"年間製造品出荷額等",null,null,null,null,null,null,null,null,"区  分",null,null,null,null,"総    数",null,null,null,null,"男",null,null,null,"女",null,null,"  ","区  分",null,null,null,null,"総    数",null,null,null,null,"男",null,null,null,"女"]
[null,null,null,null,null,null,"㎢",null,null,null,"   総       数",null,null,null,null,"  う ち     田",null,null,null,null,"  う ち     畑",null,null,null,null,{"$f":"データ一覧!A243","v":"2.7.15"},null,null,{"$f":"データ一覧!$K$243","v":1930},null,null,{"$f":"データ一覧!$K$244","v":1780},null,null,null,{"$f":"データ一覧!$K$245","v":155},null,null,null,null,null,null,null,null,null,null,null,null,"　　   ",null,null,"事業所",null,"　　　　　　　 人",null,null,"人",null,"　　　　　　　　　　　　　　万円",null,null,null,null,null,null,"万円",null,null,null,null,null,null,null,"      人",null,null,null,null,null," 人",null,null,null," 人",null,null,null,null,null,null,null,"      人",null,null,null,"      人",null,null,null,"      人"]
[null,null,null,{"$f":"データ一覧!K7","v":253.88},null,null,null,null,null,null,null,null,null,null,"ha",null,null,null,null,"ha",null,null,null,null,"ha","農 業 生 産 物",null,null,null,"作 付 面 積",null,null,"収 穫 量",null,null,"10a当たり収量",null,null,null,"     ","総数",null,null,null,null,null,null,null,null,{"$f":"データ一覧!K332","v":62},null,null,null,{"$f":"+データ一覧!K357","v":2218},null,null,null,null,null,null,{"$f":"データ一覧!K382","v":6034387},null,null,null,null,null,null," 総　　　数",null,null,null,null,null,{"$f":"BZ20+CD20","v":12480},null,null,null,{"$f":"データ一覧!K507","v":6673},null,null,null,{"$f":"データ一覧!K532","v":5807}]
[null,null,null,null,null,null,null,null,null,null,null,{"$f":"データ一覧!K9","v":20774.5},null,null,null,null,{"$f":"データ一覧!K10","v":1918.6},null,null,null,null,{"$f":"データ一覧!K11","v":149.1},null,null,null,{"$f":"データ一覧!$A$246","v":"2年中"},null,null,null,"ha",null,null,"t",null,null,"kg",null,null,null,"     食料品","食料品",null,null,null,null,null,null,null,null,{"$f":"データ一覧!K333","v":4},null,null,null,{"$f":"+データ一覧!K358","v":104},null,null,null,null,null,null,{"$f":"データ一覧!K383","v":156015},null,null,null,null,null,null,null,null,null,null,null,null,null,null,null,null,null,null,null,null,null,null,null,null,null,"卸売業,小売業",null,null,null,null,{"$f":"CR21+CV21","v":1648},null,null,null,{"$f":"データ一覧!K520","v":845},null,null,null,{"$f":"データ一覧!K545","v":803}]
["  町 ･ 丁 ･ 大 字",null,null,null,null,null,null,null,null,null,"  う ち  宅 地",null,null,null,null,"  う ち  山 林",null,null,null,null,"  う ち  原 野",null,null,null,null,"水　　　　　稲",null,null,null,{"$f":"データ一覧!K246","v":1100},null,null,{"$f":"データ一覧!K247","v":5580},null,null,{"$f":"データ一覧!K248","v":506},null,null,null,"     飲料・飼料","飲料・飼料",null,null,null,null,null,null,null,null,{"$f":"データ一覧!K334","v":1},null,null,null,{"$f":"+データ一覧!K359","v":29},null,null,null,null,null,null,{"$f":"データ一覧!K384","v":"x"},null,null,null,null,null,null," 第１次産業",null,null,null,null,null,{"$f":"BZ22+CD22","v":780},null,null,null,{"$f":"データ一覧!K508","v":510},null,null,null,{"$f":"データ一覧!K533","v":270},null,null,null,null,"金融業,保険業",null,null,null,null,{"$f":"CR22+CV22","v":241},null,null,null,{"$f":"データ一覧!K521","v":99},null,null,null,{"$f":"データ一覧!K546","v":142}]
["  区    画    数",null,null,null,null,null,null,{"$f":"データ一覧!K8","v":118},null,null,null,null,null,null,"ha",null,null,null,null,"ha",null,null,null,null,"ha","六　条　大　麦",null,null,null,{"$f":"データ一覧!K249","v":240},null,null,{"$f":"データ一覧!K250","v":468},null,null,{"$f":"データ一覧!K251","v":195},null,null,null,"     繊維","繊維",null,null,null,null,null,null,null,null,{"$f":"データ一覧!K335","v":28},null,null,null,{"$f":"+データ一覧!K360","v":1028},null,null,null,null,null,null,{"$f":"データ一覧!K385","v":1205687},null,null,null,null,null,null,"  ","農業",null,null,null,null,{"$f":"BZ23+CD23","v":714},null,null,null,{"$f":"データ一覧!K509","v":448},null,null,null,{"$f":"データ一覧!K534","v":266},null,null,null,"  ","不動産業",null,null,null,null,71,null,null,null,{"$f":"データ一覧!K522","v":48},null,null,null,{"$f":"データ一覧!K547","v":23}]
[{"$f":"データ一覧!$A$8","v":"2.4.1"},null,null,null,null,null,null,null,null,null,null,{"$f":"データ一覧!K12","v":602.29999999999995},null,null,null,null,{"$f":"データ一覧!K13","v":9270.4},null,null,null,null,{"$f":"データ一覧!K14","v":331.1},null,null,null,"大　　      豆",null,null,null,{"$f":"データ一覧!K252","v":14},null,null,{"$f":"データ一覧!K253","v":11},null,null,{"$f":"データ一覧!K254","v":82},null,null,null,"     衣服","木材",null,null,null,null,null,null,null,null,{"$f":"データ一覧!K336","v":1},null,null,null,{"$f":"+データ一覧!K361","v":7},null,null,null,null,null,null,{"$f":"データ一覧!K386","v":"x"},null,null,null,null,null,null,"  ","林業",null,null,null,null,63,null,null,null,{"$f":"データ一覧!K510","v":59},null,null,null,{"$f":"データ一覧!K535","v":4},null,null,null,"  ","学術研究",null,null,null,null,182,null,null,null,{"$f":"データ一覧!K523","v":116},null,null,null,{"$f":"データ一覧!K548","v":66}]
["  ２  世　帯　数　と　人　口",null,null,null,null,null,null,null,null,null,null,null,null,null,null,null,null,null,null,null,null,null,null,null,null,null,null,"  区　分",null," 乳 用 牛",null," 肉 用 牛",null,"豚",null,"採卵鶏",null,"ブロイラー",null,"     木材","家具",null,null,null,null,null,null,null,null,{"$f":"データ一覧!K337","v":2},null,null,null,{"$f":"+データ一覧!K362","v":36},null,null,null,null,null,null,{"$f":"データ一覧!K387","v":"x"},null,null,null,null,null,null,"  ","漁業",null,null,null,null,3,null,null,null,{"$f":"データ一覧!K511","v":3},null,null,null,{"$f":"データ一覧!K536","v":0},null,null,null,"  ","宿泊業,飲食ｻｰﾋﾞｽ",null,null,null,null,548,null,null,null,{"$f":"データ一覧!K524","v":232},null,null,null,{"$f":"データ一覧!K549","v":316}]
[null,null,null,null,null,null,null,null,null,null,null,null,null,null,null,null,null,null,null,null,null,null,null,null,null,"畜　産",null," 飼養農家",null,{"$f":"データ一覧!$K$255","v":3},null,{"$f":"データ一覧!$K$257","v":3},null,{"$f":"データ一覧!$K$259","v":"-"},null,{"$f":"データ一覧!$K$261","v":"x"},null,{"$f":"データ一覧!$K$263","v":0},null,"     家具","パルプ・紙",null,null,null,null,null,null,null,null,{"$f":"データ一覧!K338","v":0},null,null,null,{"$f":"+データ一覧!K363","v":0},null,null,null,null,null,null,{"$f":"データ一覧!K388","v":0},null,null,null,null,null,null," 第２次産業",null,null,null,null,null,4424,null,null,null,{"$f":"データ一覧!K512","v":2807},null,null,null,{"$f":"データ一覧!K537","v":1617},null,null,null,"  ","生活関連ｻｰﾋﾞｽ業",null,null,null,null,411,null,null,null,{"$f":"データ一覧!K525","v":151},null,null,null,{"$f":"データ一覧!K550","v":260}]
[null,null,null,null,null,null,null,null,"        人　　　　　　　　　　口",null,null,null,null,null,null,null,null,null,null,null,"１世帯当",null,"人    口",null,null,{"$f":"データ一覧!$A$255","v":"3.3.31"},null,"（戸）",null,null,null,null,null,null,null,null,null,null,null,"     パルプ・紙","印刷",null,null,null,null,null,null,null,null,{"$f":"データ一覧!K339","v":3},null,null,null,{"$f":"+データ一覧!K364","v":34},null,null,null,null,null,null,{"$f":"データ一覧!K389","v":45832},null,null,null,null,null,null,null,"鉱業，採石業",null,null,null,null,10,null,null,null,{"$f":"データ一覧!K513","v":6},null,null,null,{"$f":"データ一覧!K538","v":4},null,null,null,"  ","教育,学習支援業",null,null,null,null,578,null,null,null,{"$f":"データ一覧!K526","v":229},null,null,null,{"$f":"データ一覧!K551","v":349}]
[" 区　　　　分",null,null,null,null,"世帯数",null,null," 総   数",null,null,"    男",null,null,"    女",null,null,"  男／女",null,null,"たり人員",null,"密    度",null,null,null,null," 頭 羽",null,{"$f":"データ一覧!$K$256","v":131},null,{"$f":"データ一覧!$K$258","v":8},null,{"$f":"データ一覧!$K$260","v":0},null,{"$f":"データ一覧!$K$262","v":139},null,{"$f":"データ一覧!$K$264","v":0},null,"     出版・印刷","化学",null,null,null,null,null,null,null,null,{"$f":"データ一覧!K340","v":1},null,null,null,{"$f":"+データ一覧!K365","v":346},null,null,null,null,null,null,{"$f":"データ一覧!K390","v":"x"},null,null,null,null,null,null,"  ","建設業",null,null,null,null,1181,null,null,null,{"$f":"データ一覧!K514","v":1008},null,null,null,{"$f":"データ一覧!K539","v":173},null,null,null,null,"医療，福祉",null,null,null,null,1707,null,null,null,{"$f":"データ一覧!K527","v":330},null,null,null,{"$f":"データ一覧!K552","v":1377}]
[null,null,null,null,null,"    世 帯",null,null,"       人",null,null,"       人",null,null,"       人",null,null,null,"　　％",null,"    人",null,"    人/㎢",null,null,null,null,null,null,null,null,null,null,null,null,null,null,null,null,"     化学","石油・石炭",null,null,null,null,null,null,null,null,{"$f":"データ一覧!K341","v":1},null,null,null,{"$f":"+データ一覧!K366","v":18},null,null,null,null,null,null,{"$f":"データ一覧!K391","v":"x"},null,null,null,null,null,null,null,"製造業",null,null,null,null,3233,null,null,null,{"$f":"データ一覧!K515","v":1793},null,null,null,{"$f":"データ一覧!K540","v":1440},null,null,null,null,"複合サービス事業",null,null,null,null,170,null,null,null,{"$f":"データ一覧!K528","v":87},null,null,null,{"$f":"データ一覧!K553","v":83}]
[{"$f":"データ一覧!$A$22","v":" 2.10.1"},null,null,null,null,{"$f":"データ一覧!K22","v":7701},null,null,{"$f":"+L30+O30","v":29805},null,null,{"$f":"データ一覧!K24","v":14400},null,null,{"$f":"データ一覧!K25","v":15405},null,null,null,{"$f":"+L30/O30*100","v":93.476144109055497},null,{"$f":"データ一覧!K27","v":3.87},null,{"$f":"データ一覧!K28","v":117.5},null,null,"  ５  林               業",null,null,null,null,null,null,null,null,null,null,null,null,null,"     石油・石炭","プラスチック",null,null,null,null,null,null,null,null,{"$f":"データ一覧!K342","v":0},null,null,null,{"$f":"+データ一覧!K367","v":0},null,null,null,null,null,null,{"$f":"データ一覧!K392","v":0},null,null,null,null,null,null," 第３次産業",null,null,null,null,null,7199,null,null,null,{"$f":"データ一覧!K516","v":3310},null,null,null,{"$f":"データ一覧!K541","v":3889},null,null,null,null,"サービス業",null,null,null,null,567,null,null,null,{"$f":"データ一覧!K529","v":362},null,null,null,{"$f":"データ一覧!K554","v":205}]
[{"$f":"データ一覧!$A$29","v":" 7.10.1"},null,null,null,null,{"$f":"データ一覧!K29","v":7733},null,null,{"$f":"+L31+O31","v":29162},null,null,{"$f":"データ一覧!K31","v":14033},null,null,{"$f":"データ一覧!K32","v":15129},null,null,null,92.755634873421911,null,{"$f":"データ一覧!K34","v":3.77},null,{"$f":"データ一覧!K35","v":115},null,null,null,null,null,null,null,null,null,null,null,null,null,null,null,null,"     プラスチック","ゴム",null,null,null,null,null,null,null,null,{"$f":"データ一覧!K343","v":0},null,null,null,{"$f":"+データ一覧!K368","v":0},null,null,null,null,null,null,{"$f":"データ一覧!K393","v":0},null,null,null,null,null,null,null,"電気･ｶﾞｽ･水道業",null,null,null,null,58,null,null,null,{"$f":"データ一覧!K517","v":47},null,null,null,{"$f":"データ一覧!K542","v":11},null,null,null,null,"公務",null,null,null,null,452,null,null,null,{"$f":"データ一覧!K530","v":319},null,null,null,{"$f":"データ一覧!K555","v":133}]
[{"$f":"データ一覧!$A$36","v":"12.10.1"},null,null,null,null,{"$f":"データ一覧!K36","v":7942},null,null,{"$f":"+L32+O32","v":28143},null,null,{"$f":"データ一覧!K38","v":13391},null,null,{"$f":"データ一覧!K39","v":14752},null,null,null,90.774132321041208,null,{"$f":"データ一覧!K41","v":3.54},null,{"$f":"データ一覧!K42","v":110.9},null,null,"    　森　　　林　　　総　　　面　　　積   ",null,null,null,null,null,null,null,{"$f":"データ一覧!$A$265","v":"3.3.31"},null,null,null,null,null,"     ゴム","皮革",null,null,null,null,null,null,null,null,{"$f":"データ一覧!K344","v":0},null,null,null,{"$f":"+データ一覧!K369","v":0},null,null,null,null,null,null,{"$f":"データ一覧!K394","v":0},null,null,null,null,null,null,null,"情報通信業",null,null,null,null,140,null,null,null,{"$f":"データ一覧!K518","v":97},null,null,null,{"$f":"データ一覧!K543","v":43},null,null,null," 分類不能の産業",null,null,null,null,null,77,null,null,null,{"$f":"データ一覧!K531","v":46},null,null,null,{"$f":"データ一覧!K556","v":31}]
[{"$f":"+データ一覧!$A$43","v":"17.10.1"},null,null,null,null,{"$f":"データ一覧!K43","v":7990},null,null,{"$f":"+L33+O33","v":26961},null,null,{"$f":"データ一覧!K45","v":12777},null,null,{"$f":"データ一覧!K46","v":14184},null,null,null,90.080372250423011,null,{"$f":"データ一覧!K48","v":3.37},null,{"$f":"データ一覧!K49","v":106.3},null,null,"　　　森　　　　　　　林　　　　　　　の　　　　　　　構　　　　　　　成",null,null,null,null,null,null,null,null,null,null,null,null,null,"     皮革","窯業・土石",null,null,null,null,null,null,null,null,{"$f":"データ一覧!K345","v":3},null,null,null,{"$f":"+データ一覧!K370","v":31},null,null,null,null,null,null,{"$f":"データ一覧!K395","v":120339},null,null,null,null,null,null,"  ","運輸業,郵便業",null,null,null,null,{"$f":"BZ33+CD33","v":426},null,null,null,{"$f":"データ一覧!K519","v":348},null,null,null,{"$f":"データ一覧!K544","v":78}]
[{"$f":"+データ一覧!$A$50","v":"22.10.1"},null,null,null,null,{"$f":"+データ一覧!K50","v":7773},null,null,{"$f":"+L34+O34","v":25466},null,null,{"$f":"+データ一覧!K52","v":12072},null,null,{"$f":"+データ一覧!K53","v":13394},null,null,null,90.129908914439312,null,{"$f":"+データ一覧!K55","v":3.28},null,{"$f":"+データ一覧!K56","v":100.4},null,null,null,null,null,null,null,"       ha",null,null,null,null,null,null,"       ha",null,"     窯業・土石","鉄鋼",null,null,null,null,null,null,null,null,{"$f":"データ一覧!K346","v":2},null,null,null,{"$f":"+データ一覧!K371","v":89},null,null,null,null,null,null,{"$f":"データ一覧!K396","v":"x"},null,null,null,null,null,null," １６  社　 会 　福　 祉",null,null,null,null,null,null,null,null,null,null,null,null,null,null,null,{"$f":"データ一覧!$A$557","v":"3.4.1"}]
[{"$f":"データ一覧!$A$57","v":"27.10.1"},null,null,null,null,{"$f":"データ一覧!K57","v":7703},null,null,{"$f":"データ一覧!K58","v":24125},null,null,{"$f":"データ一覧!K59","v":11478},null,null,{"$f":"データ一覧!K60","v":12647},null,null,null,90.756701193959046,null,{"$f":"データ一覧!K62","v":3.1318966636375438},null,{"$f":"データ一覧!K63","v":95},null,null,"  総　　　　　   数",null,null,null,{"$f":"データ一覧!K265","v":20180.559999999998},null,null," 天然林       針葉樹",null,null,null,{"$f":"データ一覧!K268","v":221.21},null,null,"     鉄鋼","非鉄金属",null,null,null,null,null,null,null,null,{"$f":"データ一覧!K347","v":0},null,null,null,{"$f":"+データ一覧!K372","v":0},null,null,null,null,null,null,{"$f":"データ一覧!K397","v":0}]
["令　2.10.1（国調）",null,null,null,null,{"$f":"データ一覧!K64","v":7524},null,null,{"$f":"データ一覧!K65","v":22150},null,null,{"$f":"データ一覧!K66","v":10581},null,null,{"$f":"データ一覧!K67","v":11569},null,null,null,{"$f":"+L36/O36*100","v":91.459936035958165},null,{"$f":"データ一覧!K72","v":2.92},null,{"$f":"データ一覧!K73","v":85.670395462423187},null,null,"  人工林     針葉樹",null,null,null,{"$f":"データ一覧!K266","v":7900.46},null,null," 天然林       広葉樹",null,null,null,{"$f":"データ一覧!K269","v":11070.38},null,null,"     非鉄金属","金属",null,null,null,null,null,null,null,null,{"$f":"データ一覧!K348","v":4},null,null,null,{"$f":"+データ一覧!K373","v":233},null,null,null,null,null,null,{"$f":"データ一覧!K398","v":815830},null,null,null,null,null,null,"    ","区分",null,null,null,null,null,null,"施設数",null,null,null,null,"収容定員",null,null,null,null,null,"区分",null,null,null,null,null,null,"施設数",null,null,null,null,"収容定員"]
["年",null,"  区",null," 0歳",null,null,"15歳",null,null,"25歳",null,null,"35歳",null,null,"45歳",null,null,"55歳",null,null,"65歳",null,null,"  人工林     広葉樹",null,null,null,{"$f":"データ一覧!K267","v":221.39000000000001},null,null," 竹               林",null,null,null,{"$f":"データ一覧!K270","v":9.4},null,null,"     金属","はん用機械",null,null,null,null,null,null,null,null,{"$f":"データ一覧!K349","v":1},null,null,null,{"$f":"+データ一覧!K374","v":5},null,null,null,null,null,null,{"$f":"データ一覧!K399","v":0},null,null,null,null,null,null,"生活保護施設",null,null,null,null,null,null,null,{"$f":"データ一覧!K557","v":0},null,null,null,{"$f":"データ一覧!K570","v":0},null,null,null,"人",null,"指定障害者支援施設",null,null,null,null,null,null,null,{"$f":"データ一覧!K563","v":4},null,null,null,{"$f":"データ一覧!K576","v":215},null,null,null,"人"]
["齢","令",null,null,null,"～",null,null,"～",null,null,"～",null,null,"～",null,null,"～",null,null,"～",null,null,null,null,null,null,null,null,null,null,null,null,null,null,null,null,null,null,"     一般機械","生産用機械",null,null,null,null,null,null,null,null,{"$f":"データ一覧!K350","v":1},null,null,null,{"$f":"+データ一覧!K375","v":13},null,null,null,null,null,null,{"$f":"データ一覧!K400","v":"x"},null,null,null,null,null,null,"地域福祉施設",null,null,null,null,null,null,null,{"$f":"データ一覧!K558","v":0},null,null,null,{"$f":"データ一覧!K571","v":0},null,null,null,null,null,"指定相談支援事業所",null,null,null,null,null,null,null,{"$f":"データ一覧!K564","v":0},null,null,null,{"$f":"データ一覧!K577","v":0}]
["階",{"$f":"+LEFT(データ一覧!$A$83,1)","v":"3"},"  分",null,null,null,"14歳",null,null,"24歳",null,null,"34歳",null,null,"44歳",null,null,"54歳",null,null,"64歳",null,null,"以上","    林     野     の     構     成",null,null,null,null,null,null,"保     有     形     態     別",null,null,null,null,null,null,"     電気機械","業務用機械",null,null,null,null,null,null,null,null,{"$f":"データ一覧!K351","v":0},null,null,null,{"$f":"+データ一覧!K376","v":0},null,null,null,null,null,null,{"$f":"データ一覧!K401","v":0},null,null,null,null,null,null,"老人福祉施設",null,null,null,null,null,null,null,{"$f":"データ一覧!K559","v":5},null,null,null,{"$f":"データ一覧!K572","v":76},null,null,null,null,null,"児童福祉施設",null,null,null,null,null,null,null,{"$f":"データ一覧!K565","v":14},null,null,null,{"$f":"データ一覧!K578","v":844}]
["級","・",null,null,null,null,"人",null,null,"人",null,"    人",null,null,"    人",null,null,"    人",null,null,"    人",null,null,"    人",null,null,null,null,null,null,null,"ha",null,null,null,null,null,"       ha",null,null,"電子・デバイス",null,null,null,null,null,null,null,null,{"$f":"データ一覧!K352","v":2},null,null,null,{"$f":"+データ一覧!K377","v":56},null,null,null,null,null,null,{"$f":"データ一覧!K402","v":"x"},null,null,null,null,null,null,"介護保険施設",null,null,null,null,null,null,null,{"$f":"データ一覧!K560","v":35},null,null,null,{"$f":"データ一覧!K573","v":789},null,null,null,null,null,"母子福祉施設",null,null,null,null,null,null,null,{"$f":"データ一覧!K566","v":0},null,null,null,{"$f":"データ一覧!K579","v":0}]
["別",{"$f":"+MID(データ一覧!$A$83,3,2)","v":"10"},"総 数",null,{"$f":"+E42+E43","v":2377},null,null,{"$f":"+H42+H43","v":1583},null,null,{"$f":"+K42+K43","v":1603},null,null,{"$f":"+N42+N43","v":2247},null,null,{"$f":"+Q42+Q43","v":2654},null,null,{"$f":"+T42+T43","v":2929},null,null,{"$f":"+W42+W43","v":8254},null,null," 無立木地   伐採跡地",null,null,null,{"$f":"データ一覧!K271","v":27.17},null,null,"国   　　　 　 有",null,null,null,{"$f":"データ一覧!K273","v":2002.41},null,null,null,"電気機械",null,null,null,null,null,null,null,null,{"$f":"データ一覧!K353","v":3},null,null,null,{"$f":"+データ一覧!K378","v":127},null,null,null,null,null,null,{"$f":"データ一覧!K403","v":92882},null,null,null,null,null,null,"障害者自立支援法施行前からの身体障害者福祉施設",null,null,null,null,null,null,null,{"$f":"データ一覧!K561","v":0},null,null,null,{"$f":"データ一覧!K574","v":0},null,null,null,null,null,"婦人保護施設",null,null,null,null,null,null,null,{"$f":"データ一覧!K567","v":0},null,null,null,{"$f":"データ一覧!K580","v":0}]
["人","・","  男",null,{"$f":"データ一覧!K83","v":1226},null,null,{"$f":"データ一覧!K84","v":797},null,null,{"$f":"データ一覧!K85","v":856},null,null,{"$f":"データ一覧!K86","v":1136},null,null,{"$f":"データ一覧!K87","v":1309},null,null,{"$f":"データ一覧!K88","v":1422},null,null,{"$f":"データ一覧!K89","v":3583},null,null," 無立木地   未立木地",null,null,null,{"$f":"データ一覧!K272","v":730.55},null,null,"公       　　  有",null,null,null,{"$f":"データ一覧!K274","v":4145.07},null,null,"     輸送機械","情報通信機械",null,null,null,null,null,null,null,null,{"$f":"データ一覧!K354","v":1},null,null,null,{"$f":"+データ一覧!K379","v":19},null,null,null,null,null,null,{"$f":"データ一覧!K404","v":"x"},null,null,null,null,null,null,null,null,null,null,null,null,null,null,null,null,null,null,null,null,null,null,null,null,"その他の社会福祉施設",null,null,null,null,null,null,null,{"$f":"データ一覧!K568+データ一覧!K569","v":0},null,null,null,{"$f":"データ一覧!K581+データ一覧!K582","v":0}]
["口",{"$f":"+RIGHT(データ一覧!$A$83,1)","v":"1"},"  女",null,{"$f":"データ一覧!K91","v":1151},null,null,{"$f":"データ一覧!K92","v":786},null,null,{"$f":"データ一覧!K93","v":747},null,null,{"$f":"データ一覧!K94","v":1111},null,null,{"$f":"データ一覧!K95","v":1345},null,null,{"$f":"データ一覧!K96","v":1507},null,null,{"$f":"データ一覧!K97","v":4671},null,null,null,null,null,null,null,null,null,"私          　 有",null,null,null,{"$f":"データ一覧!K275","v":14033.080000000002},null,null,"     精密機械","輸送機械",null,null,null,null,null,null,null,null,{"$f":"データ一覧!K355","v":3},null,null,null,{"$f":"+データ一覧!K380","v":34},null,null,null,null,null,null,{"$f":"データ一覧!K405","v":8521},null,null,null,null,null,null,"障害福祉サービス事業所",null,null,null,null,null,null,null,{"$f":"データ一覧!K562","v":19},null,null,null,{"$f":"データ一覧!K575","v":233}]
[null,null,null,null,null,null,null,null,null,null,null,null,null,null,null,null,null,null,null,null,null,null,null,null,null,"            林     産     物     生     産     量 ",null,null,null,null,null,null,null,null,null,{"$f":"データ一覧!$A$276","v":"2年中"},null,null,null,"     その他","その他",null,null,null,null,null,null,null,null,{"$f":"データ一覧!K356","v":1},null,null,null,{"$f":"+データ一覧!K381","v":9},null,null,null,null,null,null,{"$f":"データ一覧!K406","v":"x"},null,null,null,null,null,null," １７  教　　　　　　　育",null,null,null,null,null,null,null,null,null,null,null,null,null,null,null,{"$f":"データ一覧!$A$583","v":"3.5.1"}]
["人口動態",null,null,null,null,null,null,"   自　然　動　態",null,null,null,null,null,"   社  会  動  態",null,null,null,null,null,{"$f":"データ一覧!$A78","v":"2.1.1～3.12.31"},null,null,null,null,null,"生椎茸",null,null,null,{"$f":"データ一覧!K276","v":"-"},null,"㎏","乾椎茸",null,null,null,{"$f":"データ一覧!K277","v":"-"},null,"㎏"]
[null,null,"   区       分",null,null,null,null," 出   生",null,null," 死   亡",null,null," 転   入",null,null," 転   出",null,null," 婚   姻",null,null," 離   婚",null,null,"えのきだけ",null,null,null,{"$f":"データ一覧!K279","v":"-"},null,"㎏","なめこ",null,null,null,{"$f":"データ一覧!K278","v":"-"},null,"㎏","    ","工　業　用　水　量",null,null,null,null,null,"（従業者30人以上の事業所）",null,null,null,null,null,null,null,null,null,null,{"$f":"データ一覧!K407","v":6690},null,null,null,null,"㎥／日",null,null,null,null,null,null,null,null,null,null,null,null,null,null,"学校数（校）",null,null,null,null,null,null,"教員数（人）",null,null,null,null,null,null,null,"学生・生徒・児童数（人）"]
[{"$f":"LEFT(データ一覧!$A74,6)","v":"2.10.1"},null,null,null,null,null,null,"       人",null,null,"       人",null,null,"       人",null,null,"       人",null,null,null,"    件",null,null,"    件",null,"ひらたけ",null,null,null,{"$f":"+データ一覧!K280","v":"-"},null,"㎏","まいたけ",null,null,null,{"$f":"+データ一覧!K281","v":"-"},null,"㎏",null,null,null,null,null,null,null,null,null,null,null,null,null,null,null,null,null,null,null,null,null,null,null,null,null,null,null,null,null,"　","区分",null,null,null,null,null,null,null," 本 校",null,null," 分 校",null,null," 本   務",null,null,null," 兼   務",null,null,null," 総   数",null,null,null,"男",null,null,null,"女"]
["～",null," 実          数",null,null,null,null,{"$f":"データ一覧!K74","v":56},null,null,{"$f":"データ一覧!K75","v":177},null,null,{"$f":"データ一覧!K76","v":176},null,null,{"$f":"データ一覧!K77","v":297},null,null,{"$f":"データ一覧!K78","v":64},null,null,{"$f":"データ一覧!K79","v":21},null,null,null,null,null,null,null,null,null,null,null,null,null,null,null,null," １１ 　上　・　下　水　道",null,null,null,null,null,null,null,null,null,null,null,null,null,null,null,null,null,null,null,null,null,null,null,null,null,null,null,null,"小学校",null,null,null,null,null,null,null,null,{"$f":"データ一覧!K584","v":10},null,null,{"$f":"データ一覧!K585","v":0},null,null,{"$f":"データ一覧!K586","v":112},null,null,null,{"$f":"データ一覧!K587","v":19},null,null,null,{"$f":"データ一覧!K588","v":1036},null,null,null,{"$f":"データ一覧!K589","v":531},null,null,null,{"$f":"データ一覧!K590","v":505}]
[{"$f":"RIGHT(データ一覧!$A76,6)","v":"3.9.30"},null,"比率(対1,000人)",null,null,null,null,{"$f":"+H48/I35*1000","v":2.321243523316062},null,null,{"$f":"+K48/I35*1000","v":7.3367875647668388},null,null,"- ",null,null,"- ",null,null,{"$f":"+T48/I35*1000","v":2.6528497409326426},null,null,{"$f":"+W48/I35*1000","v":0.8704663212435233},null,null,"  ６  漁               業",null,null,null,null,null,null,null,null,null,null,null,null,null,null,null,null,null,null,null,null,null,null,null,null,null,null,null,null,null,null,null,null,null,null,null,null,null,null,null,null,null,"  ","中学校",null,null,null,null,null,null,null,null,{"$f":"データ一覧!K592","v":4},null,null,{"$f":"データ一覧!K593","v":0},null,null,{"$f":"データ一覧!K594","v":63},null,null,null,{"$f":"データ一覧!K595","v":13},null,null,null,{"$f":"データ一覧!K596","v":566},null,null,null,{"$f":"データ一覧!K597","v":302},null,null,null,{"$f":"データ一覧!K598","v":264}]
[null,null,null,null,null,null,null,null,null,null,null,null,null,null,null,null,null,null,null,null,null,null,null,null,null,null,null,null,null,null,null,null,null,null,null,null,null,null,null,"水 道 供 給 人 口",null,null,null,null,null,null,"上 水 道",null,null,null,"簡易水道",null,null,null,"専用水道",null,null,null,"飲料水供給施設",null,null,null,"下水道処理人口",null,null,null,null,"  ","高等学校",null,null,null,null,null,null,null,null,{"$f":"データ一覧!K600","v":1},null,null,{"$f":"データ一覧!K601","v":0},null,null,{"$f":"データ一覧!K602","v":35},null,null,null,{"$f":"データ一覧!K603","v":9},null,null,null,{"$f":"データ一覧!K604","v":310},null,null,null,{"$f":"データ一覧!K605","v":141},null,null,null,{"$f":"データ一覧!K606","v":169}]
["  ３  事　　業　　所（民　　営）    （平 28.6.1）",null,null,null,null,null,null,null,null,null,null,null,null,null,null,null,null,null,null,null,null,null,null,null,null,"漁船隻数・トン数",null,null,null,{"$f":"データ一覧!$A$282","v":"2.12.31"},null,null,null,"動　力　船",null,null,null,null,null,{"$f":"データ一覧!$A$408","v":"3.3.31"},null,null,null,null,null,"人",null,{"$f":"データ一覧!K408","v":21418},null,null,{"$f":"データ一覧!K409","v":0},null,null,null,null,{"$f":"データ一覧!K410","v":135},null,null,null,{"$f":"データ一覧!K411","v":0},null,null,null,{"$f":"データ一覧!K412","v":19254},null,null,null,"  ","大学・短期大学",null,null,null,null,null,null,null,null,{"$f":"データ一覧!K607","v":0},null,null,{"$f":"データ一覧!K608","v":0},null,null,{"$f":"データ一覧!K609","v":0},null,null,null,{"$f":"データ一覧!K610","v":0},null,null,null,{"$f":"データ一覧!K611","v":0},null,null,null,{"$f":"データ一覧!K612","v":0},null,null,null,{"$f":"データ一覧!K613","v":0}]
[null,null,null,null,null,null,null,null,null,null,null,null,null,null,null,null,null,null,null,null,null,null,null,null,null,"無動力船隻数",null,null,null,"船外機付漁船隻数",null,null,null,"隻　数",null,null,"総 ト ン 数",null,null,null,null,null,null,null,null,null,null,null,null,null,null,null,null,null,null,null,null,null,null,null,null,null,null,null,null,null,null,"  ","高等専門学校",null,null,null,null,null,null,null,null,{"$f":"データ一覧!K614","v":0},null,null,{"$f":"データ一覧!K615","v":0},null,null,{"$f":"データ一覧!K616","v":0},null,null,null,{"$f":"データ一覧!K617","v":0},null,null,null,{"$f":"データ一覧!K618","v":0},null,null,null,{"$f":"データ一覧!K619","v":0},null,null,null,{"$f":"データ一覧!K620","v":0}]
[null,null,null,null,null,null,null,"    総　　　　　数",null,null,null,null,null,"    民　　　　　営",null,null,null,null,null,"  国 ･ 地方公共団体",null,null,null,null,null,null,null,null,"隻",null,null,null,"隻",null,null,"隻",null,null,"t"," １２  交   通　・　通   信",null,null,null,null,null,null,null,null,null,null,null,null,null,null,null,null,null,null,null,null,null,null,null,null,null,null,null,"  ","特別支援学校",null,null,null,null,null,null,null,null,{"$f":"データ一覧!K622","v":1},null,null,{"$f":"データ一覧!K623","v":0},null,null,{"$f":"+データ一覧!K624","v":57},null,null,null,{"$f":"+データ一覧!K625","v":4},null,null,null,{"$f":"+データ一覧!K626","v":52},null,null,null,{"$f":"+データ一覧!K627","v":30},null,null,null,{"$f":"+データ一覧!K628","v":22}]
["  　区　　　　　　分",null,null,null,null,null,null," 事業所数",null,null," 従業者数",null,null," 事業所数",null,null," 従業者数",null,null," 事業所数",null,null," 従業者数",null,null,{"$f":"データ一覧!$K$282","v":0},null,null,null,{"$f":"データ一覧!$K$283","v":0},null,null,null,{"$f":"データ一覧!K284","v":0},null,null,{"$f":"データ一覧!K285","v":0},null,null,null,null,null,null,null,null,null,null,null,null,null,null,null,null,null,null,null,null,null,null,null,null,null,null,null,null,null,null,"  ","幼稚園",null,null,null,null,null,null,null,null,{"$f":"データ一覧!K630","v":1},null,null,{"$f":"データ一覧!K631","v":0},null,null,{"$f":"データ一覧!K632","v":4},null,null,null,{"$f":"データ一覧!K633","v":0},null,null,null,{"$f":"データ一覧!K634","v":16},null,null,null,{"$f":"データ一覧!K635","v":5},null,null,null,{"$f":"データ一覧!K636","v":11}]
[null,null,null,null,null,null,null,null,null,null,"       人",null,null,null,null,null,"       人",null,null,null,null,null,"       人",null,null,"  男女別就業者数",null,null,null,null,null,null,null,{"$f":"データ一覧!$A$286","v":"30.11.1"},null,null,null,null,null,"道     路",null,null,null,"実 延 長",null,null,null,"国     道",null,null,null,"県     道",null,null,null,"市町道",null,null,null," 鉄 道 営 業 キ ロ 数",null,null,null,null,null,null,null,"  ","幼保連携認定こども園",null,null,null,null,null,null,null,null,{"$f":"データ一覧!K638","v":7},null,null,{"$f":"データ一覧!K639","v":0},null,null,{"$f":"データ一覧!K640","v":117},null,null,null,{"$f":"データ一覧!K641","v":9},null,null,null,{"$f":"データ一覧!K642","v":526},null,null,null,{"$f":"データ一覧!K643","v":267},null,null,null,{"$f":"データ一覧!K644","v":259}]
["総数",null,null,null,null,null,null,{"$f":"データ一覧!K99","v":"…"},null,null,{"$f":"データ一覧!K156","v":"…"},null,null,{"$f":"データ一覧!K100","v":1212},null,null,{"$f":"データ一覧!K157","v":9260},null,null,{"$f":"データ一覧!K101","v":"…"},null,null,{"$f":"データ一覧!K158","v":"…"},null,null,"総　　数",null,null,null,null,null,"男",null,null,null,"女",null,null,null,{"$f":"データ一覧!$A$413","v":"2.4.1"},null,null,null,{"$f":"データ一覧!K413","v":568.41999999999996},null,null,"㎞",{"$f":"データ一覧!K414","v":39.700000000000003},null,null,"㎞",{"$f":"データ一覧!K415","v":82.7},null,null,"㎞",{"$f":"データ一覧!K416","v":446.02},null,null,"km",{"$f":"データ一覧!$A$417","v":"3.4.1"},null,null,null,{"$f":"データ一覧!K417","v":6.6},null,null,"㎞","  ","各種学校",null,null,null,null,null,null,null,null,{"$f":"データ一覧!K646","v":1},null,null,{"$f":"データ一覧!K647","v":0},null,null,{"$f":"データ一覧!K648","v":21},null,null,null,{"$f":"データ一覧!K649","v":0},null,null,null,{"$f":"データ一覧!K650","v":54},null,null,null,{"$f":"データ一覧!K651","v":29},null,null,null,{"$f":"データ一覧!K652","v":25}]
["農林漁業",null,null,null,null,null,null,{"$f":"データ一覧!K102","v":"…"},null,null,{"$f":"データ一覧!K159","v":"…"},null,null,{"$f":"データ一覧!K103","v":18},null,null,{"$f":"データ一覧!K160","v":323},null,null,{"$f":"データ一覧!K104","v":"…"},null,null,{"$f":"データ一覧!K161","v":"…"},null,null,null,null,null,null,null,"人",null,null,"　　　　人",null,null,null,null,"  人","自動車",null,null,null,null,null,null,null,null,"乗用車",null,null,null,null,null,null,null,null,null,null,null,null,null,null,null,null,null,null,"  ","専修学校",null,null,null,null,null,null,null,null,{"$f":"データ一覧!K654","v":0},null,null,{"$f":"データ一覧!K655","v":0},null,null,{"$f":"データ一覧!K656","v":0},null,null,null,{"$f":"データ一覧!K657","v":0},null,null,null,{"$f":"データ一覧!K658","v":0},null,null,null,{"$f":"データ一覧!K659","v":0},null,null,null,{"$f":"データ一覧!K660","v":0}]
["鉱業",null,null,null,null,null,null,{"$f":"データ一覧!K105","v":"…"},null,null,{"$f":"データ一覧!K162","v":"…"},null,null,{"$f":"データ一覧!K106","v":0},null,null,{"$f":"データ一覧!K163","v":0},null,null,{"$f":"データ一覧!K107","v":"…"},null,null,{"$f":"データ一覧!K164","v":"…"},null,null,{"$f":"SUM(AF58,AJ58)","v":0},null,null,null,null,null,{"$f":"データ一覧!$K$287","v":0},null,null,null,{"$f":"データ一覧!K288","v":0},null,null,null,"台  数",null,null,null,"貨    物",null,null,null,"普     通",null,null,null,"小     型",null,null,null,"乗  合",null,null,"特  種",null,null,"小型二輪",null,null,"軽自動車",null,null," １８  衛　　　　　　　生"]
["建設業",null,null,null,null,null,null,{"$f":"データ一覧!K108","v":"…"},null,null,{"$f":"データ一覧!K165","v":"…"},null,null,{"$f":"データ一覧!K109","v":167},null,null,{"$f":"データ一覧!K166","v":814},null,null,{"$f":"データ一覧!K110","v":"…"},null,null,{"$f":"データ一覧!K167","v":"…"},null,null,"　　　　海 面 漁 業 漁 獲 量 （属人）",null,null,null,null,null,null,null,{"$f":"データ一覧!$A$289","v":"30年中"},null,null,null,null,null,{"$f":"データ一覧!$A$418","v":"3.3.31"},null,null,null,null,{"$f":"データ一覧!K418","v":1755},null,null,null,{"$f":"データ一覧!K420","v":6041},null,null,null,{"$f":"データ一覧!K421","v":6536},null,null,{"$f":"データ一覧!K419","v":92},null,null,{"$f":"データ一覧!K422","v":1070},null,null,{"$f":"データ一覧!K423","v":312},null,null,{"$f":"データ一覧!K424","v":14160}]
["製造業",null,null,null,null,null,null,{"$f":"データ一覧!K111","v":"…"},null,null,{"$f":"データ一覧!K168","v":"…"},null,null,{"$f":"データ一覧!K112","v":172},null,null,{"$f":"データ一覧!K169","v":2909},null,null,{"$f":"データ一覧!K113","v":"…"},null,null,{"$f":"データ一覧!K170","v":"…"},null,null,null,null,null,null,null,"       ","ｔ",null,null,null,null,null,null,"t",null,null,"     ",null,"郵　便　局　数",null,null,null,null,null,null,null,null,null,null,null,null,null,{"$f":"+MID(データ一覧!$A$428,3,2)","v":"12"},"令","一般加入",null,null,null,"ＩＮＳネット",null,null,null,null,null,null,null,"医療関係施設",null,null,null,null,null,{"$f":"データ一覧!$A$661","v":"元.10.1"},null,null,null,null,null,null,"および医療関係者数",null,null,null,null,null,null,null,{"$f":"データ一覧!$A$666","v":"30.12.31"}]
["電気・ｶﾞ ｽ・熱供給・水道業",null,null,null,null,null,null,{"$f":"データ一覧!K114","v":"…"},null,null,{"$f":"データ一覧!K171","v":"…"},null,null,{"$f":"データ一覧!K115","v":2},null,null,{"$f":"データ一覧!K172","v":15},null,null,{"$f":"データ一覧!K116","v":"…"},null,null,{"$f":"データ一覧!K173","v":"…"},null,null,"   総　　　　　　数",null,null,null,{"$f":"データ一覧!K289","v":0},null,null,"   藻　　　　　　類",null,null,null,{"$f":"データ一覧!K292","v":0},null,null,"通  信",null,null,null," 総     数",null,null,null,null," 郵 便 局",null,null,null,null," 簡 易 局",null,null,null,"・",{"$f":"+LEFT(データ一覧!$A$428,1)","v":"2"},"電話数",null,null,null,"加入数",null,null,null,null,null,null,null,null,null,"　","病",null,null,"院",null,"　",null,null,null,null," ","一般診療所",null,null,null,null,null,null,null,null,null,null,null,"歯科診療所"]
["情報通信業",null,null,null,null,null,null,{"$f":"データ一覧!K117","v":"…"},null,null,{"$f":"データ一覧!K174","v":"…"},null,null,{"$f":"データ一覧!K118","v":6},null,null,{"$f":"データ一覧!K175","v":43},null,null,{"$f":"データ一覧!K119","v":"…"},null,null,{"$f":"データ一覧!K176","v":"…"},null,null,"   魚　　　　　　類",null,null,null,{"$f":"データ一覧!K290","v":0},null,null,"   そ　   の　　 他",null,null,null,{"$f":"データ一覧!K293","v":0},null,null,{"$f":"データ一覧!$A$428","v":"2.12.31"},null,null,null,{"$f":"データ一覧!K425","v":10},null,null,null,null,{"$f":"データ一覧!K426","v":9},null,null,null,null,{"$f":"データ一覧!K427","v":1},null,null,null,{"$f":"+RIGHT(データ一覧!$A$428,2)","v":"31"},"・",{"$f":"データ一覧!K428","v":2706},null,null,null,{"$f":"データ一覧!K429","v":245},null,null,null," ","医療関係",null,null,null,null,null,null,null,null,null,null,null,"一般病院",null,null,null,null,null,null,null,null,null,null,null,"有",null,null,"床"]
["運輸業、郵便業",null,null,null,null,null,null,{"$f":"データ一覧!K120","v":"…"},null,null,{"$f":"データ一覧!K177","v":"…"},null,null,{"$f":"データ一覧!K121","v":16},null,null,{"$f":"データ一覧!K178","v":345},null,null,{"$f":"データ一覧!K122","v":"…"},null,null,{"$f":"データ一覧!K179","v":"…"},null,null,"   貝　　　　　　類",null,null,null,{"$f":"データ一覧!K291","v":0},null,null,null,null,null,null,null,null,null,null,null,null,null,null,null,null,null,null,null,null,null,null,null,null,null,null,null,null,null,null,null,null,null,null,null,null,null,null,"施設数",null,null,null,null,null,null,{"$f":"データ一覧!K661","v":2},null,null,null,null,null,{"$f":"データ一覧!K662","v":1},null,null,null,null,null,{"$f":"データ一覧!K663","v":13},null,null,null,null,null,{"$f":"データ一覧!K664","v":3},null,null,null,null,null,{"$f":"データ一覧!K665","v":8}]
["卸売業、小売業",null,null,null,null,null,null,{"$f":"データ一覧!K123","v":"…"},null,null,{"$f":"データ一覧!K180","v":"…"},null,null,{"$f":"データ一覧!K124","v":285},null,null,{"$f":"データ一覧!K181","v":1379},null,null,{"$f":"データ一覧!K125","v":"…"},null,null,{"$f":"データ一覧!K182","v":"…"},null,null,null,null,null,null,null,null,null,null,null,null,null,null,null,null," １３  税　　・　　財　　政",null,null,null,null,null,null,null,null,null,null,null,null,null,null,null,null,null,null,null,null,null,null,null,null,null,null,null,null,null,null,null,null,null,null,"医師",null,null,null,null,"歯科医師",null,null,null,null,"薬剤師",null,null,null,null,"保健師",null,null,null,null,"助産師",null,null," ",null,"看護師",null,null," "]
["金融業、保険業",null,null,null,null,null,null,{"$f":"データ一覧!K126","v":"…"},null,null,{"$f":"データ一覧!K183","v":"…"},null,null,{"$f":"データ一覧!K127","v":17},null,null,{"$f":"データ一覧!K184","v":118},null,null,{"$f":"データ一覧!K128","v":"…"},null,null,{"$f":"データ一覧!K185","v":"…"},null,null,"  ７  商        　　　業 ",null,null,null,null,null,null,{"$f":"データ一覧!$A$294","v":"28.6.1(平成27年実績）"},null,null,null,null,null,null,null,null,null,null,null,null,null,null,null,null,null,null,null,null,null,null,null,null,null,null,null,null,null,null,null,null,null,null," ","医療",null,null,null,null,null,null,null,null,"人",null,null,null,null,"人",null,null,null,null,"人",null,null,null,null,"人",null,null,null,null,"人",null,null,null,null,"人"]
["不動産業、物品賃貸業",null,null,null,null,null,null,{"$f":"データ一覧!K129","v":"…"},null,null,{"$f":"データ一覧!K186","v":"…"},null,null,{"$f":"データ一覧!K130","v":14},null,null,{"$f":"データ一覧!K187","v":31},null,null,{"$f":"データ一覧!K131","v":"…"},null,null,{"$f":"データ一覧!K188","v":"…"},null,null,null,null,null,null,null,null,null,null,null,null,null,null,null,null,"           ",null,null,null,"歳入",null,null,null,null,null,null,null,null,"(千円）"," ",null,null,null,"歳出",null,null,null,null,null,null,null,null,"(千円）",null,"関係者",null,null,null,null,{"$f":"データ一覧!K666","v":43},null,null,null,null,{"$f":"データ一覧!K667","v":13},null,null,null,null,{"$f":"データ一覧!K668","v":44},null,null,null,null,{"$f":"データ一覧!K669","v":20},null,null,null,null,{"$f":"データ一覧!K670","v":1},null,null,null,null,{"$f":"データ一覧!K671","v":357}]
["学術研究、専門・技術ｻｰﾋﾞｽ業",null,null,null,null,null,null,{"$f":"データ一覧!K132","v":"…"},null,null,{"$f":"データ一覧!K189","v":"…"},null,null,{"$f":"データ一覧!K133","v":32},null,null,{"$f":"データ一覧!K190","v":97},null,null,{"$f":"データ一覧!K134","v":"…"},null,null,{"$f":"データ一覧!K191","v":"…"},null,null,"  産   業　 分　 類",null,null,null,"  商　 店 　数",null,null," 従　業　者　数",null,null,"年　間　販　売　額",null,null,null,"一人当たり歳入歳出予算決算額",null,null,null,null,null,null,null,null,null,null,null,null,null,null,null,null,null,null,null,null,null,null,null,null,null,null,null,"                   ",null,null,null,null,null,null,null,null,"死因別死亡数　　　　　    ",null,null,null,null,null,null,null,null,null,null,null,null,null,null,null,{"$f":"データ一覧!$A$672","v":"2年中"},null,null,null,null,null,null,null,null,"      単 位：人"]
["宿泊業、飲食サービス業",null,null,null,null,null,null,{"$f":"データ一覧!K135","v":"…"},null,null,{"$f":"データ一覧!K192","v":"…"},null,null,{"$f":"データ一覧!K136","v":151},null,null,{"$f":"データ一覧!K193","v":645},null,null,{"$f":"データ一覧!K137","v":"…"},null,null,{"$f":"データ一覧!K194","v":"…"},null,null,null,null,null,null,null,"        店",null,null,null,"　人",null,"         百万円",null,null,"区分",null,null,null,{"$f":"データ一覧!$A$438","v":"3年度"},null,null,null,null,{"$f":"データ一覧!$A$452","v":"2年度"},null,null,null,null,"区分",null,null,null,{"$f":"+AR68","v":"3年度"},null,null,null,null,{"$f":"データ一覧!$A$452","v":"2年度"},null,null,null,null," 死     因",null,null,null,null,null,null,null,null,null,null,null,"悪  性",null,null,"高血圧",null,null,null,null,null,"脳血管",null,null,null,null,null," ",null,null,"不慮の事故"]
["生活関連サービス業、娯楽業",null,null,null,null,null,null,{"$f":"データ一覧!K138","v":"…"},null,null,{"$f":"データ一覧!K195","v":"…"},null,null,{"$f":"データ一覧!K139","v":128},null,null,{"$f":"データ一覧!K196","v":317},null,null,{"$f":"データ一覧!K140","v":"…"},null,null,{"$f":"データ一覧!K197","v":"…"},null,null,"総　　　　　　計",null,null,null,{"$f":"データ一覧!K294","v":240},null,null,{"$f":"データ一覧!K303","v":1163},null,null,{"$f":"データ一覧!K312","v":22697},null,null,null,null,null,null,null,{"$f":"データ一覧!K434","v":528071.31034482759},null,null,null,null,{"$f":"データ一覧!K435","v":734301.11356566427},null,null,null,null,null,null,null,null,{"$f":"データ一覧!K436","v":528071.31034482759},null,null,null,null,{"$f":"データ一覧!K437","v":712117.80352553993},null,null,null,null,null,null,null,null,null,"全 死 因",null,null,null,"結 核",null,null,"新生物",null,null,"性疾患",null,null,"心疾患",null,null,"疾  患",null,null,"肺  炎",null,null,"老  衰",null,null,null,null," ","交通事故"]
["教育、学習支援業",null,null,null,null,null,null,{"$f":"データ一覧!K141","v":"…"},null,null,{"$f":"データ一覧!K198","v":"…"},null,null,{"$f":"データ一覧!K142","v":30},null,null,{"$f":"データ一覧!K199","v":149},null,null,{"$f":"データ一覧!K143","v":"…"},null,null,{"$f":"データ一覧!K200","v":"…"},null,null,"卸売業",null,null,null,{"$f":"データ一覧!K295","v":28},null,null,{"$f":"データ一覧!K304","v":99},null,null,{"$f":"データ一覧!K313","v":6386},null,null,null,"項目別歳入歳出予算決算額"]
["医療、福祉",null,null,null,null,null,null,{"$f":"データ一覧!K144","v":"…"},null,null,{"$f":"データ一覧!K201","v":"…"},null,null,{"$f":"データ一覧!K145","v":75},null,null,{"$f":"データ一覧!K202","v":1671},null,null,{"$f":"データ一覧!K146","v":"…"},null,null,{"$f":"データ一覧!K203","v":"…"},null,null,"小売業",null,null,null,{"$f":"データ一覧!K296","v":212},null,null,{"$f":"データ一覧!K305","v":1064},null,null,{"$f":"データ一覧!K314","v":16311},null,null,null,"区分",null,null,null,{"$f":"データ一覧!$A$438","v":"3年度"},null,null,null,null,{"$f":"データ一覧!$A$452","v":"2年度"},null,null,null,null,"区分",null,null,null,{"$f":"+AR71","v":"3年度"},null,null,null,null,{"$f":"データ一覧!$A$452","v":"2年度"},null,null,null,null,null,null,null,null,null,{"$f":"データ一覧!K672","v":341},null,null,null,"   －",{"$f":"データ一覧!K673","v":2},null,{"$f":"データ一覧!K674","v":18},null,null,null,{"$f":"データ一覧!K675","v":7},null,{"$f":"データ一覧!K676","v":1},null,null,{"$f":"データ一覧!K677","v":0},null,null,{"$f":"データ一覧!K678","v":21},null,null,{"$f":"データ一覧!K679","v":32},null,null,{"$f":"データ一覧!K680","v":7},null,null,null,{"$f":"データ一覧!K681","v":2}]
["複合サービス事業",null,null,null,null,null,null,{"$f":"データ一覧!K147","v":"…"},null,null,{"$f":"データ一覧!K204","v":"…"},null,null,{"$f":"データ一覧!K148","v":13},null,null,{"$f":"データ一覧!K205","v":133},null,null,{"$f":"データ一覧!K149","v":"…"},null,null,{"$f":"データ一覧!K206","v":"…"},null,null,"各種商品",null,null,null,{"$f":"データ一覧!K297","v":0},null,null,{"$f":"データ一覧!K306","v":0},null,null,{"$f":"データ一覧!K315","v":0},null,null,null,"総額",null,null,null,{"$f":"SUM(AR73:AV85)","v":11485551},null,null,null,null,{"$f":"SUM(AW73:BA85)","v":16249551},null,null,null,null,"総額",null,null,null,{"$f":"SUM(BF73:BJ85)","v":11485551},null,null,null,null,{"$f":"SUM(BK73:BO85)","v":15795485},null,null,null,null," １９  警　察　・　消　防  ",null,null,null,null,null,null,null,null,null,null,null,null,null,null,null,{"$f":"+データ一覧!$A682","v":"3.4.1"}]
["サービス業",null,null,null,null,null,null,{"$f":"データ一覧!K150","v":"…"},null,null,{"$f":"データ一覧!K207","v":"…"},null,null,{"$f":"データ一覧!K151","v":86},null,null,{"$f":"データ一覧!K208","v":271},null,null,{"$f":"データ一覧!K152","v":"…"},null,null,{"$f":"データ一覧!K209","v":"…"},null,null,"織物・衣服・身の回り品",null,null,null,{"$f":"データ一覧!K298","v":26},null,null,{"$f":"データ一覧!K307","v":69},null,null,{"$f":"データ一覧!K316","v":743},null,null,null,"地方税",null,null,null,{"$f":"データ一覧!K439","v":2593513},null,null,null,null,{"$f":"データ一覧!K453","v":2729877},null,null,null,null,"議会費",null,null,null,{"$f":"データ一覧!K467","v":161500},null,null,null,null,{"$f":"データ一覧!K481","v":155633}]
["公務",null,null,null,null,null,null,{"$f":"データ一覧!K153","v":"…"},null,null,{"$f":"データ一覧!K210","v":"…"},null,null,{"$f":"データ一覧!K154","v":"…"},null,null,{"$f":"データ一覧!K211","v":"…"},null,null,{"$f":"データ一覧!K155","v":"…"},null,null,{"$f":"データ一覧!K212","v":"…"},null,null,"飲食料品",null,null,null,{"$f":"データ一覧!K299","v":63},null,null,{"$f":"データ一覧!K308","v":373},null,null,{"$f":"データ一覧!K317","v":6094},null,null,null,"地方譲与税",null,null,null,{"$f":"データ一覧!K440","v":160019},null,null,null,null,{"$f":"データ一覧!K454","v":163650},null,null,null,null,"総務費",null,null,null,{"$f":"データ一覧!K468","v":1414135},null,null,null,null,{"$f":"データ一覧!K482","v":4164233},null,null,null,null,null,null,null,null,null,null,null,null,null,null,"交番・駐在所",null,null,null,null,null,null,null,null,"刑法犯認知件数",null,null,null,null,null,null,null,null,"交通人身事故発生件数"]
["  ４  農        　　　業 ",null,null,null,null,null,null,null,null,null,null,null,null,null,null,null,null,null,null,null,null,null,null,null,null,"機械器具",null,null,null,{"$f":"データ一覧!K300","v":40},null,null,{"$f":"データ一覧!K309","v":164},null,null,{"$f":"データ一覧!K318","v":2691},null,null,null,"各種交付金",null,null,null,{"$f":"データ一覧!K441","v":526416},null,null,null,null,{"$f":"データ一覧!K455","v":525481},null,null,null,null,"民生費",null,null,null,{"$f":"データ一覧!K469","v":3562731},null,null,null,null,{"$f":"データ一覧!K483","v":3921558},null,null,null,null,null,"警察署数",null,null,null,null,null,null,null,null,"検問所数",null,null,null,null,null,null,null,null,null,{"$f":"データ一覧!$A$684","v":"2年中"},null,null,null,null,null,null,null,null,{"$f":"データ一覧!$A$684","v":"2年中"}]
[null,null,null,null,null,null,null,null,null,null,null,null,null,null,null,null,null,null,null,null,null,null,null,null,null,"その他",null,null,null,{"$f":"データ一覧!K301","v":76},null,null,{"$f":"データ一覧!K310","v":402},null,null,{"$f":"データ一覧!K319","v":6072},null,null,null,"地方特例交付金",null,null,null,{"$f":"データ一覧!K442","v":101659},null,null,null,null,{"$f":"データ一覧!K456","v":18808},null,null,null,null,"衛生費",null,null,null,{"$f":"データ一覧!K470","v":834622},null,null,null,null,{"$f":"データ一覧!K484","v":771580},null,null,null,null,null,null,null,null,null,null,null,null,null,null,null,null,null,null,null,null,null,null,null,null,null,null,null,null," 件",null,null,null,null,null,null,null,null,"　件"]
[null,null,"農業経営体数",null,null,null,null,null,null,"農産物販売額規模別経営体数",null,null,null,null,null,null,null,"経営耕地面積規模別経営体数",null,null,null,null,null,null,null,"無店舗",null,null,null,{"$f":"データ一覧!K302","v":7},null,null,{"$f":"データ一覧!K311","v":56},null,null,{"$f":"データ一覧!K320","v":711},null,null,null,"地方交付税",null,null,null,{"$f":"データ一覧!K443","v":3800000},null,null,null,null,{"$f":"データ一覧!K457","v":4391197},null,null,null,null,"労働費",null,null,null,{"$f":"データ一覧!K471","v":114219},null,null,null,null,{"$f":"データ一覧!K485","v":114459},null,null,null,null,null,null,{"$f":"データ一覧!K682","v":1},null,null,null,null,null,null,null,null,{"$f":"データ一覧!K683","v":5},null,null,null,null,null,null,null,null,{"$f":"データ一覧!K684","v":56},null,null,null,null,null,null,null,null,{"$f":"データ一覧!K685","v":16}]
["農",null,"区　分",null,null,null,"経営体数\n（経営体）",null,null,"区　分",null,null,null,null,"経営体数\n（経営体）",null,null,"区　分",null,null,null,null,"経営体数\n（経営体）",null,null,null,null,null,null,null,null,null,null,null,null,null,null,null,null,"分担金および負担金",null,null,null,{"$f":"データ一覧!K444","v":17410},null,null,null,null,{"$f":"データ一覧!K458","v":87240},null,null,null,null,"農林水産業費",null,null,null,{"$f":"データ一覧!K472","v":684882},null,null,null,null,{"$f":"データ一覧!K486","v":784440},null,null,null,null,"火災発生件数",null,null,null,null,null,null,null,null,null,"林野焼損",null,null,null,null,"損      害",null,null,null,null,"消 防 自",null,null,null,"その他の",null,null,null," ",null,null,null,null," "]
["業","令",null,null,null,null,null,null,null,null,null,null,null,null,null,null,null,null,null,null,null,null,null,null,null,"  ８  住　　　　　　 　宅",null,null,null,null,null,null,null,null,null,null,null,null,null,"使用料および手数料",null,null,null,{"$f":"データ一覧!K445","v":130656},null,null,null,null,{"$f":"データ一覧!K459","v":106956},null,null,null,null,"商工費",null,null,null,{"$f":"データ一覧!K473","v":916872},null,null,null,null,{"$f":"データ一覧!K487","v":996268},null,null,null,null,{"$f":"+データ一覧!$A$686","v":"2年中"},null,null,null,null,"焼損棟数",null,null,null,null,"面    積",null,null,null,null,"見  積  額",null,null,null,null,"動 車 数",null,null,null,"ﾎﾟﾝﾌﾟ数",null,null,null," 消防吏員",null,null,null," 消防団員"]
["経",{"$f":"+LEFT(データ一覧!$A$213)","v":"2"},"計",null,null,null,{"$f":"データ一覧!K213","v":580},null,null,"総　　　 数",null,null,null,null,{"$f":"データ一覧!K217","v":580},null,null,"総　　　 数",null,null,null,null,{"$f":"データ一覧!K233","v":1416},null,null,null,null,null,null,null,null,null,null,null,null,null,null,null,null,"国庫支出金",null,null,null,{"$f":"データ一覧!K446","v":1335251},null,null,null,null,{"$f":"データ一覧!K460","v":4730159},null,null,null,null,"土木費",null,null,null,{"$f":"データ一覧!K474","v":972933},null,null,null,null,{"$f":"データ一覧!K488","v":1660163},null,null,null,null,"         件",null,null,null,null,null,"      棟",null,null,null,null,null,null,"  ａ",null,null,null,"  千円",null,null,"        ",null,null,null,null,null,null,null,null,null,"  人",null,null,null,"  人"]
["営","・","個人経営体",null,null,null,{"$f":"データ一覧!K214","v":554},null,null,"販 売 な し",null,null,null,null,{"$f":"データ一覧!K218","v":68},null,null,"0.5 ha 未満",null,null,null,null,{"$f":"データ一覧!K234","v":40},null,null,{"$f":"+データ一覧!$A$321","v":"令和元年"},null,null,null,null,{"$f":"データ一覧!$A$324","v":"2年"},"中の増減",null,null,null,{"$f":"+データ一覧!$A$324","v":"2年"},null,null,null,"県支出金",null,null,null,{"$f":"データ一覧!K447","v":1138675},null,null,null,null,{"$f":"データ一覧!K461","v":1171782},null,null,null,null,"消防費",null,null,null,{"$f":"データ一覧!K475","v":341077},null,null,null,null,{"$f":"データ一覧!K489","v":544794},null,null,null,null,null,{"$f":"データ一覧!K686","v":9},null,null,null,null,{"$f":"データ一覧!K687","v":8},null,null,null,null,{"$f":"データ一覧!K688","v":0},null,null,null,{"$f":"データ一覧!K689","v":19395},null,null,null,null,null,{"$f":"データ一覧!K690","v":7},null,null,null,{"$f":"データ一覧!K691","v":37},null,null,null,{"$f":"データ一覧!K692","v":38},null,null,null,{"$f":"データ一覧!K693","v":292}]
["体",{"$f":"+LEFT(データ一覧!$A$213,1)","v":"2"},"団体経営体",null,null,null,{"$f":"データ一覧!K215","v":26},null,null,"50万円未満",null,null,null,null,{"$f":"データ一覧!K219","v":225},null,null,"0.5 ha ～ 1.0 ha",null,null,null,null,{"$f":"データ一覧!K235","v":150},null,null,null,null,null,null,"建設した住宅",null,null,"消失した住宅",null,null,null,null,null,null,"財産収入",null,null,null,{"$f":"データ一覧!K448","v":21007},null,null,null,null,{"$f":"データ一覧!K462","v":37892},null,null,null,null,"教育費",null,null,null,{"$f":"データ一覧!K476","v":1230817},null,null,null,null,{"$f":"データ一覧!K490","v":1553095},null,null,null,null," ２０  そ　　　の　　　他　"]
["数","・",null,"法人経営",null,null,{"$f":"データ一覧!K216","v":18},null,null,"50～300万円",null,null,null,null,{"$f":"データ一覧!K220","v":219},null,null,"1.0 ha ～ 2.0 ha",null,null,null,null,{"$f":"データ一覧!K236","v":225},null,null,null,null,null,null,null,null,null,null,null,null,null,null,null,null,"繰入金",null,null,null,{"$f":"データ一覧!K449","v":85395},null,null,null,null,{"$f":"データ一覧!K463","v":408881},null,null,null,null,"災害復旧費",null,null,null,{"$f":"データ一覧!K477","v":0},null,null,null,null,{"$f":"データ一覧!K491","v":5389}]
["（",{"$f":"+RIGHT(データ一覧!$A$213)","v":"1"},null,null,null,null,null,null,null,"300～500万円",null,null,null,null,{"$f":"データ一覧!K221","v":18},null,null,"2.0 ha ～ 3.0 ha",null,null,null,null,{"$f":"データ一覧!K237","v":84},null,null,null,{"$f":"データ一覧!K321","v":8370},null,"戸",{"$f":"データ一覧!K322","v":53},null,"戸",{"$f":"データ一覧!K323","v":95},null,"戸",null,{"$f":"データ一覧!K324","v":8328},null,"戸","地方債",null,null,null,{"$f":"データ一覧!K450","v":950900},null,null,null,null,{"$f":"データ一覧!K464","v":1169505},null,null,null,null,"公債費",null,null,null,{"$f":"データ一覧!K478","v":1243663},null,null,null,null,{"$f":"データ一覧!K492","v":1123873},null,null,null,null,null,null,null,null,null,"越前大仏、勝山温泉センター｢水芭蕉｣、平泉寺白山神社、弁天桜、県立恐竜博物館、"]
["総",null,null,null,null,null,null,null,null,"500～1,000万円",null,null,null,null,{"$f":"データ一覧!K222","v":18},null,null,"3.0 ha ～ 5.0 ha",null,null,null,null,{"$f":"データ一覧!K238","v":53},null,null,null,null,null,null,null,null,null,null,null,null,null,null,null,null,"その他",null,null,null,{"$f":"データ一覧!K451","v":624650},null,null,null,null,{"$f":"データ一覧!K465","v":708123},null,null,null,null,"その他",null,null,null,{"$f":"データ一覧!K479","v":8100},null,null,null,null,{"$f":"データ一覧!K493","v":0},null,null,null,null,"　名所・旧跡",null,null,null,null,"道の駅 恐竜渓谷かつやま、東山いこいの森、勝山城博物館、弁ヶ滝、岩屋観音、"]
["数",null,null,null,null,null,null,null,null,"1,000万円以上",null,null,null,null,{"$f":"データ一覧!K223","v":32},null,null,"5.0 ha以上",null,null,null,null,{"$f":"データ一覧!K239","v":863},null,null,null,null,null,null,null,null,null,null,null,null,null,null,null,null,null,null,null,null,null,null,null,null,null,null,null,null,null,null,null,null,null,null,null,null,null,null,null,null,null,null,null,null,"  文化財等",null,null,null,null,"スキージャム勝山、はたや記念館 ゆめおーれ勝山、加越国境と取立山「水芭蕉群生地」、"]
["）",null,"15歳以上の常雇い数",null,null,null,null,null,null,"農業に60日以上従事した世帯員、役員・構成員\n（経営主を含む）の平均年齢",null,null,null,null,null,null,null,null,null,null,null,null,null,null,null,"  ９  議　 員　・　職 　員",null,null,null,null,null,null,null,null,null,null,null,null,null," １４  文　　　　　　化",null,null,null,null,null,null,null,null,null," ( ",{"$f":"データ一覧!$A$500","v":"3.3.31"},null,null,null,"ただし図書館・公民館・児童館",null,null,null,null,null,null,null,{"$f":"データ一覧!$A$494","v":"3.4.1"},null,null,null,null,null,null,null,null,null,"史跡白山平泉寺旧境内、旧木下家住宅、藩校｢旧成器堂講堂」外３棟、"]
["と",null,null,null,null,null,null,null,null,null,null,null,null,null,null,null,null,null,null,null,null,null,null,null,null,null,null,null,null,null,null,null,null,null,null,null,null,null,null,null,null,null,null,null,null,null,null,null,null,null,null,null,null,null,null,"　宗教法人数 ",null,null,null,null,null,null,{"$f":"データ一覧!$A$502","v":"2.12.31"},null,null,null,"）",null,null,null,null,null,"えちぜん鉄道勝山駅本屋・ホーム待合所、白山平泉寺歴史探遊館まほろば"]
["就",null,null,null,null,null,null,null,null,"農業に60日以上従事",null,null,null,null,null,null,null,"農業に150日以上従事",null,null,null,null,null,null,null," 市 町 村 議 会",null,null,"有権者数",null,{"$f":"データ一覧!$A$328","v":"3.9.1"},null,"市 町 村 議 会",null,null,"  職      員      数",null,null,null,null,null,null,null,null,"図書館",null,null,null,null,null,"公　民　館",null,null,null,null,null,null,null,null,null,null," 社会教育学級講座",null,null,null,null,null,"　　特産物",null,null,null,null,"繊維製品、勝ち山おろしそば、勝ち山ボッカケ、勝ち山おやき、勝山水菜、鯖の熟れ鮨し、若猪野メロン、のむきのエゴマ、西ヶ原にんにく、九頭竜勝山あゆ"]
["業",null,"区　分",null,null,null,"人",null,null,"区　分",null,null,null,null,"人",null,null,"区　分",null,null,null,null,"人",null,null," 議  員  定  数",null,null,"    男",null,"    女",null,"選 挙 投 票 率",null,null," 総     数",null,"一般行政職",null,"公    共",null,null,null," 館  数",null,null," 図書数",null,null," 本  館",null,null," 分  館",null,null," 公  園",null,null," 児童館",null,null,"学級講座数",null,null,"受講者数"]
["状",null,"総数",null,null,null,{"$f":"データ一覧!K230","v":15},null,null,"総数",null,null,null,null,{"$f":"データ一覧!K224","v":69.3},null,null,"総数",null,null,null,null,{"$f":"データ一覧!K227","v":69.900000000000006},null,null,null,null,"人",null,"人",null,"人",null,null,"　％",null,"人",null,"人","施 設 数",null,null,null,null,{"$f":"データ一覧!K494","v":1},null,{"$f":"データ一覧!K495","v":147364},null,null,null,{"$f":"データ一覧!K496","v":9},null,{"$f":"データ一覧!K497","v":0},null,null,{"$f":"データ一覧!K498","v":33},null,null,{"$f":"データ一覧!K499","v":1},null,null,{"$f":"データ一覧!K500","v":98},null,null,{"$f":"データ一覧!K501","v":2659},null,null," 　年中行事",null,null,null,null,"勝山年の市、勝山左義長まつり、弁天桜まつり、"]
["況",null,"男",null,null,null,{"$f":"データ一覧!K231","v":7},null,null,"男",null,null,null,null,{"$f":"データ一覧!K225","v":68.3},null,null,"男",null,null,null,null,{"$f":"データ一覧!K228","v":69.400000000000006},null,null,null,{"$f":"データ一覧!K325","v":16},null,{"$f":"データ一覧!K328","v":9126},null,{"$f":"データ一覧!K329","v":10043},null,{"$f":"データ一覧!K327","v":63.7},null,null,{"$f":"データ一覧!K330","v":255},null,{"$f":"データ一覧!K331","v":152},null,"宗    教",null,null,null," 仏教系",null,null,"ｷﾘｽﾄ教系",null,null,"神道諸派",null,null,"公会堂・市民会館",null,null,null,null,null," テレビ",null,null,"衛星放送契約数",null,null,null,null,null,null,null,null,null,null,"顕如講、神明神社祭礼、走りやんこ、勝山恐竜クロカンマラソン"]
[null,null,"女",null,null,null,{"$f":"データ一覧!K232","v":8},null,null,"女",null,null,null,null,{"$f":"データ一覧!K226","v":71.8},null,null,"女",null,null,null,null,{"$f":"データ一覧!K229","v":71.2},null,null,null,null,null,null,null,null,null,{"$f":"データ一覧!K326","v":"元.8.4"},null,null,null,null,null,null,"法 人 数",null,null,null,{"$f":"データ一覧!K502","v":46},null,null,{"$f":"データ一覧!K503","v":2},null,null,{"$f":"データ一覧!K504","v":83},null,null,{"$f":"データ一覧!K505","v":2},null,null,null,null,null,"      等",null,null,{"$f":"データ一覧!K506","v":5061}]

{"sheet":"鯖江市","index":10,"n_rows":93,"n_cols":103,"rows_kept":93,"cut":false,"hidden":false,"merged":[[92,2,92,5],[92,9,92,13],[92,14,92,16],[92,17,92,21],[91,6,91,8],[91,14,91,16],[66,92,66,96],[85,6,85,8],[85,9,85,13],[85,14,85,16],[85,22,85,24],[85,17,85,21],[81,22,81,24],[86,2,88,8],[86,9,87,24],[88,9,88,16],[88,17,88,24],[89,2,89,5],[89,9,89,13],[89,17,89,21],[90,2,90,5],[90,9,90,13],[90,17,90,21],[91,2,91,5],[91,9,91,13],[91,17,91,21],[80,6,80,8],[80,9,80,13],[80,14,80,16],[80,17,80,21],[80,22,80,24],[81,6,81,8],[81,9,81,13],[81,14,81,16],[82,6,82,8],[82,9,82,13],[82,14,82,16],[83,6,83,8],[83,9,83,13],[83,14,83,16],[84,6,84,8],[84,9,84,13],[84,14,84,16],[84,22,84,24],[19,53,19,56],[26,73,26,76],[28,86,28,90],[27,77,27,80],[27,81,27,84],[27,86,27,90],[76,2,76,8],[76,9,76,16],[76,17,76,24],[77,2,78,5],[77,6,78,8],[77,9,78,13],[77,14,78,16],[77,17,78,21],[77,22,78,24],[79,2,79,5],[79,6,79,8],[79,9,79,13],[79,14,79,16],[79,17,79,21],[79,22,79,24],[29,86,29,90],[31,91,31,94],[38,67,38,73],[37,67,37,73],[32,91,32,94],[33,83,34,96],[37,75,37,77],[36,49,36,51],[38,49,38,51],[48,77,48,79],[47,68,47,75],[47,77,47,79],[51,87,51,90],[45,77,45,82],[27,49,27,51],[27,35,27,36],[27,40,27,46],[27,53,27,56],[27,60,27,64],[28,60,28,64],[27,73,27,76],[28,73,28,76],[28,68,28,72],[28,49,28,51],[35,86,35,90],[35,93,35,95],[37,60,37,64],[37,49,37,51],[37,53,37,56],[36,53,36,56],[36,60,36,64],[35,49,35,51],[35,36,35,37],[35,75,35,77],[37,79,37,82],[38,93,38,95],[37,93,37,95],[38,75,38,77],[38,79,38,82],[37,85,37,91],[38,85,38,91],[36,75,36,77],[35,60,35,64],[33,67,34,80],[34,53,34,56],[35,40,35,46],[35,53,35,56],[35,68,35,72],[36,79,36,82],[36,85,36,91],[36,93,36,95],[38,60,38,64],[46,69,46,74],[40,67,41,73],[48,80,48,82],[30,68,30,72],[32,49,32,51],[29,81,29,84],[32,18,32,19],[29,77,29,80],[29,53,29,56],[29,60,29,64],[29,40,29,46],[29,49,29,51],[29,14,29,16],[40,13,40,15],[41,16,41,18],[30,18,30,19],[32,11,32,13],[34,22,34,24],[41,29,41,30],[35,18,35,19],[29,20,29,21],[29,73,29,76],[31,22,31,24],[29,22,29,24],[30,20,30,21],[45,36,45,37],[35,29,35,30],[38,53,38,56],[36,36,36,37],[40,49,40,51],[39,60,39,64],[30,73,30,76],[28,81,28,84],[28,77,28,80],[22,86,22,90],[21,86,21,90],[23,77,23,80],[23,81,23,84],[23,86,23,90],[26,81,26,84],[24,77,24,80],[24,81,24,84],[24,86,24,90],[25,86,25,90],[26,86,26,90],[70,0,70,6],[66,0,66,6],[67,0,67,6],[68,0,68,6],[40,2,40,3],[48,13,48,15],[48,16,48,18],[47,19,47,21],[48,19,48,21],[57,0,57,6],[55,10,55,12],[57,10,57,12],[55,0,55,6],[55,13,55,15],[26,22,26,24],[32,22,32,24],[33,22,33,24],[30,22,30,24],[29,5,29,7],[5,0,5,9],[19,49,19,51],[20,11,20,13],[20,16,20,18],[20,21,20,23],[19,3,19,5],[20,40,20,46],[14,26,15,28],[20,49,20,51],[19,40,19,46],[30,5,30,7],[31,5,31,7],[31,8,31,10],[31,11,31,13],[31,14,31,16],[40,19,40,21],[30,11,30,13],[30,14,30,16],[32,5,32,7],[31,18,31,19],[22,32,22,34],[27,0,27,4],[27,5,27,7],[27,22,27,24],[29,18,29,19],[30,8,30,10],[35,5,35,7],[35,8,35,10],[35,11,35,13],[35,14,35,16],[29,8,29,10],[29,11,29,13],[26,49,26,51],[28,53,28,56],[25,49,25,51],[28,40,28,46],[41,49,41,51],[36,40,36,46],[38,40,38,46],[37,40,37,46],[70,10,70,12],[69,22,69,24],[71,16,71,18],[69,0,69,6],[69,10,69,12],[70,7,70,9],[73,16,73,18],[70,16,70,18],[67,7,67,9],[72,0,72,6],[73,19,73,21],[72,22,72,24],[71,22,71,24],[73,22,73,24],[72,16,72,18],[73,10,73,12],[67,22,67,24],[63,19,63,21],[73,13,73,15],[72,13,72,15],[60,16,60,18],[64,16,64,18],[61,16,61,18],[61,19,61,21],[6,0,8,9],[17,40,17,46],[17,48,17,52],[15,29,15,30],[17,59,17,65],[15,32,15,33],[16,32,16,33],[16,36,16,37],[17,32,17,34],[14,82,15,95],[16,74,16,95],[19,73,19,76],[19,77,19,80],[22,7,22,8],[14,25,15,25],[15,35,15,37],[21,53,21,56],[21,40,21,46],[21,25,21,28],[21,49,21,51],[20,53,20,56],[22,68,22,72],[20,77,20,80],[20,73,20,76],[21,73,21,76],[22,35,22,38],[19,81,19,84],[22,73,22,76],[22,77,22,80],[22,81,22,84],[21,77,21,80],[17,36,17,38],[23,40,23,46],[21,99,21,102],[19,99,19,102],[21,60,21,64],[20,91,20,94],[20,95,20,98],[21,95,21,98],[19,91,19,94],[21,91,21,94],[20,60,20,64],[21,81,21,84],[17,100,17,101],[20,99,20,102],[17,68,17,71],[17,73,17,76],[17,82,17,83],[20,81,20,84],[20,86,20,90],[17,86,17,89],[17,91,17,94],[19,95,19,98],[19,60,19,64],[17,53,17,57],[26,77,26,80],[26,53,26,56],[25,35,26,36],[25,37,26,38],[25,40,25,46],[25,53,25,56],[26,40,26,46],[22,91,22,94],[24,99,24,102],[24,95,24,98],[24,91,24,94],[23,99,23,102],[22,60,22,64],[23,91,23,94],[23,95,23,98],[22,95,22,98],[22,99,22,102],[24,35,24,36],[24,49,24,51],[24,53,24,56],[23,73,23,76],[23,68,23,72],[24,68,24,72],[24,73,24,76],[23,60,23,64],[24,37,24,38],[24,60,24,64],[22,49,22,51],[22,40,22,46],[22,53,22,56],[23,49,23,51],[23,53,23,56],[32,95,32,98],[32,40,32,46],[33,53,33,56],[32,68,32,72],[32,73,32,76],[32,53,32,56],[33,60,33,64],[26,68,26,72],[27,68,27,72],[25,60,25,64],[26,60,26,64],[27,91,27,94],[27,95,27,98],[27,99,27,102],[23,11,23,13],[23,16,23,18],[23,21,23,23],[24,40,24,46],[23,25,23,28],[23,29,23,31],[23,32,23,34],[23,35,23,38],[24,27,24,28],[24,33,24,34],[27,31,27,32],[27,33,27,34],[24,29,24,30],[27,27,27,28],[26,25,26,26],[27,29,27,30],[27,25,27,26],[27,37,27,38],[31,53,31,56],[32,60,32,64],[30,91,30,94],[30,60,30,64],[31,68,31,72],[30,49,30,51],[31,81,31,84],[31,60,31,64],[30,86,30,90],[30,81,30,84],[31,49,31,51],[30,77,30,80],[34,40,34,46],[34,49,34,51],[34,60,34,64],[33,49,33,51],[33,40,33,46],[31,73,31,76],[32,77,32,80],[31,77,31,80],[34,5,34,7],[42,10,42,12],[42,13,42,15],[40,7,40,9],[40,10,40,12],[42,19,42,21],[42,7,42,9],[32,14,32,16],[41,13,41,15],[34,20,34,21],[41,19,41,21],[31,20,31,21],[34,18,34,19],[41,22,41,24],[40,22,40,24],[35,20,35,21],[35,22,35,24],[41,4,41,6],[33,14,33,16],[33,18,33,19],[33,20,33,21],[34,11,34,13],[34,14,34,16],[32,8,32,10],[34,8,34,10],[41,7,41,9],[42,22,42,24],[33,11,33,13],[40,4,40,6],[42,4,42,6],[42,16,42,18],[55,95,55,98],[41,60,41,64],[41,53,41,56],[40,53,40,56],[49,80,49,82],[49,62,49,66],[40,60,40,64],[39,75,39,77],[50,59,50,61],[41,10,41,12],[39,67,39,73],[40,75,41,77],[42,93,42,95],[42,79,42,82],[42,75,42,77],[45,84,45,89],[45,92,45,101],[55,51,55,53],[41,97,41,100],[55,99,55,102],[53,99,53,102],[53,91,53,94],[53,87,53,90],[41,85,41,91],[42,97,42,100],[43,83,44,102],[40,93,40,95],[39,40,39,46],[41,32,41,35],[41,40,41,46],[40,16,40,18],[52,68,52,75],[51,33,51,35],[51,36,51,38],[46,32,46,35],[54,25,54,32],[53,25,53,27],[47,0,47,1],[48,0,48,1],[50,0,51,24],[47,16,47,18],[59,22,59,24],[57,13,57,15],[58,0,58,6],[56,0,56,6],[49,46,49,49],[46,25,46,28],[47,10,47,12],[47,13,47,15],[55,25,55,30],[55,35,55,38],[50,29,50,32],[49,39,49,45],[48,22,48,24],[47,22,47,24],[55,7,55,9],[56,10,56,12],[59,10,59,12],[57,7,57,9],[48,7,48,9],[48,10,48,12],[47,7,47,9],[55,19,55,21],[57,16,57,18],[42,49,42,51],[42,53,42,56],[42,40,42,46],[49,58,49,61],[49,50,49,53],[42,60,42,64],[48,62,48,65],[49,54,49,57],[43,40,43,46],[43,49,43,51],[43,60,43,64],[43,53,43,56],[48,56,48,59],[48,50,48,53],[39,53,39,56],[45,29,45,30],[40,40,40,46],[39,49,39,51],[40,32,40,35],[41,36,41,37],[42,36,42,37],[44,36,44,37],[44,32,44,35],[44,0,45,1],[46,0,46,1],[56,91,56,94],[54,91,54,94],[40,36,40,37],[46,29,46,30],[40,79,41,82],[45,57,45,61],[55,80,55,82],[55,47,55,49],[55,39,55,42],[59,16,59,18],[58,58,58,60],[56,48,56,53],[55,55,55,57],[55,43,55,45],[55,91,55,94],[56,16,56,18],[58,39,58,42],[55,77,55,79],[53,33,53,34],[51,29,51,32],[50,77,50,79],[51,80,51,82],[51,77,51,79],[56,80,56,82],[57,55,57,57],[56,68,56,75],[49,77,49,79],[54,47,54,50],[58,10,58,12],[55,68,55,75],[55,87,55,90],[56,77,56,79],[50,87,50,90],[54,39,54,42],[53,36,53,37],[58,61,58,63],[55,63,55,65],[50,47,50,49],[54,51,54,54],[54,59,54,66],[65,43,65,49],[65,53,65,56],[67,43,67,47],[61,39,61,42],[58,44,58,46],[59,59,59,62],[58,48,58,50],[57,35,57,37],[63,84,63,86],[62,75,62,77],[56,87,56,90],[54,87,54,90],[53,83,53,86],[52,80,52,82],[54,43,54,46],[50,33,50,38],[50,55,50,57],[50,63,50,66],[54,55,54,58],[53,80,53,82],[50,50,50,53],[55,31,55,34],[57,19,57,21],[55,59,55,62],[57,47,57,50],[58,55,58,57],[68,57,68,61],[68,43,68,47],[60,39,60,42],[57,61,57,63],[68,32,68,33],[61,36,61,37],[56,22,56,24],[65,16,65,18],[60,53,60,56],[61,43,61,47],[61,48,61,52],[61,53,61,56],[56,39,56,42],[57,39,57,42],[58,52,58,54],[65,57,65,63],[67,16,67,18],[65,98,65,101],[63,99,63,101],[62,99,62,101],[60,97,60,102],[60,63,60,66],[68,88,68,90],[63,89,63,91],[57,51,57,54],[67,48,67,52],[67,53,67,56],[67,57,67,61],[67,62,67,66],[67,79,67,81],[67,82,67,84],[67,88,67,90],[68,48,68,52],[68,53,68,56],[68,100,68,102],[67,97,67,102],[68,94,68,96],[63,74,63,76],[62,87,62,89],[65,78,65,81],[63,94,63,96],[60,59,60,62],[61,59,61,62],[64,68,64,71],[59,43,59,56],[60,43,60,47],[60,48,60,52],[57,43,57,46],[57,58,57,60],[65,68,65,71],[66,76,66,90],[68,79,68,81],[68,91,68,93],[71,43,71,47],[71,48,71,52],[71,62,71,66],[73,62,73,66],[72,53,72,56],[68,72,68,75],[65,88,65,91],[70,91,70,93],[68,39,68,42],[68,82,68,84],[65,83,65,86],[65,93,65,96],[67,39,67,42],[65,73,65,76],[70,57,70,61],[70,62,70,66],[70,79,70,81],[70,85,70,87],[70,53,70,56],[70,72,70,75],[70,77,70,78],[73,77,73,83],[76,53,76,56],[76,57,76,61],[68,62,68,66],[69,39,69,66],[70,48,70,52],[71,67,72,82],[71,83,72,102],[70,83,70,84],[71,53,71,56],[73,39,73,42],[76,43,76,47],[75,39,75,42],[70,43,70,47],[70,100,70,102],[70,97,70,99],[74,96,74,100],[74,53,74,56],[74,87,74,91],[70,39,70,42],[70,88,70,90],[73,95,73,101],[68,85,68,87],[68,76,68,78],[73,86,73,92],[74,57,74,61],[74,62,74,66],[67,67,70,71],[74,68,74,74],[74,77,74,83],[70,94,70,96],[90,39,90,42],[90,44,90,45],[91,49,91,51],[90,46,90,48],[91,35,91,36],[91,37,91,38],[91,39,91,42],[84,43,84,47],[84,39,84,42],[88,50,88,53],[89,32,89,34],[89,39,89,42],[89,61,89,63],[88,32,88,34],[88,44,88,47],[84,53,84,56],[84,57,84,61],[84,62,84,66],[91,32,91,34],[91,43,91,45],[91,46,91,48],[84,48,84,52],[90,58,90,60],[91,52,91,57],[91,61,91,66],[80,82,80,86],[79,57,79,61],[79,62,79,66],[80,88,80,90],[76,96,76,99],[80,92,80,94],[80,96,80,98],[78,91,78,94],[78,95,78,98],[79,97,79,98],[78,99,78,102],[76,87,76,90],[79,101,79,102],[77,91,77,94],[78,72,78,76],[77,77,77,81],[80,78,80,80],[80,73,80,75],[77,82,77,86],[76,69,76,72],[78,53,78,56],[72,62,72,66],[78,62,78,66],[78,77,78,81],[78,87,78,90],[78,67,78,71],[78,82,78,86],[77,87,77,90],[76,62,76,66],[81,67,82,102],[80,100,80,102],[80,57,80,61],[80,68,80,70],[77,57,77,61],[77,62,77,66],[76,78,76,81],[39,97,39,100],[41,93,41,95],[47,87,47,90],[47,91,47,94],[49,91,49,94],[50,83,50,86],[51,83,51,86],[49,95,49,98],[50,95,50,98],[52,95,52,98],[49,99,49,102],[48,91,48,94],[48,95,48,98],[51,95,51,98],[52,83,52,86],[50,91,50,94],[46,99,46,102],[52,87,52,90],[48,99,48,102],[47,95,47,98],[47,99,47,102],[47,83,47,86],[42,85,42,91],[46,95,46,98],[49,83,49,86],[48,87,48,90],[60,36,60,37],[57,31,57,33],[60,29,60,30],[57,25,57,29],[63,22,63,24],[62,13,62,15],[58,16,58,18],[61,13,61,15],[52,99,52,102],[52,91,52,94],[50,99,50,102],[51,99,51,102],[51,91,51,94],[58,64,58,66],[60,85,60,90],[60,22,60,24],[57,22,57,24],[61,80,61,83],[62,93,62,95],[61,68,61,71],[62,81,62,83],[60,91,60,96],[55,83,55,86],[57,64,57,66],[56,83,56,86],[61,63,61,66],[62,68,62,71],[57,67,58,102],[55,22,55,24],[55,16,55,18],[56,19,56,21],[56,13,56,15],[56,99,56,102],[54,77,54,79],[56,95,56,98],[54,95,54,98],[53,95,53,98],[14,67,15,81],[35,80,35,83],[50,80,50,82],[32,81,32,84],[47,80,47,82],[54,68,54,75],[36,67,36,73],[40,97,40,100],[54,80,54,82],[53,68,53,75],[53,77,53,79],[52,77,52,79],[39,85,39,91],[54,83,54,86],[40,85,40,91],[54,99,54,102],[31,95,31,98],[31,99,31,102],[42,67,42,73],[49,68,49,75],[48,68,48,75],[51,68,51,75],[50,68,50,75],[30,95,30,98],[49,87,49,90],[48,83,48,86],[39,93,39,95],[25,33,26,34],[24,31,24,32],[22,29,22,31],[45,25,45,28],[40,29,40,30],[44,29,44,30],[45,32,45,35],[25,27,25,28],[42,32,42,35],[37,97,37,100],[43,67,44,82],[26,99,26,102],[25,95,25,98],[26,95,26,98],[25,73,25,76],[25,77,25,80],[25,81,25,84],[25,99,25,102],[26,91,26,94],[25,91,25,94],[29,99,29,102],[28,91,28,94],[28,95,28,98],[29,91,29,94],[32,99,32,102],[30,40,30,46],[30,53,30,56],[31,40,31,46],[28,99,28,102],[29,95,29,98],[39,79,39,82],[18,31,18,34],[18,35,18,38],[19,35,19,38],[46,36,46,37],[20,35,20,38],[25,31,26,32],[19,29,19,31],[19,32,19,34],[20,29,20,31],[18,28,18,30],[34,36,34,37],[36,29,36,30],[22,25,22,28],[26,27,26,28],[25,25,25,26],[25,29,26,30],[20,32,20,34],[19,25,19,28],[20,25,20,28],[34,29,34,30],[21,32,21,34],[21,35,21,38],[44,25,44,28],[17,25,17,27],[18,25,18,27],[36,97,36,100],[30,99,30,102],[35,98,35,101],[38,97,38,100],[66,35,66,38],[80,43,80,47],[82,39,82,42],[82,62,82,66],[80,62,80,66],[83,26,83,27],[83,29,83,30],[80,25,81,28],[81,29,81,31],[83,36,83,37],[83,48,83,52],[81,39,81,42],[81,32,81,34],[80,35,81,38],[81,48,81,52],[73,25,73,28],[71,25,71,28],[69,29,69,30],[69,25,69,28],[83,53,83,56],[83,57,83,61],[82,53,82,56],[75,53,75,56],[69,32,69,33],[69,35,69,37],[77,53,77,56],[76,35,76,37],[81,62,81,66],[80,39,80,42],[83,62,83,66],[64,7,64,9],[66,7,66,9],[65,19,65,21],[65,7,65,9],[63,10,63,12],[66,19,66,21],[76,48,76,52],[71,35,71,37],[68,29,68,30],[78,57,78,61],[75,25,75,28],[75,29,75,30],[76,25,76,28],[76,29,76,30],[75,48,75,52],[77,48,77,52],[78,39,78,42],[71,57,71,61],[70,25,70,28],[68,35,68,37],[83,22,83,24],[75,62,75,66],[72,25,72,28],[66,32,66,34],[76,32,76,33],[72,35,72,37],[66,39,66,66],[65,39,65,42],[83,39,83,42],[82,43,82,47],[82,48,82,52],[73,7,73,9],[70,13,70,15],[70,19,70,21],[69,13,69,15],[71,10,71,12],[73,0,73,6],[71,0,71,6],[72,7,72,9],[71,19,71,21],[68,19,68,21],[68,22,68,24],[73,29,73,30],[73,32,73,33],[73,35,73,37],[74,32,74,33],[74,35,74,37],[71,29,71,30],[70,35,70,37],[70,32,70,33],[74,0,75,24],[74,29,74,30],[70,22,70,24],[68,10,68,12],[68,13,68,15],[71,7,71,9],[71,13,71,15],[72,43,72,47],[73,43,73,47],[71,39,71,42],[72,10,72,12],[75,32,75,33],[70,29,70,30],[68,25,68,28],[61,0,61,6],[66,13,66,15],[64,13,64,15],[64,10,64,12],[63,0,63,6],[71,32,71,33],[72,29,72,30],[72,32,72,33],[66,22,66,24],[65,22,65,24],[58,7,58,9],[64,19,64,21],[64,22,64,24],[63,16,63,18],[63,7,63,9],[61,10,61,12],[62,22,62,24],[62,10,62,12],[62,16,62,18],[65,10,65,12]],"merged_total":1104,"flags":["merged_cut"]}
[{"$f":"+データ一覧!L2","v":0}]
[{"$f":"+データ一覧!L5","v":0},null,null,null,null,null,null,null,null,null,null,null,null,null,null,null,null,null,null,null,null,null,null,null,null,null,null,null,null,null,null,null,null,null,null,null,null,null,null,0]
[null,null,null,null,null,null,null,null,null,null,null,null,null,null,null,null,null,null,null,null,null,null,null,null,null,null,null,null,null,null,null,null,null,null,null,null,null,null,null,0]
[null,null,null,null,null,null,null,null,null,null,null,null,null,null,null,null,null,null,null,null,null,null,null,null,null,null,null,"【市章とそのいわれ】　サの図案化にて飛鳥の上昇を形象し、                     ",null,null,null,null,null,null,null,null,null,null,null,"  【位置および地勢】鯖江市は福井県のほぼ中央、福井平野の南に位置し、",null,null,null,null,null,null,null,null,null,null,null,null,null,null,null,null,null,null,null,null,null,null,null,null,null,null,null,null,null,null,"所在地",null,null,null,null,null,null,null,"〒916-8666"]
[null,null,null,null,null,null,null,null,null,null,null,null,null,null,null,null,null,null,null,null,null,null,null,null,null,null,null,"                  市将来の向上発展を意味づけたもの。                                                      ",null,null,null,null,null,null,null,null,null,null,null,"                 ","北は福井市、南は越前市に接している。東西約19.2㎞南北約 8.3㎞に",null,null,null,null,null,null,null,null,null,null,null,null,null,null,null,null,null,null,null,null,null,null,null,null,null,null,null,null,null,null,null,null,null,null,null,null,null,"鯖江市西山町１３番１号"]
[{"$f":"+データ一覧!L3","v":"さばえし"},null,null,null,null,null,null,null,null,null,null,null,null,null,null,null,null,null,null,null,null,null,null,null,null,null,null,0,null,null,null,null,null,null,null,null,null,null,null,"  ","わたる地域のうち、その多くが平坦地であり、東部及び南西の一部が山地と"]
[{"$f":"データ一覧!L6","v":"鯖江市"},null,null,null,null,null,null,null,null,null,null,null,null,null,null,null,null,null,null,null,null,null,null,null,null,null,null,0,null,null,null,null,null,null,null,null,null,null,null," ","なっている。市の中央を低い丘陵が南北に細長く延び、これに沿って市街地が",null,null,null,null,null,null,null,null,null,null,null,null,null,null,null,null,null,null,null,null,null,null,null,null,null,null,null,null,null,"電話番号",null,null,null,null,null,null,null,"（０７７８）５１－２２００"]
[null,null,null,null,null,null,null,null,null,null,null,null,null,null,null,null,null,null,null,null,null,null,null,null,null,null,null,0,null,null,null,null,null,null,null,null,null,null,null," ","形成されている。この丘陵に沿って国道８号、東側を北陸自動車道が走り、",null,null,null,null,null,null,null,null,null,null,null,null,null,null,null,null,null,null,null,null,null,null,null,null,null,null,null,null,null,"FAX番号",null,null,null,null,null,null,null,"     〃     ５１－８１５０"]
[null,null,null,null,null,null,null,null,null,null,null,null,null,null,null,null,null,null,null,null,null,null,null,null,null,null,null,0,null,null,null,null,null,null,null,null,null,null,null," ","また日野川が北方に向かって流れている。"]
[null,null,null,null,null,null,null,null,null,null,null,null,null,null,null,null,null,null,null,null,null,null,null,null,null,null,null,0,null,null,null,null,null,null,null,null,null,null,null,0,null,null,null,null,null,null,null,null,null,null,null,null,null,null,null,null,null,null,null,null,null,null,null,null,null,null,null,null,null,null,"最寄駅および距離",null,null,null,null,null,null,null,"福井鉄道福武線西山公園駅  下車５００ｍ"]
[null,null,null,null,null,null,null,null,null,null,null,null,null,null,null,null,null,null,null,null,null,null,null,null,null,null,null,null,null,null,null,null,null,null,null,null,null,null,null,0]
[]
[null,null,null,null,null,null,null,null,null,null,null,null,null,null,null,null,null,null,null,null,null,null,null,null,null,null,null,"【市が掲げる標語】若者が住みたくなる・住み続けたくなるまち鯖江",null,null,null,null,null,null,null,null,null,null,null,null,null,null,null,null,null,null,null,null,null,null,null,null,null,null,null,null,null,null,null,null,null,null,null,null,null,null,null,null,null,null,"ホームページ",null,null,null,null,null,null,null,"http://www.city.sabae.fukui.jp/"]
[]
["  １  土            　　地",null,null,null,null,null,null,null,null,null,null,null,null,null,null,null,null,null,null,null,null,null,null,null,null,{"$f":"データ一覧!$A$240","v":"2年"},"産米収穫量",null,null,"　 収　穫　量",null,null," 　作 付 面 積",null,null,"   10a当たり収量",null,null,null,null,null,null,null,null,null,null,null,null,null,null,null,null,null,null,null,null,null,null,null,null,null,null,null,null,null,null,null," １５  労　　　　　　　働",null,null,null,null,null,null,null,null,null,null,null,null,null,null,"27.10.1"]
[null,null,null,null,null,null,null,null,null,null,null,null,null,null,null,null,null,null,null,null,null,null,null,null,null,null,null,null,null,{"$f":"データ一覧!$L$240","v":7810},null,"t",{"$f":"データ一覧!$L$241","v":1490},null,"ha",{"$f":"データ一覧!L242","v":524},null,null,"kg"," １０  工　　　　　　業 ",null,null,null,null,null,null,null,null,null,null,null,null,null,{"$f":"データ一覧!$A$332","v":"2.6.1（令和元年実績）"}]
["   総          面           積",null,null,null,null,null,null,null,null,null," 固 定 資 産 概 要 調 書 に よ る 地 目 別 面 積",null,null,null,null,null,null,null,null,null,null,null,null,null,null,null,null,null,"   総　　　数",null,null,null,"うち　　田",null,null,null,"うち　　畑",null,null,null,null,null,null,null,null,null,null,null,null,null,null,null,null,null,null,null,null,null,null,null,null,null,null,null,null,null,null,null,null,null,null,null,null,null,"産業別就業者数   "]
[null,null,{"$f":"データ一覧!$A$7","v":"3.10.1"},null,null,null,null,null,null,null,null,null,null,null,null,null,{"$f":"データ一覧!$A$9","v":"3.1.1"},null,null,null,null,null,null,null,null," 耕  地  面  積",null,null,null,"       ha",null,null,"ha ",null,null,null,"ha ",null,null,"      ","産業分類",null,null,null,null,null,null,null,"事業所数",null,null,null,null,"従業者数",null,null,null,null,null,"年間製造品出荷額等",null,null,null,null,null,null,null,null,"区  分",null,null,null,null,"総    数",null,null,null,null,"男",null,null,null,"女",null,null,"  ","区  分",null,null,null,null,"総    数",null,null,null,null,"男",null,null,null,"女"]
[null,null,null,null,null,null,"㎢",null,null,null,"   総       数",null,null,null,null,"  う ち     田",null,null,null,null,"  う ち     畑",null,null,null,null,{"$f":"データ一覧!A243","v":"2.7.15"},null,null,{"$f":"データ一覧!$L$243","v":2050},null,null,{"$f":"データ一覧!$L$244","v":1980},null,null,null,{"$f":"データ一覧!$L$245","v":70},null,null,null,null,null,null,null,null,null,null,null,null,"　　   ",null,null,"事業所",null,"　　　　　　　 人",null,null,"人",null,"　　　　　　　　　　　　　　万円",null,null,null,null,null,null,"万円",null,null,null,null,null,null,null,"      人",null,null,null,null,null," 人",null,null,null," 人",null,null,null,null,null,null,null,"      人",null,null,null,"      人",null,null,null,"      人"]
[null,null,null,{"$f":"データ一覧!L7","v":84.59},null,null,null,null,null,null,null,null,null,null,"ha",null,null,null,null,"ha",null,null,null,null,"ha","農 業 生 産 物",null,null,null,"作 付 面 積",null,null,"収 穫 量",null,null,"10a当たり収量",null,null,null,"     ","総数",null,null,null,null,null,null,null,null,{"$f":"データ一覧!L332","v":342},null,null,null,{"$f":"+データ一覧!L357","v":9550},null,null,null,null,null,null,{"$f":"データ一覧!L382","v":20641233},null,null,null,null,null,null," 総　　　数",null,null,null,null,null,{"$f":"BZ20+CD20","v":34919},null,null,null,{"$f":"データ一覧!L507","v":18777},null,null,null,{"$f":"データ一覧!L532","v":16142}]
[null,null,null,null,null,null,null,null,null,null,null,{"$f":"データ一覧!L9","v":8459},null,null,null,null,{"$f":"データ一覧!L10","v":2014},null,null,null,null,{"$f":"データ一覧!L11","v":123.8},null,null,null,{"$f":"データ一覧!$A$246","v":"2年中"},null,null,null,"ha",null,null,"t",null,null,"kg",null,null,null,"     食料品","食料品",null,null,null,null,null,null,null,null,{"$f":"データ一覧!L333","v":7},null,null,null,{"$f":"+データ一覧!L358","v":134},null,null,null,null,null,null,{"$f":"データ一覧!L383","v":95206},null,null,null,null,null,null,null,null,null,null,null,null,null,null,null,null,null,null,null,null,null,null,null,null,null,"卸売業,小売業",null,null,null,null,{"$f":"CR21+CV21","v":5016},null,null,null,{"$f":"データ一覧!L520","v":2397},null,null,null,{"$f":"データ一覧!L545","v":2619}]
["  町 ･ 丁 ･ 大 字",null,null,null,null,null,null,null,null,null,"  う ち  宅 地",null,null,null,null,"  う ち  山 林",null,null,null,null,"  う ち  原 野",null,null,null,null,"水　　　　　稲",null,null,null,{"$f":"データ一覧!L246","v":1490},null,null,{"$f":"データ一覧!L247","v":7810},null,null,{"$f":"データ一覧!L248","v":524},null,null,null,"     飲料・飼料","飲料・飼料",null,null,null,null,null,null,null,null,{"$f":"データ一覧!L334","v":0},null,null,null,{"$f":"+データ一覧!L359","v":0},null,null,null,null,null,null,{"$f":"データ一覧!L384","v":0},null,null,null,null,null,null," 第１次産業",null,null,null,null,null,{"$f":"BZ22+CD22","v":622},null,null,null,{"$f":"データ一覧!L508","v":443},null,null,null,{"$f":"データ一覧!L533","v":179},null,null,null,null,"金融業,保険業",null,null,null,null,{"$f":"CR22+CV22","v":798},null,null,null,{"$f":"データ一覧!L521","v":307},null,null,null,{"$f":"データ一覧!L546","v":491}]
["  区    画    数",null,null,null,null,null,null,{"$f":"データ一覧!L8","v":153},null,null,null,null,null,null,"ha",null,null,null,null,"ha",null,null,null,null,"ha","六　条　大　麦",null,null,null,{"$f":"データ一覧!L249","v":262},null,null,{"$f":"データ一覧!L250","v":697},null,null,{"$f":"データ一覧!L251","v":266},null,null,null,"     繊維","繊維",null,null,null,null,null,null,null,null,{"$f":"データ一覧!L335","v":58},null,null,null,{"$f":"+データ一覧!L360","v":1958},null,null,null,null,null,null,{"$f":"データ一覧!L385","v":4305202},null,null,null,null,null,null,"  ","農業",null,null,null,null,{"$f":"BZ23+CD23","v":587},null,null,null,{"$f":"データ一覧!L509","v":413},null,null,null,{"$f":"データ一覧!L534","v":174},null,null,null,"  ","不動産業",null,null,null,null,278,null,null,null,{"$f":"データ一覧!L522","v":164},null,null,null,{"$f":"データ一覧!L547","v":114}]
[{"$f":"データ一覧!$A$8","v":"2.4.1"},null,null,null,null,null,null,null,null,null,null,{"$f":"データ一覧!L12","v":1474},null,null,null,null,{"$f":"データ一覧!L13","v":1164.4000000000001},null,null,null,null,{"$f":"データ一覧!L14","v":0},null,null,null,"大　　      豆",null,null,null,{"$f":"データ一覧!L252","v":111},null,null,{"$f":"データ一覧!L253","v":101},null,null,{"$f":"データ一覧!L254","v":91},null,null,null,"     衣服","木材",null,null,null,null,null,null,null,null,{"$f":"データ一覧!L336","v":4},null,null,null,{"$f":"+データ一覧!L361","v":110},null,null,null,null,null,null,{"$f":"データ一覧!L386","v":151076},null,null,null,null,null,null,"  ","林業",null,null,null,null,27,null,null,null,{"$f":"データ一覧!L510","v":24},null,null,null,{"$f":"データ一覧!L535","v":3},null,null,null,"  ","学術研究",null,null,null,null,719,null,null,null,{"$f":"データ一覧!L523","v":438},null,null,null,{"$f":"データ一覧!L548","v":281}]
["  ２  世　帯　数　と　人　口",null,null,null,null,null,null,null,null,null,null,null,null,null,null,null,null,null,null,null,null,null,null,null,null,null,null,"  区　分",null," 乳 用 牛",null," 肉 用 牛",null,"豚",null,"採卵鶏",null,"ブロイラー",null,"     木材","家具",null,null,null,null,null,null,null,null,{"$f":"データ一覧!L337","v":3},null,null,null,{"$f":"+データ一覧!L362","v":42},null,null,null,null,null,null,{"$f":"データ一覧!L387","v":54494},null,null,null,null,null,null,"  ","漁業",null,null,null,null,8,null,null,null,{"$f":"データ一覧!L511","v":6},null,null,null,{"$f":"データ一覧!L536","v":2},null,null,null,"  ","宿泊業,飲食ｻｰﾋﾞｽ",null,null,null,null,1346,null,null,null,{"$f":"データ一覧!L524","v":506},null,null,null,{"$f":"データ一覧!L549","v":840}]
[null,null,null,null,null,null,null,null,null,null,null,null,null,null,null,null,null,null,null,null,null,null,null,null,null,"畜　産",null," 飼養農家",null,{"$f":"データ一覧!$L$255","v":0},null,{"$f":"データ一覧!$L$257","v":0},null,{"$f":"データ一覧!$L$259","v":"-"},null,{"$f":"データ一覧!$L$261","v":"x"},null,{"$f":"データ一覧!$L$263","v":0},null,"     家具","パルプ・紙",null,null,null,null,null,null,null,null,{"$f":"データ一覧!L338","v":2},null,null,null,{"$f":"+データ一覧!L363","v":65},null,null,null,null,null,null,{"$f":"データ一覧!L388","v":"x"},null,null,null,null,null,null," 第２次産業",null,null,null,null,null,13630,null,null,null,{"$f":"データ一覧!L512","v":8919},null,null,null,{"$f":"データ一覧!L537","v":4711},null,null,null,"  ","生活関連ｻｰﾋﾞｽ業",null,null,null,null,1054,null,null,null,{"$f":"データ一覧!L525","v":404},null,null,null,{"$f":"データ一覧!L550","v":650}]
[null,null,null,null,null,null,null,null,"        人　　　　　　　　　　口",null,null,null,null,null,null,null,null,null,null,null,"１世帯当",null,"人    口",null,null,{"$f":"データ一覧!$A$255","v":"3.3.31"},null,"（戸）",null,null,null,null,null,null,null,null,null,null,null,"     パルプ・紙","印刷",null,null,null,null,null,null,null,null,{"$f":"データ一覧!L339","v":12},null,null,null,{"$f":"+データ一覧!L364","v":214},null,null,null,null,null,null,{"$f":"データ一覧!L389","v":358167},null,null,null,null,null,null,null,"鉱業，採石業",null,null,null,null,4,null,null,null,{"$f":"データ一覧!L513","v":4},null,null,null,{"$f":"データ一覧!L538","v":0},null,null,null,"  ","教育,学習支援業",null,null,null,null,1423,null,null,null,{"$f":"データ一覧!L526","v":556},null,null,null,{"$f":"データ一覧!L551","v":867}]
[" 区　　　　分",null,null,null,null,"世帯数",null,null," 総   数",null,null,"    男",null,null,"    女",null,null,"  男／女",null,null,"たり人員",null,"密    度",null,null,null,null," 頭 羽",null,{"$f":"データ一覧!$L$256","v":0},null,{"$f":"データ一覧!$L$258","v":0},null,{"$f":"データ一覧!$L$260","v":0},null,{"$f":"データ一覧!$L$262","v":180},null,{"$f":"データ一覧!$L$264","v":0},null,"     出版・印刷","化学",null,null,null,null,null,null,null,null,{"$f":"データ一覧!L340","v":3},null,null,null,{"$f":"+データ一覧!L365","v":106},null,null,null,null,null,null,{"$f":"データ一覧!L390","v":1486921},null,null,null,null,null,null,"  ","建設業",null,null,null,null,2181,null,null,null,{"$f":"データ一覧!L514","v":1824},null,null,null,{"$f":"データ一覧!L539","v":357},null,null,null,null,"医療，福祉",null,null,null,null,4372,null,null,null,{"$f":"データ一覧!L527","v":777},null,null,null,{"$f":"データ一覧!L552","v":3595}]
[null,null,null,null,null,"    世 帯",null,null,"       人",null,null,"       人",null,null,"       人",null,null,null,"　　％",null,"    人",null,"    人/㎢",null,null,null,null,null,null,null,null,null,null,null,null,null,null,null,null,"     化学","石油・石炭",null,null,null,null,null,null,null,null,{"$f":"データ一覧!L341","v":1},null,null,null,{"$f":"+データ一覧!L366","v":5},null,null,null,null,null,null,{"$f":"データ一覧!L391","v":"x"},null,null,null,null,null,null,null,"製造業",null,null,null,null,11445,null,null,null,{"$f":"データ一覧!L515","v":7091},null,null,null,{"$f":"データ一覧!L540","v":4354},null,null,null,null,"複合サービス事業",null,null,null,null,373,null,null,null,{"$f":"データ一覧!L528","v":211},null,null,null,{"$f":"データ一覧!L553","v":162}]
[{"$f":"データ一覧!$A$22","v":" 2.10.1"},null,null,null,null,{"$f":"データ一覧!L22","v":16053},null,null,{"$f":"+L30+O30","v":62283},null,null,{"$f":"データ一覧!L24","v":30164},null,null,{"$f":"データ一覧!L25","v":32119},null,null,null,{"$f":"+L30/O30*100","v":93.913260064136495},null,{"$f":"データ一覧!L27","v":3.88},null,{"$f":"データ一覧!L28","v":734.9},null,null,"  ５  林               業",null,null,null,null,null,null,null,null,null,null,null,null,null,"     石油・石炭","プラスチック",null,null,null,null,null,null,null,null,{"$f":"データ一覧!L342","v":16},null,null,null,{"$f":"+データ一覧!L367","v":432},null,null,null,null,null,null,{"$f":"データ一覧!L392","v":1364704},null,null,null,null,null,null," 第３次産業",null,null,null,null,null,19721,null,null,null,{"$f":"データ一覧!L516","v":8898},null,null,null,{"$f":"データ一覧!L541","v":10823},null,null,null,null,"サービス業",null,null,null,null,1533,null,null,null,{"$f":"データ一覧!L529","v":981},null,null,null,{"$f":"データ一覧!L554","v":552}]
[{"$f":"データ一覧!$A$29","v":" 7.10.1"},null,null,null,null,{"$f":"データ一覧!L29","v":16919},null,null,{"$f":"+L31+O31","v":62890},null,null,{"$f":"データ一覧!L31","v":30376},null,null,{"$f":"データ一覧!L32","v":32514},null,null,null,93.424371040167316,null,{"$f":"データ一覧!L34","v":3.72},null,{"$f":"データ一覧!L35","v":742.1},null,null,null,null,null,null,null,null,null,null,null,null,null,null,null,null,"     プラスチック","ゴム",null,null,null,null,null,null,null,null,{"$f":"データ一覧!L343","v":0},null,null,null,{"$f":"+データ一覧!L368","v":0},null,null,null,null,null,null,{"$f":"データ一覧!L393","v":0},null,null,null,null,null,null,null,"電気･ｶﾞｽ･水道業",null,null,null,null,123,null,null,null,{"$f":"データ一覧!L517","v":106},null,null,null,{"$f":"データ一覧!L542","v":17},null,null,null,null,"公務",null,null,null,null,999,null,null,null,{"$f":"データ一覧!L530","v":691},null,null,null,{"$f":"データ一覧!L555","v":308}]
[{"$f":"データ一覧!$A$36","v":"12.10.1"},null,null,null,null,{"$f":"データ一覧!L36","v":18598},null,null,{"$f":"+L32+O32","v":64898},null,null,{"$f":"データ一覧!L38","v":31448},null,null,{"$f":"データ一覧!L39","v":33450},null,null,null,94.014947683109114,null,{"$f":"データ一覧!L41","v":3.49},null,{"$f":"データ一覧!L42","v":765.8},null,null,"    　森　　　林　　　総　　　面　　　積   ",null,null,null,null,null,null,null,{"$f":"データ一覧!$A$265","v":"3.3.31"},null,null,null,null,null,"     ゴム","皮革",null,null,null,null,null,null,null,null,{"$f":"データ一覧!L344","v":0},null,null,null,{"$f":"+データ一覧!L369","v":0},null,null,null,null,null,null,{"$f":"データ一覧!L394","v":0},null,null,null,null,null,null,null,"情報通信業",null,null,null,null,498,null,null,null,{"$f":"データ一覧!L518","v":361},null,null,null,{"$f":"データ一覧!L543","v":137},null,null,null," 分類不能の産業",null,null,null,null,null,946,null,null,null,{"$f":"データ一覧!L531","v":517},null,null,null,{"$f":"データ一覧!L556","v":429}]
[{"$f":"+データ一覧!$A$43","v":"17.10.1"},null,null,null,null,{"$f":"データ一覧!L43","v":20177},null,null,{"$f":"+L33+O33","v":66831},null,null,{"$f":"データ一覧!L45","v":32263},null,null,{"$f":"データ一覧!L46","v":34568},null,null,null,93.331983337190465,null,{"$f":"データ一覧!L48","v":3.31},null,{"$f":"データ一覧!L49","v":788.6},null,null,"　　　森　　　　　　　林　　　　　　　の　　　　　　　構　　　　　　　成",null,null,null,null,null,null,null,null,null,null,null,null,null,"     皮革","窯業・土石",null,null,null,null,null,null,null,null,{"$f":"データ一覧!L345","v":4},null,null,null,{"$f":"+データ一覧!L370","v":116},null,null,null,null,null,null,{"$f":"データ一覧!L395","v":354680},null,null,null,null,null,null,"  ","運輸業,郵便業",null,null,null,null,{"$f":"BZ33+CD33","v":1189},null,null,null,{"$f":"データ一覧!L519","v":999},null,null,null,{"$f":"データ一覧!L544","v":190}]
[{"$f":"+データ一覧!$A$50","v":"22.10.1"},null,null,null,null,{"$f":"+データ一覧!L50","v":21028},null,null,{"$f":"+L34+O34","v":67450},null,null,{"$f":"+データ一覧!L52","v":32507},null,null,{"$f":"+データ一覧!L53","v":34943},null,null,null,93.028646653120788,null,{"$f":"+データ一覧!L55","v":3.21},null,{"$f":"+データ一覧!L56","v":795.9},null,null,null,null,null,null,null,"       ha",null,null,null,null,null,null,"       ha",null,"     窯業・土石","鉄鋼",null,null,null,null,null,null,null,null,{"$f":"データ一覧!L346","v":2},null,null,null,{"$f":"+データ一覧!L371","v":21},null,null,null,null,null,null,{"$f":"データ一覧!L396","v":"x"},null,null,null,null,null,null," １６  社　 会 　福　 祉",null,null,null,null,null,null,null,null,null,null,null,null,null,null,null,{"$f":"データ一覧!$A$557","v":"3.4.1"}]
[{"$f":"データ一覧!$A$57","v":"27.10.1"},null,null,null,null,{"$f":"データ一覧!L57","v":22335},null,null,{"$f":"データ一覧!L58","v":68284},null,null,{"$f":"データ一覧!L59","v":33105},null,null,{"$f":"データ一覧!L60","v":35179},null,null,null,94.104437306347535,null,{"$f":"データ一覧!L62","v":3.0572643832549811},null,{"$f":"データ一覧!L63","v":807.2},null,null,"  総　　　　　   数",null,null,null,{"$f":"データ一覧!L265","v":3148.4199999999996},null,null," 天然林       針葉樹",null,null,null,{"$f":"データ一覧!L268","v":72.23},null,null,"     鉄鋼","非鉄金属",null,null,null,null,null,null,null,null,{"$f":"データ一覧!L347","v":2},null,null,null,{"$f":"+データ一覧!L372","v":38},null,null,null,null,null,null,{"$f":"データ一覧!L397","v":"x"}]
["令　2.10.1（国調）",null,null,null,null,{"$f":"データ一覧!L64","v":23915},null,null,{"$f":"データ一覧!L65","v":68302},null,null,{"$f":"データ一覧!L66","v":33323},null,null,{"$f":"データ一覧!L67","v":34979},null,null,null,{"$f":"+L36/O36*100","v":95.265730867091676},null,{"$f":"データ一覧!L72","v":2.81},null,{"$f":"データ一覧!L73","v":808.45253576072821},null,null,"  人工林     針葉樹",null,null,null,{"$f":"データ一覧!L266","v":2093.1499999999996},null,null," 天然林       広葉樹",null,null,null,{"$f":"データ一覧!L269","v":899.78},null,null,"     非鉄金属","金属",null,null,null,null,null,null,null,null,{"$f":"データ一覧!L348","v":18},null,null,null,{"$f":"+データ一覧!L373","v":728},null,null,null,null,null,null,{"$f":"データ一覧!L398","v":1446835},null,null,null,null,null,null,"    ","区分",null,null,null,null,null,null,"施設数",null,null,null,null,"収容定員",null,null,null,null,null,"区分",null,null,null,null,null,null,"施設数",null,null,null,null,"収容定員"]
["年",null,"  区",null," 0歳",null,null,"15歳",null,null,"25歳",null,null,"35歳",null,null,"45歳",null,null,"55歳",null,null,"65歳",null,null,"  人工林     広葉樹",null,null,null,{"$f":"データ一覧!L267","v":40.33},null,null," 竹               林",null,null,null,{"$f":"データ一覧!L270","v":18.62},null,null,"     金属","はん用機械",null,null,null,null,null,null,null,null,{"$f":"データ一覧!L349","v":2},null,null,null,{"$f":"+データ一覧!L374","v":32},null,null,null,null,null,null,{"$f":"データ一覧!L399","v":"x"},null,null,null,null,null,null,"生活保護施設",null,null,null,null,null,null,null,{"$f":"データ一覧!L557","v":0},null,null,null,{"$f":"データ一覧!L570","v":0},null,null,null,"人",null,"指定障害者支援施設",null,null,null,null,null,null,null,{"$f":"データ一覧!L563","v":2},null,null,null,{"$f":"データ一覧!L576","v":190},null,null,null,"人"]
["齢","令",null,null,null,"～",null,null,"～",null,null,"～",null,null,"～",null,null,"～",null,null,"～",null,null,null,null,null,null,null,null,null,null,null,null,null,null,null,null,null,null,"     一般機械","生産用機械",null,null,null,null,null,null,null,null,{"$f":"データ一覧!L350","v":26},null,null,null,{"$f":"+データ一覧!L375","v":419},null,null,null,null,null,null,{"$f":"データ一覧!L400","v":899363},null,null,null,null,null,null,"地域福祉施設",null,null,null,null,null,null,null,{"$f":"データ一覧!L558","v":0},null,null,null,{"$f":"データ一覧!L571","v":0},null,null,null,null,null,"指定相談支援事業所",null,null,null,null,null,null,null,{"$f":"データ一覧!L564","v":3},null,null,null,{"$f":"データ一覧!L577","v":0}]
["階",{"$f":"+LEFT(データ一覧!$A$83,1)","v":"3"},"  分",null,null,null,"14歳",null,null,"24歳",null,null,"34歳",null,null,"44歳",null,null,"54歳",null,null,"64歳",null,null,"以上","    林     野     の     構     成",null,null,null,null,null,null,"保     有     形     態     別",null,null,null,null,null,null,"     電気機械","業務用機械",null,null,null,null,null,null,null,null,{"$f":"データ一覧!L351","v":3},null,null,null,{"$f":"+データ一覧!L376","v":162},null,null,null,null,null,null,{"$f":"データ一覧!L401","v":280503},null,null,null,null,null,null,"老人福祉施設",null,null,null,null,null,null,null,{"$f":"データ一覧!L559","v":6},null,null,null,{"$f":"データ一覧!L572","v":143},null,null,null,null,null,"児童福祉施設",null,null,null,null,null,null,null,{"$f":"データ一覧!L565","v":46},null,null,null,{"$f":"データ一覧!L578","v":2915}]
["級","・",null,null,null,null,"人",null,null,"人",null,"    人",null,null,"    人",null,null,"    人",null,null,"    人",null,null,"    人",null,null,null,null,null,null,null,"ha",null,null,null,null,null,"       ha",null,null,"電子・デバイス",null,null,null,null,null,null,null,null,{"$f":"データ一覧!L352","v":5},null,null,null,{"$f":"+データ一覧!L377","v":1037},null,null,null,null,null,null,{"$f":"データ一覧!L402","v":2112666},null,null,null,null,null,null,"介護保険施設",null,null,null,null,null,null,null,{"$f":"データ一覧!L560","v":84},null,null,null,{"$f":"データ一覧!L573","v":1682},null,null,null,null,null,"母子福祉施設",null,null,null,null,null,null,null,{"$f":"データ一覧!L566","v":0},null,null,null,{"$f":"データ一覧!L579","v":0}]
["別",{"$f":"+MID(データ一覧!$A$83,3,2)","v":"10"},"総 数",null,{"$f":"+E42+E43","v":9446},null,null,{"$f":"+H42+H43","v":6435},null,null,{"$f":"+K42+K43","v":6646},null,null,{"$f":"+N42+N43","v":8601},null,null,{"$f":"+Q42+Q43","v":10271},null,null,{"$f":"+T42+T43","v":7567},null,null,{"$f":"+W42+W43","v":18883},null,null," 無立木地   伐採跡地",null,null,null,{"$f":"データ一覧!L271","v":0},null,null,"国   　　　 　 有",null,null,null,{"$f":"データ一覧!L273","v":16.959999999999901},null,null,null,"電気機械",null,null,null,null,null,null,null,null,{"$f":"データ一覧!L353","v":3},null,null,null,{"$f":"+データ一覧!L378","v":33},null,null,null,null,null,null,{"$f":"データ一覧!L403","v":64970},null,null,null,null,null,null,"障害者自立支援法施行前からの身体障害者福祉施設",null,null,null,null,null,null,null,{"$f":"データ一覧!L561","v":0},null,null,null,{"$f":"データ一覧!L574","v":0},null,null,null,null,null,"婦人保護施設",null,null,null,null,null,null,null,{"$f":"データ一覧!L567","v":0},null,null,null,{"$f":"データ一覧!L580","v":0}]
["人","・","  男",null,{"$f":"データ一覧!L83","v":4827},null,null,{"$f":"データ一覧!L84","v":3295},null,null,{"$f":"データ一覧!L85","v":3371},null,null,{"$f":"データ一覧!L86","v":4381},null,null,{"$f":"データ一覧!L87","v":5197},null,null,{"$f":"データ一覧!L88","v":3716},null,null,{"$f":"データ一覧!L89","v":8252},null,null," 無立木地   未立木地",null,null,null,{"$f":"データ一覧!L272","v":24.30999999999996},null,null,"公       　　  有",null,null,null,{"$f":"データ一覧!L274","v":126.77000000000001},null,null,"     輸送機械","情報通信機械",null,null,null,null,null,null,null,null,{"$f":"データ一覧!L354","v":1},null,null,null,{"$f":"+データ一覧!L379","v":4},null,null,null,null,null,null,{"$f":"データ一覧!L404","v":"x"},null,null,null,null,null,null,null,null,null,null,null,null,null,null,null,null,null,null,null,null,null,null,null,null,"その他の社会福祉施設",null,null,null,null,null,null,null,{"$f":"データ一覧!L568+データ一覧!L569","v":0},null,null,null,{"$f":"データ一覧!L581+データ一覧!L582","v":0}]
["口",{"$f":"+RIGHT(データ一覧!$A$83,1)","v":"1"},"  女",null,{"$f":"データ一覧!L91","v":4619},null,null,{"$f":"データ一覧!L92","v":3140},null,null,{"$f":"データ一覧!L93","v":3275},null,null,{"$f":"データ一覧!L94","v":4220},null,null,{"$f":"データ一覧!L95","v":5074},null,null,{"$f":"データ一覧!L96","v":3851},null,null,{"$f":"データ一覧!L97","v":10631},null,null,null,null,null,null,null,null,null,"私          　 有",null,null,null,{"$f":"データ一覧!L275","v":3004.69},null,null,"     精密機械","輸送機械",null,null,null,null,null,null,null,null,{"$f":"データ一覧!L355","v":1},null,null,null,{"$f":"+データ一覧!L380","v":13},null,null,null,null,null,null,{"$f":"データ一覧!L405","v":"x"},null,null,null,null,null,null,"障害福祉サービス事業所",null,null,null,null,null,null,null,{"$f":"データ一覧!L562","v":45},null,null,null,{"$f":"データ一覧!L575","v":530}]
[null,null,null,null,null,null,null,null,null,null,null,null,null,null,null,null,null,null,null,null,null,null,null,null,null,"            林     産     物     生     産     量 ",null,null,null,null,null,null,null,null,null,{"$f":"データ一覧!$A$276","v":"2年中"},null,null,null,"     その他","その他",null,null,null,null,null,null,null,null,{"$f":"データ一覧!L356","v":169},null,null,null,{"$f":"+データ一覧!L381","v":3881},null,null,null,null,null,null,{"$f":"データ一覧!L406","v":7305235},null,null,null,null,null,null," １７  教　　　　　　　育",null,null,null,null,null,null,null,null,null,null,null,null,null,null,null,{"$f":"データ一覧!$A$583","v":"3.5.1"}]
["人口動態",null,null,null,null,null,null,"   自　然　動　態",null,null,null,null,null,"   社  会  動  態",null,null,null,null,null,{"$f":"データ一覧!$A78","v":"2.1.1～3.12.31"},null,null,null,null,null,"生椎茸",null,null,null,{"$f":"データ一覧!L276","v":390},null,"㎏","乾椎茸",null,null,null,{"$f":"データ一覧!L277","v":171},null,"㎏"]
[null,null,"   区       分",null,null,null,null," 出   生",null,null," 死   亡",null,null," 転   入",null,null," 転   出",null,null," 婚   姻",null,null," 離   婚",null,null,"えのきだけ",null,null,null,{"$f":"データ一覧!L279","v":"-"},null,"㎏","なめこ",null,null,null,{"$f":"データ一覧!L278","v":"-"},null,"㎏","    ","工　業　用　水　量",null,null,null,null,null,"（従業者30人以上の事業所）",null,null,null,null,null,null,null,null,null,null,{"$f":"データ一覧!L407","v":39930},null,null,null,null,"㎥／日",null,null,null,null,null,null,null,null,null,null,null,null,null,null,"学校数（校）",null,null,null,null,null,null,"教員数（人）",null,null,null,null,null,null,null,"学生・生徒・児童数（人）"]
[{"$f":"LEFT(データ一覧!$A74,6)","v":"2.10.1"},null,null,null,null,null,null,"       人",null,null,"       人",null,null,"       人",null,null,"       人",null,null,null,"    件",null,null,"    件",null,"ひらたけ",null,null,null,{"$f":"+データ一覧!L280","v":"-"},null,"㎏","まいたけ",null,null,null,{"$f":"+データ一覧!L281","v":"-"},null,"㎏",null,null,null,null,null,null,null,null,null,null,null,null,null,null,null,null,null,null,null,null,null,null,null,null,null,null,null,null,null,"　","区分",null,null,null,null,null,null,null," 本 校",null,null," 分 校",null,null," 本   務",null,null,null," 兼   務",null,null,null," 総   数",null,null,null,"男",null,null,null,"女"]
["～",null," 実          数",null,null,null,null,{"$f":"データ一覧!L74","v":263},null,null,{"$f":"データ一覧!L75","v":348},null,null,{"$f":"データ一覧!L76","v":1064},null,null,{"$f":"データ一覧!L77","v":939},null,null,{"$f":"データ一覧!L78","v":262},null,null,{"$f":"データ一覧!L79","v":96},null,null,null,null,null,null,null,null,null,null,null,null,null,null,null,null," １１ 　上　・　下　水　道",null,null,null,null,null,null,null,null,null,null,null,null,null,null,null,null,null,null,null,null,null,null,null,null,null,null,null,null,"小学校",null,null,null,null,null,null,null,null,{"$f":"データ一覧!L584","v":12},null,null,{"$f":"データ一覧!L585","v":0},null,null,{"$f":"データ一覧!L586","v":262},null,null,null,{"$f":"データ一覧!L587","v":28},null,null,null,{"$f":"データ一覧!L588","v":4017},null,null,null,{"$f":"データ一覧!L589","v":2057},null,null,null,{"$f":"データ一覧!L590","v":1960}]
[{"$f":"RIGHT(データ一覧!$A76,6)","v":"3.9.30"},null,"比率(対1,000人)",null,null,null,null,{"$f":"+H48/I35*1000","v":3.8515611270575829},null,null,{"$f":"+K48/I35*1000","v":5.0963622517720113},null,null,"- ",null,null,"- ",null,null,{"$f":"+T48/I35*1000","v":3.8369164079432956},null,null,{"$f":"+W48/I35*1000","v":1.4058930349715892},null,null,"  ６  漁               業",null,null,null,null,null,null,null,null,null,null,null,null,null,null,null,null,null,null,null,null,null,null,null,null,null,null,null,null,null,null,null,null,null,null,null,null,null,null,null,null,null,"  ","中学校",null,null,null,null,null,null,null,null,{"$f":"データ一覧!L592","v":3},null,null,{"$f":"データ一覧!L593","v":0},null,null,{"$f":"データ一覧!L594","v":147},null,null,null,{"$f":"データ一覧!L595","v":8},null,null,null,{"$f":"データ一覧!L596","v":2088},null,null,null,{"$f":"データ一覧!L597","v":1054},null,null,null,{"$f":"データ一覧!L598","v":1034}]
[null,null,null,null,null,null,null,null,null,null,null,null,null,null,null,null,null,null,null,null,null,null,null,null,null,null,null,null,null,null,null,null,null,null,null,null,null,null,null,"水 道 供 給 人 口",null,null,null,null,null,null,"上 水 道",null,null,null,"簡易水道",null,null,null,"専用水道",null,null,null,"飲料水供給施設",null,null,null,"下水道処理人口",null,null,null,null,"  ","高等学校",null,null,null,null,null,null,null,null,{"$f":"データ一覧!L600","v":2},null,null,{"$f":"データ一覧!L601","v":0},null,null,{"$f":"データ一覧!L602","v":79},null,null,null,{"$f":"データ一覧!L603","v":42},null,null,null,{"$f":"データ一覧!L604","v":845},null,null,null,{"$f":"データ一覧!L605","v":461},null,null,null,{"$f":"データ一覧!L606","v":384}]
["  ３  事　　業　　所（民　　営）    （平 28.6.1）",null,null,null,null,null,null,null,null,null,null,null,null,null,null,null,null,null,null,null,null,null,null,null,null,"漁船隻数・トン数",null,null,null,{"$f":"データ一覧!$A$282","v":"2.12.31"},null,null,null,"動　力　船",null,null,null,null,null,{"$f":"データ一覧!$A$408","v":"3.3.31"},null,null,null,null,null,"人",null,{"$f":"データ一覧!L408","v":69353},null,null,{"$f":"データ一覧!L409","v":0},null,null,null,null,{"$f":"データ一覧!L410","v":0},null,null,null,{"$f":"データ一覧!L411","v":0},null,null,null,{"$f":"データ一覧!L412","v":50611},null,null,null,"  ","大学・短期大学",null,null,null,null,null,null,null,null,{"$f":"データ一覧!L607","v":0},null,null,{"$f":"データ一覧!L608","v":0},null,null,{"$f":"データ一覧!L609","v":0},null,null,null,{"$f":"データ一覧!L610","v":0},null,null,null,{"$f":"データ一覧!L611","v":0},null,null,null,{"$f":"データ一覧!L612","v":0},null,null,null,{"$f":"データ一覧!L613","v":0}]
[null,null,null,null,null,null,null,null,null,null,null,null,null,null,null,null,null,null,null,null,null,null,null,null,null,"無動力船隻数",null,null,null,"船外機付漁船隻数",null,null,null,"隻　数",null,null,"総 ト ン 数",null,null,null,null,null,null,null,null,null,null,null,null,null,null,null,null,null,null,null,null,null,null,null,null,null,null,null,null,null,null,"  ","高等専門学校",null,null,null,null,null,null,null,null,{"$f":"データ一覧!L614","v":1},null,null,{"$f":"データ一覧!L615","v":0},null,null,{"$f":"データ一覧!L616","v":79},null,null,null,{"$f":"データ一覧!L617","v":36},null,null,null,{"$f":"データ一覧!L618","v":998},null,null,null,{"$f":"データ一覧!L619","v":790},null,null,null,{"$f":"データ一覧!L620","v":208}]
[null,null,null,null,null,null,null,"    総　　　　　数",null,null,null,null,null,"    民　　　　　営",null,null,null,null,null,"  国 ･ 地方公共団体",null,null,null,null,null,null,null,null,"隻",null,null,null,"隻",null,null,"隻",null,null,"t"," １２  交   通　・　通   信",null,null,null,null,null,null,null,null,null,null,null,null,null,null,null,null,null,null,null,null,null,null,null,null,null,null,null,"  ","特別支援学校",null,null,null,null,null,null,null,null,{"$f":"データ一覧!L622","v":0},null,null,{"$f":"データ一覧!L623","v":0},null,null,{"$f":"データ一覧!L624","v":0},null,null,null,{"$f":"データ一覧!L625","v":0},null,null,null,{"$f":"データ一覧!L626","v":0},null,null,null,{"$f":"データ一覧!L627","v":0},null,null,null,{"$f":"データ一覧!L628","v":0}]
["  　区　　　　　　分",null,null,null,null,null,null," 事業所数",null,null," 従業者数",null,null," 事業所数",null,null," 従業者数",null,null," 事業所数",null,null," 従業者数",null,null,{"$f":"データ一覧!$L$282","v":0},null,null,null,{"$f":"データ一覧!$L$283","v":0},null,null,null,{"$f":"データ一覧!L284","v":0},null,null,{"$f":"データ一覧!L285","v":0},null,null,null,null,null,null,null,null,null,null,null,null,null,null,null,null,null,null,null,null,null,null,null,null,null,null,null,null,null,null,"  ","幼稚園",null,null,null,null,null,null,null,null,{"$f":"データ一覧!L630","v":4},null,null,{"$f":"データ一覧!L631","v":0},null,null,{"$f":"データ一覧!L632","v":15},null,null,null,{"$f":"データ一覧!L633","v":3},null,null,null,{"$f":"データ一覧!L634","v":113},null,null,null,{"$f":"データ一覧!L635","v":64},null,null,null,{"$f":"データ一覧!L636","v":49}]
[null,null,null,null,null,null,null,null,null,null,"       人",null,null,null,null,null,"       人",null,null,null,null,null,"       人",null,null,"  男女別就業者数",null,null,null,null,null,null,null,{"$f":"データ一覧!$A$286","v":"30.11.1"},null,null,null,null,null,"道     路",null,null,null,"実 延 長",null,null,null,"国     道",null,null,null,"県     道",null,null,null,"市町道",null,null,null," 鉄 道 営 業 キ ロ 数",null,null,null,null,null,null,null,"  ","幼保連携認定こども園",null,null,null,null,null,null,null,null,{"$f":"データ一覧!L638","v":5},null,null,{"$f":"データ一覧!L639","v":0},null,null,{"$f":"データ一覧!L640","v":113},null,null,null,{"$f":"データ一覧!L641","v":23},null,null,null,{"$f":"データ一覧!L642","v":760},null,null,null,{"$f":"データ一覧!L643","v":364},null,null,null,{"$f":"データ一覧!L644","v":396}]
["総数",null,null,null,null,null,null,{"$f":"データ一覧!L99","v":"…"},null,null,{"$f":"データ一覧!L156","v":"…"},null,null,{"$f":"データ一覧!L100","v":3520},null,null,{"$f":"データ一覧!L157","v":29663},null,null,{"$f":"データ一覧!L101","v":"…"},null,null,{"$f":"データ一覧!L158","v":"…"},null,null,"総　　数",null,null,null,null,null,"男",null,null,null,"女",null,null,null,{"$f":"データ一覧!$A$413","v":"2.4.1"},null,null,null,{"$f":"データ一覧!L413","v":710.1},null,null,"㎞",{"$f":"データ一覧!L414","v":11.1},null,null,"㎞",{"$f":"データ一覧!L415","v":66.900000000000006},null,null,"㎞",{"$f":"データ一覧!L416","v":632.1},null,null,"km",{"$f":"データ一覧!$A$417","v":"3.4.1"},null,null,null,{"$f":"データ一覧!L417","v":13.725999999999999},null,null,"㎞","  ","各種学校",null,null,null,null,null,null,null,null,{"$f":"データ一覧!L646","v":"-"},null,null,{"$f":"データ一覧!L647","v":0},null,null,{"$f":"データ一覧!L648","v":"-"},null,null,null,{"$f":"データ一覧!L649","v":0},null,null,null,{"$f":"データ一覧!L650","v":0},null,null,null,{"$f":"データ一覧!L651","v":"-"},null,null,null,{"$f":"データ一覧!L652","v":"-"}]
["農林漁業",null,null,null,null,null,null,{"$f":"データ一覧!L102","v":"…"},null,null,{"$f":"データ一覧!L159","v":"…"},null,null,{"$f":"データ一覧!L103","v":15},null,null,{"$f":"データ一覧!L160","v":177},null,null,{"$f":"データ一覧!L104","v":"…"},null,null,{"$f":"データ一覧!L161","v":"…"},null,null,null,null,null,null,null,"人",null,null,"　　　　人",null,null,null,null,"  人","自動車",null,null,null,null,null,null,null,null,"乗用車",null,null,null,null,null,null,null,null,null,null,null,null,null,null,null,null,null,null,"  ","専修学校",null,null,null,null,null,null,null,null,{"$f":"データ一覧!L654","v":0},null,null,{"$f":"データ一覧!L655","v":0},null,null,{"$f":"データ一覧!L656","v":0},null,null,null,{"$f":"データ一覧!L657","v":0},null,null,null,{"$f":"データ一覧!L658","v":0},null,null,null,{"$f":"データ一覧!L659","v":0},null,null,null,{"$f":"データ一覧!L660","v":0}]
["鉱業",null,null,null,null,null,null,{"$f":"データ一覧!L105","v":"…"},null,null,{"$f":"データ一覧!L162","v":"…"},null,null,{"$f":"データ一覧!L106","v":0},null,null,{"$f":"データ一覧!L163","v":0},null,null,{"$f":"データ一覧!L107","v":"…"},null,null,{"$f":"データ一覧!L164","v":"…"},null,null,{"$f":"SUM(AF58,AJ58)","v":0},null,null,null,null,null,{"$f":"データ一覧!$L$287","v":0},null,null,null,{"$f":"データ一覧!L288","v":0},null,null,null,"台  数",null,null,null,"貨    物",null,null,null,"普     通",null,null,null,"小     型",null,null,null,"乗  合",null,null,"特  種",null,null,"小型二輪",null,null,"軽自動車",null,null," １８  衛　　　　　　　生"]
["建設業",null,null,null,null,null,null,{"$f":"データ一覧!L108","v":"…"},null,null,{"$f":"データ一覧!L165","v":"…"},null,null,{"$f":"データ一覧!L109","v":265},null,null,{"$f":"データ一覧!L166","v":1510},null,null,{"$f":"データ一覧!L110","v":"…"},null,null,{"$f":"データ一覧!L167","v":"…"},null,null,"　　　　海 面 漁 業 漁 獲 量 （属人）",null,null,null,null,null,null,null,{"$f":"データ一覧!$A$289","v":"30年中"},null,null,null,null,null,{"$f":"データ一覧!$A$418","v":"3.3.31"},null,null,null,null,{"$f":"データ一覧!L418","v":947},null,null,null,{"$f":"データ一覧!L420","v":3955},null,null,null,{"$f":"データ一覧!L421","v":4376},null,null,{"$f":"データ一覧!L419","v":64},null,null,{"$f":"データ一覧!L422","v":493},null,null,{"$f":"データ一覧!L423","v":233},null,null,{"$f":"データ一覧!L424","v":9181}]
["製造業",null,null,null,null,null,null,{"$f":"データ一覧!L111","v":"…"},null,null,{"$f":"データ一覧!L168","v":"…"},null,null,{"$f":"データ一覧!L112","v":1056},null,null,{"$f":"データ一覧!L169","v":10659},null,null,{"$f":"データ一覧!L113","v":"…"},null,null,{"$f":"データ一覧!L170","v":"…"},null,null,null,null,null,null,null,"       ","ｔ",null,null,null,null,null,null,"t",null,null,"     ",null,"郵　便　局　数",null,null,null,null,null,null,null,null,null,null,null,null,null,{"$f":"+MID(データ一覧!$A$428,3,2)","v":"12"},"令","一般加入",null,null,null,"ＩＮＳネット",null,null,null,null,null,null,null,"医療関係施設",null,null,null,null,null,{"$f":"データ一覧!$A$661","v":"元.10.1"},null,null,null,null,null,null,"および医療関係者数",null,null,null,null,null,null,null,{"$f":"データ一覧!$A$666","v":"30.12.31"}]
["電気・ｶﾞ ｽ・熱供給・水道業",null,null,null,null,null,null,{"$f":"データ一覧!L114","v":"…"},null,null,{"$f":"データ一覧!L171","v":"…"},null,null,{"$f":"データ一覧!L115","v":0},null,null,{"$f":"データ一覧!L172","v":0},null,null,{"$f":"データ一覧!L116","v":"…"},null,null,{"$f":"データ一覧!L173","v":"…"},null,null,"   総　　　　　　数",null,null,null,{"$f":"データ一覧!L289","v":0},null,null,"   藻　　　　　　類",null,null,null,{"$f":"データ一覧!L292","v":0},null,null,"通  信",null,null,null," 総     数",null,null,null,null," 郵 便 局",null,null,null,null," 簡 易 局",null,null,null,"・",{"$f":"+LEFT(データ一覧!$A$428,1)","v":"2"},"電話数",null,null,null,"加入数",null,null,null,null,null,null,null,null,null,"　","病",null,null,"院",null,"　",null,null,null,null," ","一般診療所",null,null,null,null,null,null,null,null,null,null,null,"歯科診療所"]
["情報通信業",null,null,null,null,null,null,{"$f":"データ一覧!L117","v":"…"},null,null,{"$f":"データ一覧!L174","v":"…"},null,null,{"$f":"データ一覧!L118","v":17},null,null,{"$f":"データ一覧!L175","v":265},null,null,{"$f":"データ一覧!L119","v":"…"},null,null,{"$f":"データ一覧!L176","v":"…"},null,null,"   魚　　　　　　類",null,null,null,{"$f":"データ一覧!L290","v":0},null,null,"   そ　   の　　 他",null,null,null,{"$f":"データ一覧!L293","v":0},null,null,{"$f":"データ一覧!$A$428","v":"2.12.31"},null,null,null,{"$f":"データ一覧!L425","v":14},null,null,null,null,{"$f":"データ一覧!L426","v":12},null,null,null,null,{"$f":"データ一覧!L427","v":2},null,null,null,{"$f":"+RIGHT(データ一覧!$A$428,2)","v":"31"},"・",{"$f":"データ一覧!L428","v":4975},null,null,null,{"$f":"データ一覧!L429","v":610},null,null,null," ","医療関係",null,null,null,null,null,null,null,null,null,null,null,"一般病院",null,null,null,null,null,null,null,null,null,null,null,"有",null,null,"床"]
["運輸業、郵便業",null,null,null,null,null,null,{"$f":"データ一覧!L120","v":"…"},null,null,{"$f":"データ一覧!L177","v":"…"},null,null,{"$f":"データ一覧!L121","v":48},null,null,{"$f":"データ一覧!L178","v":677},null,null,{"$f":"データ一覧!L122","v":"…"},null,null,{"$f":"データ一覧!L179","v":"…"},null,null,"   貝　　　　　　類",null,null,null,{"$f":"データ一覧!L291","v":0},null,null,null,null,null,null,null,null,null,null,null,null,null,null,null,null,null,null,null,null,null,null,null,null,null,null,null,null,null,null,null,null,null,null,null,null,null,null,"施設数",null,null,null,null,null,null,{"$f":"データ一覧!L661","v":7},null,null,null,null,null,{"$f":"データ一覧!L662","v":6},null,null,null,null,null,{"$f":"データ一覧!L663","v":40},null,null,null,null,null,{"$f":"データ一覧!L664","v":4},null,null,null,null,null,{"$f":"データ一覧!L665","v":23}]
["卸売業、小売業",null,null,null,null,null,null,{"$f":"データ一覧!L123","v":"…"},null,null,{"$f":"データ一覧!L180","v":"…"},null,null,{"$f":"データ一覧!L124","v":797},null,null,{"$f":"データ一覧!L181","v":5638},null,null,{"$f":"データ一覧!L125","v":"…"},null,null,{"$f":"データ一覧!L182","v":"…"},null,null,null,null,null,null,null,null,null,null,null,null,null,null,null,null," １３  税　　・　　財　　政",null,null,null,null,null,null,null,null,null,null,null,null,null,null,null,null,null,null,null,null,null,null,null,null,null,null,null,null,null,null,null,null,null,null,"医師",null,null,null,null,"歯科医師",null,null,null,null,"薬剤師",null,null,null,null,"保健師",null,null,null,null,"助産師",null,null," ",null,"看護師",null,null," "]
["金融業、保険業",null,null,null,null,null,null,{"$f":"データ一覧!L126","v":"…"},null,null,{"$f":"データ一覧!L183","v":"…"},null,null,{"$f":"データ一覧!L127","v":51},null,null,{"$f":"データ一覧!L184","v":650},null,null,{"$f":"データ一覧!L128","v":"…"},null,null,{"$f":"データ一覧!L185","v":"…"},null,null,"  ７  商        　　　業 ",null,null,null,null,null,null,{"$f":"データ一覧!$A$294","v":"28.6.1(平成27年実績）"},null,null,null,null,null,null,null,null,null,null,null,null,null,null,null,null,null,null,null,null,null,null,null,null,null,null,null,null,null,null,null,null,null,null," ","医療",null,null,null,null,null,null,null,null,"人",null,null,null,null,"人",null,null,null,null,"人",null,null,null,null,"人",null,null,null,null,"人",null,null,null,null,"人"]
["不動産業、物品賃貸業",null,null,null,null,null,null,{"$f":"データ一覧!L129","v":"…"},null,null,{"$f":"データ一覧!L186","v":"…"},null,null,{"$f":"データ一覧!L130","v":74},null,null,{"$f":"データ一覧!L187","v":243},null,null,{"$f":"データ一覧!L131","v":"…"},null,null,{"$f":"データ一覧!L188","v":"…"},null,null,null,null,null,null,null,null,null,null,null,null,null,null,null,null,"           ",null,null,null,"歳入",null,null,null,null,null,null,null,null,"(千円）"," ",null,null,null,"歳出",null,null,null,null,null,null,null,null,"(千円）",null,"関係者",null,null,null,null,{"$f":"データ一覧!L666","v":110},null,null,null,null,{"$f":"データ一覧!L667","v":35},null,null,null,null,{"$f":"データ一覧!L668","v":95},null,null,null,null,{"$f":"データ一覧!L669","v":35},null,null,null,null,{"$f":"データ一覧!L670","v":10},null,null,null,null,{"$f":"データ一覧!L671","v":877}]
["学術研究、専門・技術ｻｰﾋﾞｽ業",null,null,null,null,null,null,{"$f":"データ一覧!L132","v":"…"},null,null,{"$f":"データ一覧!L189","v":"…"},null,null,{"$f":"データ一覧!L133","v":89},null,null,{"$f":"データ一覧!L190","v":397},null,null,{"$f":"データ一覧!L134","v":"…"},null,null,{"$f":"データ一覧!L191","v":"…"},null,null,"  産   業　 分　 類",null,null,null,"  商　 店 　数",null,null," 従　業　者　数",null,null,"年　間　販　売　額",null,null,null,"一人当たり歳入歳出予算決算額",null,null,null,null,null,null,null,null,null,null,null,null,null,null,null,null,null,null,null,null,null,null,null,null,null,null,null,"                   ",null,null,null,null,null,null,null,null,"死因別死亡数　　　　　　    ",null,null,null,null,null,null,null,null,null,null,null,null,null,null,null,{"$f":"データ一覧!$A$672","v":"2年中"},null,null,null,null,null,null,null,null,"      単 位：人"]
["宿泊業、飲食サービス業",null,null,null,null,null,null,{"$f":"データ一覧!L135","v":"…"},null,null,{"$f":"データ一覧!L192","v":"…"},null,null,{"$f":"データ一覧!L136","v":338},null,null,{"$f":"データ一覧!L193","v":2542},null,null,{"$f":"データ一覧!L137","v":"…"},null,null,{"$f":"データ一覧!L194","v":"…"},null,null,null,null,null,null,null,"        店",null,null,null,"　人",null,"         百万円",null,null,"区分",null,null,null,{"$f":"データ一覧!$A$438","v":"3年度"},null,null,null,null,{"$f":"データ一覧!$A$452","v":"2年度"},null,null,null,null,"区分",null,null,null,{"$f":"+AR68","v":"3年度"},null,null,null,null,{"$f":"データ一覧!$A$452","v":"2年度"},null,null,null,null," 死     因",null,null,null,null,null,null,null,null,null,null,null,"悪  性",null,null,"高血圧",null,null,null,null,null,"脳血管",null,null,null,null,null," ",null,null,"不慮の事故"]
["生活関連サービス業、娯楽業",null,null,null,null,null,null,{"$f":"データ一覧!L138","v":"…"},null,null,{"$f":"データ一覧!L195","v":"…"},null,null,{"$f":"データ一覧!L139","v":296},null,null,{"$f":"データ一覧!L196","v":1069},null,null,{"$f":"データ一覧!L140","v":"…"},null,null,{"$f":"データ一覧!L197","v":"…"},null,null,"総　　　　　　計",null,null,null,{"$f":"データ一覧!L294","v":681},null,null,{"$f":"データ一覧!L303","v":4817},null,null,{"$f":"データ一覧!L312","v":115279},null,null,null,null,null,null,null,{"$f":"データ一覧!L434","v":377335.94104142598},null,null,null,null,{"$f":"データ一覧!L435","v":546096.98313590477},null,null,null,null,null,null,null,null,{"$f":"データ一覧!L436","v":377335.94104142598},null,null,null,null,{"$f":"データ一覧!L437","v":530755.41226585757},null,null,null,null,null,null,null,null,null,"全 死 因",null,null,null,"結 核",null,null,"新生物",null,null,"性疾患",null,null,"心疾患",null,null,"疾  患",null,null,"肺  炎",null,null,"老  衰",null,null,null,null," ","交通事故"]
["教育、学習支援業",null,null,null,null,null,null,{"$f":"データ一覧!L141","v":"…"},null,null,{"$f":"データ一覧!L198","v":"…"},null,null,{"$f":"データ一覧!L142","v":85},null,null,{"$f":"データ一覧!L199","v":490},null,null,{"$f":"データ一覧!L143","v":"…"},null,null,{"$f":"データ一覧!L200","v":"…"},null,null,"卸売業",null,null,null,{"$f":"データ一覧!L295","v":178},null,null,{"$f":"データ一覧!L304","v":1486},null,null,{"$f":"データ一覧!L313","v":57280},null,null,null,"項目別歳入歳出予算決算額"]
["医療、福祉",null,null,null,null,null,null,{"$f":"データ一覧!L144","v":"…"},null,null,{"$f":"データ一覧!L201","v":"…"},null,null,{"$f":"データ一覧!L145","v":195},null,null,{"$f":"データ一覧!L202","v":3700},null,null,{"$f":"データ一覧!L146","v":"…"},null,null,{"$f":"データ一覧!L203","v":"…"},null,null,"小売業",null,null,null,{"$f":"データ一覧!L296","v":503},null,null,{"$f":"データ一覧!L305","v":3331},null,null,{"$f":"データ一覧!L314","v":57999},null,null,null,"区分",null,null,null,{"$f":"データ一覧!$A$438","v":"3年度"},null,null,null,null,{"$f":"データ一覧!$A$452","v":"2年度"},null,null,null,null,"区分",null,null,null,{"$f":"+AR71","v":"3年度"},null,null,null,null,{"$f":"データ一覧!$A$452","v":"2年度"},null,null,null,null,null,null,null,null,null,{"$f":"データ一覧!L672","v":743},null,null,null,"   －",{"$f":"データ一覧!L673","v":0},null,{"$f":"データ一覧!L674","v":45},null,null,null,{"$f":"データ一覧!L675","v":6},null,{"$f":"データ一覧!L676","v":6},null,null,{"$f":"データ一覧!L677","v":0},null,null,{"$f":"データ一覧!L678","v":55},null,null,{"$f":"データ一覧!L679","v":33},null,null,{"$f":"データ一覧!L680","v":27},null,null,{"$f":"データ一覧!L681","v":2}]
["複合サービス事業",null,null,null,null,null,null,{"$f":"データ一覧!L147","v":"…"},null,null,{"$f":"データ一覧!L204","v":"…"},null,null,{"$f":"データ一覧!L148","v":24},null,null,{"$f":"データ一覧!L205","v":557},null,null,{"$f":"データ一覧!L149","v":"…"},null,null,{"$f":"データ一覧!L206","v":"…"},null,null,"各種商品",null,null,null,{"$f":"データ一覧!L297","v":2},null,null,{"$f":"データ一覧!L306","v":198},null,null,{"$f":"データ一覧!L315","v":"x"},null,null,null,"総額",null,null,null,{"$f":"SUM(AR73:AV85)","v":25804873},null,null,null,null,{"$f":"SUM(AW73:BA85)","v":37325589},null,null,null,null,"総額",null,null,null,{"$f":"SUM(BF73:BJ85)","v":25804873},null,null,null,null,{"$f":"SUM(BK73:BO85)","v":36382222},null,null,null,null," １９  警　察　・　消　防  ",null,null,null,null,null,null,null,null,null,null,null,null,null,null,null,{"$f":"+データ一覧!$A682","v":"3.4.1"}]
["サービス業",null,null,null,null,null,null,{"$f":"データ一覧!L150","v":"…"},null,null,{"$f":"データ一覧!L207","v":"…"},null,null,{"$f":"データ一覧!L151","v":170},null,null,{"$f":"データ一覧!L208","v":1089},null,null,{"$f":"データ一覧!L152","v":"…"},null,null,{"$f":"データ一覧!L209","v":"…"},null,null,"織物・衣服・身の回り品",null,null,null,{"$f":"データ一覧!L298","v":79},null,null,{"$f":"データ一覧!L307","v":270},null,null,{"$f":"データ一覧!L316","v":3492},null,null,null,"地方税",null,null,null,{"$f":"データ一覧!L439","v":8353000},null,null,null,null,{"$f":"データ一覧!L453","v":9773908},null,null,null,null,"議会費",null,null,null,{"$f":"データ一覧!L467","v":238612},null,null,null,null,{"$f":"データ一覧!L481","v":224366}]
["公務",null,null,null,null,null,null,{"$f":"データ一覧!L153","v":"…"},null,null,{"$f":"データ一覧!L210","v":"…"},null,null,{"$f":"データ一覧!L154","v":"…"},null,null,{"$f":"データ一覧!L211","v":"…"},null,null,{"$f":"データ一覧!L155","v":"…"},null,null,{"$f":"データ一覧!L212","v":"…"},null,null,"飲食料品",null,null,null,{"$f":"データ一覧!L299","v":154},null,null,{"$f":"データ一覧!L308","v":1271},null,null,{"$f":"データ一覧!L317","v":22395},null,null,null,"地方譲与税",null,null,null,{"$f":"データ一覧!L440","v":248600},null,null,null,null,{"$f":"データ一覧!L454","v":252727},null,null,null,null,"総務費",null,null,null,{"$f":"データ一覧!L468","v":2454170},null,null,null,null,{"$f":"データ一覧!L482","v":10127365},null,null,null,null,null,null,null,null,null,null,null,null,null,null,"交番・駐在所",null,null,null,null,null,null,null,null,"刑法犯認知件数",null,null,null,null,null,null,null,null,"交通人身事故発生件数"]
["  ４  農        　　　業 ",null,null,null,null,null,null,null,null,null,null,null,null,null,null,null,null,null,null,null,null,null,null,null,null,"機械器具",null,null,null,{"$f":"データ一覧!L300","v":71},null,null,{"$f":"データ一覧!L309","v":359},null,null,{"$f":"データ一覧!L318","v":8600},null,null,null,"各種交付金",null,null,null,{"$f":"データ一覧!L441","v":1555000},null,null,null,null,{"$f":"データ一覧!L455","v":1551439},null,null,null,null,"民生費",null,null,null,{"$f":"データ一覧!L469","v":9927993},null,null,null,null,{"$f":"データ一覧!L483","v":10842632},null,null,null,null,null,"警察署数",null,null,null,null,null,null,null,null,"検問所数",null,null,null,null,null,null,null,null,null,{"$f":"データ一覧!$A$684","v":"2年中"},null,null,null,null,null,null,null,null,{"$f":"データ一覧!$A$684","v":"2年中"}]
[null,null,null,null,null,null,null,null,null,null,null,null,null,null,null,null,null,null,null,null,null,null,null,null,null,"その他",null,null,null,{"$f":"データ一覧!L301","v":175},null,null,{"$f":"データ一覧!L310","v":1005},null,null,{"$f":"データ一覧!L319","v":"x"},null,null,null,"地方特例交付金",null,null,null,{"$f":"データ一覧!L442","v":542000},null,null,null,null,{"$f":"データ一覧!L456","v":86230},null,null,null,null,"衛生費",null,null,null,{"$f":"データ一覧!L470","v":2625865},null,null,null,null,{"$f":"データ一覧!L484","v":2046341},null,null,null,null,null,null,null,null,null,null,null,null,null,null,null,null,null,null,null,null,null,null,null,null,null,null,null,null," 件",null,null,null,null,null,null,null,null,"　件"]
[null,null,"農業経営体数",null,null,null,null,null,null,"農産物販売額規模別経営体数",null,null,null,null,null,null,null,"経営耕地面積規模別経営体数",null,null,null,null,null,null,null,"無店舗",null,null,null,{"$f":"データ一覧!L302","v":22},null,null,{"$f":"データ一覧!L311","v":228},null,null,{"$f":"データ一覧!L320","v":5362},null,null,null,"地方交付税",null,null,null,{"$f":"データ一覧!L443","v":4750000},null,null,null,null,{"$f":"データ一覧!L457","v":4536953},null,null,null,null,"労働費",null,null,null,{"$f":"データ一覧!L471","v":116303},null,null,null,null,{"$f":"データ一覧!L485","v":90257},null,null,null,null,null,null,{"$f":"データ一覧!L682","v":1},null,null,null,null,null,null,null,null,{"$f":"データ一覧!L683","v":8},null,null,null,null,null,null,null,null,{"$f":"データ一覧!L684","v":280},null,null,null,null,null,null,null,null,{"$f":"データ一覧!L685","v":97}]
["農",null,"区　分",null,null,null,"経営体数\n（経営体）",null,null,"区　分",null,null,null,null,"経営体数\n（経営体）",null,null,"区　分",null,null,null,null,"経営体数\n（経営体）",null,null,null,null,null,null,null,null,null,null,null,null,null,null,null,null,"分担金および負担金",null,null,null,{"$f":"データ一覧!L444","v":165165},null,null,null,null,{"$f":"データ一覧!L458","v":164044},null,null,null,null,"農林水産業費",null,null,null,{"$f":"データ一覧!L472","v":1009997},null,null,null,null,{"$f":"データ一覧!L486","v":1168205},null,null,null,null,"火災発生件数",null,null,null,null,null,null,null,null,null,"林野焼損",null,null,null,null,"損      害",null,null,null,null,"消 防 自",null,null,null,"その他の",null,null,null," ",null,null,null,null," "]
["業","令",null,null,null,null,null,null,null,null,null,null,null,null,null,null,null,null,null,null,null,null,null,null,null,"  ８  住　　　　　　 　宅",null,null,null,null,null,null,null,null,null,null,null,null,null,"使用料および手数料",null,null,null,{"$f":"データ一覧!L445","v":264121},null,null,null,null,{"$f":"データ一覧!L459","v":260971},null,null,null,null,"商工費",null,null,null,{"$f":"データ一覧!L473","v":611079},null,null,null,null,{"$f":"データ一覧!L487","v":1631214},null,null,null,null,{"$f":"+データ一覧!$A$686","v":"2年中"},null,null,null,null,"焼損棟数",null,null,null,null,"面    積",null,null,null,null,"見  積  額",null,null,null,null,"動 車 数",null,null,null,"ﾎﾟﾝﾌﾟ数",null,null,null," 消防吏員",null,null,null," 消防団員"]
["経",{"$f":"+LEFT(データ一覧!$A$213)","v":"2"},"計",null,null,null,{"$f":"データ一覧!L213","v":445},null,null,"総　　　 数",null,null,null,null,{"$f":"データ一覧!L217","v":445},null,null,"総　　　 数",null,null,null,null,{"$f":"データ一覧!L233","v":1850},null,null,null,null,null,null,null,null,null,null,null,null,null,null,null,null,"国庫支出金",null,null,null,{"$f":"データ一覧!L446","v":3916774},null,null,null,null,{"$f":"データ一覧!L460","v":12686340},null,null,null,null,"土木費",null,null,null,{"$f":"データ一覧!L474","v":2498589},null,null,null,null,{"$f":"データ一覧!L488","v":2845599},null,null,null,null,"         件",null,null,null,null,null,"      棟",null,null,null,null,null,null,"  ａ",null,null,null,"  千円",null,null,"        ",null,null,null,null,null,null,null,null,null,"  人",null,null,null,"  人"]
["営","・","個人経営体",null,null,null,{"$f":"データ一覧!L214","v":412},null,null,"販 売 な し",null,null,null,null,{"$f":"データ一覧!L218","v":23},null,null,"0.5 ha 未満",null,null,null,null,{"$f":"データ一覧!L234","v":27},null,null,{"$f":"+データ一覧!$A$321","v":"令和元年"},null,null,null,null,{"$f":"データ一覧!$A$324","v":"2年"},"中の増減",null,null,null,{"$f":"+データ一覧!$A$324","v":"2年"},null,null,null,"県支出金",null,null,null,{"$f":"データ一覧!L447","v":2363111},null,null,null,null,{"$f":"データ一覧!L461","v":2517098},null,null,null,null,"消防費",null,null,null,{"$f":"データ一覧!L475","v":852226},null,null,null,null,{"$f":"データ一覧!L489","v":914558},null,null,null,null,null,{"$f":"データ一覧!L686","v":14},null,null,null,null,{"$f":"データ一覧!L687","v":25},null,null,null,null,{"$f":"データ一覧!L688","v":0},null,null,null,{"$f":"データ一覧!L689","v":68666},null,null,null,null,null,{"$f":"データ一覧!L690","v":20},null,null,null,{"$f":"データ一覧!L691","v":1},null,null,null,{"$f":"データ一覧!L692","v":89},null,null,null,{"$f":"データ一覧!L693","v":221}]
["体",{"$f":"+LEFT(データ一覧!$A$213,1)","v":"2"},"団体経営体",null,null,null,{"$f":"データ一覧!L215","v":33},null,null,"50万円未満",null,null,null,null,{"$f":"データ一覧!L219","v":125},null,null,"0.5 ha ～ 1.0 ha",null,null,null,null,{"$f":"データ一覧!L235","v":84},null,null,null,null,null,null,"建設した住宅",null,null,"消失した住宅",null,null,null,null,null,null,"財産収入",null,null,null,{"$f":"データ一覧!L448","v":61153},null,null,null,null,{"$f":"データ一覧!L462","v":130591},null,null,null,null,"教育費",null,null,null,{"$f":"データ一覧!L476","v":2685411},null,null,null,null,{"$f":"データ一覧!L490","v":3838604},null,null,null,null," ２０  そ　　　の　　　他　"]
["数","・",null,"法人経営",null,null,{"$f":"データ一覧!L216","v":17},null,null,"50～300万円",null,null,null,null,{"$f":"データ一覧!L220","v":224},null,null,"1.0 ha ～ 2.0 ha",null,null,null,null,{"$f":"データ一覧!L236","v":182},null,null,null,null,null,null,null,null,null,null,null,null,null,null,null,null,"繰入金",null,null,null,{"$f":"データ一覧!L449","v":503105},null,null,null,null,{"$f":"データ一覧!L463","v":813800},null,null,null,null,"災害復旧費",null,null,null,{"$f":"データ一覧!L477","v":0},null,null,null,null,{"$f":"データ一覧!L491","v":0}]
["（",{"$f":"+RIGHT(データ一覧!$A$213)","v":"1"},null,null,null,null,null,null,null,"300～500万円",null,null,null,null,{"$f":"データ一覧!L221","v":19},null,null,"2.0 ha ～ 3.0 ha",null,null,null,null,{"$f":"データ一覧!L237","v":85},null,null,null,{"$f":"データ一覧!L321","v":22715},null,"戸",{"$f":"データ一覧!L322","v":591},null,"戸",{"$f":"データ一覧!L323","v":146},null,"戸",null,{"$f":"データ一覧!L324","v":23160},null,"戸","地方債",null,null,null,{"$f":"データ一覧!L450","v":2470800},null,null,null,null,{"$f":"データ一覧!L464","v":2741788},null,null,null,null,"公債費",null,null,null,{"$f":"データ一覧!L478","v":2764628},null,null,null,null,{"$f":"データ一覧!L492","v":2653081},null,null,null,null,null,null,null,null,null,"西山公園、本山誠照寺、本山證誠寺、王山古墳群、兜山古墳、木地屋資料、旧瓜生家住宅、"]
["総",null,null,null,null,null,null,null,null,"500～1,000万円",null,null,null,null,{"$f":"データ一覧!L222","v":20},null,null,"3.0 ha ～ 5.0 ha",null,null,null,null,{"$f":"データ一覧!L238","v":53},null,null,null,null,null,null,null,null,null,null,null,null,null,null,null,null,"その他",null,null,null,{"$f":"データ一覧!L451","v":612044},null,null,null,null,{"$f":"データ一覧!L465","v":1809700},null,null,null,null,"その他",null,null,null,{"$f":"データ一覧!L479","v":20000},null,null,null,null,{"$f":"データ一覧!L493","v":0},null,null,null,null,"　名所・旧跡",null,null,null,null,"春日神社本殿、鳥ヶ森社叢、三六の桜、加多志波神社の追儺面、木造聖観音菩薩立像、"]
["数",null,null,null,null,null,null,null,null,"1,000万円以上",null,null,null,null,{"$f":"データ一覧!L223","v":34},null,null,"5.0 ha以上",null,null,null,null,{"$f":"データ一覧!L239","v":1419},null,null,null,null,null,null,null,null,null,null,null,null,null,null,null,null,null,null,null,null,null,null,null,null,null,null,null,null,null,null,null,null,null,null,null,null,null,null,null,null,null,null,null,null,"  文化財等",null,null,null,null,"日吉神社の相生の大杉、鯖江藩家老植田家長屋門、舟津神社本殿、神明社中雀門、"]
["）",null,"15歳以上の常雇い数",null,null,null,null,null,null,"農業に60日以上従事した世帯員、役員・構成員\n（経営主を含む）の平均年齢",null,null,null,null,null,null,null,null,null,null,null,null,null,null,null,"  ９  議　 員　・　職 　員",null,null,null,null,null,null,null,null,null,null,null,null,null," １４  文　　　　　　化",null,null,null,null,null,null,null,null,null," ( ",{"$f":"データ一覧!$A$500","v":"3.3.31"},null,null,null,"ただし図書館・公民館・児童館",null,null,null,null,null,null,null,{"$f":"データ一覧!$A$494","v":"3.4.1"},null,null,null,null,null,null,null,null,null,"上河内の薄墨桜、薬師堂古樹林、三峯城跡、萬慶寺本堂天井絵"]
["と",null,null,null,null,null,null,null,null,null,null,null,null,null,null,null,null,null,null,null,null,null,null,null,null,null,null,null,null,null,null,null,null,null,null,null,null,null,null,null,null,null,null,null,null,null,null,null,null,null,null,null,null,null,null,"　宗教法人数 ",null,null,null,null,null,null,{"$f":"データ一覧!$A$502","v":"2.12.31"},null,null,null,"）","　　特産物",null,null,null,null,"眼鏡枠、織物、漆器、吉川ナス、ブロッコリー、マルセイユメロン、さばえ菜花、"]
["就",null,null,null,null,null,null,null,null,"農業に60日以上従事",null,null,null,null,null,null,null,"農業に150日以上従事",null,null,null,null,null,null,null," 市 町 村 議 会",null,null,"有権者数",null,{"$f":"データ一覧!$A$328","v":"3.9.1"},null,"市 町 村 議 会",null,null,"  職      員      数",null,null,null,null,null,null,null,null,"図書館",null,null,null,null,null,"公　民　館",null,null,null,null,null,null,null,null,null,null," 社会教育学級講座",null,null,null,null,null,null,null,null,null,null,"ミディトマト、山うに、さばえ菜花米、川島ごぼう"]
["業",null,"区　分",null,null,null,"人",null,null,"区　分",null,null,null,null,"人",null,null,"区　分",null,null,null,null,"人",null,null," 議  員  定  数",null,null,"    男",null,"    女",null,"選 挙 投 票 率",null,null," 総     数",null,"一般行政職",null,"公    共",null,null,null," 館  数",null,null," 図書数",null,null," 本  館",null,null," 分  館",null,null," 公  園",null,null," 児童館",null,null,"学級講座数",null,null,"受講者数",null,null," 　年中行事",null,null,null,null,"すりばちやいと(2月20日・3月2日)、誠市(3月～12月第2日曜)、\nかたかみ春たんぼ(4月29日)､越前漆器まつり(5月3･4日)､\nさばえつつじまつり(5月上旬)、つつじマラソン、\nやっしきまつり(7月下旬)、じゃぼんこう(11月17日)"]
["状",null,"総数",null,null,null,{"$f":"データ一覧!L230","v":17},null,null,"総数",null,null,null,null,{"$f":"データ一覧!L224","v":67.3},null,null,"総数",null,null,null,null,{"$f":"データ一覧!L227","v":65.3},null,null,null,null,"人",null,"人",null,"人",null,null,"　％",null,"人",null,"人","施 設 数",null,null,null,null,{"$f":"データ一覧!L494","v":1},null,{"$f":"データ一覧!L495","v":356285},null,null,null,{"$f":"データ一覧!L496","v":10},null,{"$f":"データ一覧!L497","v":0},null,null,{"$f":"データ一覧!L498","v":190},null,null,{"$f":"データ一覧!L499","v":15},null,null,{"$f":"データ一覧!L500","v":0},null,null,{"$f":"データ一覧!L501","v":0}]
["況",null,"男",null,null,null,{"$f":"データ一覧!L231","v":13},null,null,"男",null,null,null,null,{"$f":"データ一覧!L225","v":66.900000000000006},null,null,"男",null,null,null,null,{"$f":"データ一覧!L228","v":65},null,null,null,{"$f":"データ一覧!L325","v":20},null,{"$f":"データ一覧!L328","v":27351},null,{"$f":"データ一覧!L329","v":29157},null,{"$f":"データ一覧!L327","v":53.07},null,null,{"$f":"データ一覧!L330","v":393},null,{"$f":"データ一覧!L331","v":257},null,"宗    教",null,null,null," 仏教系",null,null,"ｷﾘｽﾄ教系",null,null,"神道諸派",null,null,"公会堂・市民会館",null,null,null,null,null," テレビ",null,null,"衛星放送契約数"]
[null,null,"女",null,null,null,{"$f":"データ一覧!L232","v":4},null,null,"女",null,null,null,null,{"$f":"データ一覧!L226","v":68.599999999999994},null,null,"女",null,null,null,null,{"$f":"データ一覧!L229","v":66},null,null,null,null,null,null,null,null,null,{"$f":"データ一覧!L326","v":"元.6.30"},null,null,null,null,null,null,"法 人 数",null,null,null,{"$f":"データ一覧!L502","v":111},null,null,{"$f":"データ一覧!L503","v":3},null,null,{"$f":"データ一覧!L504","v":63},null,null,{"$f":"データ一覧!L505","v":5},null,null,null,null,null,"      等",null,null,{"$f":"データ一覧!L506","v":15435}]

{"sheet":"あわら市","index":11,"n_rows":93,"n_cols":103,"rows_kept":93,"cut":false,"hidden":false,"merged":[[85,9,85,13],[85,14,85,16],[32,91,32,94],[32,40,32,46],[90,17,90,21],[91,2,91,5],[91,9,91,13],[91,17,91,21],[92,22,92,24],[91,6,91,8],[91,14,91,16],[91,22,91,24],[92,6,92,8],[66,92,66,96],[81,6,81,8],[81,9,81,13],[81,14,81,16],[82,6,82,8],[82,9,82,13],[82,14,82,16],[83,6,83,8],[83,9,83,13],[83,14,83,16],[84,6,84,8],[84,9,84,13],[84,14,84,16],[84,22,84,24],[83,22,83,24],[92,2,92,5],[92,9,92,13],[92,14,92,16],[92,17,92,21],[85,17,85,21],[85,6,85,8],[19,53,19,56],[19,60,19,64],[29,11,29,13],[29,14,29,16],[30,11,30,13],[85,22,85,24],[86,2,88,8],[86,9,87,24],[88,9,88,16],[88,17,88,24],[89,2,89,5],[89,9,89,13],[89,17,89,21],[90,2,90,5],[90,9,90,13],[19,35,19,38],[22,35,22,38],[20,29,20,31],[21,35,21,38],[20,35,20,38],[19,40,19,46],[19,49,19,51],[83,43,83,47],[84,39,84,42],[53,29,53,31],[48,62,48,65],[27,5,27,7],[27,22,27,24],[27,25,27,26],[27,37,27,38],[23,77,23,80],[40,2,40,3],[28,77,28,80],[31,68,31,72],[31,73,31,76],[35,36,35,37],[35,29,35,30],[30,22,30,24],[33,14,33,16],[34,11,34,13],[35,22,35,24],[35,5,35,7],[35,8,35,10],[35,11,35,13],[35,14,35,16],[35,18,35,19],[35,20,35,21],[24,35,24,36],[24,37,24,38],[23,29,23,31],[23,32,23,34],[24,33,24,34],[23,35,23,38],[23,25,23,28],[24,27,24,28],[29,5,29,7],[29,8,29,10],[25,60,25,64],[26,60,26,64],[27,60,27,64],[25,49,25,51],[39,40,39,46],[15,35,15,37],[16,36,16,37],[17,36,17,38],[18,35,18,38],[17,25,17,27],[18,25,18,27],[19,32,19,34],[21,29,21,31],[18,28,18,30],[24,31,24,32],[91,26,91,27],[91,28,91,29],[91,30,91,31],[60,29,60,30],[61,29,61,30],[79,57,79,61],[56,22,56,24],[88,61,88,66],[79,62,79,66],[83,57,83,61],[68,53,68,56],[68,57,68,61],[91,43,91,45],[15,32,15,33],[91,35,91,36],[91,37,91,38],[83,48,83,52],[83,39,83,42],[49,46,49,49],[37,49,37,51],[38,40,38,46],[41,49,41,51],[91,32,91,34],[90,46,90,48],[91,52,91,57],[30,53,30,56],[38,49,38,51],[40,22,40,24],[34,53,34,56],[23,53,23,56],[22,40,22,46],[22,49,22,51],[91,61,91,66],[92,52,92,57],[92,61,92,66],[92,39,92,42],[92,43,92,45],[92,46,92,48],[92,49,92,51],[91,46,91,48],[91,39,91,42],[84,62,84,66],[83,62,83,66],[88,30,88,31],[88,32,88,34],[90,39,90,42],[90,44,90,45],[89,32,89,34],[89,39,89,42],[90,55,90,57],[90,58,90,60],[84,57,84,61],[88,44,88,47],[92,32,92,34],[5,0,5,9],[6,0,8,9],[19,3,19,5],[19,25,19,28],[19,29,19,31],[20,40,20,46],[16,32,16,33],[17,32,17,34],[15,29,15,30],[14,0,15,24],[33,18,33,19],[31,18,31,19],[32,20,32,21],[27,27,27,28],[27,0,27,4],[33,8,33,10],[23,40,23,46],[18,31,18,34],[22,32,22,34],[27,35,27,36],[25,37,26,38],[28,40,28,46],[23,16,23,18],[23,21,23,23],[30,18,30,19],[33,22,33,24],[33,11,33,13],[27,31,27,32],[14,25,15,25],[14,26,15,28],[22,25,22,28],[26,40,26,46],[27,33,27,34],[33,40,33,46],[34,36,34,37],[32,8,32,10],[32,11,32,13],[32,14,32,16],[32,18,32,19],[34,29,34,30],[33,20,33,21],[33,5,33,7],[32,49,32,51],[33,49,33,51],[29,60,29,64],[30,60,30,64],[32,22,32,24],[26,22,26,24],[29,22,29,24],[31,22,31,24],[25,29,26,30],[29,40,29,46],[30,20,30,21],[23,99,23,102],[22,53,22,56],[22,60,22,64],[22,91,22,94],[22,68,22,72],[22,73,22,76],[30,49,30,51],[31,49,31,51],[24,53,24,56],[29,53,29,56],[28,53,28,56],[25,40,25,46],[27,40,27,46],[26,53,26,56],[35,53,35,56],[23,60,23,64],[23,91,23,94],[25,99,25,102],[24,91,24,94],[22,95,22,98],[22,99,22,102],[22,77,22,80],[22,81,22,84],[22,86,22,90],[23,81,23,84],[23,95,23,98],[31,40,31,46],[23,68,23,72],[23,73,23,76],[32,53,32,56],[31,53,31,56],[32,95,32,98],[17,40,17,46],[17,48,17,52],[19,91,19,94],[19,95,19,98],[19,99,19,102],[20,91,20,94],[21,60,21,64],[21,91,21,94],[20,60,20,64],[21,73,21,76],[17,68,17,71],[17,73,17,76],[17,82,17,83],[20,77,20,80],[21,77,21,80],[17,59,17,65],[21,40,21,46],[21,49,21,51],[21,53,21,56],[20,53,20,56],[20,49,20,51],[17,86,17,89],[19,73,19,76],[19,77,19,80],[19,81,19,84],[20,73,20,76],[17,53,17,57],[20,81,20,84],[21,95,21,98],[17,91,17,94],[21,81,21,84],[17,100,17,101],[24,95,24,98],[25,91,25,94],[29,91,29,94],[28,60,28,64],[24,68,24,72],[26,73,26,76],[25,86,25,90],[29,73,29,76],[27,29,27,30],[20,99,20,102],[22,7,22,8],[20,11,20,13],[22,29,22,31],[20,16,20,18],[20,21,20,23],[20,25,20,28],[26,25,26,26],[24,29,24,30],[25,25,25,26],[25,27,25,28],[25,31,26,32],[21,25,21,28],[21,32,21,34],[20,32,20,34],[20,86,20,90],[23,49,23,51],[25,53,25,56],[28,49,28,51],[27,53,27,56],[29,49,29,51],[21,99,21,102],[29,20,29,21],[23,11,23,13],[26,27,26,28],[29,18,29,19],[39,67,39,73],[34,49,34,51],[34,40,34,46],[36,40,36,46],[36,29,36,30],[36,75,36,77],[40,13,40,15],[37,75,37,77],[40,16,40,18],[39,49,39,51],[40,29,40,30],[38,67,38,73],[24,49,24,51],[30,77,30,80],[26,77,26,80],[30,68,30,72],[25,73,25,76],[25,77,25,80],[27,68,27,72],[27,73,27,76],[28,68,28,72],[28,73,28,76],[40,32,40,35],[39,60,39,64],[39,53,39,56],[24,0,25,24],[30,14,30,16],[40,7,40,9],[40,10,40,12],[41,16,41,18],[41,19,41,21],[42,16,42,18],[24,99,24,102],[25,95,25,98],[24,60,24,64],[24,73,24,76],[24,77,24,80],[25,33,26,34],[26,81,26,84],[25,35,26,36],[24,40,24,46],[26,49,26,51],[27,49,27,51],[33,53,33,56],[34,18,34,19],[34,60,34,64],[31,14,31,16],[31,20,31,21],[30,81,30,84],[29,81,29,84],[29,86,29,90],[30,86,30,90],[27,81,27,84],[24,86,24,90],[25,81,25,84],[26,68,26,72],[30,73,30,76],[27,77,27,80],[27,86,27,90],[24,81,24,84],[29,77,29,80],[40,4,40,6],[40,19,40,21],[35,40,35,46],[34,20,34,21],[34,14,34,16],[34,22,34,24],[37,40,37,46],[36,36,36,37],[30,40,30,46],[38,60,38,64],[36,49,36,51],[36,53,36,56],[37,53,37,56],[37,60,37,64],[38,53,38,56],[34,5,34,7],[34,8,34,10],[31,11,31,13],[30,5,30,7],[30,8,30,10],[36,60,36,64],[32,60,32,64],[32,5,32,7],[31,8,31,10],[31,60,31,64],[35,60,35,64],[33,60,33,64],[31,5,31,7],[40,53,40,56],[40,40,40,46],[40,49,40,51],[35,49,35,51],[41,60,41,64],[41,40,41,46],[42,22,42,24],[40,36,40,37],[40,75,41,77],[43,67,44,82],[43,60,43,64],[39,79,39,82],[40,79,41,82],[42,79,42,82],[40,67,41,73],[42,67,42,73],[40,60,40,64],[42,53,42,56],[42,40,42,46],[41,36,41,37],[41,32,41,35],[44,19,44,24],[43,49,43,51],[43,40,43,46],[42,36,42,37],[42,19,42,21],[41,22,41,24],[42,32,42,35],[41,53,41,56],[56,0,56,6],[56,10,56,12],[57,7,57,9],[64,22,64,24],[63,22,63,24],[63,7,63,9],[51,25,51,28],[53,33,53,34],[60,22,60,24],[57,25,57,29],[57,31,57,33],[46,32,46,35],[53,25,53,27],[50,25,50,28],[48,22,48,24],[46,25,46,28],[55,13,55,15],[55,31,55,34],[61,19,61,21],[58,13,58,15],[61,7,61,9],[57,16,57,18],[55,19,55,21],[55,22,55,24],[48,10,48,12],[47,10,47,12],[55,16,55,18],[62,22,62,24],[56,13,56,15],[56,7,56,9],[58,0,58,6],[45,36,45,37],[42,49,42,51],[41,4,41,6],[41,7,41,9],[41,10,41,12],[46,29,46,30],[47,16,47,18],[44,25,44,28],[42,4,42,6],[42,7,42,9],[55,0,55,6],[47,7,47,9],[55,10,55,12],[48,0,48,1],[48,7,48,9],[55,7,55,9],[44,0,45,1],[42,10,42,12],[44,32,44,35],[42,13,42,15],[44,29,44,30],[41,13,41,15],[47,22,47,24],[45,32,45,35],[46,0,46,1],[54,25,54,32],[51,33,51,35],[47,19,47,21],[47,0,47,1],[41,29,41,30],[45,25,45,28],[45,29,45,30],[46,36,46,37],[55,39,55,42],[54,47,54,50],[55,47,55,49],[55,43,55,45],[54,43,54,46],[45,84,45,89],[50,87,50,90],[42,75,42,77],[43,53,43,56],[52,80,52,82],[50,50,50,53],[48,80,48,82],[45,57,45,61],[42,60,42,64],[49,77,49,79],[49,68,49,75],[48,56,48,59],[50,68,50,75],[50,59,50,61],[50,77,50,79],[52,77,52,79],[53,80,53,82],[52,68,52,75],[51,80,51,82],[51,77,51,79],[49,87,49,90],[49,62,49,66],[50,55,50,57],[50,47,50,49],[49,39,49,45],[44,36,44,37],[50,63,50,66],[48,13,48,15],[48,16,48,18],[48,19,48,21],[50,0,51,24],[48,68,48,75],[49,54,49,57],[54,91,54,94],[58,61,58,63],[51,36,51,38],[53,36,53,37],[50,29,50,32],[50,33,50,38],[52,87,52,90],[51,91,51,94],[53,68,53,75],[56,83,56,86],[56,68,56,75],[55,68,55,75],[54,80,54,82],[55,80,55,82],[53,83,53,86],[56,77,56,79],[56,80,56,82],[54,77,54,79],[50,80,50,82],[51,83,51,86],[53,77,53,79],[50,83,50,86],[52,83,52,86],[51,29,51,32],[55,25,55,30],[58,52,58,54],[58,44,58,46],[57,13,57,15],[60,10,60,12],[57,35,57,37],[58,55,58,57],[58,48,58,50],[57,55,57,57],[57,19,57,21],[60,39,60,42],[59,19,59,21],[59,16,59,18],[59,22,59,24],[60,13,60,15],[56,19,56,21],[56,48,56,53],[47,13,47,15],[48,50,48,53],[49,50,49,53],[60,0,60,6],[62,16,62,18],[57,51,57,54],[57,43,57,46],[57,47,57,50],[58,10,58,12],[59,13,59,15],[59,7,59,9],[62,7,62,9],[58,7,58,9],[60,7,60,9],[62,10,62,12],[61,0,61,6],[61,22,61,24],[61,16,61,18],[58,39,58,42],[60,19,60,21],[62,0,62,6],[57,0,57,6],[60,16,60,18],[58,16,58,18],[59,0,59,6],[61,39,61,42],[60,48,60,52],[60,53,60,56],[61,43,61,47],[61,48,61,52],[61,53,61,56],[57,39,57,42],[57,10,57,12],[58,22,58,24],[57,22,57,24],[68,0,68,6],[65,7,65,9],[66,7,66,9],[67,0,67,6],[66,0,66,6],[65,0,65,6],[67,7,67,9],[66,10,66,12],[68,35,68,37],[68,19,68,21],[63,19,63,21],[65,19,65,21],[64,0,64,6],[64,10,64,12],[64,7,64,9],[63,0,63,6],[68,25,68,28],[68,10,68,12],[68,22,68,24],[68,16,68,18],[67,16,67,18],[67,13,67,15],[66,13,66,15],[64,19,64,21],[63,13,63,15],[65,10,65,12],[65,22,65,24],[68,7,68,9],[67,10,67,12],[67,48,67,52],[67,53,67,56],[68,48,68,52],[61,13,61,15],[62,19,62,21],[59,10,59,12],[61,10,61,12],[68,13,68,15],[67,19,67,21],[68,82,68,84],[62,87,62,89],[63,16,63,18],[64,13,64,15],[64,16,64,18],[63,10,63,12],[59,43,59,56],[60,43,60,47],[67,43,67,47],[61,36,61,37],[68,79,68,81],[54,51,54,54],[68,43,68,47],[70,43,70,47],[61,59,61,62],[64,68,64,71],[62,29,62,30],[65,57,65,63],[61,68,61,71],[70,48,70,52],[67,67,70,71],[69,29,69,30],[71,83,72,102],[54,59,54,66],[70,79,70,81],[70,100,70,102],[70,94,70,96],[62,75,62,77],[66,76,66,90],[65,88,65,91],[68,88,68,90],[65,78,65,81],[68,85,68,87],[65,73,65,76],[62,68,62,71],[56,39,56,42],[57,58,57,60],[58,58,58,60],[55,35,55,38],[67,39,67,42],[59,59,59,62],[60,59,60,62],[70,77,70,78],[77,57,77,61],[71,62,71,66],[68,62,68,66],[69,39,69,66],[68,39,68,42],[77,39,77,42],[76,69,76,72],[67,88,67,90],[68,94,68,96],[67,82,67,84],[68,76,68,78],[67,79,67,81],[67,57,67,61],[65,68,65,71],[68,72,68,75],[55,83,55,86],[55,87,55,90],[73,62,73,66],[61,63,61,66],[60,85,60,90],[70,62,70,66],[73,77,73,83],[70,72,70,75],[74,68,74,74],[74,77,74,83],[70,85,70,87],[60,63,60,66],[72,62,72,66],[76,43,76,47],[72,43,72,47],[65,83,65,86],[67,62,67,66],[23,86,23,90],[14,67,15,81],[14,82,15,95],[16,74,16,95],[20,95,20,98],[30,91,30,94],[47,83,47,86],[47,87,47,90],[26,95,26,98],[39,97,39,100],[36,97,36,100],[27,99,27,102],[29,99,29,102],[41,97,41,100],[40,93,40,95],[37,93,37,95],[26,99,26,102],[28,99,28,102],[29,95,29,98],[30,99,30,102],[46,99,46,102],[35,98,35,101],[36,93,36,95],[37,97,37,100],[28,95,28,98],[26,91,26,94],[30,95,30,98],[32,73,32,76],[32,77,32,80],[47,95,47,98],[47,99,47,102],[31,77,31,80],[26,86,26,90],[28,86,28,90],[27,91,27,94],[27,95,27,98],[28,91,28,94],[36,79,36,82],[38,75,38,77],[48,95,48,98],[48,83,48,86],[45,77,45,82],[47,68,47,75],[47,77,47,79],[47,80,47,82],[48,77,48,79],[38,97,38,100],[39,93,39,95],[38,79,38,82],[32,68,32,72],[35,68,35,72],[35,75,35,77],[31,91,31,94],[35,80,35,83],[47,91,47,94],[39,75,39,77],[37,67,37,73],[36,67,36,73],[40,97,40,100],[46,95,46,98],[31,81,31,84],[33,67,34,80],[28,81,28,84],[33,83,34,96],[21,86,21,90],[55,51,55,53],[57,64,57,66],[77,48,77,52],[52,95,52,98],[53,99,53,102],[51,87,51,90],[48,87,48,90],[49,58,49,61],[49,99,49,102],[46,69,46,74],[32,81,32,84],[42,97,42,100],[49,95,49,98],[49,83,49,86],[48,99,48,102],[41,93,41,95],[42,93,42,95],[48,91,48,94],[49,91,49,94],[50,99,50,102],[51,99,51,102],[51,95,51,98],[50,95,50,98],[53,95,53,98],[52,99,52,102],[50,91,50,94],[52,91,52,94],[45,92,45,101],[40,85,40,91],[42,85,42,91],[63,89,63,91],[78,67,78,71],[78,62,78,66],[63,74,63,76],[55,63,55,65],[55,59,55,62],[54,55,54,58],[78,95,78,98],[78,53,78,56],[78,87,78,90],[78,91,78,94],[56,95,56,98],[56,87,56,90],[63,94,63,96],[57,67,58,102],[60,91,60,96],[78,72,78,76],[73,95,73,101],[61,80,61,83],[56,91,56,94],[70,97,70,99],[67,97,67,102],[70,91,70,93],[54,68,54,75],[55,77,55,79],[55,55,55,57],[76,96,76,99],[73,86,73,92],[74,87,74,91],[70,53,70,56],[55,99,55,102],[57,61,57,63],[76,57,76,61],[31,95,31,98],[37,79,37,82],[70,88,70,90],[60,97,60,102],[62,99,62,101],[56,99,56,102],[62,93,62,95],[63,99,63,101],[55,91,55,94],[55,95,55,98],[68,100,68,102],[31,99,31,102],[41,85,41,91],[32,99,32,102],[39,85,39,91],[35,86,35,90],[35,93,35,95],[38,93,38,95],[37,85,37,91],[38,85,38,91],[36,85,36,91],[54,99,54,102],[54,83,54,86],[43,83,44,102],[49,80,49,82],[65,98,65,101],[53,91,53,94],[54,87,54,90],[53,87,53,90],[54,95,54,98],[70,83,70,84],[68,91,68,93],[51,68,51,75],[81,53,81,56],[71,67,72,82],[70,57,70,61],[65,43,65,49],[81,67,82,102],[80,96,80,98],[65,53,65,56],[58,64,58,66],[71,53,71,56],[62,81,62,83],[63,84,63,86],[84,48,84,52],[77,91,77,94],[76,87,76,90],[65,93,65,96],[66,39,66,66],[80,43,80,47],[70,39,70,42],[82,43,82,47],[78,99,78,102],[77,87,77,90],[76,78,76,81],[71,57,71,61],[74,43,74,47],[72,39,72,42],[80,62,80,66],[78,82,78,86],[80,73,80,75],[80,78,80,80],[78,57,78,61],[77,77,77,81],[81,62,81,66],[89,72,92,102],[80,53,80,56],[91,49,91,51],[90,61,90,63],[90,64,90,66],[89,61,89,63],[84,53,84,56],[79,48,79,52],[75,53,75,56],[75,62,75,66],[74,62,74,66],[80,100,80,102],[82,62,82,66],[80,68,80,70],[90,50,90,51],[90,52,90,54],[88,50,88,53],[77,62,77,66],[77,82,77,86],[78,77,78,81],[76,62,76,66],[83,53,83,56],[77,53,77,56],[80,92,80,94],[79,97,79,98],[74,96,74,100],[79,101,79,102],[83,72,86,102],[80,88,80,90],[80,82,80,86],[82,48,82,52],[79,39,79,42],[70,32,70,33],[71,39,71,42],[81,57,81,61],[74,57,74,61],[75,57,75,61],[72,53,72,56],[82,57,82,61],[75,43,75,47],[73,43,73,47],[77,43,77,47],[73,53,73,56],[72,57,72,61],[73,57,73,61],[76,53,76,56],[74,53,74,56],[81,39,81,42],[75,48,75,52],[72,48,72,52],[74,48,74,52],[71,48,71,52],[78,48,78,52],[79,53,79,56],[81,43,81,47],[73,39,73,42],[80,39,80,42],[80,48,80,52],[75,39,75,42],[80,57,80,61],[82,53,82,56],[81,32,81,34],[74,39,74,42],[70,16,70,18],[73,22,73,24],[70,13,70,15],[71,13,71,15],[54,39,54,42],[69,13,69,15],[66,16,66,18],[65,16,65,18],[65,13,65,15],[67,22,67,24],[72,7,72,9],[65,39,65,42],[66,19,66,21],[66,22,66,24],[66,32,66,34],[72,16,72,18],[69,25,69,28],[73,35,73,37],[71,35,71,37],[69,22,69,24],[70,19,70,21],[72,10,72,12],[69,10,69,12]],"merged_total":1105,"flags":["merged_cut"]}
[{"$f":"+データ一覧!M2","v":0}]
[{"$f":"+データ一覧!M5","v":0}]
[null,null,null,null,null,null,null,null,null,null,null,null,null,null,null,null,null,null,null,null,null,null,null,null,null,null,null,null,null,null,null,null,null,null,null,null,null,null,null,0]
[null,null,null,null,null,null,null,null,null,null,null,null,null,null,null,null,null,null,null,null,null,null,null,null,null,null,null,"【市章とそのいわれ】あわら市の頭文字である、アルファベット",null,null,null,null,null,null,null,null,null,null,null," 【位置および地勢】あわら市は、福井県の最北端に位置し、西および南は",null,null,null,null,null,null,null,null,null,null,null,null,null,null,null,null,null,null,null,null,null,null,null,null,null,null,null,null,null,null,"所在地",null,null,null,null,null,null,null,"〒919-0692"]
[null,null,null,null,null,null,null,null,null,null,null,null,null,null,null,null,null,null,null,null,null,null,null,null,null,null,null," 　　　　　　　  小文字の「a」をモチーフにデザイン化した。",null,null,null,null,null,null,null,null,null,null,null,null,"坂井市、北東は石川県加賀市に隣接し、北西は日本海に面している。",null,null,null,null,null,null,null,null,null,null,null,null,null,null,null,null,null,null,null,null,null,null,null,null,null,null,null,null,null,null,null,null,null,null,null,null,null,"あわら市市姫三丁目１番１号"]
[{"$f":"+データ一覧!M3","v":"あわらし"},null,null,null,null,null,null,null,null,null,null,null,null,null,null,null,null,null,null,null,null,null,null,null,null,null,null," 　　　　　　　　緑の山並みをバックに、自然に囲まれ、黄色く",null,null,null,null,null,null,null,null,null,null,null,null,"面積は、116.98ｋ㎡で、地形は北部の丘陵地、南西部の平坦地、東部の"]
[{"$f":"データ一覧!M6","v":"あわら市"},null,null,null,null,null,null,null,null,null,null,null,null,null,null,null,null,null,null,null,null,null,null,null,null,null,null," 　　　　　　　  輝くあわら市を表現している。 ",null,null,null,null,null,null,null,null,null,null,null,null,"山岳地帯と大きく３つに分かれており、南北に北潟湖が横たわり、東西には",null,null,null,null,null,null,null,null,null,null,null,null,null,null,null,null,null,null,null,null,null,null,null,null,null,null,null,null,null,"電話番号",null,null,null,null,null,null,null,"（０７７６）７３－１２２１"]
[null,null,null,null,null,null,null,null,null,null,null,null,null,null,null,null,null,null,null,null,null,null,null,null,null,null,null,null,null,null,null,null,null,null,null,null,null,null,null,null,"竹田川が流れている。美しい日本海と静かな湖や川、優れた泉質の温泉、",null,null,null,null,null,null,null,null,null,null,null,null,null,null,null,null,null,null,null,null,null,null,null,null,null,null,null,null,null,"FAX番号",null,null,null,null,null,null,null,"     〃     ７３－１３５０"]
[null,null,null,null,null,null,null,null,null,null,null,null,null,null,null,null,null,null,null,null,null,null,null,null,null,null,null,null,null,null,null,null,null,null,null,null,null,null,null,null,"太陽をいっぱいあびた農作物など、自然の恵みにあふれたところである。"]
[null,null,null,null,null,null,null,null,null,null,null,null,null,null,null,null,null,null,null,null,null,null,null,null,null,null,null,0,null,null,null,null,null,null,null,null,null,null,null,null,"気候は、北陸地方の中でも比較的温暖で、気象環境は過ごしやすいものと",null,null,null,null,null,null,null,null,null,null,null,null,null,null,null,null,null,null,null,null,null,null,null,null,null,null,null,null,null,"最寄駅および距離",null,null,null,null,null,null,null,"ＪＲ北陸本線芦原温泉駅　下車８００ｍ"]
[null,null,null,null,null,null,null,null,null,null,null,null,null,null,null,null,null,null,null,null,null,null,null,null,null,null,null,0,null,null,null,null,null,null,null,null,null,null,null,null,"なっている。"]
[]
[null,null,null,null,null,null,null,null,null,null,null,null,null,null,null,null,null,null,null,null,null,null,null,null,null,null,null,"【市が掲げる標語】暮らしやすくて　幸せを実感できるまち",null,null,null,null,null,null,null,null,null,null,null,null,null,null,null,null,null,null,null,null,null,null,null,null,null,null,null,null,null,null,null,null,null,null,null,null,null,null,null,null,null,null,"ホームページ",null,null,null,null,null,null,null,"http://www.city.awara.lg.jp/"]
[]
["  １  土            　　地",null,null,null,null,null,null,null,null,null,null,null,null,null,null,null,null,null,null,null,null,null,null,null,null,{"$f":"データ一覧!$A$240","v":"2年"},"産米収穫量",null,null,"　 収　穫　量",null,null," 　作 付 面 積",null,null,"   10a当たり収量",null,null,null,null,null,null,null,null,null,null,null,null,null,null,null,null,null,null,null,null,null,null,null,null,null,null,null,null,null,null,null," １５  労　　　　　　　働",null,null,null,null,null,null,null,null,null,null,null,null,null,null,"27.10.1"]
[null,null,null,null,null,null,null,null,null,null,null,null,null,null,null,null,null,null,null,null,null,null,null,null,null,null,null,null,null,{"$f":"データ一覧!$M$240","v":9650},null,"t",{"$f":"データ一覧!$M$241","v":1810},null,"ha",{"$f":"データ一覧!M242","v":532},null,null,"kg"," １０  工　　　　　　業 ",null,null,null,null,null,null,null,null,null,null,null,null,null,{"$f":"データ一覧!$A$332","v":"2.6.1（令和元年実績）"}]
["   総          面           積",null,null,null,null,null,null,null,null,null," 固 定 資 産 概 要 調 書 に よ る 地 目 別 面 積",null,null,null,null,null,null,null,null,null,null,null,null,null,null,null,null,null,"   総　　　数",null,null,null,"うち　　田",null,null,null,"うち　　畑",null,null,null,null,null,null,null,null,null,null,null,null,null,null,null,null,null,null,null,null,null,null,null,null,null,null,null,null,null,null,null,null,null,null,null,null,null,"産業別就業者数   "]
[null,null,{"$f":"データ一覧!$A$7","v":"3.10.1"},null,null,null,null,null,null,null,null,null,null,null,null,null,{"$f":"データ一覧!$A$9","v":"3.1.1"},null,null,null,null,null,null,null,null," 耕  地  面  積",null,null,null,"       ha",null,null,"ha ",null,null,null,"ha ",null,null,"      ","産業分類",null,null,null,null,null,null,null,"事業所数",null,null,null,null,"従業者数",null,null,null,null,null,"年間製造品出荷額等",null,null,null,null,null,null,null,null,"区  分",null,null,null,null,"総    数",null,null,null,null,"男",null,null,null,"女",null,null,"  ","区  分",null,null,null,null,"総    数",null,null,null,null,"男",null,null,null,"女"]
[null,null,null,null,null,null,"㎢",null,null,null,"   総       数",null,null,null,null,"  う ち     田",null,null,null,null,"  う ち     畑",null,null,null,null,{"$f":"データ一覧!A243","v":"2.7.15"},null,null,{"$f":"データ一覧!$M$243","v":3420},null,null,{"$f":"データ一覧!$M$244","v":2600},null,null,null,{"$f":"データ一覧!$M$245","v":819},null,null,null,null,null,null,null,null,null,null,null,null,"　　   ",null,null,"事業所",null,"　　　　　　　 人",null,null,"人",null,"　　　　　　　　　　　　　　万円",null,null,null,null,null,null,"万円",null,null,null,null,null,null,null,"      人",null,null,null,null,null," 人",null,null,null," 人",null,null,null,null,null,null,null,"      人",null,null,null,"      人",null,null,null,"      人"]
[null,null,null,{"$f":"データ一覧!M7","v":116.98},null,null,null,null,null,null,null,null,null,null,"ha",null,null,null,null,"ha",null,null,null,null,"ha","農 業 生 産 物",null,null,null,"作 付 面 積",null,null,"収 穫 量",null,null,"10a当たり収量",null,null,null,"     ","総数",null,null,null,null,null,null,null,null,{"$f":"データ一覧!M332","v":76},null,null,null,{"$f":"+データ一覧!M357","v":4330},null,null,null,null,null,null,{"$f":"データ一覧!M382","v":18566740},null,null,null,null,null,null," 総　　　数",null,null,null,null,null,{"$f":"BZ20+CD20","v":15132},null,null,null,{"$f":"データ一覧!M507","v":8033},null,null,null,{"$f":"データ一覧!M532","v":7099}]
[null,null,null,null,null,null,null,null,null,null,null,{"$f":"データ一覧!M9","v":8974.2000000000007},null,null,null,null,{"$f":"データ一覧!M10","v":2676.3},null,null,null,null,{"$f":"データ一覧!M11","v":892.9},null,null,null,{"$f":"データ一覧!$A$246","v":"2年中"},null,null,null,"ha",null,null,"t",null,null,"kg",null,null,null,"     食料品","食料品",null,null,null,null,null,null,null,null,{"$f":"データ一覧!M333","v":1},null,null,null,{"$f":"+データ一覧!M358","v":34},null,null,null,null,null,null,{"$f":"データ一覧!M383","v":"x"},null,null,null,null,null,null,null,null,null,null,null,null,null,null,null,null,null,null,null,null,null,null,null,null,null,"卸売業,小売業",null,null,null,null,{"$f":"CR21+CV21","v":2070},null,null,null,{"$f":"データ一覧!M520","v":912},null,null,null,{"$f":"データ一覧!M545","v":1158}]
["  町 ･ 丁 ･ 大 字",null,null,null,null,null,null,null,null,null,"  う ち  宅 地",null,null,null,null,"  う ち  山 林",null,null,null,null,"  う ち  原 野",null,null,null,null,"水　　　　　稲",null,null,null,{"$f":"データ一覧!M246","v":1810},null,null,{"$f":"データ一覧!M247","v":9650},null,null,{"$f":"データ一覧!M248","v":532},null,null,null,"     飲料・飼料","飲料・飼料",null,null,null,null,null,null,null,null,{"$f":"データ一覧!M334","v":0},null,null,null,{"$f":"+データ一覧!M359","v":0},null,null,null,null,null,null,{"$f":"データ一覧!M384","v":0},null,null,null,null,null,null," 第１次産業",null,null,null,null,null,{"$f":"BZ22+CD22","v":923},null,null,null,{"$f":"データ一覧!M508","v":610},null,null,null,{"$f":"データ一覧!M533","v":313},null,null,null,null,"金融業,保険業",null,null,null,null,{"$f":"CR22+CV22","v":314},null,null,null,{"$f":"データ一覧!M521","v":130},null,null,null,{"$f":"データ一覧!M546","v":184}]
["  区    画    数",null,null,null,null,null,null,{"$f":"データ一覧!M8","v":125},null,null,null,null,null,null,"ha",null,null,null,null,"ha",null,null,null,null,"ha","六　条　大　麦",null,null,null,{"$f":"データ一覧!M249","v":548},null,null,{"$f":"データ一覧!M250","v":1800},null,null,{"$f":"データ一覧!M251","v":328},null,null,null,"     繊維","繊維",null,null,null,null,null,null,null,null,{"$f":"データ一覧!M335","v":21},null,null,null,{"$f":"+データ一覧!M360","v":479},null,null,null,null,null,null,{"$f":"データ一覧!M385","v":562721},null,null,null,null,null,null,"  ","農業",null,null,null,null,{"$f":"BZ23+CD23","v":893},null,null,null,{"$f":"データ一覧!M509","v":583},null,null,null,{"$f":"データ一覧!M534","v":310},null,null,null,"  ","不動産業",null,null,null,null,90,null,null,null,{"$f":"データ一覧!M522","v":55},null,null,null,{"$f":"データ一覧!M547","v":35}]
[{"$f":"データ一覧!$A$8","v":"2.4.1"},null,null,null,null,null,null,null,null,null,null,{"$f":"データ一覧!M12","v":873.2},null,null,null,null,{"$f":"データ一覧!M13","v":2168.9},null,null,null,null,{"$f":"データ一覧!M14","v":94.9},null,null,null,"大　　      豆",null,null,null,{"$f":"データ一覧!M252","v":331},null,null,{"$f":"データ一覧!M253","v":358},null,null,{"$f":"データ一覧!M254","v":108},null,null,null,"     衣服","木材",null,null,null,null,null,null,null,null,{"$f":"データ一覧!M336","v":0},null,null,null,{"$f":"+データ一覧!M361","v":0},null,null,null,null,null,null,{"$f":"データ一覧!M386","v":0},null,null,null,null,null,null,"  ","林業",null,null,null,null,24,null,null,null,{"$f":"データ一覧!M510","v":21},null,null,null,{"$f":"データ一覧!M535","v":3},null,null,null,"  ","学術研究",null,null,null,null,322,null,null,null,{"$f":"データ一覧!M523","v":209},null,null,null,{"$f":"データ一覧!M548","v":113}]
["  ２  世　帯　数　と　人　口",null,null,null,null,null,null,null,null,null,null,null,null,null,null,null,null,null,null,null,null,null,null,null,null,null,null,"  区　分",null," 乳 用 牛",null," 肉 用 牛",null,"豚",null,"採卵鶏",null,"ブロイラー",null,"     木材","家具",null,null,null,null,null,null,null,null,{"$f":"データ一覧!M337","v":2},null,null,null,{"$f":"+データ一覧!M362","v":34},null,null,null,null,null,null,{"$f":"データ一覧!M387","v":"x"},null,null,null,null,null,null,"  ","漁業",null,null,null,null,6,null,null,null,{"$f":"データ一覧!M511","v":6},null,null,null,{"$f":"データ一覧!M536","v":0},null,null,null,"  ","宿泊業,飲食ｻｰﾋﾞｽ",null,null,null,null,1238,null,null,null,{"$f":"データ一覧!M524","v":447},null,null,null,{"$f":"データ一覧!M549","v":791}]
[null,null,null,null,null,null,null,null,null,null,null,null,null,null,null,null,null,null,null,null,null,null,null,null,null,"畜　産",null," 飼養農家",null,{"$f":"データ一覧!$M$255","v":2},null,{"$f":"データ一覧!$M$257","v":0},null,{"$f":"データ一覧!$M$259","v":"-"},null,{"$f":"データ一覧!$M$261","v":2},null,{"$f":"データ一覧!$M$263","v":0},null,"     家具","パルプ・紙",null,null,null,null,null,null,null,null,{"$f":"データ一覧!M338","v":3},null,null,null,{"$f":"+データ一覧!M363","v":188},null,null,null,null,null,null,{"$f":"データ一覧!M388","v":2382227},null,null,null,null,null,null," 第２次産業",null,null,null,null,null,4711,null,null,null,{"$f":"データ一覧!M512","v":3153},null,null,null,{"$f":"データ一覧!M537","v":1558},null,null,null,"  ","生活関連ｻｰﾋﾞｽ業",null,null,null,null,593,null,null,null,{"$f":"データ一覧!M525","v":212},null,null,null,{"$f":"データ一覧!M550","v":381}]
[null,null,null,null,null,null,null,null,"        人　　　　　　　　　　口",null,null,null,null,null,null,null,null,null,null,null,"１世帯当",null,"人    口",null,null,{"$f":"データ一覧!$A$255","v":"3.3.31"},null,"（戸）",null,null,null,null,null,null,null,null,null,null,null,"     パルプ・紙","印刷",null,null,null,null,null,null,null,null,{"$f":"データ一覧!M339","v":2},null,null,null,{"$f":"+データ一覧!M364","v":13},null,null,null,null,null,null,{"$f":"データ一覧!M389","v":"x"},null,null,null,null,null,null,null,"鉱業，採石業",null,null,null,null,1,null,null,null,{"$f":"データ一覧!M513","v":1},null,null,null,{"$f":"データ一覧!M538","v":0},null,null,null,"  ","教育,学習支援業",null,null,null,null,685,null,null,null,{"$f":"データ一覧!M526","v":268},null,null,null,{"$f":"データ一覧!M551","v":417}]
[" 区　　　　分",null,null,null,null,"世帯数",null,null," 総   数",null,null,"    男",null,null,"    女",null,null,"  男／女",null,null,"たり人員",null,"密    度",null,null,null,null," 頭 羽",null,{"$f":"データ一覧!$M$256","v":138},null,{"$f":"データ一覧!$M$258","v":0},null,{"$f":"データ一覧!$M$260","v":0},null,{"$f":"データ一覧!$M$262","v":200350},null,{"$f":"データ一覧!$M$264","v":0},null,"     出版・印刷","化学",null,null,null,null,null,null,null,null,{"$f":"データ一覧!M340","v":2},null,null,null,{"$f":"+データ一覧!M365","v":903},null,null,null,null,null,null,{"$f":"データ一覧!M390","v":"x"},null,null,null,null,null,null,"  ","建設業",null,null,null,null,1032,null,null,null,{"$f":"データ一覧!M514","v":863},null,null,null,{"$f":"データ一覧!M539","v":169},null,null,null,null,"医療，福祉",null,null,null,null,1697,null,null,null,{"$f":"データ一覧!M527","v":365},null,null,null,{"$f":"データ一覧!M552","v":1332}]
[null,null,null,null,null,"    世 帯",null,null,"       人",null,null,"       人",null,null,"       人",null,null,null,"　　％",null,"    人",null,"    人/㎢",null,null,null,null,null,null,null,null,null,null,null,null,null,null,null,null,"     化学","石油・石炭",null,null,null,null,null,null,null,null,{"$f":"データ一覧!M341","v":0},null,null,null,{"$f":"+データ一覧!M366","v":0},null,null,null,null,null,null,{"$f":"データ一覧!M391","v":0},null,null,null,null,null,null,null,"製造業",null,null,null,null,3678,null,null,null,{"$f":"データ一覧!M515","v":2289},null,null,null,{"$f":"データ一覧!M540","v":1389},null,null,null,null,"複合サービス事業",null,null,null,null,232,null,null,null,{"$f":"データ一覧!M528","v":146},null,null,null,{"$f":"データ一覧!M553","v":86}]
[{"$f":"データ一覧!$A$22","v":" 2.10.1"},null,null,null,null,{"$f":"データ一覧!M22","v":8708},null,null,{"$f":"+L30+O30","v":31743},null,null,{"$f":"データ一覧!M24","v":14885},null,null,{"$f":"データ一覧!M25","v":16858},null,null,null,{"$f":"+L30/O30*100","v":88.296357812314625},null,{"$f":"データ一覧!M27","v":3.65},null,{"$f":"データ一覧!M21","v":0},null,null,"  ５  林               業",null,null,null,null,null,null,null,null,null,null,null,null,null,"     石油・石炭","プラスチック",null,null,null,null,null,null,null,null,{"$f":"データ一覧!M342","v":5},null,null,null,{"$f":"+データ一覧!M367","v":102},null,null,null,null,null,null,{"$f":"データ一覧!M392","v":98239},null,null,null,null,null,null," 第３次産業",null,null,null,null,null,9345,null,null,null,{"$f":"データ一覧!M516","v":4190},null,null,null,{"$f":"データ一覧!M541","v":5155},null,null,null,null,"サービス業",null,null,null,null,699,null,null,null,{"$f":"データ一覧!M529","v":418},null,null,null,{"$f":"データ一覧!M554","v":281}]
[{"$f":"データ一覧!$A$29","v":" 7.10.1"},null,null,null,null,{"$f":"データ一覧!M29","v":9327},null,null,{"$f":"+L31+O31","v":32432},null,null,{"$f":"データ一覧!M31","v":15174},null,null,{"$f":"データ一覧!M32","v":17258},null,null,null,87.924440839031178,null,{"$f":"データ一覧!M34","v":3.48},null,{"$f":"データ一覧!M28","v":0},null,null,null,null,null,null,null,null,null,null,null,null,null,null,null,null,"     プラスチック","ゴム",null,null,null,null,null,null,null,null,{"$f":"データ一覧!M343","v":0},null,null,null,{"$f":"+データ一覧!M368","v":0},null,null,null,null,null,null,{"$f":"データ一覧!M393","v":0},null,null,null,null,null,null,null,"電気･ｶﾞｽ･水道業",null,null,null,null,50,null,null,null,{"$f":"データ一覧!M517","v":40},null,null,null,{"$f":"データ一覧!M542","v":10},null,null,null,null,"公務",null,null,null,null,493,null,null,null,{"$f":"データ一覧!M530","v":346},null,null,null,{"$f":"データ一覧!M555","v":147}]
[{"$f":"データ一覧!$A$36","v":"12.10.1"},null,null,null,null,{"$f":"データ一覧!M36","v":9562},null,null,{"$f":"+L32+O32","v":32178},null,null,{"$f":"データ一覧!M38","v":15072},null,null,{"$f":"データ一覧!M39","v":17106},null,null,null,88.109435285864606,null,{"$f":"データ一覧!M41","v":3.37},null,{"$f":"データ一覧!M35","v":0},null,null,"    　森　　　林　　　総　　　面　　　積   ",null,null,null,null,null,null,null,{"$f":"データ一覧!$A$265","v":"3.3.31"},null,null,null,null,null,"     ゴム","皮革",null,null,null,null,null,null,null,null,{"$f":"データ一覧!M344","v":0},null,null,null,{"$f":"+データ一覧!M369","v":0},null,null,null,null,null,null,{"$f":"データ一覧!M394","v":0},null,null,null,null,null,null,null,"情報通信業",null,null,null,null,208,null,null,null,{"$f":"データ一覧!M518","v":157},null,null,null,{"$f":"データ一覧!M543","v":51},null,null,null," 分類不能の産業",null,null,null,null,null,153,null,null,null,{"$f":"データ一覧!M531","v":80},null,null,null,{"$f":"データ一覧!M556","v":73}]
[{"$f":"+データ一覧!$A$43","v":"17.10.1"},null,null,null,null,{"$f":"データ一覧!M43","v":9658},null,null,{"$f":"+L33+O33","v":31081},null,null,{"$f":"データ一覧!M45","v":14498},null,null,{"$f":"データ一覧!M46","v":16583},null,null,null,87.426882952421153,null,{"$f":"データ一覧!M48","v":3.22},null,{"$f":"データ一覧!M49","v":265.7},null,null,"　　　森　　　　　　　林　　　　　　　の　　　　　　　構　　　　　　　成",null,null,null,null,null,null,null,null,null,null,null,null,null,"     皮革","窯業・土石",null,null,null,null,null,null,null,null,{"$f":"データ一覧!M345","v":6},null,null,null,{"$f":"+データ一覧!M370","v":109},null,null,null,null,null,null,{"$f":"データ一覧!M395","v":486162},null,null,null,null,null,null,"  ","運輸業,郵便業",null,null,null,null,{"$f":"BZ33+CD33","v":654},null,null,null,{"$f":"データ一覧!M519","v":485},null,null,null,{"$f":"データ一覧!M544","v":169}]
[{"$f":"+データ一覧!$A$50","v":"22.10.1"},null,null,null,null,{"$f":"+データ一覧!M50","v":9735},null,null,{"$f":"+L34+O34","v":29989},null,null,{"$f":"+データ一覧!M52","v":14081},null,null,{"$f":"+データ一覧!M53","v":15908},null,null,null,88.515212471712346,null,{"$f":"+データ一覧!M55","v":3.08},null,{"$f":"+データ一覧!M56","v":256.3},null,null,null,null,null,null,null,"       ha",null,null,null,null,null,null,"       ha",null,"     窯業・土石","鉄鋼",null,null,null,null,null,null,null,null,{"$f":"データ一覧!M346","v":0},null,null,null,{"$f":"+データ一覧!M371","v":0},null,null,null,null,null,null,{"$f":"データ一覧!M396","v":0},null,null,null,null,null,null," １６  社　 会 　福　 祉",null,null,null,null,null,null,null,null,null,null,null,null,null,null,null,{"$f":"データ一覧!$A$557","v":"3.4.1"}]
[{"$f":"データ一覧!$A$57","v":"27.10.1"},null,null,null,null,{"$f":"データ一覧!M57","v":9697},null,null,{"$f":"データ一覧!M58","v":28729},null,null,{"$f":"データ一覧!M59","v":13555},null,null,{"$f":"データ一覧!M60","v":15174},null,null,null,89.330433636483463,null,{"$f":"データ一覧!M62","v":2.9626688666597918},null,{"$f":"データ一覧!M63","v":245.6},null,null,"  総　　　　　   数",null,null,null,{"$f":"データ一覧!M265","v":4441.1299999999992},null,null," 天然林       針葉樹",null,null,null,{"$f":"データ一覧!M268","v":281.25},null,null,"     鉄鋼","非鉄金属",null,null,null,null,null,null,null,null,{"$f":"データ一覧!M347","v":1},null,null,null,{"$f":"+データ一覧!M372","v":13},null,null,null,null,null,null,{"$f":"データ一覧!M397","v":"x"}]
["令　2.10.1（国調）",null,null,null,null,{"$f":"データ一覧!M64","v":9933},null,null,{"$f":"データ一覧!M65","v":27524},null,null,{"$f":"データ一覧!M66","v":13067},null,null,{"$f":"データ一覧!M67","v":14457},null,null,null,{"$f":"+L36/O36*100","v":90.385280486961335},null,{"$f":"データ一覧!M72","v":2.73},null,{"$f":"データ一覧!M73","v":232.0225679603351},null,null,"  人工林     針葉樹",null,null,null,{"$f":"データ一覧!M266","v":3176.71},null,null," 天然林       広葉樹",null,null,null,{"$f":"データ一覧!M269","v":862.68999999999994},null,null,"     非鉄金属","金属",null,null,null,null,null,null,null,null,{"$f":"データ一覧!M348","v":7},null,null,null,{"$f":"+データ一覧!M373","v":388},null,null,null,null,null,null,{"$f":"データ一覧!M398","v":866771},null,null,null,null,null,null,"    ","区分",null,null,null,null,null,null,"施設数",null,null,null,null,"収容定員",null,null,null,null,null,"区分",null,null,null,null,null,null,"施設数",null,null,null,null,"収容定員"]
["年",null,"  区",null," 0歳",null,null,"15歳",null,null,"25歳",null,null,"35歳",null,null,"45歳",null,null,"55歳",null,null,"65歳",null,null,"  人工林     広葉樹",null,null,null,{"$f":"データ一覧!M267","v":25.93},null,null," 竹               林",null,null,null,{"$f":"データ一覧!M270","v":15.75},null,null,"     金属","はん用機械",null,null,null,null,null,null,null,null,{"$f":"データ一覧!M349","v":3},null,null,null,{"$f":"+データ一覧!M374","v":36},null,null,null,null,null,null,{"$f":"データ一覧!M399","v":52141},null,null,null,null,null,null,"生活保護施設",null,null,null,null,null,null,null,{"$f":"データ一覧!M557","v":0},null,null,null,{"$f":"データ一覧!M570","v":0},null,null,null,"人",null,"指定障害者支援施設",null,null,null,null,null,null,null,{"$f":"データ一覧!M563","v":1},null,null,null,{"$f":"データ一覧!M576","v":50},null,null,null,"人"]
["齢","令",null,null,null,"～",null,null,"～",null,null,"～",null,null,"～",null,null,"～",null,null,"～",null,null,null,null,null,null,null,null,null,null,null,null,null,null,null,null,null,null,"     一般機械","生産用機械",null,null,null,null,null,null,null,null,{"$f":"データ一覧!M350","v":11},null,null,null,{"$f":"+データ一覧!M375","v":664},null,null,null,null,null,null,{"$f":"データ一覧!M400","v":2953611},null,null,null,null,null,null,"地域福祉施設",null,null,null,null,null,null,null,{"$f":"データ一覧!M558","v":0},null,null,null,{"$f":"データ一覧!M571","v":0},null,null,null,null,null,"指定相談支援事業所",null,null,null,null,null,null,null,{"$f":"データ一覧!M564","v":3},null,null,null,{"$f":"データ一覧!M577","v":0}]
["階",{"$f":"+LEFT(データ一覧!$A$83,1)","v":"3"},"  分",null,null,null,"14歳",null,null,"24歳",null,null,"34歳",null,null,"44歳",null,null,"54歳",null,null,"64歳",null,null,"以上","    林     野     の     構     成",null,null,null,null,null,null,"保     有     形     態     別",null,null,null,null,null,null,"     電気機械","業務用機械",null,null,null,null,null,null,null,null,{"$f":"データ一覧!M351","v":0},null,null,null,{"$f":"+データ一覧!M376","v":0},null,null,null,null,null,null,{"$f":"データ一覧!M401","v":0},null,null,null,null,null,null,"老人福祉施設",null,null,null,null,null,null,null,{"$f":"データ一覧!M559","v":7},null,null,null,{"$f":"データ一覧!M572","v":658},null,null,null,null,null,"児童福祉施設",null,null,null,null,null,null,null,{"$f":"データ一覧!M565","v":18},null,null,null,{"$f":"データ一覧!M578","v":1035}]
["級","・",null,null,null,null,"人",null,null,"人",null,"    人",null,null,"    人",null,null,"    人",null,null,"    人",null,null,"    人",null,null,null,null,null,null,null,"ha",null,null,null,null,null,"       ha",null,null,"電子・デバイス",null,null,null,null,null,null,null,null,{"$f":"データ一覧!M352","v":7},null,null,null,{"$f":"+データ一覧!M377","v":1273},null,null,null,null,null,null,{"$f":"データ一覧!M402","v":4438852},null,null,null,null,null,null,"介護保険施設",null,null,null,null,null,null,null,{"$f":"データ一覧!M560","v":50},null,null,null,{"$f":"データ一覧!M573","v":1026},null,null,null,null,null,"母子福祉施設",null,null,null,null,null,null,null,{"$f":"データ一覧!M566","v":0},null,null,null,{"$f":"データ一覧!M579","v":0}]
["別",{"$f":"+MID(データ一覧!$A$83,3,2)","v":"10"},"総 数",null,{"$f":"+E42+E43","v":2911},null,null,{"$f":"+H42+H43","v":2074},null,null,{"$f":"+K42+K43","v":2362},null,null,{"$f":"+N42+N43","v":2862},null,null,{"$f":"+Q42+Q43","v":3565},null,null,{"$f":"+T42+T43","v":3707},null,null,{"$f":"+W42+W43","v":9343},null,null," 無立木地   伐採跡地",null,null,null,{"$f":"データ一覧!M271","v":7.61},null,null,"国   　　　 　 有",null,null,null,{"$f":"データ一覧!M273","v":44.33},null,null,null,"電気機械",null,null,null,null,null,null,null,null,{"$f":"データ一覧!M353","v":2},null,null,null,{"$f":"+データ一覧!M378","v":17},null,null,null,null,null,null,{"$f":"データ一覧!M403","v":"x"},null,null,null,null,null,null,"障害者自立支援法施行前からの身体障害者福祉施設",null,null,null,null,null,null,null,{"$f":"データ一覧!M561","v":0},null,null,null,{"$f":"データ一覧!M574","v":0},null,null,null,null,null,"婦人保護施設",null,null,null,null,null,null,null,{"$f":"データ一覧!M567","v":0},null,null,null,{"$f":"データ一覧!M580","v":0}]
["人","・","  男",null,{"$f":"データ一覧!M83","v":1454},null,null,{"$f":"データ一覧!M84","v":1055},null,null,{"$f":"データ一覧!M85","v":1230},null,null,{"$f":"データ一覧!M86","v":1480},null,null,{"$f":"データ一覧!M87","v":1767},null,null,{"$f":"データ一覧!M88","v":1786},null,null,{"$f":"データ一覧!M89","v":3974},null,null," 無立木地   未立木地",null,null,null,{"$f":"データ一覧!M272","v":71.19},null,null,"公       　　  有",null,null,null,{"$f":"データ一覧!M274","v":571.91},null,null,"     輸送機械","情報通信機械",null,null,null,null,null,null,null,null,{"$f":"データ一覧!M354","v":0},null,null,null,{"$f":"+データ一覧!M379","v":0},null,null,null,null,null,null,{"$f":"データ一覧!M404","v":0},null,null,null,null,null,null,null,null,null,null,null,null,null,null,null,null,null,null,null,null,null,null,null,null,"その他の社会福祉施設",null,null,null,null,null,null,null,{"$f":"データ一覧!M568+データ一覧!M569","v":0},null,null,null,{"$f":"データ一覧!M581+データ一覧!M582","v":0}]
["口",{"$f":"+RIGHT(データ一覧!$A$83,1)","v":"1"},"  女",null,{"$f":"データ一覧!M91","v":1457},null,null,{"$f":"データ一覧!M92","v":1019},null,null,{"$f":"データ一覧!M93","v":1132},null,null,{"$f":"データ一覧!M94","v":1382},null,null,{"$f":"データ一覧!M95","v":1798},null,null,{"$f":"データ一覧!M96","v":1921},null,null,{"$f":"データ一覧!M97","v":5369},null,null,null,null,null,null,null,null,null,"私          　 有",null,null,null,{"$f":"データ一覧!M275","v":3824.8900000000003},null,null,"     精密機械","輸送機械",null,null,null,null,null,null,null,null,{"$f":"データ一覧!M355","v":2},null,null,null,{"$f":"+データ一覧!M380","v":70},null,null,null,null,null,null,{"$f":"データ一覧!M405","v":"x"},null,null,null,null,null,null,"障害福祉サービス事業所",null,null,null,null,null,null,null,{"$f":"データ一覧!M562","v":37},null,null,null,{"$f":"データ一覧!M575","v":460}]
[null,null,null,null,null,null,null,null,null,null,null,null,null,null,null,null,null,null,null,null,null,null,null,null,null,"            林     産     物     生     産     量 ",null,null,null,null,null,null,null,null,null,{"$f":"データ一覧!$A$276","v":"2年中"},null,null,null,"     その他","その他",null,null,null,null,null,null,null,null,{"$f":"データ一覧!M356","v":1},null,null,null,{"$f":"+データ一覧!M381","v":7},null,null,null,null,null,null,{"$f":"データ一覧!M406","v":"x"},null,null,null,null,null,null," １７  教　　　　　　　育",null,null,null,null,null,null,null,null,null,null,null,null,null,null,null,{"$f":"データ一覧!$A$583","v":"3.5.1"}]
["人口動態",null,null,null,null,null,null,"   自　然　動　態",null,null,null,null,null,"   社  会  動  態",null,null,null,null,null,{"$f":"データ一覧!$A78","v":"2.1.1～3.12.31"},null,null,null,null,null,"生椎茸",null,null,null,{"$f":"データ一覧!M276","v":"-"},null,"㎏","乾椎茸",null,null,null,{"$f":"データ一覧!M277","v":"-"},null,"㎏"]
[null,null,"   区       分",null,null,null,null," 出   生",null,null," 死   亡",null,null," 転   入",null,null," 転   出",null,null," 婚   姻",null,null," 離   婚",null,null,"えのきだけ",null,null,null,{"$f":"データ一覧!M279","v":"-"},null,"㎏","なめこ",null,null,null,{"$f":"データ一覧!M278","v":"-"},null,"㎏","    ","工　業　用　水　量",null,null,null,null,null,"（従業者30人以上の事業所）",null,null,null,null,null,null,null,null,null,null,{"$f":"データ一覧!M407","v":15845},null,null,null,null,"㎥／日",null,null,null,null,null,null,null,null,null,null,null,null,null,null,"学校数（校）",null,null,null,null,null,null,"教員数（人）",null,null,null,null,null,null,null,"学生・生徒・児童数（人）"]
[{"$f":"LEFT(データ一覧!$A74,6)","v":"2.10.1"},null,null,null,null,null,null,"       人",null,null,"       人",null,null,"       人",null,null,"       人",null,null,null,"    件",null,null,"    件",null,"ひらたけ",null,null,null,{"$f":"+データ一覧!M280","v":"-"},null,"㎏","まいたけ",null,null,null,{"$f":"+データ一覧!M281","v":"-"},null,"㎏",null,null,null,null,null,null,null,null,null,null,null,null,null,null,null,null,null,null,null,null,null,null,null,null,null,null,null,null,null,"　","区分",null,null,null,null,null,null,null," 本 校",null,null," 分 校",null,null," 本   務",null,null,null," 兼   務",null,null,null," 総   数",null,null,null,"男",null,null,null,"女"]
["～",null," 実          数",null,null,null,null,{"$f":"データ一覧!M74","v":71},null,null,{"$f":"データ一覧!M75","v":201},null,null,{"$f":"データ一覧!M76","v":326},null,null,{"$f":"データ一覧!M77","v":431},null,null,{"$f":"データ一覧!M78","v":91},null,null,{"$f":"データ一覧!M79","v":33},null,null,null,null,null,null,null,null,null,null,null,null,null,null,null,null," １１ 　上　・　下　水　道",null,null,null,null,null,null,null,null,null,null,null,null,null,null,null,null,null,null,null,null,null,null,null,null,null,null,null,null,"小学校",null,null,null,null,null,null,null,null,{"$f":"データ一覧!M584","v":10},null,null,{"$f":"データ一覧!M585","v":0},null,null,{"$f":"データ一覧!M586","v":109},null,null,null,{"$f":"データ一覧!M587","v":20},null,null,null,{"$f":"データ一覧!M588","v":1218},null,null,null,{"$f":"データ一覧!M589","v":615},null,null,null,{"$f":"データ一覧!M590","v":603}]
[{"$f":"RIGHT(データ一覧!$A76,6)","v":"3.9.30"},null,"比率(対1,000人)",null,null,null,null,{"$f":"+H48/I35*1000","v":2.4713703922865395},null,null,{"$f":"+K48/I35*1000","v":6.9964147725294996},null,null,"- ",null,null,"- ",null,null,{"$f":"+T48/I35*1000","v":3.167531066170072},null,null,{"$f":"+W48/I35*1000","v":1.1486651119078284},null,null,"  ６  漁               業",null,null,null,null,null,null,null,null,null,null,null,null,null,null,null,null,null,null,null,null,null,null,null,null,null,null,null,null,null,null,null,null,null,null,null,null,null,null,null,null,null,"  ","中学校",null,null,null,null,null,null,null,null,{"$f":"データ一覧!M592","v":2},null,null,{"$f":"データ一覧!M593","v":0},null,null,{"$f":"データ一覧!M594","v":54},null,null,null,{"$f":"データ一覧!M595","v":6},null,null,null,{"$f":"データ一覧!M596","v":622},null,null,null,{"$f":"データ一覧!M597","v":311},null,null,null,{"$f":"データ一覧!M598","v":311}]
[null,null,null,null,null,null,null,null,null,null,null,null,null,null,null,null,null,null,null,null,null,null,null,null,null,null,null,null,null,null,null,null,null,null,null,null,null,null,null,"水 道 供 給 人 口",null,null,null,null,null,null,"上 水 道",null,null,null,"簡易水道",null,null,null,"専用水道",null,null,null,"飲料水供給施設",null,null,null,"下水道処理人口",null,null,null,null,"  ","高等学校",null,null,null,null,null,null,null,null,{"$f":"データ一覧!M600","v":1},null,null,{"$f":"データ一覧!M601","v":0},null,null,{"$f":"データ一覧!M602","v":49},null,null,null,{"$f":"データ一覧!M603","v":10},null,null,null,{"$f":"データ一覧!M604","v":644},null,null,null,{"$f":"データ一覧!M605","v":359},null,null,null,{"$f":"データ一覧!M606","v":285}]
["  ３  事　　業　　所（民　　営）    （平 28.6.1）",null,null,null,null,null,null,null,null,null,null,null,null,null,null,null,null,null,null,null,null,null,null,null,null,"漁船隻数・トン数",null,null,null,{"$f":"データ一覧!$A$282","v":"2.12.31"},null,null,null,"動　力　船",null,null,null,null,null,{"$f":"データ一覧!$A$408","v":"3.3.31"},null,null,null,null,null,"人",null,{"$f":"データ一覧!M408","v":24768},null,null,{"$f":"データ一覧!M409","v":2687},null,null,null,null,{"$f":"データ一覧!M410","v":0},null,null,null,{"$f":"データ一覧!M411","v":0},null,null,null,{"$f":"データ一覧!M412","v":26497},null,null,null,"  ","大学・短期大学",null,null,null,null,null,null,null,null,{"$f":"データ一覧!M607","v":0},null,null,{"$f":"データ一覧!M608","v":1},null,null,{"$f":"データ一覧!M609","v":8},null,null,null,{"$f":"データ一覧!M610","v":0},null,null,null,{"$f":"データ一覧!M611","v":0},null,null,null,{"$f":"データ一覧!M612","v":0},null,null,null,{"$f":"データ一覧!M613","v":0}]
[null,null,null,null,null,null,null,null,null,null,null,null,null,null,null,null,null,null,null,null,null,null,null,null,null,"無動力船隻数",null,null,null,"船外機付漁船隻数",null,null,null,"隻　数",null,null,"総 ト ン 数",null,null,null,null,null,null,null,null,null,null,null,null,null,null,null,null,null,null,null,null,null,null,null,null,null,null,null,null,null,null,"  ","高等専門学校",null,null,null,null,null,null,null,null,{"$f":"データ一覧!M614","v":0},null,null,{"$f":"データ一覧!M615","v":0},null,null,{"$f":"データ一覧!M616","v":0},null,null,null,{"$f":"データ一覧!M617","v":0},null,null,null,{"$f":"データ一覧!M618","v":0},null,null,null,{"$f":"データ一覧!M619","v":0},null,null,null,{"$f":"データ一覧!M620","v":0}]
[null,null,null,null,null,null,null,"    総　　　　　数",null,null,null,null,null,"    民　　　　　営",null,null,null,null,null,"  国 ･ 地方公共団体",null,null,null,null,null,null,null,null,"隻",null,null,null,"隻",null,null,"隻",null,null,"t"," １２  交   通　・　通   信",null,null,null,null,null,null,null,null,null,null,null,null,null,null,null,null,null,null,null,null,null,null,null,null,null,null,null,"  ","特別支援学校",null,null,null,null,null,null,null,null,{"$f":"データ一覧!M622","v":0},null,null,{"$f":"データ一覧!M623","v":0},null,null,{"$f":"+データ一覧!M624","v":0},null,null,null,{"$f":"+データ一覧!M625","v":0},null,null,null,{"$f":"+データ一覧!M626","v":0},null,null,null,{"$f":"+データ一覧!M627","v":0},null,null,null,{"$f":"+データ一覧!M628","v":0}]
["  　区　　　　　　分",null,null,null,null,null,null," 事業所数",null,null," 従業者数",null,null," 事業所数",null,null," 従業者数",null,null," 事業所数",null,null," 従業者数",null,null,{"$f":"データ一覧!$M$282","v":0},null,null,null,{"$f":"データ一覧!$M$283","v":28},null,null,null,{"$f":"データ一覧!M284","v":12},null,null,{"$f":"データ一覧!M285","v":15.239999999999998},null,null,null,null,null,null,null,null,null,null,null,null,null,null,null,null,null,null,null,null,null,null,null,null,null,null,null,null,null,null,"  ","幼稚園",null,null,null,null,null,null,null,null,{"$f":"データ一覧!M630","v":0},null,null,{"$f":"データ一覧!M631","v":0},null,null,{"$f":"データ一覧!M632","v":0},null,null,null,{"$f":"データ一覧!M633","v":0},null,null,null,{"$f":"データ一覧!M634","v":0},null,null,null,{"$f":"データ一覧!M635","v":0},null,null,null,{"$f":"データ一覧!M636","v":0}]
[null,null,null,null,null,null,null,null,null,null,"       人",null,null,null,null,null,"       人",null,null,null,null,null,"       人",null,null,"  男女別就業者数",null,null,null,null,null,null,null,{"$f":"データ一覧!$A$286","v":"30.11.1"},null,null,null,null,null,"道     路",null,null,null,"実 延 長",null,null,null,"国     道",null,null,null,"県     道",null,null,null,"市町道",null,null,null," 鉄 道 営 業 キ ロ 数",null,null,null,null,null,null,null,"  ","幼保連携認定こども園",null,null,null,null,null,null,null,null,{"$f":"データ一覧!M638","v":12},null,null,{"$f":"データ一覧!M639","v":0},null,null,{"$f":"データ一覧!M640","v":208},null,null,null,{"$f":"データ一覧!M641","v":2},null,null,null,{"$f":"データ一覧!M642","v":870},null,null,null,{"$f":"データ一覧!M643","v":434},null,null,null,{"$f":"データ一覧!M644","v":436}]
["総数",null,null,null,null,null,null,{"$f":"データ一覧!M99","v":"…"},null,null,{"$f":"データ一覧!M156","v":"…"},null,null,{"$f":"データ一覧!M100","v":1282},null,null,{"$f":"データ一覧!M157","v":13756},null,null,{"$f":"データ一覧!M101","v":"…"},null,null,{"$f":"データ一覧!M158","v":"…"},null,null,"総　　数",null,null,null,null,null,"男",null,null,null,"女",null,null,null,{"$f":"データ一覧!$A$413","v":"2.4.1"},null,null,null,{"$f":"データ一覧!M413","v":415.5},null,null,"㎞",{"$f":"データ一覧!M414","v":11.2},null,null,"㎞",{"$f":"データ一覧!M415","v":70.900000000000006},null,null,"㎞",{"$f":"データ一覧!M416","v":333.4},null,null,"km",{"$f":"データ一覧!$A$417","v":"3.4.1"},null,null,null,{"$f":"データ一覧!M417","v":14.772},null,null,"㎞","  ","各種学校",null,null,null,null,null,null,null,null,{"$f":"データ一覧!M646","v":"-"},null,null,{"$f":"データ一覧!M647","v":0},null,null,{"$f":"データ一覧!M648","v":"-"},null,null,null,{"$f":"データ一覧!M649","v":0},null,null,null,{"$f":"データ一覧!M650","v":0},null,null,null,{"$f":"データ一覧!M651","v":"-"},null,null,null,{"$f":"データ一覧!M652","v":"-"}]
["農林漁業",null,null,null,null,null,null,{"$f":"データ一覧!M102","v":"…"},null,null,{"$f":"データ一覧!M159","v":"…"},null,null,{"$f":"データ一覧!M103","v":24},null,null,{"$f":"データ一覧!M160","v":285},null,null,{"$f":"データ一覧!M104","v":"…"},null,null,{"$f":"データ一覧!M161","v":"…"},null,null,null,null,null,null,null,"人",null,null,"　　　　人",null,null,null,null,"  人","自動車",null,null,null,null,null,null,null,null,"乗用車",null,null,null,null,null,null,null,null,null,null,null,null,null,null,null,null,null,null,"  ","専修学校",null,null,null,null,null,null,null,null,{"$f":"データ一覧!M654","v":0},null,null,{"$f":"データ一覧!M655","v":0},null,null,{"$f":"データ一覧!M656","v":0},null,null,null,{"$f":"データ一覧!M657","v":0},null,null,null,{"$f":"データ一覧!M658","v":0},null,null,null,{"$f":"データ一覧!M659","v":0},null,null,null,{"$f":"データ一覧!M660","v":0}]
["鉱業",null,null,null,null,null,null,{"$f":"データ一覧!M105","v":"…"},null,null,{"$f":"データ一覧!M162","v":"…"},null,null,{"$f":"データ一覧!M106","v":1},null,null,{"$f":"データ一覧!M163","v":4},null,null,{"$f":"データ一覧!M107","v":"…"},null,null,{"$f":"データ一覧!M164","v":"…"},null,null,{"$f":"SUM(AF58,AJ58)","v":42},null,null,null,null,null,{"$f":"データ一覧!$M$287","v":41},null,null,null,{"$f":"データ一覧!M288","v":1},null,null,null,"台  数",null,null,null,"貨    物",null,null,null,"普     通",null,null,null,"小     型",null,null,null,"乗  合",null,null,"特  種",null,null,"小型二輪",null,null,"軽自動車",null,null," １８  衛　　　　　　　生"]
["建設業",null,null,null,null,null,null,{"$f":"データ一覧!M108","v":"…"},null,null,{"$f":"データ一覧!M165","v":"…"},null,null,{"$f":"データ一覧!M109","v":142},null,null,{"$f":"データ一覧!M166","v":686},null,null,{"$f":"データ一覧!M110","v":"…"},null,null,{"$f":"データ一覧!M167","v":"…"},null,null,"　　　　海 面 漁 業 漁 獲 量 （属人）",null,null,null,null,null,null,null,{"$f":"データ一覧!$A$289","v":"30年中"},null,null,null,null,null,{"$f":"データ一覧!$A$418","v":"3.3.31"},null,null,null,null,{"$f":"データ一覧!M418","v":2704},null,null,null,{"$f":"データ一覧!M420","v":12995},null,null,null,{"$f":"データ一覧!M421","v":12960},null,null,{"$f":"データ一覧!M419","v":97},null,null,{"$f":"データ一覧!M422","v":825},null,null,{"$f":"データ一覧!M423","v":751},null,null,{"$f":"データ一覧!M424","v":24680}]
["製造業",null,null,null,null,null,null,{"$f":"データ一覧!M111","v":"…"},null,null,{"$f":"データ一覧!M168","v":"…"},null,null,{"$f":"データ一覧!M112","v":166},null,null,{"$f":"データ一覧!M169","v":4684},null,null,{"$f":"データ一覧!M113","v":"…"},null,null,{"$f":"データ一覧!M170","v":"…"},null,null,null,null,null,null,null,"       ","ｔ",null,null,null,null,null,null,"t",null,null,"     ",null,"郵　便　局　数",null,null,null,null,null,null,null,null,null,null,null,null,null,{"$f":"+MID(データ一覧!$A$428,3,2)","v":"12"},"令","一般加入",null,null,null,"ＩＮＳネット",null,null,null,null,null,null,null,"医療関係施設",null,null,null,null,null,{"$f":"データ一覧!$A$661","v":"元.10.1"},null,null,null,null,null,null,"および医療関係者数",null,null,null,null,null,null,null,{"$f":"データ一覧!$A$666","v":"30.12.31"}]
["電気・ｶﾞ ｽ・熱供給・水道業",null,null,null,null,null,null,{"$f":"データ一覧!M114","v":"…"},null,null,{"$f":"データ一覧!M171","v":"…"},null,null,{"$f":"データ一覧!M115","v":0},null,null,{"$f":"データ一覧!M172","v":0},null,null,{"$f":"データ一覧!M116","v":"…"},null,null,{"$f":"データ一覧!M173","v":"…"},null,null,"   総　　　　　　数",null,null,null,{"$f":"データ一覧!M289","v":3},null,null,"   藻　　　　　　類",null,null,null,{"$f":"データ一覧!M292","v":1},null,null,"通  信",null,null,null," 総     数",null,null,null,null," 郵 便 局",null,null,null,null," 簡 易 局",null,null,null,"・",{"$f":"+LEFT(データ一覧!$A$428,1)","v":"2"},"電話数",null,null,null,"加入数",null,null,null,null,null,null,null,null,null,"　","病",null,null,"院",null,"　",null,null,null,null," ","一般診療所",null,null,null,null,null,null,null,null,null,null,null,"歯科診療所"]
["情報通信業",null,null,null,null,null,null,{"$f":"データ一覧!M117","v":"…"},null,null,{"$f":"データ一覧!M174","v":"…"},null,null,{"$f":"データ一覧!M118","v":2},null,null,{"$f":"データ一覧!M175","v":10},null,null,{"$f":"データ一覧!M119","v":"…"},null,null,{"$f":"データ一覧!M176","v":"…"},null,null,"   魚　　　　　　類",null,null,null,{"$f":"データ一覧!M290","v":2},null,null,"   そ　   の　　 他",null,null,null,{"$f":"データ一覧!M293","v":0},null,null,{"$f":"データ一覧!$A$428","v":"2.12.31"},null,null,null,{"$f":"データ一覧!M425","v":9},null,null,null,null,{"$f":"データ一覧!M426","v":7},null,null,null,null,{"$f":"データ一覧!M427","v":2},null,null,null,{"$f":"+RIGHT(データ一覧!$A$428,2)","v":"31"},"・",{"$f":"データ一覧!M428","v":2330},null,null,null,{"$f":"データ一覧!M429","v":428},null,null,null," ","医療関係",null,null,null,null,null,null,null,null,null,null,null,"一般病院",null,null,null,null,null,null,null,null,null,null,null,"有",null,null,"床"]
["運輸業、郵便業",null,null,null,null,null,null,{"$f":"データ一覧!M120","v":"…"},null,null,{"$f":"データ一覧!M177","v":"…"},null,null,{"$f":"データ一覧!M121","v":32},null,null,{"$f":"データ一覧!M178","v":1199},null,null,{"$f":"データ一覧!M122","v":"…"},null,null,{"$f":"データ一覧!M179","v":"…"},null,null,"   貝　　　　　　類",null,null,null,{"$f":"データ一覧!M291","v":1},null,null,null,null,null,null,null,null,null,null,null,null,null,null,null,null,null,null,null,null,null,null,null,null,null,null,null,null,null,null,null,null,null,null,null,null,null,null,"施設数",null,null,null,null,null,null,{"$f":"データ一覧!M661","v":3},null,null,null,null,null,{"$f":"データ一覧!M662","v":3},null,null,null,null,null,{"$f":"データ一覧!M663","v":15},null,null,null,null,null,{"$f":"データ一覧!M664","v":0},null,null,null,null,null,{"$f":"データ一覧!M665","v":9}]
["卸売業、小売業",null,null,null,null,null,null,{"$f":"データ一覧!M123","v":"…"},null,null,{"$f":"データ一覧!M180","v":"…"},null,null,{"$f":"データ一覧!M124","v":291},null,null,{"$f":"データ一覧!M181","v":1655},null,null,{"$f":"データ一覧!M125","v":"…"},null,null,{"$f":"データ一覧!M182","v":"…"},null,null,null,null,null,null,null,null,null,null,null,null,null,null,null,null," １３  税　　・　　財　　政",null,null,null,null,null,null,null,null,null,null,null,null,null,null,null,null,null,null,null,null,null,null,null,null,null,null,null,null,null,null,null,null,null,null,"医師",null,null,null,null,"歯科医師",null,null,null,null,"薬剤師",null,null,null,null,"保健師",null,null,null,null,"助産師",null,null," ",null,"看護師",null,null," "]
["金融業、保険業",null,null,null,null,null,null,{"$f":"データ一覧!M126","v":"…"},null,null,{"$f":"データ一覧!M183","v":"…"},null,null,{"$f":"データ一覧!M127","v":15},null,null,{"$f":"データ一覧!M184","v":143},null,null,{"$f":"データ一覧!M128","v":"…"},null,null,{"$f":"データ一覧!M185","v":"…"},null,null,"  ７  商        　　　業 ",null,null,null,null,null,null,{"$f":"データ一覧!$A$294","v":"28.6.1(平成27年実績）"},null,null,null,null,null,null,null,null,null,null,null,null,null,null,null,null,null,null,null,null,null,null,null,null,null,null,null,null,null,null,null,null,null,null," ","医療",null,null,null,null,null,null,null,null,"人",null,null,null,null,"人",null,null,null,null,"人",null,null,null,null,"人",null,null,null,null,"人",null,null,null,null,"人"]
["不動産業、物品賃貸業",null,null,null,null,null,null,{"$f":"データ一覧!M129","v":"…"},null,null,{"$f":"データ一覧!M186","v":"…"},null,null,{"$f":"データ一覧!M130","v":19},null,null,{"$f":"データ一覧!M187","v":37},null,null,{"$f":"データ一覧!M131","v":"…"},null,null,{"$f":"データ一覧!M188","v":"…"},null,null,null,null,null,null,null,null,null,null,null,null,null,null,null,null,"           ",null,null,null,"歳入",null,null,null,null,null,null,null,null,"(千円）"," ",null,null,null,"歳出",null,null,null,null,null,null,null,null,"(千円）",null,"関係者",null,null,null,null,{"$f":"データ一覧!M666","v":39},null,null,null,null,{"$f":"データ一覧!M667","v":16},null,null,null,null,{"$f":"データ一覧!M668","v":52},null,null,null,null,{"$f":"データ一覧!M669","v":22},null,null,null,null,{"$f":"データ一覧!M670","v":3},null,null,null,null,{"$f":"データ一覧!M671","v":312}]
["学術研究、専門・技術ｻｰﾋﾞｽ業",null,null,null,null,null,null,{"$f":"データ一覧!M132","v":"…"},null,null,{"$f":"データ一覧!M189","v":"…"},null,null,{"$f":"データ一覧!M133","v":33},null,null,{"$f":"データ一覧!M190","v":116},null,null,{"$f":"データ一覧!M134","v":"…"},null,null,{"$f":"データ一覧!M191","v":"…"},null,null,"  産   業　 分　 類",null,null,null,"  商　 店 　数",null,null," 従　業　者　数",null,null,"年　間　販　売　額",null,null,null,"一人当たり歳入歳出予算決算額",null,null,null,null,null,null,null,null,null,null,null,null,null,null,null,null,null,null,null,null,null,null,null,null,null,null,null,"                   ",null,null,null,null,null,null,null,null,"死因別死亡数　　　　　　    ",null,null,null,null,null,null,null,null,null,null,null,null,null,null,null,{"$f":"データ一覧!$A$672","v":"2年中"},null,null,null,null,null,null,null,null,"      単 位：人"]
["宿泊業、飲食サービス業",null,null,null,null,null,null,{"$f":"データ一覧!M135","v":"…"},null,null,{"$f":"データ一覧!M192","v":"…"},null,null,{"$f":"データ一覧!M136","v":202},null,null,{"$f":"データ一覧!M193","v":1686},null,null,{"$f":"データ一覧!M137","v":"…"},null,null,{"$f":"データ一覧!M194","v":"…"},null,null,null,null,null,null,null,"        店",null,null,null,"　人",null,"         百万円",null,null,"区分",null,null,null,{"$f":"データ一覧!$A$438","v":"3年度"},null,null,null,null,{"$f":"データ一覧!$A$452","v":"2年度"},null,null,null,null,"区分",null,null,null,{"$f":"+AR68","v":"3年度"},null,null,null,null,{"$f":"データ一覧!$A$452","v":"2年度"},null,null,null,null," 死     因",null,null,null,null,null,null,null,null,null,null,null,"悪  性",null,null,"高血圧",null,null,null,null,null,"脳血管",null,null,null,null,null," ",null,null,"不慮の事故"]
["生活関連サービス業、娯楽業",null,null,null,null,null,null,{"$f":"データ一覧!M138","v":"…"},null,null,{"$f":"データ一覧!M195","v":"…"},null,null,{"$f":"データ一覧!M139","v":127},null,null,{"$f":"データ一覧!M196","v":564},null,null,{"$f":"データ一覧!M140","v":"…"},null,null,{"$f":"データ一覧!M197","v":"…"},null,null,"総　　　　　　計",null,null,null,{"$f":"データ一覧!M294","v":253},null,null,{"$f":"データ一覧!M303","v":1390},null,null,{"$f":"データ一覧!M312","v":24938},null,null,null,null,null,null,null,{"$f":"データ一覧!M434","v":563153.15746813058},null,null,null,null,{"$f":"データ一覧!M435","v":696830.95596054418},null,null,null,null,null,null,null,null,{"$f":"データ一覧!M436","v":563153.15746813058},null,null,null,null,{"$f":"データ一覧!M437","v":663741.74031021958},null,null,null,null,null,null,null,null,null,"全 死 因",null,null,null,"結 核",null,null,"新生物",null,null,"性疾患",null,null,"心疾患",null,null,"疾  患",null,null,"肺  炎",null,null,"老  衰",null,null,null,null," ","交通事故"]
["教育、学習支援業",null,null,null,null,null,null,{"$f":"データ一覧!M141","v":"…"},null,null,{"$f":"データ一覧!M198","v":"…"},null,null,{"$f":"データ一覧!M142","v":32},null,null,{"$f":"データ一覧!M199","v":205},null,null,{"$f":"データ一覧!M143","v":"…"},null,null,{"$f":"データ一覧!M200","v":"…"},null,null,"卸売業",null,null,null,{"$f":"データ一覧!M295","v":32},null,null,{"$f":"データ一覧!M304","v":232},null,null,{"$f":"データ一覧!M313","v":8458},null,null,null,"項目別歳入歳出予算決算額"]
["医療、福祉",null,null,null,null,null,null,{"$f":"データ一覧!M144","v":"…"},null,null,{"$f":"データ一覧!M201","v":"…"},null,null,{"$f":"データ一覧!M145","v":81},null,null,{"$f":"データ一覧!M202","v":1484},null,null,{"$f":"データ一覧!M146","v":"…"},null,null,{"$f":"データ一覧!M203","v":"…"},null,null,"小売業",null,null,null,{"$f":"データ一覧!M296","v":221},null,null,{"$f":"データ一覧!M305","v":1158},null,null,{"$f":"データ一覧!M314","v":16481},null,null,null,"区分",null,null,null,{"$f":"データ一覧!$A$438","v":"3年度"},null,null,null,null,{"$f":"データ一覧!$A$452","v":"2年度"},null,null,null,null,"区分",null,null,null,{"$f":"+AR71","v":"3年度"},null,null,null,null,{"$f":"データ一覧!$A$452","v":"2年度"},null,null,null,null,null,null,null,null,null,{"$f":"データ一覧!M672","v":381},null,null,null,"   －",{"$f":"データ一覧!M673","v":0},null,{"$f":"データ一覧!M674","v":17},null,null,null,{"$f":"データ一覧!M675","v":8},null,{"$f":"データ一覧!M676","v":1},null,null,{"$f":"データ一覧!M677","v":0},null,null,{"$f":"データ一覧!M678","v":39},null,null,{"$f":"データ一覧!M679","v":24},null,null,{"$f":"データ一覧!M680","v":6},null,null,{"$f":"データ一覧!M681","v":0}]
["複合サービス事業",null,null,null,null,null,null,{"$f":"データ一覧!M147","v":"…"},null,null,{"$f":"データ一覧!M204","v":"…"},null,null,{"$f":"データ一覧!M148","v":13},null,null,{"$f":"データ一覧!M205","v":128},null,null,{"$f":"データ一覧!M149","v":"…"},null,null,{"$f":"データ一覧!M206","v":"…"},null,null,"各種商品",null,null,null,{"$f":"データ一覧!M297","v":0},null,null,{"$f":"データ一覧!M306","v":0},null,null,{"$f":"データ一覧!M315","v":0},null,null,null,"総額",null,null,null,{"$f":"SUM(AR73:AV85)","v":15285103},null,null,null,null,{"$f":"SUM(AW73:BA85)","v":18896072},null,null,null,null,"総額",null,null,null,{"$f":"SUM(BF73:BJ85)","v":15285103},null,null,null,null,{"$f":"SUM(BK73:BO85)","v":18100901},null,null,null,null," １９  警　察　・　消　防  ",null,null,null,null,null,null,null,null,null,null,null,null,null,null,null,{"$f":"+データ一覧!$A682","v":"3.4.1"}]
["サービス業",null,null,null,null,null,null,{"$f":"データ一覧!M150","v":"…"},null,null,{"$f":"データ一覧!M207","v":"…"},null,null,{"$f":"データ一覧!M151","v":102},null,null,{"$f":"データ一覧!M208","v":870},null,null,{"$f":"データ一覧!M152","v":"…"},null,null,{"$f":"データ一覧!M209","v":"…"},null,null,"織物・衣服・身の回り品",null,null,null,{"$f":"データ一覧!M298","v":23},null,null,{"$f":"データ一覧!M307","v":78},null,null,{"$f":"データ一覧!M316","v":764},null,null,null,"地方税",null,null,null,{"$f":"データ一覧!M439","v":4194037},null,null,null,null,{"$f":"データ一覧!M453","v":4535105},null,null,null,null,"議会費",null,null,null,{"$f":"データ一覧!M467","v":173924},null,null,null,null,{"$f":"データ一覧!M481","v":147923}]
["公務",null,null,null,null,null,null,{"$f":"データ一覧!M153","v":"…"},null,null,{"$f":"データ一覧!M210","v":"…"},null,null,{"$f":"データ一覧!M154","v":"…"},null,null,{"$f":"データ一覧!M211","v":"…"},null,null,{"$f":"データ一覧!M155","v":"…"},null,null,{"$f":"データ一覧!M212","v":"…"},null,null,"飲食料品",null,null,null,{"$f":"データ一覧!M299","v":89},null,null,{"$f":"データ一覧!M308","v":525},null,null,{"$f":"データ一覧!M317","v":6676},null,null,null,"地方譲与税",null,null,null,{"$f":"データ一覧!M440","v":127500},null,null,null,null,{"$f":"データ一覧!M454","v":130666},null,null,null,null,"総務費",null,null,null,{"$f":"データ一覧!M468","v":1616459},null,null,null,null,{"$f":"データ一覧!M482","v":4619582},null,null,null,null,null,null,null,null,null,null,null,null,null,null,"交番・駐在所",null,null,null,null,null,null,null,null,"刑法犯認知件数",null,null,null,null,null,null,null,null,"交通人身事故発生件数"]
["  ４  農        　　　業 ",null,null,null,null,null,null,null,null,null,null,null,null,null,null,null,null,null,null,null,null,null,null,null,null,"機械器具",null,null,null,{"$f":"データ一覧!M300","v":31},null,null,{"$f":"データ一覧!M309","v":122},null,null,{"$f":"データ一覧!M318","v":1820},null,null,null,"各種交付金",null,null,null,{"$f":"データ一覧!M441","v":798300},null,null,null,null,{"$f":"データ一覧!M455","v":713536},null,null,null,null,"民生費",null,null,null,{"$f":"データ一覧!M469","v":4718487},null,null,null,null,{"$f":"データ一覧!M483","v":4665996},null,null,null,null,null,"警察署数",null,null,null,null,null,null,null,null,"検問所数",null,null,null,null,null,null,null,null,null,{"$f":"データ一覧!$A$684","v":"2年中"},null,null,null,null,null,null,null,null,{"$f":"データ一覧!$A$684","v":"2年中"}]
[null,null,null,null,null,null,null,null,null,null,null,null,null,null,null,null,null,null,null,null,null,null,null,null,null,"その他",null,null,null,{"$f":"データ一覧!M301","v":75},null,null,{"$f":"データ一覧!M310","v":391},null,null,{"$f":"データ一覧!M319","v":"x"},null,null,null,"地方特例交付金",null,null,null,{"$f":"データ一覧!M442","v":100000},null,null,null,null,{"$f":"データ一覧!M456","v":25049},null,null,null,null,"衛生費",null,null,null,{"$f":"データ一覧!M470","v":949086},null,null,null,null,{"$f":"データ一覧!M484","v":826040},null,null,null,null,null,null,null,null,null,null,null,null,null,null,null,null,null,null,null,null,null,null,null,null,null,null,null,null," 件",null,null,null,null,null,null,null,null,"　件"]
[null,null,"農業経営体数",null,null,null,null,null,null,"農産物販売額規模別経営体数",null,null,null,null,null,null,null,"経営耕地面積規模別経営体数",null,null,null,null,null,null,null,"無店舗",null,null,null,{"$f":"データ一覧!M302","v":3},null,null,{"$f":"データ一覧!M311","v":42},null,null,{"$f":"データ一覧!M320","v":"x"},null,null,null,"地方交付税",null,null,null,{"$f":"データ一覧!M443","v":2580000},null,null,null,null,{"$f":"データ一覧!M457","v":3388313},null,null,null,null,"労働費",null,null,null,{"$f":"データ一覧!M471","v":40248},null,null,null,null,{"$f":"データ一覧!M485","v":30592},null,null,null,null,null,null,{"$f":"データ一覧!M682","v":1},null,null,null,null,null,null,null,null,{"$f":"データ一覧!M683","v":6},null,null,null,null,null,null,null,null,{"$f":"データ一覧!M684","v":90},null,null,null,null,null,null,null,null,{"$f":"データ一覧!M685","v":28}]
["農",null,"区　分",null,null,null,"経営体数\n（経営体）",null,null,"区　分",null,null,null,null,"経営体数\n（経営体）",null,null,"区　分",null,null,null,null,"経営体数\n（経営体）",null,null,null,null,null,null,null,null,null,null,null,null,null,null,null,null,"分担金および負担金",null,null,null,{"$f":"データ一覧!M444","v":105566},null,null,null,null,{"$f":"データ一覧!M458","v":218062},null,null,null,null,"農林水産業費",null,null,null,{"$f":"データ一覧!M472","v":802172},null,null,null,null,{"$f":"データ一覧!M486","v":742410},null,null,null,null,"火災発生件数",null,null,null,null,null,null,null,null,null,"林野焼損",null,null,null,null,"損      害",null,null,null,null,"消 防 自",null,null,null,"その他の",null,null,null," ",null,null,null,null," "]
["業","令",null,null,null,null,null,null,null,null,null,null,null,null,null,null,null,null,null,null,null,null,null,null,null,"  ８  住　　　　　　 　宅",null,null,null,null,null,null,null,null,null,null,null,null,null,"使用料および手数料",null,null,null,{"$f":"データ一覧!M445","v":195514},null,null,null,null,{"$f":"データ一覧!M459","v":164083},null,null,null,null,"商工費",null,null,null,{"$f":"データ一覧!M473","v":423859},null,null,null,null,{"$f":"データ一覧!M487","v":707099},null,null,null,null,{"$f":"+データ一覧!$A$686","v":"2年中"},null,null,null,null,"焼損棟数",null,null,null,null,"面    積",null,null,null,null,"見  積  額",null,null,null,null,"動 車 数",null,null,null,"ﾎﾟﾝﾌﾟ数",null,null,null," 消防吏員",null,null,null," 消防団員"]
["経",{"$f":"+LEFT(データ一覧!$A$213)","v":"2"},"計",null,null,null,{"$f":"データ一覧!M213","v":508},null,null,"総　　　 数",null,null,null,null,{"$f":"データ一覧!M217","v":508},null,null,"総　　　 数",null,null,null,null,{"$f":"データ一覧!M233","v":2560},null,null,null,null,null,null,null,null,null,null,null,null,null,null,null,null,"国庫支出金",null,null,null,{"$f":"データ一覧!M446","v":2294329},null,null,null,null,{"$f":"データ一覧!M460","v":5434590},null,null,null,null,"土木費",null,null,null,{"$f":"データ一覧!M474","v":2955234},null,null,null,null,{"$f":"データ一覧!M488","v":2736186},null,null,null,null,"         件",null,null,null,null,null,"      棟",null,null,null,null,null,null,"  ａ",null,null,null,"  千円",null,null,"        ",null,null,null,null,null,null,null,null,null,"  人",null,null,null,"  人"]
["営","・","個人経営体",null,null,null,{"$f":"データ一覧!M214","v":457},null,null,"販 売 な し",null,null,null,null,{"$f":"データ一覧!M218","v":14},null,null,"0.5 ha 未満",null,null,null,null,{"$f":"データ一覧!M234","v":31},null,null,{"$f":"+データ一覧!$A$321","v":"令和元年"},null,null,null,null,{"$f":"データ一覧!$A$324","v":"2年"},"中の増減",null,null,null,{"$f":"+データ一覧!$A$324","v":"2年"},null,null,null,"県支出金",null,null,null,{"$f":"データ一覧!M447","v":1455476},null,null,null,null,{"$f":"データ一覧!M461","v":1246035},null,null,null,null,"消防費",null,null,null,{"$f":"データ一覧!M475","v":549786},null,null,null,null,{"$f":"データ一覧!M489","v":602714},null,null,null,null,null,{"$f":"データ一覧!M686","v":8},null,null,null,null,{"$f":"データ一覧!M687","v":7},null,null,null,null,{"$f":"データ一覧!M688","v":0},null,null,null,{"$f":"データ一覧!M689","v":6304},null,null,null,null,null,{"$f":"データ一覧!M690","v":16},null,null,null,{"$f":"データ一覧!M691","v":2},null,null,null,{"$f":"データ一覧!M692","v":45},null,null,null,{"$f":"データ一覧!M693","v":249}]
["体",{"$f":"+LEFT(データ一覧!$A$213,1)","v":"2"},"団体経営体",null,null,null,{"$f":"データ一覧!M215","v":51},null,null,"50万円未満",null,null,null,null,{"$f":"データ一覧!M219","v":113},null,null,"0.5 ha ～ 1.0 ha",null,null,null,null,{"$f":"データ一覧!M235","v":86},null,null,null,null,null,null,"建設した住宅",null,null,"消失した住宅",null,null,null,null,null,null,"財産収入",null,null,null,{"$f":"データ一覧!M448","v":38722},null,null,null,null,{"$f":"データ一覧!M462","v":65626},null,null,null,null,"教育費",null,null,null,{"$f":"データ一覧!M476","v":1487058},null,null,null,null,{"$f":"データ一覧!M490","v":1566709},null,null,null,null," ２０  そ　　　の　　　他　"]
["数","・",null,"法人経営",null,null,{"$f":"データ一覧!M216","v":46},null,null,"50～300万円",null,null,null,null,{"$f":"データ一覧!M220","v":253},null,null,"1.0 ha ～ 2.0 ha",null,null,null,null,{"$f":"データ一覧!M236","v":215},null,null,null,null,null,null,null,null,null,null,null,null,null,null,null,null,"繰入金",null,null,null,{"$f":"データ一覧!M449","v":1141104},null,null,null,null,{"$f":"データ一覧!M463","v":571768},null,null,null,null,"災害復旧費",null,null,null,{"$f":"データ一覧!M477","v":1300},null,null,null,null,{"$f":"データ一覧!M491","v":8101}]
["（",{"$f":"+RIGHT(データ一覧!$A$213)","v":"1"},null,null,null,null,null,null,null,"300～500万円",null,null,null,null,{"$f":"データ一覧!M221","v":29},null,null,"2.0 ha ～ 3.0 ha",null,null,null,null,{"$f":"データ一覧!M237","v":105},null,null,null,{"$f":"データ一覧!M321","v":12982},null,"戸",{"$f":"データ一覧!M322","v":106},null,"戸",{"$f":"データ一覧!M323","v":136},null,"戸",null,{"$f":"データ一覧!M324","v":12952},null,"戸","地方債",null,null,null,{"$f":"データ一覧!M450","v":1606200},null,null,null,null,{"$f":"データ一覧!M464","v":1419538},null,null,null,null,"公債費",null,null,null,{"$f":"データ一覧!M478","v":1544792},null,null,null,null,{"$f":"データ一覧!M492","v":1447549},null,null,null,null,null,null,null,null,null,"あわら温泉、芦湯（足湯）、セントピアあわら、あわら温泉屋台村　湯けむり横丁、藤野厳九郎記念館、越前加賀海岸国定公園、あわら北潟湖畔花菖蒲園、北潟湖畔公園、夢ぐるま公園、刈安山森林自然公園、金津創作の森美術館、あわら市郷土歴史資料館、桑野遺跡出土品、吉崎御坊跡、越前加賀県境の館、横山古墳群、椚古墳（石室）、千束一里塚、本荘春日神社本殿、紙本著色法然上人図像（福円寺）絹本著色梅山聞本禅師像（龍澤寺）、絹本著色龍澤寺三祖像（龍澤寺）木造執金剛神像（安楽寺）、石造狛犬（永正十二年銘）、どっしゃどっしゃ踊り、多賀谷左近三経公墓所"]
["総",null,null,null,null,null,null,null,null,"500～1,000万円",null,null,null,null,{"$f":"データ一覧!M222","v":30},null,null,"3.0 ha ～ 5.0 ha",null,null,null,null,{"$f":"データ一覧!M238","v":98},null,null,null,null,null,null,null,null,null,null,null,null,null,null,null,null,"その他",null,null,null,{"$f":"データ一覧!M451","v":648355},null,null,null,null,{"$f":"データ一覧!M465","v":983701},null,null,null,null,"その他",null,null,null,{"$f":"データ一覧!M479","v":22698},null,null,null,null,{"$f":"データ一覧!M493","v":0},null,null,null,null,"　名所・旧跡"]
["数",null,null,null,null,null,null,null,null,"1,000万円以上",null,null,null,null,{"$f":"データ一覧!M223","v":69},null,null,"5.0 ha以上",null,null,null,null,{"$f":"データ一覧!M239","v":2026},null,null,null,null,null,null,null,null,null,null,null,null,null,null,null,null,null,null,null,null,null,null,null,null,null,null,null,null,null,null,null,null,null,null,null,null,null,null,null,null,null,null,null,null,"  文化財等"]
["）",null,"15歳以上の常雇い数",null,null,null,null,null,null,"農業に60日以上従事した世帯員、役員・構成員\n（経営主を含む）の平均年齢",null,null,null,null,null,null,null,null,null,null,null,null,null,null,null,"  ９  議　 員　・　職 　員",null,null,null,null,null,null,null,null,null,null,null,null,null," １４  文　　　　　　化",null,null,null,null,null,null,null,null,null," ( ",{"$f":"データ一覧!$A$500","v":"3.3.31"},null,null,null,"ただし図書館・公民館・児童館",null,null,null,null,null,null,null,{"$f":"データ一覧!$A$494","v":"3.4.1"}]
["と",null,null,null,null,null,null,null,null,null,null,null,null,null,null,null,null,null,null,null,null,null,null,null,null,null,null,null,null,null,null,null,null,null,null,null,null,null,null,null,null,null,null,null,null,null,null,null,null,null,null,null,null,null,null,"　宗教法人数 ",null,null,null,null,null,null,{"$f":"データ一覧!$A$502","v":"2.12.31"},null,null,null,"）","　特産物",null,null,null,null,"メロン、スイカ、とみつ金時（サツマイモ）、越のルビー、越前柿、芦原梨、剱岳そば"]
["就",null,null,null,null,null,null,null,null,"農業に60日以上従事",null,null,null,null,null,null,null,"農業に150日以上従事",null,null,null,null,null,null,null," 市 町 村 議 会",null,null,"有権者数",null,{"$f":"データ一覧!$A$328","v":"3.9.1"},null,"市 町 村 議 会",null,null,"  職      員      数",null,null,null,null,null,null,null,null,"図書館",null,null,null,null,null,"公　民　館",null,null,null,null,null,null,null,null,null,null," 社会教育学級講座"]
["業",null,"区　分",null,null,null,"人",null,null,"区　分",null,null,null,null,"人",null,null,"区　分",null,null,null,null,"人",null,null," 議  員  定  数",null,null,"    男",null,"    女",null,"選 挙 投 票 率",null,null," 総     数",null,"一般行政職",null,"公    共",null,null,null," 館  数",null,null," 図書数",null,null," 本  館",null,null," 分  館",null,null," 公  園",null,null," 児童館",null,null,"学級講座数",null,null,"受講者数",null,null,null,null,null,null,null,"芦原温泉春まつり、蓮如忌、あわら市トリムマラソン、あわら北潟湖畔花菖蒲まつり、金津祭、あわら湯かけまつり、あわらカップカヌーポロ大会、あわら観月の夕べ、越前・加賀県境綱引き、あわら湯けむり映画祭、あわら灯源郷、剱岳かりんて祭、芦原芸妓新春舞踊"]
["状",null,"総数",null,null,null,{"$f":"データ一覧!M230","v":63},null,null,"総数",null,null,null,null,{"$f":"データ一覧!M224","v":66},null,null,"総数",null,null,null,null,{"$f":"データ一覧!M227","v":64.599999999999994},null,null,null,null,"人",null,"人",null,"人",null,null,"　％",null,"人",null,"人","施 設 数",null,null,null,null,{"$f":"データ一覧!M494","v":2},null,{"$f":"データ一覧!M495","v":168849},null,null,null,{"$f":"データ一覧!M496","v":9},null,{"$f":"データ一覧!M497","v":0},null,null,{"$f":"データ一覧!M498","v":24},null,null,{"$f":"データ一覧!M499","v":"-"},null,null,{"$f":"データ一覧!M500","v":0},null,null,{"$f":"データ一覧!M501","v":0},null,null,"　年中行事"]
["況",null,"男",null,null,null,{"$f":"データ一覧!M231","v":46},null,null,"男",null,null,null,null,{"$f":"データ一覧!M225","v":65.099999999999994},null,null,"男",null,null,null,null,{"$f":"データ一覧!M228","v":63.7},null,null,null,{"$f":"データ一覧!M325","v":16},null,{"$f":"データ一覧!M328","v":11046},null,{"$f":"データ一覧!M329","v":12313},null,{"$f":"データ一覧!M327","v":63.98},null,null,{"$f":"データ一覧!M330","v":296},null,{"$f":"データ一覧!M331","v":207},null,"宗    教",null,null,null," 仏教系",null,null,"ｷﾘｽﾄ教系",null,null,"神道諸派",null,null,"公会堂・市民会館",null,null,null,null,null," テレビ",null,null,"衛星放送契約数"]
[null,null,"女",null,null,null,{"$f":"データ一覧!M232","v":17},null,null,"女",null,null,null,null,{"$f":"データ一覧!M226","v":68},null,null,"女",null,null,null,null,{"$f":"データ一覧!M229","v":66.400000000000006},null,null,null,null,null,null,null,null,null,{"$f":"データ一覧!M326","v":"3.6.20"},null,null,null,null,null,null,"法 人 数",null,null,null,{"$f":"データ一覧!M502","v":65},null,null,{"$f":"データ一覧!M503","v":2},null,null,{"$f":"データ一覧!M504","v":95},null,null,{"$f":"データ一覧!M505","v":1},null,null,null,null,null,"      等",null,null,{"$f":"データ一覧!M506","v":6822}]

{"sheet":"越前市","index":12,"n_rows":93,"n_cols":103,"rows_kept":93,"cut":false,"hidden":false,"merged":[[81,6,81,8],[81,9,81,13],[81,14,81,16],[82,6,82,8],[82,9,82,13],[82,14,82,16],[83,6,83,8],[83,9,83,13],[83,14,83,16],[60,39,60,42],[17,25,17,27],[18,25,18,27],[25,77,25,80],[27,86,27,90],[35,75,35,77],[35,80,35,83],[36,75,36,77],[28,81,28,84],[28,86,28,90],[27,81,27,84],[30,77,30,80],[30,81,30,84],[30,86,30,90],[24,53,24,56],[24,40,24,46],[23,60,23,64],[24,60,24,64],[25,40,25,46],[25,49,25,51],[25,53,25,56],[25,60,25,64],[25,81,25,84],[29,86,29,90],[30,68,30,72],[29,73,29,76],[29,81,29,84],[30,73,30,76],[35,22,35,24],[35,5,35,7],[35,8,35,10],[35,11,35,13],[35,14,35,16],[35,18,35,19],[35,20,35,21],[40,79,41,82],[40,75,41,77],[40,60,40,64],[40,19,40,21],[40,22,40,24],[29,11,29,13],[34,20,34,21],[41,22,41,24],[40,10,40,12],[31,18,31,19],[30,18,30,19],[40,13,40,15],[29,22,29,24],[41,19,41,21],[31,8,31,10],[31,11,31,13],[38,67,38,73],[41,53,41,56],[37,60,37,64],[47,7,47,9],[55,31,55,34],[46,0,46,1],[47,10,47,12],[47,13,47,15],[47,16,47,18],[47,22,47,24],[47,0,47,1],[41,4,41,6],[41,7,41,9],[41,10,41,12],[33,8,33,10],[33,11,33,13],[33,14,33,16],[40,16,40,18],[33,5,33,7],[41,13,41,15],[41,16,41,18],[48,10,48,12],[34,5,34,7],[40,2,40,3],[42,16,42,18],[42,19,42,21],[54,25,54,32],[34,8,34,10],[67,0,67,6],[71,10,71,12],[70,10,70,12],[66,0,66,6],[65,0,65,6],[64,0,64,6],[56,0,56,6],[48,0,48,1],[55,0,55,6],[44,0,45,1],[69,16,69,18],[40,4,40,6],[40,7,40,9],[48,7,48,9],[50,0,51,24],[48,13,48,15],[48,16,48,18],[63,13,63,15],[69,10,69,12],[70,16,70,18],[42,4,42,6],[42,7,42,9],[42,10,42,12],[42,13,42,15],[63,0,63,6],[62,0,62,6],[61,0,61,6],[68,7,68,9],[69,13,69,15],[71,0,71,6],[42,22,42,24],[48,19,48,21],[16,74,16,95],[5,0,5,9],[6,0,8,9],[22,7,22,8],[23,11,23,13],[23,16,23,18],[20,11,20,13],[20,16,20,18],[19,32,19,34],[17,53,17,57],[17,91,17,94],[17,59,17,65],[29,20,29,21],[20,40,20,46],[20,49,20,51],[20,53,20,56],[17,68,17,71],[21,53,21,56],[21,49,21,51],[24,49,24,51],[26,22,26,24],[24,27,24,28],[20,21,20,23],[23,21,23,23],[20,25,20,28],[21,25,21,28],[21,29,21,31],[22,25,22,28],[23,25,23,28],[25,27,25,28],[26,25,26,26],[21,32,21,34],[19,99,19,102],[19,91,19,94],[21,60,21,64],[21,95,21,98],[20,60,20,64],[22,40,22,46],[22,49,22,51],[22,53,22,56],[22,60,22,64],[21,40,21,46],[19,95,19,98],[20,91,20,94],[19,3,19,5],[17,100,17,101],[19,40,19,46],[19,49,19,51],[19,53,19,56],[19,60,19,64],[17,40,17,46],[17,48,17,52],[17,86,17,89],[19,73,19,76],[19,77,19,80],[19,81,19,84],[20,73,20,76],[20,77,20,80],[20,81,20,84],[20,86,20,90],[17,73,17,76],[17,82,17,83],[22,68,22,72],[22,73,22,76],[22,95,22,98],[23,40,23,46],[23,49,23,51],[23,53,23,56],[21,73,21,76],[21,77,21,80],[21,81,21,84],[21,86,21,90],[23,68,23,72],[23,73,23,76],[22,77,22,80],[22,81,22,84],[22,86,22,90],[23,77,23,80],[23,81,23,84],[23,86,23,90],[24,68,24,72],[24,73,24,76],[24,77,24,80],[24,81,24,84],[24,86,24,90],[28,91,28,94],[27,91,27,94],[27,95,27,98],[27,99,27,102],[28,99,28,102],[28,95,28,98],[26,40,26,46],[26,49,26,51],[26,53,26,56],[26,60,26,64],[27,68,27,72],[27,73,27,76],[27,40,27,46],[27,49,27,51],[27,53,27,56],[27,60,27,64],[26,99,26,102],[26,91,26,94],[26,95,26,98],[26,68,26,72],[26,73,26,76],[26,77,26,80],[26,81,26,84],[26,86,26,90],[28,77,28,80],[25,86,25,90],[25,73,25,76],[28,73,28,76],[27,0,27,4],[27,5,27,7],[27,22,27,24],[29,40,29,46],[29,49,29,51],[29,53,29,56],[29,5,29,7],[29,8,29,10],[29,14,29,16],[29,18,29,19],[30,60,30,64],[30,40,30,46],[31,20,31,21],[30,53,30,56],[31,49,31,51],[31,53,31,56],[31,60,31,64],[31,22,31,24],[31,40,31,46],[30,22,30,24],[29,60,29,64],[28,40,28,46],[28,49,28,51],[28,53,28,56],[28,60,28,64],[30,20,30,21],[27,29,27,30],[30,5,30,7],[30,8,30,10],[30,11,30,13],[30,14,30,16],[31,5,31,7],[32,11,32,13],[34,49,34,51],[34,40,34,46],[34,22,34,24],[34,18,34,19],[34,60,34,64],[32,18,32,19],[34,53,34,56],[32,53,32,56],[32,40,32,46],[33,49,33,51],[34,36,34,37],[32,22,32,24],[34,11,34,13],[34,14,34,16],[34,29,34,30],[33,20,33,21],[32,14,32,16],[32,20,32,21],[32,49,32,51],[33,18,33,19],[33,22,33,24],[31,14,31,16],[32,5,32,7],[32,8,32,10],[37,49,37,51],[37,53,37,56],[36,60,36,64],[35,49,35,51],[35,53,35,56],[36,53,36,56],[36,67,36,73],[35,40,35,46],[36,40,36,46],[38,79,38,82],[37,67,37,73],[37,75,37,77],[37,79,37,82],[39,67,39,73],[39,75,39,77],[37,40,37,46],[31,68,31,72],[31,73,31,76],[31,77,31,80],[31,81,31,84],[33,60,33,64],[33,40,33,46],[35,68,35,72],[39,60,39,64],[35,60,35,64],[36,49,36,51],[32,68,32,72],[47,99,47,102],[47,83,47,86],[47,87,47,90],[48,83,48,86],[49,91,49,94],[49,95,49,98],[51,91,51,94],[51,99,51,102],[42,40,42,46],[42,79,42,82],[42,36,42,37],[42,67,42,73],[42,60,42,64],[42,75,42,77],[43,49,43,51],[43,60,43,64],[50,95,50,98],[49,83,49,86],[48,91,48,94],[50,91,50,94],[48,87,48,90],[51,87,51,90],[51,83,51,86],[49,80,49,82],[50,99,50,102],[48,68,48,75],[49,58,49,61],[40,53,40,56],[41,49,41,51],[45,77,45,82],[47,68,47,75],[47,77,47,79],[47,80,47,82],[48,22,48,24],[44,19,44,24],[47,19,47,21],[47,95,47,98],[56,83,56,86],[55,59,55,62],[54,59,54,66],[55,55,55,57],[58,64,58,66],[58,58,58,60],[54,91,54,94],[54,95,54,98],[45,92,45,101],[45,57,45,61],[46,95,46,98],[48,99,48,102],[47,91,47,94],[50,77,50,79],[50,68,50,75],[46,69,46,74],[51,68,51,75],[49,99,49,102],[48,80,48,82],[50,87,50,90],[49,87,49,90],[51,80,51,82],[63,99,63,101],[63,74,63,76],[62,99,62,101],[61,68,61,71],[61,80,61,83],[62,87,62,89],[63,94,63,96],[65,73,65,76],[66,76,66,90],[65,88,65,91],[64,68,64,71],[63,89,63,91],[63,84,63,86],[65,68,65,71],[50,83,50,86],[58,52,58,54],[61,63,61,66],[57,67,58,102],[62,68,62,71],[62,75,62,77],[57,55,57,57],[60,97,60,102],[60,91,60,96],[61,59,61,62],[54,55,54,58],[55,63,55,65],[60,85,60,90],[58,61,58,63],[56,68,56,75],[54,83,54,86],[57,58,57,60],[56,77,56,79],[59,0,59,6],[58,0,58,6],[57,0,57,6],[59,7,59,9],[55,10,55,12],[56,13,56,15],[58,7,58,9],[57,10,57,12],[58,13,58,15],[55,13,55,15],[60,0,60,6],[60,13,60,15],[58,16,58,18],[57,16,57,18],[57,13,57,15],[60,10,60,12],[60,22,60,24],[56,16,56,18],[57,19,57,21],[57,22,57,24],[55,16,55,18],[55,19,55,21],[59,19,59,21],[58,19,58,21],[56,19,56,21],[56,22,56,24],[59,13,59,15],[60,19,60,21],[60,16,60,18],[59,16,59,18],[72,62,72,66],[69,35,69,37],[73,39,73,42],[73,7,73,9],[67,53,67,56],[67,57,67,61],[67,62,67,66],[68,48,68,52],[68,53,68,56],[68,57,68,61],[68,62,68,66],[67,43,67,47],[67,48,67,52],[71,39,71,42],[71,32,71,33],[73,10,73,12],[70,39,70,42],[72,10,72,12],[72,32,72,33],[72,57,72,61],[70,29,70,30],[71,29,71,30],[71,35,71,37],[69,7,69,9],[70,13,70,15],[59,59,59,62],[73,48,73,52],[68,13,68,15],[72,22,72,24],[76,35,76,37],[74,39,74,42],[75,29,75,30],[69,19,69,21],[73,86,73,92],[74,77,74,83],[74,87,74,91],[73,77,73,83],[80,35,81,38],[81,39,81,42],[81,67,82,102],[79,101,79,102],[80,96,80,98],[79,97,79,98],[78,91,78,94],[78,67,78,71],[74,68,74,74],[81,57,81,61],[80,62,80,66],[80,78,80,80],[80,57,80,61],[79,57,79,61],[78,77,78,81],[70,43,70,47],[80,53,80,56],[81,43,81,47],[75,53,75,56],[77,77,77,81],[75,39,75,42],[62,29,62,30],[62,22,62,24],[72,43,72,47],[68,35,68,37],[70,32,70,33],[73,25,73,28],[75,43,75,47],[72,39,72,42],[75,35,75,37],[73,43,73,47],[74,35,74,37],[71,43,71,47],[71,25,71,28],[73,16,73,18],[70,35,70,37],[69,32,69,33],[75,32,75,33],[74,32,74,33],[65,19,65,21],[65,22,65,24],[75,25,75,28],[69,39,69,66],[68,39,68,42],[68,43,68,47],[70,57,70,61],[66,22,66,24],[70,53,70,56],[73,62,73,66],[72,35,72,37],[70,62,70,66],[71,62,71,66],[62,19,62,21],[64,19,64,21],[64,22,64,24],[60,7,60,9],[62,10,62,12],[62,7,62,9],[63,7,63,9],[67,22,67,24],[65,16,65,18],[67,13,67,15],[63,16,63,18],[64,16,64,18],[65,10,65,12],[67,10,67,12],[73,22,73,24],[72,7,72,9],[62,13,62,15],[61,16,61,18],[61,13,61,15],[68,22,68,24],[70,7,70,9],[65,7,65,9],[63,22,63,24],[61,22,61,24],[71,22,71,24],[64,10,64,12],[64,13,64,15],[66,13,66,15],[68,10,68,12],[76,2,76,8],[76,17,76,24],[77,2,78,5],[77,6,78,8],[77,9,78,13],[77,14,78,16],[77,17,78,21],[77,22,78,24],[79,2,79,5],[79,6,79,8],[79,9,79,13],[91,17,91,21],[92,9,92,13],[92,14,92,16],[92,17,92,21],[72,19,72,21],[73,19,73,21],[84,6,84,8],[84,9,84,13],[84,14,84,16],[84,22,84,24],[85,6,85,8],[85,9,85,13],[85,14,85,16],[85,22,85,24],[85,17,85,21],[81,22,81,24],[79,14,79,16],[79,17,79,21],[79,22,79,24],[80,6,80,8],[80,9,80,13],[81,32,81,34],[81,29,81,31],[76,25,76,28],[70,19,70,21],[73,13,73,15],[88,17,88,24],[89,9,89,13],[89,17,89,21],[90,9,90,13],[90,17,90,21],[73,32,73,33],[72,29,72,30],[73,35,73,37],[76,29,76,30],[80,14,80,16],[80,17,80,21],[80,22,80,24],[76,9,76,16],[92,39,92,42],[92,43,92,45],[92,46,92,48],[91,52,91,57],[88,44,88,47],[89,39,89,42],[84,39,84,42],[83,36,83,37],[82,39,82,42],[84,48,84,52],[90,39,90,42],[90,61,90,63],[83,48,83,52],[84,53,84,56],[90,44,90,45],[90,55,90,57],[89,61,89,63],[83,43,83,47],[88,50,88,53],[82,57,82,61],[82,62,82,66],[82,43,82,47],[83,39,83,42],[90,64,90,66],[91,49,91,51],[83,57,83,61],[92,61,92,66],[91,35,91,36],[91,32,91,34],[91,43,91,45],[92,52,92,57],[90,52,90,54],[83,62,83,66],[92,49,92,51],[91,61,91,66],[74,53,74,56],[82,48,82,52],[81,53,81,56],[83,53,83,56],[74,48,74,52],[88,61,88,66],[74,57,74,61],[74,62,74,66],[78,48,78,52],[79,53,79,56],[77,48,77,52],[91,46,91,48],[82,53,82,56],[84,43,84,47],[81,48,81,52],[90,46,90,48],[79,43,79,47],[78,53,78,56],[90,50,90,51],[80,43,80,47],[84,57,84,61],[90,58,90,60],[81,62,81,66],[79,62,79,66],[75,57,75,61],[77,43,77,47],[80,92,80,94],[78,99,78,102],[77,87,77,90],[80,73,80,75],[78,72,78,76],[80,100,80,102],[80,82,80,86],[78,95,78,98],[78,87,78,90],[80,88,80,90],[80,68,80,70],[68,91,68,93],[68,82,68,84],[68,79,68,81],[70,79,70,81],[70,77,70,78],[68,72,68,75],[71,83,72,102],[68,94,68,96],[77,91,77,94],[73,95,73,101],[70,72,70,75],[71,67,72,82],[76,78,76,81],[70,83,70,84],[78,82,78,86],[74,96,74,100],[76,69,76,72],[77,82,77,86],[70,94,70,96],[67,67,70,71],[68,85,68,87],[68,88,68,90],[62,81,62,83],[65,78,65,81],[62,93,62,95],[70,88,70,90],[68,76,68,78],[67,79,67,81],[55,99,55,102],[53,99,53,102],[56,91,56,94],[52,95,52,98],[54,99,54,102],[67,88,67,90],[68,100,68,102],[56,95,56,98],[56,80,56,82],[52,80,52,82],[53,95,53,98],[70,100,70,102],[70,97,70,99],[70,91,70,93],[70,85,70,87],[52,77,52,79],[53,80,53,82],[53,83,53,86],[53,87,53,90],[52,99,52,102],[56,87,56,90],[55,91,55,94],[66,92,66,96],[55,95,55,98],[20,99,20,102],[25,91,25,94],[23,91,23,94],[23,95,23,98],[22,99,22,102],[20,95,20,98],[23,99,23,102],[22,91,22,94],[21,99,21,102],[21,91,21,94],[76,87,76,90],[76,96,76,99],[54,87,54,90],[42,93,42,95],[40,85,40,91],[40,93,40,95],[24,91,24,94],[24,95,24,98],[24,99,24,102],[25,95,25,98],[25,99,25,102],[56,99,56,102],[52,91,52,94],[51,95,51,98],[48,95,48,98],[46,99,46,102],[65,98,65,101],[67,97,67,102],[65,93,65,96],[65,83,65,86],[53,91,53,94],[52,87,52,90],[14,82,15,95],[55,80,55,82],[55,83,55,86],[55,87,55,90],[42,85,42,91],[36,93,36,95],[30,95,30,98],[38,85,38,91],[35,93,35,95],[14,67,15,81],[29,95,29,98],[41,97,41,100],[37,93,37,95],[29,99,29,102],[30,99,30,102],[29,91,29,94],[35,98,35,101],[36,97,36,100],[36,85,36,91],[39,97,39,100],[38,97,38,100],[37,97,37,100],[38,93,38,95],[39,93,39,95],[31,99,31,102],[40,97,40,100],[37,85,37,91],[35,86,35,90],[32,99,32,102],[41,85,41,91],[45,84,45,89],[43,83,44,102],[19,25,19,28],[19,29,19,31],[20,29,20,31],[22,29,22,31],[22,32,22,34],[23,29,23,31],[23,32,23,34],[23,35,23,38],[17,36,17,38],[49,39,49,45],[14,25,15,25],[14,26,15,28],[15,29,15,30],[15,32,15,33],[18,28,18,30],[16,32,16,33],[17,32,17,34],[18,31,18,34],[15,35,15,37],[20,35,20,38],[45,36,45,37],[16,36,16,37],[40,40,40,46],[41,36,41,37],[41,40,41,46],[39,40,39,46],[38,40,38,46],[35,36,35,37],[36,29,36,30],[24,29,24,30],[24,31,24,32],[24,33,24,34],[24,37,24,38],[25,25,25,26],[42,97,42,100],[41,32,41,35],[42,32,42,35],[40,49,40,51],[40,36,40,37],[45,32,45,35],[44,25,44,28],[45,25,45,28],[27,33,27,34],[40,29,40,30],[44,29,44,30],[35,29,35,30],[40,32,40,35],[26,27,26,28],[27,25,27,26],[24,35,24,36],[30,49,30,51],[33,53,33,56],[43,67,44,82],[31,95,31,98],[31,91,31,94],[32,60,32,64],[32,91,32,94],[33,83,34,96],[33,67,34,80],[32,95,32,98],[30,91,30,94],[27,77,27,80],[29,77,29,80],[28,68,28,72],[25,29,26,30],[25,31,26,32],[46,25,46,28],[25,35,26,36],[44,36,44,37],[41,29,41,30],[45,29,45,30],[27,35,27,36],[46,29,46,30],[46,32,46,35],[27,27,27,28],[25,33,26,34],[53,68,53,75],[53,77,53,79],[52,68,52,75],[50,55,50,57],[49,46,49,49],[49,50,49,53],[49,54,49,57],[48,62,48,65],[49,62,49,66],[50,25,50,28],[38,49,38,51],[38,53,38,56],[38,60,38,64],[38,75,38,77],[51,25,51,28],[51,29,51,32],[50,29,50,32],[51,36,51,38],[50,59,50,61],[51,77,51,79],[57,43,57,46],[55,39,55,42],[50,47,50,49],[50,50,50,53],[48,50,48,53],[54,43,54,46],[50,63,50,66],[50,80,50,82],[43,40,43,46],[43,53,43,56],[42,49,42,51],[42,53,42,56],[56,39,56,42],[57,39,57,42],[55,68,55,75],[55,77,55,79],[54,80,54,82],[54,68,54,75],[54,77,54,79],[57,64,57,66],[55,47,55,49],[56,48,56,53],[18,35,18,38],[41,93,41,95],[22,35,22,38],[21,35,21,38],[19,35,19,38],[46,36,46,37],[32,73,32,76],[32,77,32,80],[32,81,32,84],[39,85,39,91],[50,33,50,38],[25,37,26,38],[27,37,27,38],[36,36,36,37],[36,79,36,82],[20,32,20,34],[54,47,54,50],[54,51,54,54],[51,33,51,35],[54,39,54,42],[27,31,27,32],[44,32,44,35],[48,56,48,59],[48,77,48,79],[49,77,49,79],[49,68,49,75],[52,83,52,86],[40,67,41,73],[39,79,39,82],[39,49,39,51],[41,60,41,64],[39,53,39,56],[67,82,67,84],[74,29,74,30],[67,16,67,18],[68,32,68,33],[61,19,61,21],[63,19,63,21],[62,16,62,18],[68,29,68,30],[73,29,73,30],[72,25,72,28],[68,16,68,18],[66,35,66,38],[67,39,67,42],[73,53,73,56],[60,36,60,37],[55,35,55,38],[58,39,58,42],[61,39,61,42],[65,39,65,42],[61,36,61,37],[61,29,61,30],[74,0,75,24],[72,13,72,15],[73,0,73,6],[60,29,60,30],[58,48,58,50],[57,51,57,54],[55,43,55,45],[57,61,57,63],[70,0,70,6],[71,16,71,18],[69,29,69,30],[91,26,91,27],[88,28,88,29],[88,32,88,34],[83,32,83,33],[66,39,66,66],[76,53,76,56],[75,62,75,66],[57,47,57,50],[75,48,75,52],[71,57,71,61],[73,57,73,61],[59,43,59,56],[60,43,60,47],[60,48,60,52],[60,53,60,56],[61,43,61,47],[78,57,78,61],[76,57,76,61],[77,62,77,66],[78,62,78,66],[77,57,77,61],[84,62,84,66],[76,32,76,33],[76,48,76,52]],"merged_total":1104,"flags":["merged_cut"]}
[{"$f":"+データ一覧!N2","v":0}]
[{"$f":"+データ一覧!N5","v":0}]
[]
[null,null,null,null,null,null,null,null,null,null,null,null,null,null,null,null,null,null,null,null,null,null,null,null,null,null,null,null,"【市章とそのいわれ】","越前（ECHIZEN）市の頭文字である「Ｅ」をモチーフに",null,null,null,null,null,null,null,null,null,"　【位置および地勢】越前市は、福井県のほぼ中央に位置し、市の中央を北陸自動車道と",null,null,null,null,null,null,null,null,null,null,null,null,null,null,null,null,null,null,null,null,null,null,null,null,null,null,null,null,null,null,"所在地",null,null,null,null,null,null,null,"〒915-8530"]
[null,null,null,null,null,null,null,null,null,null,null,null,null,null,null,null,null,null,null,null,null,null,null,null,null,null,null,null,null,"デザイン化しています。",null,null,null,null,null,null,null,null,null,null,"国道８号が縦断し、関西・中央圏などの主要都市や福井市・敦賀市など周辺都市との",null,null,null,null,null,null,null,null,null,null,null,null,null,null,null,null,null,null,null,null,null,null,null,null,null,null,null,null,null,null,null,null,null,null,null,null,null,"越前市府中一丁目１３番７号"]
[{"$f":"+データ一覧!N3","v":"えちぜんし"},null,null,null,null,null,null,null,null,null,null,null,null,null,null,null,null,null,null,null,null,null,null,null,null,null,null,null,null,"３つの太く流れるようなラインは、かつて越前の国府が",null,null,null,null,null,null,null,null,null,null,"交通の動脈となっている。"]
[{"$f":"データ一覧!N6","v":"越前市"},null,null,null,null,null,null,null,null,null,null,null,null,null,null,null,null,null,null,null,null,null,null,null,null,null,null,null,null,"置かれて以来連綿と積み重ねられてきた歴史、伝統、",null,null,null,null,null,null,null,null,null,null,"また、両路線に交差するように国道417号や県道、主要地方道が横断している。",null,null,null,null,null,null,null,null,null,null,null,null,null,null,null,null,null,null,null,null,null,null,null,null,null,null,null,null,null,"電話番号",null,null,null,null,null,null,null,"（０７７８）２２－３０００"]
[null,null,null,null,null,null,null,null,null,null,null,null,null,null,null,null,null,null,null,null,null,null,null,null,null,null,null,null,null,"文化そして豊かな自然を、また、越前市の将来像である",null,null,null,null,null,null,null,null,null,null,"地形は、東部の越前中央山脈、西部の丹生山地、南部の「越前冨士」と呼ばれる"]
[null,null,null,null,null,null,null,null,null,null,null,null,null,null,null,null,null,null,null,null,null,null,null,null,null,null,null,null,null,"「交流拠点都市」、「生活快適都市」、「伝統文化都市」",null,null,null,null,null,null,null,null,null,null,"日野山など、４００～７００メートル級の山々に囲まれ、武生盆地を作っている。"]
[null,null,null,null,null,null,null,null,null,null,null,null,null,null,null,null,null,null,null,null,null,null,null,null,null,null,null,null,null,"を表現している。",null,null,null,null,null,null,null,null,null,null,"武生盆地の中央を、県内三大河川のひとつ日野川が南北に貫流し、九頭竜川と名を",null,null,null,null,null,null,null,null,null,null,null,null,null,null,null,null,null,null,null,null,null,null,null,null,null,null,null,null,null,"最寄駅および距離",null,null,null,null,null,null,null,"ＪＲ北陸本線武生駅  下車１００ｍ"]
[null,null,null,null,null,null,null,null,null,null,null,null,null,null,null,null,null,null,null,null,null,null,null,null,null,null,null,null,null,null,null,null,null,null,null,null,null,null,null,null,"変えて日本海に注いでいる。旧今立町内に流れる五つの川は、鞍谷川に合流した後、"]
[null,null,null,null,null,null,null,null,null,null,null,null,null,null,null,null,null,null,null,null,null,null,null,null,null,"【市が掲げる標語】　　環境・文化創造都市",null,null,null,null,null,null,null,null,null,null,null,null,null,null,"福井市内で日野川に合流している。"]
[null,null,null,null,null,null,null,null,null,null,null,null,null,null,null,null,null,null,null,null,null,null,null,null,null,null,null,null,null,null,null,null,null,null,null,null,null,null,null,null,null,null,null,null,null,null,null,null,null,null,null,null,null,null,null,null,null,null,null,null,null,null,null,null,null,null,null,null,null,null,"ホームページ",null,null,null,null,null,null,null,"http://www.city.echizen.lg.jp/"]
[]
["  １  土            　　地",null,null,null,null,null,null,null,null,null,null,null,null,null,null,null,null,null,null,null,null,null,null,null,null,{"$f":"データ一覧!$A$240","v":"2年"},"産米収穫量",null,null,"　 収　穫　量",null,null," 　作 付 面 積",null,null,"   10a当たり収量",null,null,null,null,null,null,null,null,null,null,null,null,null,null,null,null,null,null,null,null,null,null,null,null,null,null,null,null,null,null,null," １５  労　　　　　　　働",null,null,null,null,null,null,null,null,null,null,null,null,null,null,"27.10.1"]
[null,null,null,null,null,null,null,null,null,null,null,null,null,null,null,null,null,null,null,null,null,null,null,null,null,null,null,null,null,{"$f":"データ一覧!$N$240","v":13300},null,"t",{"$f":"データ一覧!$N$241","v":2550},null,"ha",{"$f":"データ一覧!N242","v":522},null,null,"kg"," １０  工　　　　　　業 ",null,null,null,null,null,null,null,null,null,null,null,null,null,{"$f":"データ一覧!$A$332","v":"2.6.1（令和元年実績）"}]
["   総          面           積",null,null,null,null,null,null,null,null,null," 固 定 資 産 概 要 調 書 に よ る 地 目 別 面 積",null,null,null,null,null,null,null,null,null,null,null,null,null,null,null,null,null,"   総　　　数",null,null,null,"うち　　田",null,null,null,"うち　　畑",null,null,null,null,null,null,null,null,null,null,null,null,null,null,null,null,null,null,null,null,null,null,null,null,null,null,null,null,null,null,null,null,null,null,null,null,null,"産業別就業者数   "]
[null,null,{"$f":"データ一覧!$A$7","v":"3.10.1"},null,null,null,null,null,null,null,null,null,null,null,null,null,{"$f":"データ一覧!$A$9","v":"3.1.1"},null,null,null,null,null,null,null,null," 耕  地  面  積",null,null,null,"       ha",null,null,"ha ",null,null,null,"ha ",null,null,"      ","産業分類",null,null,null,null,null,null,null,"事業所数",null,null,null,null,"従業者数",null,null,null,null,null,"年間製造品出荷額等",null,null,null,null,null,null,null,null,"区  分",null,null,null,null,"総    数",null,null,null,null,"男",null,null,null,"女",null,null,"  ","区  分",null,null,null,null,"総    数",null,null,null,null,"男",null,null,null,"女"]
[null,null,null,null,null,null,"㎢",null,null,null,"   総       数",null,null,null,null,"  う ち     田",null,null,null,null,"  う ち     畑",null,null,null,null,{"$f":"データ一覧!A243","v":"2.7.15"},null,null,{"$f":"データ一覧!$N$243","v":3620},null,null,{"$f":"データ一覧!$N$244","v":3440},null,null,null,{"$f":"データ一覧!$N$245","v":180},null,null,null,null,null,null,null,null,null,null,null,null,"　　   ",null,null,"事業所",null,"　　　　　　　 人",null,null,"人",null,"　　　　　　　　　　　　　　万円",null,null,null,null,null,null,"万円",null,null,null,null,null,null,null,"      人",null,null,null,null,null," 人",null,null,null," 人",null,null,null,null,null,null,null,"      人",null,null,null,"      人",null,null,null,"      人"]
[null,null,null,{"$f":"データ一覧!N7","v":230.7},null,null,null,null,null,null,null,null,null,null,"ha",null,null,null,null,"ha",null,null,null,null,"ha","農 業 生 産 物",null,null,null,"作 付 面 積",null,null,"収 穫 量",null,null,"10a当たり収量",null,null,null,"     ","総数",null,null,null,null,null,null,null,null,{"$f":"データ一覧!N332","v":286},null,null,null,{"$f":"+データ一覧!N357","v":16272},null,null,null,null,null,null,{"$f":"データ一覧!N382","v":64886480},null,null,null,null,null,null," 総　　　数",null,null,null,null,null,{"$f":"BZ20+CD20","v":41593},null,null,null,{"$f":"データ一覧!N507","v":22823},null,null,null,{"$f":"データ一覧!N532","v":18770}]
[null,null,null,null,null,null,null,null,null,null,null,{"$f":"データ一覧!N9","v":13154.8},null,null,null,null,{"$f":"データ一覧!N10","v":3708.7},null,null,null,null,{"$f":"データ一覧!N11","v":333.3},null,null,null,{"$f":"データ一覧!$A$246","v":"2年中"},null,null,null,"ha",null,null,"t",null,null,"kg",null,null,null,"     食料品","食料品",null,null,null,null,null,null,null,null,{"$f":"データ一覧!N333","v":28},null,null,null,{"$f":"+データ一覧!N358","v":881},null,null,null,null,null,null,{"$f":"データ一覧!N383","v":1338482},null,null,null,null,null,null,null,null,null,null,null,null,null,null,null,null,null,null,null,null,null,null,null,null,null,"卸売業,小売業",null,null,null,null,{"$f":"CR21+CV21","v":6078},null,null,null,{"$f":"データ一覧!N520","v":2788},null,null,null,{"$f":"データ一覧!N545","v":3290}]
["  町 ･ 丁 ･ 大 字",null,null,null,null,null,null,null,null,null,"  う ち  宅 地",null,null,null,null,"  う ち  山 林",null,null,null,null,"  う ち  原 野",null,null,null,null,"水　　　　　稲",null,null,null,{"$f":"データ一覧!N246","v":2550},null,null,{"$f":"データ一覧!N247","v":13300},null,null,{"$f":"データ一覧!N248","v":522},null,null,null,"     飲料・飼料","飲料・飼料",null,null,null,null,null,null,null,null,{"$f":"データ一覧!N334","v":1},null,null,null,{"$f":"+データ一覧!N359","v":7},null,null,null,null,null,null,{"$f":"データ一覧!N384","v":"x"},null,null,null,null,null,null," 第１次産業",null,null,null,null,null,{"$f":"BZ22+CD22","v":1153},null,null,null,{"$f":"データ一覧!N508","v":821},null,null,null,{"$f":"データ一覧!N533","v":332},null,null,null,null,"金融業,保険業",null,null,null,null,{"$f":"CR22+CV22","v":758},null,null,null,{"$f":"データ一覧!N521","v":315},null,null,null,{"$f":"データ一覧!N546","v":443}]
["  区    画    数",null,null,null,null,null,null,{"$f":"データ一覧!N8","v":253},null,null,null,null,null,null,"ha",null,null,null,null,"ha",null,null,null,null,"ha","六　条　大　麦",null,null,null,{"$f":"データ一覧!N249","v":256},null,null,{"$f":"データ一覧!N250","v":686},null,null,{"$f":"データ一覧!N251","v":268},null,null,null,"     繊維","繊維",null,null,null,null,null,null,null,null,{"$f":"データ一覧!N335","v":63},null,null,null,{"$f":"+データ一覧!N360","v":1600},null,null,null,null,null,null,{"$f":"データ一覧!N385","v":2265983},null,null,null,null,null,null,"  ","農業",null,null,null,null,{"$f":"BZ23+CD23","v":1097},null,null,null,{"$f":"データ一覧!N509","v":769},null,null,null,{"$f":"データ一覧!N534","v":328},null,null,null,"  ","不動産業",null,null,null,null,307,null,null,null,{"$f":"データ一覧!N522","v":155},null,null,null,{"$f":"データ一覧!N547","v":152}]
[{"$f":"データ一覧!$A$8","v":"2.4.1"},null,null,null,null,null,null,null,null,null,null,{"$f":"データ一覧!N12","v":1937.8},null,null,null,null,{"$f":"データ一覧!N13","v":4838.7},null,null,null,null,{"$f":"データ一覧!N14","v":107.9},null,null,null,"大　　      豆",null,null,null,{"$f":"データ一覧!N252","v":71},null,null,{"$f":"データ一覧!N253","v":43},null,null,{"$f":"データ一覧!N254","v":60},null,null,null,"     衣服","木材",null,null,null,null,null,null,null,null,{"$f":"データ一覧!N336","v":9},null,null,null,{"$f":"+データ一覧!N361","v":164},null,null,null,null,null,null,{"$f":"データ一覧!N386","v":267396},null,null,null,null,null,null,"  ","林業",null,null,null,null,48,null,null,null,{"$f":"データ一覧!N510","v":45},null,null,null,{"$f":"データ一覧!N535","v":3},null,null,null,"  ","学術研究",null,null,null,null,897,null,null,null,{"$f":"データ一覧!N523","v":554},null,null,null,{"$f":"データ一覧!N548","v":343}]
["  ２  世　帯　数　と　人　口",null,null,null,null,null,null,null,null,null,null,null,null,null,null,null,null,null,null,null,null,null,null,null,null,null,null,"  区　分",null," 乳 用 牛",null," 肉 用 牛",null,"豚",null,"採卵鶏",null,"ブロイラー",null,"     木材","家具",null,null,null,null,null,null,null,null,{"$f":"データ一覧!N337","v":3},null,null,null,{"$f":"+データ一覧!N362","v":122},null,null,null,null,null,null,{"$f":"データ一覧!N387","v":293381},null,null,null,null,null,null,"  ","漁業",null,null,null,null,8,null,null,null,{"$f":"データ一覧!N511","v":7},null,null,null,{"$f":"データ一覧!N536","v":1},null,null,null,"  ","宿泊業,飲食ｻｰﾋﾞｽ",null,null,null,null,1711,null,null,null,{"$f":"データ一覧!N524","v":619},null,null,null,{"$f":"データ一覧!N549","v":1092}]
[null,null,null,null,null,null,null,null,null,null,null,null,null,null,null,null,null,null,null,null,null,null,null,null,null,"畜　産",null," 飼養農家",null,{"$f":"データ一覧!$N$255","v":0},null,{"$f":"データ一覧!$N$257","v":"x"},null,{"$f":"データ一覧!$N$259","v":"x"},null,{"$f":"データ一覧!$N$261","v":4},null,{"$f":"データ一覧!$N$263","v":0},null,"     家具","パルプ・紙",null,null,null,null,null,null,null,null,{"$f":"データ一覧!N338","v":37},null,null,null,{"$f":"+データ一覧!N363","v":609},null,null,null,null,null,null,{"$f":"データ一覧!N388","v":1341258},null,null,null,null,null,null," 第２次産業",null,null,null,null,null,17417,null,null,null,{"$f":"データ一覧!N512","v":11673},null,null,null,{"$f":"データ一覧!N537","v":5744},null,null,null,"  ","生活関連ｻｰﾋﾞｽ業",null,null,null,null,1214,null,null,null,{"$f":"データ一覧!N525","v":435},null,null,null,{"$f":"データ一覧!N550","v":779}]
[null,null,null,null,null,null,null,null,"        人　　　　　　　　　　口",null,null,null,null,null,null,null,null,null,null,null,"１世帯当",null,"人    口",null,null,{"$f":"データ一覧!$A$255","v":"3.3.31"},null,"（戸）",null,null,null,null,null,null,null,null,null,null,null,"     パルプ・紙","印刷",null,null,null,null,null,null,null,null,{"$f":"データ一覧!N339","v":9},null,null,null,{"$f":"+データ一覧!N364","v":107},null,null,null,null,null,null,{"$f":"データ一覧!N389","v":138918},null,null,null,null,null,null,null,"鉱業，採石業",null,null,null,null,10,null,null,null,{"$f":"データ一覧!N513","v":10},null,null,null,{"$f":"データ一覧!N538","v":0},null,null,null,"  ","教育,学習支援業",null,null,null,null,1642,null,null,null,{"$f":"データ一覧!N526","v":640},null,null,null,{"$f":"データ一覧!N551","v":1002}]
[" 区　　　　分",null,null,null,null,"世帯数",null,null," 総   数",null,null,"    男",null,null,"    女",null,null,"  男／女",null,null,"たり人員",null,"密    度",null,null,null,null," 頭 羽",null,{"$f":"データ一覧!$N$256","v":0},null,{"$f":"データ一覧!$N$258","v":12},null,{"$f":"データ一覧!$N$260","v":1254},null,{"$f":"データ一覧!$N$262","v":46740},null,{"$f":"データ一覧!$N$264","v":0},null,"     出版・印刷","化学",null,null,null,null,null,null,null,null,{"$f":"データ一覧!N340","v":5},null,null,null,{"$f":"+データ一覧!N365","v":450},null,null,null,null,null,null,{"$f":"データ一覧!N390","v":2703466},null,null,null,null,null,null,"  ","建設業",null,null,null,null,3147,null,null,null,{"$f":"データ一覧!N514","v":2623},null,null,null,{"$f":"データ一覧!N539","v":524},null,null,null,null,"医療，福祉",null,null,null,null,4460,null,null,null,{"$f":"データ一覧!N527","v":787},null,null,null,{"$f":"データ一覧!N552","v":3673}]
[null,null,null,null,null,"    世 帯",null,null,"       人",null,null,"       人",null,null,"       人",null,null,null,"　　％",null,"    人",null,"    人/㎢",null,null,null,null,null,null,null,null,null,null,null,null,null,null,null,null,"     化学","石油・石炭",null,null,null,null,null,null,null,null,{"$f":"データ一覧!N341","v":1},null,null,null,{"$f":"+データ一覧!N366","v":8},null,null,null,null,null,null,{"$f":"データ一覧!N391","v":"x"},null,null,null,null,null,null,null,"製造業",null,null,null,null,14260,null,null,null,{"$f":"データ一覧!N515","v":9040},null,null,null,{"$f":"データ一覧!N540","v":5220},null,null,null,null,"複合サービス事業",null,null,null,null,430,null,null,null,{"$f":"データ一覧!N528","v":252},null,null,null,{"$f":"データ一覧!N553","v":178}]
[{"$f":"データ一覧!$A$22","v":" 2.10.1"},null,null,null,null,{"$f":"データ一覧!N22","v":22678},null,null,{"$f":"+L30+O30","v":84897},null,null,{"$f":"データ一覧!N24","v":41272},null,null,{"$f":"データ一覧!N25","v":43625},null,null,null,{"$f":"+L30/O30*100","v":94.606303724928367},null,{"$f":"データ一覧!N27","v":3.74},null,{"$f":"データ一覧!N21","v":0},null,null,"  ５  林               業",null,null,null,null,null,null,null,null,null,null,null,null,null,"     石油・石炭","プラスチック",null,null,null,null,null,null,null,null,{"$f":"データ一覧!N342","v":28},null,null,null,{"$f":"+データ一覧!N367","v":1184},null,null,null,null,null,null,{"$f":"データ一覧!N392","v":2928128},null,null,null,null,null,null," 第３次産業",null,null,null,null,null,22259,null,null,null,{"$f":"データ一覧!N516","v":9904},null,null,null,{"$f":"データ一覧!N541","v":12355},null,null,null,null,"サービス業",null,null,null,null,1747,null,null,null,{"$f":"データ一覧!N529","v":1109},null,null,null,{"$f":"データ一覧!N554","v":638}]
[{"$f":"データ一覧!$A$29","v":" 7.10.1"},null,null,null,null,{"$f":"データ一覧!N29","v":24233},null,null,{"$f":"+L31+O31","v":85533},null,null,{"$f":"データ一覧!N31","v":41641},null,null,{"$f":"データ一覧!N32","v":43892},null,null,null,94.8715027795498,null,{"$f":"データ一覧!N34","v":3.53},null,{"$f":"データ一覧!N28","v":0},null,null,null,null,null,null,null,null,null,null,null,null,null,null,null,null,"     プラスチック","ゴム",null,null,null,null,null,null,null,null,{"$f":"データ一覧!N343","v":1},null,null,null,{"$f":"+データ一覧!N368","v":122},null,null,null,null,null,null,{"$f":"データ一覧!N393","v":"x"},null,null,null,null,null,null,null,"電気･ｶﾞｽ･水道業",null,null,null,null,153,null,null,null,{"$f":"データ一覧!N517","v":129},null,null,null,{"$f":"データ一覧!N542","v":24},null,null,null,null,"公務",null,null,null,null,1100,null,null,null,{"$f":"データ一覧!N530","v":719},null,null,null,{"$f":"データ一覧!N555","v":381}]
[{"$f":"データ一覧!$A$36","v":"12.10.1"},null,null,null,null,{"$f":"データ一覧!N36","v":26461},null,null,{"$f":"+L32+O32","v":87699},null,null,{"$f":"データ一覧!N38","v":42858},null,null,{"$f":"データ一覧!N39","v":44841},null,null,null,95.577707901251088,null,{"$f":"データ一覧!N41","v":3.31},null,{"$f":"データ一覧!N35","v":0},null,null,"    　森　　　林　　　総　　　面　　　積   ",null,null,null,null,null,null,null,{"$f":"データ一覧!$A$265","v":"3.3.31"},null,null,null,null,null,"     ゴム","皮革",null,null,null,null,null,null,null,null,{"$f":"データ一覧!N344","v":0},null,null,null,{"$f":"+データ一覧!N369","v":0},null,null,null,null,null,null,{"$f":"データ一覧!N394","v":0},null,null,null,null,null,null,null,"情報通信業",null,null,null,null,367,null,null,null,{"$f":"データ一覧!N518","v":262},null,null,null,{"$f":"データ一覧!N543","v":105},null,null,null," 分類不能の産業",null,null,null,null,null,764,null,null,null,{"$f":"データ一覧!N531","v":425},null,null,null,{"$f":"データ一覧!N556","v":339}]
[{"$f":"+データ一覧!$A$43","v":"17.10.1"},null,null,null,null,{"$f":"データ一覧!N43","v":27916},null,null,{"$f":"+L33+O33","v":87742},null,null,{"$f":"データ一覧!N45","v":42706},null,null,{"$f":"データ一覧!N46","v":45036},null,null,null,94.826361133315572,null,{"$f":"データ一覧!N48","v":3.14},null,{"$f":"データ一覧!N49","v":380.2},null,null,"　　　森　　　　　　　林　　　　　　　の　　　　　　　構　　　　　　　成",null,null,null,null,null,null,null,null,null,null,null,null,null,"     皮革","窯業・土石",null,null,null,null,null,null,null,null,{"$f":"データ一覧!N345","v":12},null,null,null,{"$f":"+データ一覧!N370","v":466},null,null,null,null,null,null,{"$f":"データ一覧!N395","v":1591563},null,null,null,null,null,null,"  ","運輸業,郵便業",null,null,null,null,{"$f":"BZ33+CD33","v":1395},null,null,null,{"$f":"データ一覧!N519","v":1140},null,null,null,{"$f":"データ一覧!N544","v":255}]
[{"$f":"+データ一覧!$A$50","v":"22.10.1"},null,null,null,null,{"$f":"+データ一覧!N50","v":27601},null,null,{"$f":"+L34+O34","v":85614},null,null,{"$f":"+データ一覧!N52","v":41762},null,null,{"$f":"+データ一覧!N53","v":43852},null,null,null,95.233968804159446,null,{"$f":"+データ一覧!N55","v":3.1},null,{"$f":"+データ一覧!N56","v":371},null,null,null,null,null,null,null,"       ha",null,null,null,null,null,null,"       ha",null,"     窯業・土石","鉄鋼",null,null,null,null,null,null,null,null,{"$f":"データ一覧!N346","v":4},null,null,null,{"$f":"+データ一覧!N371","v":95},null,null,null,null,null,null,{"$f":"データ一覧!N396","v":513363},null,null,null,null,null,null," １６  社　 会 　福　 祉",null,null,null,null,null,null,null,null,null,null,null,null,null,null,null,{"$f":"データ一覧!$A$557","v":"3.4.1"}]
[{"$f":"データ一覧!$A$57","v":"27.10.1"},null,null,null,null,{"$f":"データ一覧!N57","v":27889},null,null,{"$f":"データ一覧!N58","v":81524},null,null,{"$f":"データ一覧!N59","v":39859},null,null,{"$f":"データ一覧!N60","v":41665},null,null,null,95.665426617064682,null,{"$f":"データ一覧!N62","v":2.9231596686865791},null,{"$f":"データ一覧!N63","v":353.4},null,null,"  総　　　　　   数",null,null,null,{"$f":"データ一覧!N265","v":14185.62},null,null," 天然林       針葉樹",null,null,null,{"$f":"データ一覧!N268","v":628.61},null,null,"     鉄鋼","非鉄金属",null,null,null,null,null,null,null,null,{"$f":"データ一覧!N347","v":4},null,null,null,{"$f":"+データ一覧!N372","v":274},null,null,null,null,null,null,{"$f":"データ一覧!N397","v":2562113}]
["令　2.10.1（国調）",null,null,null,null,{"$f":"データ一覧!N64","v":29634},null,null,{"$f":"データ一覧!N65","v":80611},null,null,{"$f":"データ一覧!N66","v":39657},null,null,{"$f":"データ一覧!N67","v":40954},null,null,null,{"$f":"+L36/O36*100","v":96.833032182448591},null,{"$f":"データ一覧!N72","v":2.68},null,{"$f":"データ一覧!N73","v":348.01907238838322},null,null,"  人工林     針葉樹",null,null,null,{"$f":"データ一覧!N266","v":7775.12},null,null," 天然林       広葉樹",null,null,null,{"$f":"データ一覧!N269","v":5465.82},null,null,"     非鉄金属","金属",null,null,null,null,null,null,null,null,{"$f":"データ一覧!N348","v":26},null,null,null,{"$f":"+データ一覧!N373","v":354},null,null,null,null,null,null,{"$f":"データ一覧!N398","v":873449},null,null,null,null,null,null,"    ","区分",null,null,null,null,null,null,"施設数",null,null,null,null,"収容定員",null,null,null,null,null,"区分",null,null,null,null,null,null,"施設数",null,null,null,null,"収容定員"]
["年",null,"  区",null," 0歳",null,null,"15歳",null,null,"25歳",null,null,"35歳",null,null,"45歳",null,null,"55歳",null,null,"65歳",null,null,"  人工林     広葉樹",null,null,null,{"$f":"データ一覧!N267","v":59.06},null,null," 竹               林",null,null,null,{"$f":"データ一覧!N270","v":135.77000000000001},null,null,"     金属","はん用機械",null,null,null,null,null,null,null,null,{"$f":"データ一覧!N349","v":2},null,null,null,{"$f":"+データ一覧!N374","v":28},null,null,null,null,null,null,{"$f":"データ一覧!N399","v":"x"},null,null,null,null,null,null,"生活保護施設",null,null,null,null,null,null,null,{"$f":"データ一覧!N557","v":0},null,null,null,{"$f":"データ一覧!N570","v":0},null,null,null,"人",null,"指定障害者支援施設",null,null,null,null,null,null,null,{"$f":"データ一覧!N563","v":2},null,null,null,{"$f":"データ一覧!N576","v":138},null,null,null,"人"]
["齢","令",null,null,null,"～",null,null,"～",null,null,"～",null,null,"～",null,null,"～",null,null,"～",null,null,null,null,null,null,null,null,null,null,null,null,null,null,null,null,null,null,"     一般機械","生産用機械",null,null,null,null,null,null,null,null,{"$f":"データ一覧!N350","v":9},null,null,null,{"$f":"+データ一覧!N375","v":166},null,null,null,null,null,null,{"$f":"データ一覧!N400","v":240970},null,null,null,null,null,null,"地域福祉施設",null,null,null,null,null,null,null,{"$f":"データ一覧!N558","v":0},null,null,null,{"$f":"データ一覧!N571","v":0},null,null,null,null,null,"指定相談支援事業所",null,null,null,null,null,null,null,{"$f":"データ一覧!N564","v":2},null,null,null,{"$f":"データ一覧!N577","v":0}]
["階",{"$f":"+LEFT(データ一覧!$A$83,1)","v":"3"},"  分",null,null,null,"14歳",null,null,"24歳",null,null,"34歳",null,null,"44歳",null,null,"54歳",null,null,"64歳",null,null,"以上","    林     野     の     構     成",null,null,null,null,null,null,"保     有     形     態     別",null,null,null,null,null,null,"     電気機械","業務用機械",null,null,null,null,null,null,null,null,{"$f":"データ一覧!N351","v":3},null,null,null,{"$f":"+データ一覧!N376","v":341},null,null,null,null,null,null,{"$f":"データ一覧!N401","v":418519},null,null,null,null,null,null,"老人福祉施設",null,null,null,null,null,null,null,{"$f":"データ一覧!N559","v":20},null,null,null,{"$f":"データ一覧!N572","v":496},null,null,null,null,null,"児童福祉施設",null,null,null,null,null,null,null,{"$f":"データ一覧!N565","v":56},null,null,null,{"$f":"データ一覧!N578","v":3279}]
["級","・",null,null,null,null,"人",null,null,"人",null,"    人",null,null,"    人",null,null,"    人",null,null,"    人",null,null,"    人",null,null,null,null,null,null,null,"ha",null,null,null,null,null,"       ha",null,null,"電子・デバイス",null,null,null,null,null,null,null,null,{"$f":"データ一覧!N352","v":5},null,null,null,{"$f":"+データ一覧!N377","v":3979},null,null,null,null,null,null,{"$f":"データ一覧!N402","v":15970131},null,null,null,null,null,null,"介護保険施設",null,null,null,null,null,null,null,{"$f":"データ一覧!N560","v":111},null,null,null,{"$f":"データ一覧!N573","v":2281},null,null,null,null,null,"母子福祉施設",null,null,null,null,null,null,null,{"$f":"データ一覧!N566","v":0},null,null,null,{"$f":"データ一覧!N579","v":0}]
["別",{"$f":"+MID(データ一覧!$A$83,3,2)","v":"10"},"総 数",null,{"$f":"+E42+E43","v":9950},null,null,{"$f":"+H42+H43","v":7154},null,null,{"$f":"+K42+K43","v":8448},null,null,{"$f":"+N42+N43","v":9462},null,null,{"$f":"+Q42+Q43","v":11271},null,null,{"$f":"+T42+T43","v":9472},null,null,{"$f":"+W42+W43","v":23805},null,null," 無立木地   伐採跡地",null,null,null,{"$f":"データ一覧!N271","v":0},null,null,"国   　　　 　 有",null,null,null,{"$f":"データ一覧!N273","v":54.83},null,null,null,"電気機械",null,null,null,null,null,null,null,null,{"$f":"データ一覧!N353","v":17},null,null,null,{"$f":"+データ一覧!N378","v":1429},null,null,null,null,null,null,{"$f":"データ一覧!N403","v":13895363},null,null,null,null,null,null,"障害者自立支援法施行前からの身体障害者福祉施設",null,null,null,null,null,null,null,{"$f":"データ一覧!N561","v":0},null,null,null,{"$f":"データ一覧!N574","v":0},null,null,null,null,null,"婦人保護施設",null,null,null,null,null,null,null,{"$f":"データ一覧!N567","v":0},null,null,null,{"$f":"データ一覧!N580","v":0}]
["人","・","  男",null,{"$f":"データ一覧!N83","v":5151},null,null,{"$f":"データ一覧!N84","v":3692},null,null,{"$f":"データ一覧!N85","v":4387},null,null,{"$f":"データ一覧!N86","v":4907},null,null,{"$f":"データ一覧!N87","v":5828},null,null,{"$f":"データ一覧!N88","v":4698},null,null,{"$f":"データ一覧!N89","v":10426},null,null," 無立木地   未立木地",null,null,null,{"$f":"データ一覧!N272","v":121.23999999999991},null,null,"公       　　  有",null,null,null,{"$f":"データ一覧!N274","v":996.81},null,null,"     輸送機械","情報通信機械",null,null,null,null,null,null,null,null,{"$f":"データ一覧!N354","v":1},null,null,null,{"$f":"+データ一覧!N379","v":194},null,null,null,null,null,null,{"$f":"データ一覧!N404","v":"x"},null,null,null,null,null,null,null,null,null,null,null,null,null,null,null,null,null,null,null,null,null,null,null,null,"その他の社会福祉施設",null,null,null,null,null,null,null,{"$f":"データ一覧!N568+データ一覧!N569","v":1},null,null,null,{"$f":"データ一覧!N581+データ一覧!N582","v":0}]
["口",{"$f":"+RIGHT(データ一覧!$A$83,1)","v":"1"},"  女",null,{"$f":"データ一覧!N91","v":4799},null,null,{"$f":"データ一覧!N92","v":3462},null,null,{"$f":"データ一覧!N93","v":4061},null,null,{"$f":"データ一覧!N94","v":4555},null,null,{"$f":"データ一覧!N95","v":5443},null,null,{"$f":"データ一覧!N96","v":4774},null,null,{"$f":"データ一覧!N97","v":13379},null,null,null,null,null,null,null,null,null,"私          　 有",null,null,null,{"$f":"データ一覧!N275","v":13133.980000000001},null,null,"     精密機械","輸送機械",null,null,null,null,null,null,null,null,{"$f":"データ一覧!N355","v":3},null,null,null,{"$f":"+データ一覧!N380","v":3511},null,null,null,null,null,null,{"$f":"データ一覧!N405","v":16476881},null,null,null,null,null,null,"障害福祉サービス事業所",null,null,null,null,null,null,null,{"$f":"データ一覧!N562","v":54},null,null,null,{"$f":"データ一覧!N575","v":670}]
[null,null,null,null,null,null,null,null,null,null,null,null,null,null,null,null,null,null,null,null,null,null,null,null,null,"            林     産     物     生     産     量 ",null,null,null,null,null,null,null,null,null,{"$f":"データ一覧!$A$276","v":"2年中"},null,null,null,"     その他","その他",null,null,null,null,null,null,null,null,{"$f":"データ一覧!N356","v":15},null,null,null,{"$f":"+データ一覧!N381","v":181},null,null,null,null,null,null,{"$f":"データ一覧!N406","v":232094},null,null,null,null,null,null," １７  教　　　　　　　育",null,null,null,null,null,null,null,null,null,null,null,null,null,null,null,{"$f":"データ一覧!$A$583","v":"3.5.1"}]
["人口動態",null,null,null,null,null,null,"   自　然　動　態",null,null,null,null,null,"   社  会  動  態",null,null,null,null,null,{"$f":"データ一覧!$A78","v":"2.1.1～3.12.31"},null,null,null,null,null,"生椎茸",null,null,null,{"$f":"データ一覧!N276","v":16306},null,"㎏","乾椎茸",null,null,null,{"$f":"データ一覧!N277","v":"-"},null,"㎏"]
[null,null,"   区       分",null,null,null,null," 出   生",null,null," 死   亡",null,null," 転   入",null,null," 転   出",null,null," 婚   姻",null,null," 離   婚",null,null,"えのきだけ",null,null,null,{"$f":"データ一覧!N279","v":"-"},null,"㎏","なめこ",null,null,null,{"$f":"データ一覧!N278","v":"-"},null,"㎏","    ","工　業　用　水　量",null,null,null,null,null,"（従業者30人以上の事業所）",null,null,null,null,null,null,null,null,null,null,{"$f":"データ一覧!N407","v":47916},null,null,null,null,"㎥／日",null,null,null,null,null,null,null,null,null,null,null,null,null,null,"学校数（校）",null,null,null,null,null,null,"教員数（人）",null,null,null,null,null,null,null,"学生・生徒・児童数（人）"]
[{"$f":"LEFT(データ一覧!$A74,6)","v":"2.10.1"},null,null,null,null,null,null,"       人",null,null,"       人",null,null,"       人",null,null,"       人",null,null,null,"    件",null,null,"    件",null,"ひらたけ",null,null,null,{"$f":"+データ一覧!N280","v":"-"},null,"㎏","まいたけ",null,null,null,{"$f":"+データ一覧!N281","v":"-"},null,"㎏",null,null,null,null,null,null,null,null,null,null,null,null,null,null,null,null,null,null,null,null,null,null,null,null,null,null,null,null,null,"　","区分",null,null,null,null,null,null,null," 本 校",null,null," 分 校",null,null," 本   務",null,null,null," 兼   務",null,null,null," 総   数",null,null,null,"男",null,null,null,"女"]
["～",null," 実          数",null,null,null,null,{"$f":"データ一覧!N74","v":293},null,null,{"$f":"データ一覧!N75","v":479},null,null,{"$f":"データ一覧!N76","v":1393},null,null,{"$f":"データ一覧!N77","v":1425},null,null,{"$f":"データ一覧!N78","v":345},null,null,{"$f":"データ一覧!N79","v":98},null,null,null,null,null,null,null,null,null,null,null,null,null,null,null,null," １１ 　上　・　下　水　道",null,null,null,null,null,null,null,null,null,null,null,null,null,null,null,null,null,null,null,null,null,null,null,null,null,null,null,null,"小学校",null,null,null,null,null,null,null,null,{"$f":"データ一覧!N584","v":17},null,null,{"$f":"データ一覧!N585","v":0},null,null,{"$f":"データ一覧!N586","v":293},null,null,null,{"$f":"データ一覧!N587","v":50},null,null,null,{"$f":"データ一覧!N588","v":4144},null,null,null,{"$f":"データ一覧!N589","v":2165},null,null,null,{"$f":"データ一覧!N590","v":1979}]
[{"$f":"RIGHT(データ一覧!$A76,6)","v":"3.9.30"},null,"比率(対1,000人)",null,null,null,null,{"$f":"+H48/I35*1000","v":3.5940336587998627},null,null,{"$f":"+K48/I35*1000","v":5.875570384181346},null,null,"- ",null,null,"- ",null,null,{"$f":"+T48/I35*1000","v":4.2318826357882342},null,null,{"$f":"+W48/I35*1000","v":1.2020999950934692},null,null,"  ６  漁               業",null,null,null,null,null,null,null,null,null,null,null,null,null,null,null,null,null,null,null,null,null,null,null,null,null,null,null,null,null,null,null,null,null,null,null,null,null,null,null,null,null,"  ","中学校",null,null,null,null,null,null,null,null,{"$f":"データ一覧!N592","v":7},null,null,{"$f":"データ一覧!N593","v":1},null,null,{"$f":"データ一覧!N594","v":185},null,null,null,{"$f":"データ一覧!N595","v":28},null,null,null,{"$f":"データ一覧!N596","v":2245},null,null,null,{"$f":"データ一覧!N597","v":1149},null,null,null,{"$f":"データ一覧!N598","v":1096}]
[null,null,null,null,null,null,null,null,null,null,null,null,null,null,null,null,null,null,null,null,null,null,null,null,null,null,null,null,null,null,null,null,null,null,null,null,null,null,null,"水 道 供 給 人 口",null,null,null,null,null,null,"上 水 道",null,null,null,"簡易水道",null,null,null,"専用水道",null,null,null,"飲料水供給施設",null,null,null,"下水道処理人口",null,null,null,null,"  ","高等学校",null,null,null,null,null,null,null,null,{"$f":"データ一覧!N600","v":5},null,null,{"$f":"データ一覧!N601","v":0},null,null,{"$f":"データ一覧!N602","v":189},null,null,null,{"$f":"データ一覧!N603","v":175},null,null,null,{"$f":"データ一覧!N604","v":2248},null,null,null,{"$f":"データ一覧!N605","v":1184},null,null,null,{"$f":"データ一覧!N606","v":1064}]
["  ３  事　　業　　所（民　　営）    （平 28.6.1）",null,null,null,null,null,null,null,null,null,null,null,null,null,null,null,null,null,null,null,null,null,null,null,null,"漁船隻数・トン数",null,null,null,{"$f":"データ一覧!$A$282","v":"2.12.31"},null,null,null,"動　力　船",null,null,null,null,null,{"$f":"データ一覧!$A$408","v":"3.3.31"},null,null,null,null,null,"人",null,{"$f":"データ一覧!N408","v":80603},null,null,{"$f":"データ一覧!N409","v":287},null,null,null,null,{"$f":"データ一覧!N410","v":0},null,null,null,{"$f":"データ一覧!N411","v":0},null,null,null,{"$f":"データ一覧!N412","v":64559},null,null,null,"  ","大学・短期大学",null,null,null,null,null,null,null,null,{"$f":"データ一覧!N607","v":1},null,null,{"$f":"データ一覧!N608","v":0},null,null,{"$f":"データ一覧!N609","v":63},null,null,null,{"$f":"データ一覧!N610","v":80},null,null,null,{"$f":"データ一覧!N611","v":1189},null,null,null,{"$f":"データ一覧!N612","v":336},null,null,null,{"$f":"データ一覧!N613","v":853}]
[null,null,null,null,null,null,null,null,null,null,null,null,null,null,null,null,null,null,null,null,null,null,null,null,null,"無動力船隻数",null,null,null,"船外機付漁船隻数",null,null,null,"隻　数",null,null,"総 ト ン 数",null,null,null,null,null,null,null,null,null,null,null,null,null,null,null,null,null,null,null,null,null,null,null,null,null,null,null,null,null,null,"  ","高等専門学校",null,null,null,null,null,null,null,null,{"$f":"データ一覧!N614","v":0},null,null,{"$f":"データ一覧!N615","v":0},null,null,{"$f":"データ一覧!N616","v":0},null,null,null,{"$f":"データ一覧!N617","v":0},null,null,null,{"$f":"データ一覧!N618","v":0},null,null,null,{"$f":"データ一覧!N619","v":0},null,null,null,{"$f":"データ一覧!N620","v":0}]
[null,null,null,null,null,null,null,"    総　　　　　数",null,null,null,null,null,"    民　　　　　営",null,null,null,null,null,"  国 ･ 地方公共団体",null,null,null,null,null,null,null,null,"隻",null,null,null,"隻",null,null,"隻",null,null,"t"," １２  交   通　・　通   信",null,null,null,null,null,null,null,null,null,null,null,null,null,null,null,null,null,null,null,null,null,null,null,null,null,null,null,"  ","特別支援学校",null,null,null,null,null,null,null,null,{"$f":"+データ一覧!N622","v":1},null,null,{"$f":"+データ一覧!N623","v":0},null,null,{"$f":"+データ一覧!N624","v":78},null,null,null,{"$f":"+データ一覧!N625","v":5},null,null,null,{"$f":"+データ一覧!N626","v":146},null,null,null,{"$f":"+データ一覧!N627","v":91},null,null,null,{"$f":"+データ一覧!N628","v":55}]
["  　区　　　　　　分",null,null,null,null,null,null," 事業所数",null,null," 従業者数",null,null," 事業所数",null,null," 従業者数",null,null," 事業所数",null,null," 従業者数",null,null,{"$f":"データ一覧!$N$282","v":0},null,null,null,{"$f":"データ一覧!$N$283","v":0},null,null,null,{"$f":"データ一覧!N284","v":0},null,null,{"$f":"データ一覧!N285","v":0},null,null,null,null,null,null,null,null,null,null,null,null,null,null,null,null,null,null,null,null,null,null,null,null,null,null,null,null,null,null,"  ","幼稚園",null,null,null,null,null,null,null,null,{"$f":"データ一覧!N630","v":11},null,null,{"$f":"データ一覧!N631","v":0},null,null,{"$f":"データ一覧!N632","v":42},null,null,null,{"$f":"データ一覧!N633","v":14},null,null,null,{"$f":"データ一覧!N634","v":229},null,null,null,{"$f":"データ一覧!N635","v":123},null,null,null,{"$f":"データ一覧!N636","v":106}]
[null,null,null,null,null,null,null,null,null,null,"       人",null,null,null,null,null,"       人",null,null,null,null,null,"       人",null,null,"  男女別就業者数",null,null,null,null,null,null,null,{"$f":"データ一覧!$A$286","v":"30.11.1"},null,null,null,null,null,"道     路",null,null,null,"実 延 長",null,null,null,"国     道",null,null,null,"県     道",null,null,null,"市町道",null,null,null," 鉄 道 営 業 キ ロ 数",null,null,null,null,null,null,null,"  ","幼保連携認定こども園",null,null,null,null,null,null,null,null,{"$f":"データ一覧!N638","v":17},null,null,{"$f":"データ一覧!N639","v":0},null,null,{"$f":"データ一覧!N640","v":320},null,null,null,{"$f":"データ一覧!N641","v":30},null,null,null,{"$f":"データ一覧!N642","v":1882},null,null,null,{"$f":"データ一覧!N643","v":957},null,null,null,{"$f":"データ一覧!N644","v":925}]
["総数",null,null,null,null,null,null,{"$f":"データ一覧!N99","v":"…"},null,null,{"$f":"データ一覧!N156","v":"…"},null,null,{"$f":"データ一覧!N100","v":4369},null,null,{"$f":"データ一覧!N157","v":42447},null,null,{"$f":"データ一覧!N101","v":"…"},null,null,{"$f":"データ一覧!N158","v":"…"},null,null,"総　　数",null,null,null,null,null,"男",null,null,null,"女",null,null,null,{"$f":"データ一覧!$A$413","v":"2.4.1"},null,null,null,{"$f":"データ一覧!N413","v":1065.2},null,null,"㎞",{"$f":"データ一覧!N414","v":24.7},null,null,"㎞",{"$f":"データ一覧!N415","v":149.6},null,null,"㎞",{"$f":"データ一覧!N416","v":890.9},null,null,"km",{"$f":"データ一覧!$A$417","v":"3.4.1"},null,null,null,{"$f":"データ一覧!N417","v":13.010999999999999},null,null,"㎞","  ","各種学校",null,null,null,null,null,null,null,null,{"$f":"データ一覧!N646","v":1},null,null,{"$f":"データ一覧!N647","v":0},null,null,{"$f":"データ一覧!N648","v":27},null,null,null,{"$f":"データ一覧!N649","v":2},null,null,null,{"$f":"データ一覧!N650","v":180},null,null,null,{"$f":"データ一覧!N651","v":108},null,null,null,{"$f":"データ一覧!N652","v":72}]
["農林漁業",null,null,null,null,null,null,{"$f":"データ一覧!N102","v":"…"},null,null,{"$f":"データ一覧!N159","v":"…"},null,null,{"$f":"データ一覧!N103","v":30},null,null,{"$f":"データ一覧!N160","v":384},null,null,{"$f":"データ一覧!N104","v":"…"},null,null,{"$f":"データ一覧!N161","v":"…"},null,null,null,null,null,null,null,"人",null,null,"　　　　人",null,null,null,null,"  人","自動車",null,null,null,null,null,null,null,null,"乗用車",null,null,null,null,null,null,null,null,null,null,null,null,null,null,null,null,null,null,"  ","専修学校",null,null,null,null,null,null,null,null,{"$f":"データ一覧!N654","v":1},null,null,{"$f":"データ一覧!N655","v":0},null,null,{"$f":"データ一覧!N656","v":11},null,null,null,{"$f":"データ一覧!N657","v":0},null,null,null,{"$f":"データ一覧!N658","v":106},null,null,null,{"$f":"データ一覧!N659","v":16},null,null,null,{"$f":"データ一覧!N660","v":90}]
["鉱業",null,null,null,null,null,null,{"$f":"データ一覧!N105","v":"…"},null,null,{"$f":"データ一覧!N162","v":"…"},null,null,{"$f":"データ一覧!N106","v":1},null,null,{"$f":"データ一覧!N163","v":12},null,null,{"$f":"データ一覧!N107","v":"…"},null,null,{"$f":"データ一覧!N164","v":"…"},null,null,{"$f":"SUM(AF58,AJ58)","v":0},null,null,null,null,null,{"$f":"データ一覧!$N$287","v":0},null,null,null,{"$f":"データ一覧!N288","v":0},null,null,null,"台  数",null,null,null,"貨    物",null,null,null,"普     通",null,null,null,"小     型",null,null,null,"乗  合",null,null,"特  種",null,null,"小型二輪",null,null,"軽自動車",null,null," １８  衛　　　　　　　生"]
["建設業",null,null,null,null,null,null,{"$f":"データ一覧!N108","v":"…"},null,null,{"$f":"データ一覧!N165","v":"…"},null,null,{"$f":"データ一覧!N109","v":486},null,null,{"$f":"データ一覧!N166","v":2574},null,null,{"$f":"データ一覧!N110","v":"…"},null,null,{"$f":"データ一覧!N167","v":"…"},null,null,"　　　　海 面 漁 業 漁 獲 量 （属人）",null,null,null,null,null,null,null,{"$f":"データ一覧!$A$289","v":"30年中"},null,null,null,null,null,{"$f":"データ一覧!$A$418","v":"3.3.31"},null,null,null,null,{"$f":"データ一覧!N418","v":1390},null,null,null,{"$f":"データ一覧!N420","v":5551},null,null,null,{"$f":"データ一覧!N421","v":5876},null,null,{"$f":"データ一覧!N419","v":118},null,null,{"$f":"データ一覧!N422","v":493},null,null,{"$f":"データ一覧!N423","v":279},null,null,{"$f":"データ一覧!N424","v":11032}]
["製造業",null,null,null,null,null,null,{"$f":"データ一覧!N111","v":"…"},null,null,{"$f":"データ一覧!N168","v":"…"},null,null,{"$f":"データ一覧!N112","v":707},null,null,{"$f":"データ一覧!N169","v":17247},null,null,{"$f":"データ一覧!N113","v":"…"},null,null,{"$f":"データ一覧!N170","v":"…"},null,null,null,null,null,null,null,"       ","ｔ",null,null,null,null,null,null,"t",null,null,"     ",null,"郵　便　局　数",null,null,null,null,null,null,null,null,null,null,null,null,null,{"$f":"+MID(データ一覧!$A$428,3,2)","v":"12"},"令","一般加入",null,null,null,"ＩＮＳネット",null,null,null,null,null,null,null,"医療関係施設",null,null,null,null,null,{"$f":"データ一覧!$A$661","v":"元.10.1"},null,null,null,null,null,null,"および医療関係者数",null,null,null,null,null,null,null,{"$f":"データ一覧!$A$666","v":"30.12.31"}]
["電気・ｶﾞ ｽ・熱供給・水道業",null,null,null,null,null,null,{"$f":"データ一覧!N114","v":"…"},null,null,{"$f":"データ一覧!N171","v":"…"},null,null,{"$f":"データ一覧!N115","v":5},null,null,{"$f":"データ一覧!N172","v":193},null,null,{"$f":"データ一覧!N116","v":"…"},null,null,{"$f":"データ一覧!N173","v":"…"},null,null,"   総　　　　　　数",null,null,null,{"$f":"データ一覧!N289","v":0},null,null,"   藻　　　　　　類",null,null,null,{"$f":"データ一覧!N292","v":0},null,null,"通  信",null,null,null," 総     数",null,null,null,null," 郵 便 局",null,null,null,null," 簡 易 局",null,null,null,"・",{"$f":"+LEFT(データ一覧!$A$428,1)","v":"2"},"電話数",null,null,null,"加入数",null,null,null,null,null,null,null,null,null,"　","病",null,null,"院",null,"　",null,null,null,null," ","一般診療所",null,null,null,null,null,null,null,null,null,null,null,"歯科診療所"]
["情報通信業",null,null,null,null,null,null,{"$f":"データ一覧!N117","v":"…"},null,null,{"$f":"データ一覧!N174","v":"…"},null,null,{"$f":"データ一覧!N118","v":16},null,null,{"$f":"データ一覧!N175","v":120},null,null,{"$f":"データ一覧!N119","v":"…"},null,null,{"$f":"データ一覧!N176","v":"…"},null,null,"   魚　　　　　　類",null,null,null,{"$f":"データ一覧!N290","v":0},null,null,"   そ　   の　　 他",null,null,null,{"$f":"データ一覧!N293","v":0},null,null,{"$f":"データ一覧!$A$428","v":"2.12.31"},null,null,null,{"$f":"データ一覧!N425","v":23},null,null,null,null,{"$f":"データ一覧!N426","v":21},null,null,null,null,{"$f":"データ一覧!N427","v":2},null,null,null,{"$f":"+RIGHT(データ一覧!$A$428,2)","v":"31"},"・",{"$f":"データ一覧!N428","v":6039},null,null,null,{"$f":"データ一覧!N429","v":742},null,null,null," ","医療関係",null,null,null,null,null,null,null,null,null,null,null,"一般病院",null,null,null,null,null,null,null,null,null,null,null,"有",null,null,"床"]
["運輸業、郵便業",null,null,null,null,null,null,{"$f":"データ一覧!N120","v":"…"},null,null,{"$f":"データ一覧!N177","v":"…"},null,null,{"$f":"データ一覧!N121","v":76},null,null,{"$f":"データ一覧!N178","v":1567},null,null,{"$f":"データ一覧!N122","v":"…"},null,null,{"$f":"データ一覧!N179","v":"…"},null,null,"   貝　　　　　　類",null,null,null,{"$f":"データ一覧!N291","v":0},null,null,null,null,null,null,null,null,null,null,null,null,null,null,null,null,null,null,null,null,null,null,null,null,null,null,null,null,null,null,null,null,null,null,null,null,null,null,"施設数",null,null,null,null,null,null,{"$f":"データ一覧!N661","v":7},null,null,null,null,null,{"$f":"データ一覧!N662","v":6},null,null,null,null,null,{"$f":"データ一覧!N663","v":46},null,null,null,null,null,{"$f":"データ一覧!N664","v":8},null,null,null,null,null,{"$f":"データ一覧!N665","v":31}]
["卸売業、小売業",null,null,null,null,null,null,{"$f":"データ一覧!N123","v":"…"},null,null,{"$f":"データ一覧!N180","v":"…"},null,null,{"$f":"データ一覧!N124","v":1142},null,null,{"$f":"データ一覧!N181","v":7217},null,null,{"$f":"データ一覧!N125","v":"…"},null,null,{"$f":"データ一覧!N182","v":"…"},null,null,null,null,null,null,null,null,null,null,null,null,null,null,null,null," １３  税　　・　　財　　政",null,null,null,null,null,null,null,null,null,null,null,null,null,null,null,null,null,null,null,null,null,null,null,null,null,null,null,null,null,null,null,null,null,null,"医師",null,null,null,null,"歯科医師",null,null,null,null,"薬剤師",null,null,null,null,"保健師",null,null,null,null,"助産師",null,null," ",null,"看護師",null,null," "]
["金融業、保険業",null,null,null,null,null,null,{"$f":"データ一覧!N126","v":"…"},null,null,{"$f":"データ一覧!N183","v":"…"},null,null,{"$f":"データ一覧!N127","v":66},null,null,{"$f":"データ一覧!N184","v":684},null,null,{"$f":"データ一覧!N128","v":"…"},null,null,{"$f":"データ一覧!N185","v":"…"},null,null,"  ７  商        　　　業 ",null,null,null,null,null,null,{"$f":"データ一覧!$A$294","v":"28.6.1(平成27年実績）"},null,null,null,null,null,null,null,null,null,null,null,null,null,null,null,null,null,null,null,null,null,null,null,null,null,null,null,null,null,null,null,null,null,null," ","医療",null,null,null,null,null,null,null,null,"人",null,null,null,null,"人",null,null,null,null,"人",null,null,null,null,"人",null,null,null,null,"人",null,null,null,null,"人"]
["不動産業、物品賃貸業",null,null,null,null,null,null,{"$f":"データ一覧!N129","v":"…"},null,null,{"$f":"データ一覧!N186","v":"…"},null,null,{"$f":"データ一覧!N130","v":123},null,null,{"$f":"データ一覧!N187","v":483},null,null,{"$f":"データ一覧!N131","v":"…"},null,null,{"$f":"データ一覧!N188","v":"…"},null,null,null,null,null,null,null,null,null,null,null,null,null,null,null,null,"           ",null,null,null,"歳入",null,null,null,null,null,null,null,null,"(千円）"," ",null,null,null,"歳出",null,null,null,null,null,null,null,null,"(千円）",null,"関係者",null,null,null,null,{"$f":"データ一覧!N666","v":97},null,null,null,null,{"$f":"データ一覧!N667","v":38},null,null,null,null,{"$f":"データ一覧!N668","v":115},null,null,null,null,{"$f":"データ一覧!N669","v":40},null,null,null,null,{"$f":"データ一覧!N670","v":9},null,null,null,null,{"$f":"データ一覧!N671","v":839}]
["学術研究、専門・技術ｻｰﾋﾞｽ業",null,null,null,null,null,null,{"$f":"データ一覧!N132","v":"…"},null,null,{"$f":"データ一覧!N189","v":"…"},null,null,{"$f":"データ一覧!N133","v":130},null,null,{"$f":"データ一覧!N190","v":728},null,null,{"$f":"データ一覧!N134","v":"…"},null,null,{"$f":"データ一覧!N191","v":"…"},null,null,"  産   業　 分　 類",null,null,null,"  商　 店 　数",null,null," 従　業　者　数",null,null,"年　間　販　売　額",null,null,null,"一人当たり歳入歳出予算決算額",null,null,null,null,null,null,null,null,null,null,null,null,null,null,null,null,null,null,null,null,null,null,null,null,null,null,null,"                   ",null,null,null,null,null,null,null,null,"死因別死亡数　　　　　　    ",null,null,null,null,null,null,null,null,null,null,null,null,null,null,null,{"$f":"データ一覧!$A$672","v":"2年中"},null,null,null,null,null,null,null,null,"      単 位：人"]
["宿泊業、飲食サービス業",null,null,null,null,null,null,{"$f":"データ一覧!N135","v":"…"},null,null,{"$f":"データ一覧!N192","v":"…"},null,null,{"$f":"データ一覧!N136","v":425},null,null,{"$f":"データ一覧!N193","v":2415},null,null,{"$f":"データ一覧!N137","v":"…"},null,null,{"$f":"データ一覧!N194","v":"…"},null,null,null,null,null,null,null,"        店",null,null,null,"　人",null,"         百万円",null,null,"区分",null,null,null,{"$f":"データ一覧!$A$438","v":"3年度"},null,null,null,null,{"$f":"データ一覧!$A$452","v":"2年度"},null,null,null,null,"区分",null,null,null,{"$f":"+AR68","v":"3年度"},null,null,null,null,{"$f":"データ一覧!$A$452","v":"2年度"},null,null,null,null," 死     因",null,null,null,null,null,null,null,null,null,null,null,"悪  性",null,null,"高血圧",null,null,null,null,null,"脳血管",null,null,null,null,null," ",null,null,"不慮の事故"]
["生活関連サービス業、娯楽業",null,null,null,null,null,null,{"$f":"データ一覧!N138","v":"…"},null,null,{"$f":"データ一覧!N195","v":"…"},null,null,{"$f":"データ一覧!N139","v":374},null,null,{"$f":"データ一覧!N196","v":1276},null,null,{"$f":"データ一覧!N140","v":"…"},null,null,{"$f":"データ一覧!N197","v":"…"},null,null,"総　　　　　　計",null,null,null,{"$f":"データ一覧!N294","v":992},null,null,{"$f":"データ一覧!N303","v":5847},null,null,{"$f":"データ一覧!N312","v":137281},null,null,null,null,null,null,null,{"$f":"データ一覧!N434","v":434087.2857712236},null,null,null,null,{"$f":"データ一覧!N435","v":576977.57512333675},null,null,null,null,null,null,null,null,{"$f":"データ一覧!N436","v":434087.2857712236},null,null,null,null,{"$f":"データ一覧!N437","v":562727.15154233319},null,null,null,null,null,null,null,null,null,"全 死 因",null,null,null,"結 核",null,null,"新生物",null,null,"性疾患",null,null,"心疾患",null,null,"疾  患",null,null,"肺  炎",null,null,"老  衰",null,null,null,null," ","交通事故"]
["教育、学習支援業",null,null,null,null,null,null,{"$f":"データ一覧!N141","v":"…"},null,null,{"$f":"データ一覧!N198","v":"…"},null,null,{"$f":"データ一覧!N142","v":116},null,null,{"$f":"データ一覧!N199","v":748},null,null,{"$f":"データ一覧!N143","v":"…"},null,null,{"$f":"データ一覧!N200","v":"…"},null,null,"卸売業",null,null,null,{"$f":"データ一覧!N295","v":254},null,null,{"$f":"データ一覧!N304","v":1483},null,null,{"$f":"データ一覧!N313","v":56166},null,null,null,"項目別歳入歳出予算決算額"]
["医療、福祉",null,null,null,null,null,null,{"$f":"データ一覧!N144","v":"…"},null,null,{"$f":"データ一覧!N201","v":"…"},null,null,{"$f":"データ一覧!N145","v":262},null,null,{"$f":"データ一覧!N202","v":4288},null,null,{"$f":"データ一覧!N146","v":"…"},null,null,{"$f":"データ一覧!N203","v":"…"},null,null,"小売業",null,null,null,{"$f":"データ一覧!N296","v":738},null,null,{"$f":"データ一覧!N305","v":4364},null,null,{"$f":"データ一覧!N314","v":81115},null,null,null,"区分",null,null,null,{"$f":"データ一覧!$A$438","v":"3年度"},null,null,null,null,{"$f":"データ一覧!$A$452","v":"2年度"},null,null,null,null,"区分",null,null,null,{"$f":"+AR71","v":"3年度"},null,null,null,null,{"$f":"データ一覧!$A$452","v":"2年度"},null,null,null,null,null,null,null,null,null,{"$f":"データ一覧!N672","v":951},null,null,null,"   －",{"$f":"データ一覧!N673","v":2},null,{"$f":"データ一覧!N674","v":54},null,null,null,{"$f":"データ一覧!N675","v":4},null,{"$f":"データ一覧!N676","v":10},null,null,{"$f":"データ一覧!N677","v":4},null,null,{"$f":"データ一覧!N678","v":73},null,null,{"$f":"データ一覧!N679","v":70},null,null,{"$f":"データ一覧!N680","v":26},null,null,{"$f":"データ一覧!N681","v":6}]
["複合サービス事業",null,null,null,null,null,null,{"$f":"データ一覧!N147","v":"…"},null,null,{"$f":"データ一覧!N204","v":"…"},null,null,{"$f":"データ一覧!N148","v":34},null,null,{"$f":"データ一覧!N205","v":552},null,null,{"$f":"データ一覧!N149","v":"…"},null,null,{"$f":"データ一覧!N206","v":"…"},null,null,"各種商品",null,null,null,{"$f":"データ一覧!N297","v":3},null,null,{"$f":"データ一覧!N306","v":118},null,null,{"$f":"データ一覧!N315","v":1930},null,null,null,"総額",null,null,null,{"$f":"SUM(AR73:AV85)","v":34852000},null,null,null,null,{"$f":"SUM(AW73:BA85)","v":45964174},null,null,null,null,"総額",null,null,null,{"$f":"SUM(BF73:BJ85)","v":34852000},null,null,null,null,{"$f":"SUM(BK73:BO85)","v":45168983},null,null,null,null," １９  警　察　・　消　防  ",null,null,null,null,null,null,null,null,null,null,null,null,null,null,null,{"$f":"+データ一覧!$A682","v":"3.4.1"}]
["サービス業",null,null,null,null,null,null,{"$f":"データ一覧!N150","v":"…"},null,null,{"$f":"データ一覧!N207","v":"…"},null,null,{"$f":"データ一覧!N151","v":376},null,null,{"$f":"データ一覧!N208","v":1959},null,null,{"$f":"データ一覧!N152","v":"…"},null,null,{"$f":"データ一覧!N209","v":"…"},null,null,"織物・衣服・身の回り品",null,null,null,{"$f":"データ一覧!N298","v":99},null,null,{"$f":"データ一覧!N307","v":299},null,null,{"$f":"データ一覧!N316","v":3665},null,null,null,"地方税",null,null,null,{"$f":"データ一覧!N439","v":12170000},null,null,null,null,{"$f":"データ一覧!N453","v":13245404},null,null,null,null,"議会費",null,null,null,{"$f":"データ一覧!N467","v":261882},null,null,null,null,{"$f":"データ一覧!N481","v":236177}]
["公務",null,null,null,null,null,null,{"$f":"データ一覧!N153","v":"…"},null,null,{"$f":"データ一覧!N210","v":"…"},null,null,{"$f":"データ一覧!N154","v":"…"},null,null,{"$f":"データ一覧!N211","v":"…"},null,null,{"$f":"データ一覧!N155","v":"…"},null,null,{"$f":"データ一覧!N212","v":"…"},null,null,"飲食料品",null,null,null,{"$f":"データ一覧!N299","v":232},null,null,{"$f":"データ一覧!N308","v":1574},null,null,{"$f":"データ一覧!N317","v":25845},null,null,null,"地方譲与税",null,null,null,{"$f":"データ一覧!N440","v":328068},null,null,null,null,{"$f":"データ一覧!N454","v":311276},null,null,null,null,"総務費",null,null,null,{"$f":"データ一覧!N468","v":3932013},null,null,null,null,{"$f":"データ一覧!N482","v":14527881},null,null,null,null,null,null,null,null,null,null,null,null,null,null,"交番・駐在所",null,null,null,null,null,null,null,null,"刑法犯認知件数",null,null,null,null,null,null,null,null,"交通人身事故発生件数"]
["  ４  農        　　　業 ",null,null,null,null,null,null,null,null,null,null,null,null,null,null,null,null,null,null,null,null,null,null,null,null,"機械器具",null,null,null,{"$f":"データ一覧!N300","v":128},null,null,{"$f":"データ一覧!N309","v":818},null,null,{"$f":"データ一覧!N318","v":20616},null,null,null,"各種交付金",null,null,null,{"$f":"データ一覧!N441","v":2482000},null,null,null,null,{"$f":"データ一覧!N455","v":1931418},null,null,null,null,"民生費",null,null,null,{"$f":"データ一覧!N469","v":11678757},null,null,null,null,{"$f":"データ一覧!N483","v":11944549},null,null,null,null,null,"警察署数",null,null,null,null,null,null,null,null,"検問所数",null,null,null,null,null,null,null,null,null,{"$f":"データ一覧!$A$684","v":"2年中"},null,null,null,null,null,null,null,null,{"$f":"データ一覧!$A$684","v":"2年中"}]
[null,null,null,null,null,null,null,null,null,null,null,null,null,null,null,null,null,null,null,null,null,null,null,null,null,"その他",null,null,null,{"$f":"データ一覧!N301","v":262},null,null,{"$f":"データ一覧!N310","v":1507},null,null,{"$f":"データ一覧!N319","v":28111},null,null,null,"地方特例交付金",null,null,null,{"$f":"データ一覧!N442","v":276000},null,null,null,null,{"$f":"データ一覧!N456","v":79750},null,null,null,null,"衛生費",null,null,null,{"$f":"データ一覧!N470","v":2241606},null,null,null,null,{"$f":"データ一覧!N484","v":2172335},null,null,null,null,null,null,null,null,null,null,null,null,null,null,null,null,null,null,null,null,null,null,null,null,null,null,null,null," 件",null,null,null,null,null,null,null,null,"　件"]
[null,null,"農業経営体数",null,null,null,null,null,null,"農産物販売額規模別経営体数",null,null,null,null,null,null,null,"経営耕地面積規模別経営体数",null,null,null,null,null,null,null,"無店舗",null,null,null,{"$f":"データ一覧!N302","v":14},null,null,{"$f":"データ一覧!N311","v":48},null,null,{"$f":"データ一覧!N320","v":948},null,null,null,"地方交付税",null,null,null,{"$f":"データ一覧!N443","v":4770000},null,null,null,null,{"$f":"データ一覧!N457","v":5118548},null,null,null,null,"労働費",null,null,null,{"$f":"データ一覧!N471","v":189200},null,null,null,null,{"$f":"データ一覧!N485","v":159929},null,null,null,null,null,null,{"$f":"データ一覧!N682","v":1},null,null,null,null,null,null,null,null,{"$f":"データ一覧!N683","v":15},null,null,null,null,null,null,null,null,{"$f":"データ一覧!N684","v":215},null,null,null,null,null,null,null,null,{"$f":"データ一覧!N685","v":52}]
["農",null,"区　分",null,null,null,"経営体数\n（経営体）",null,null,"区　分",null,null,null,null,"経営体数\n（経営体）",null,null,"区　分",null,null,null,null,"経営体数\n（経営体）",null,null,null,null,null,null,null,null,null,null,null,null,null,null,null,null,"分担金および負担金",null,null,null,{"$f":"データ一覧!N444","v":73285},null,null,null,null,{"$f":"データ一覧!N458","v":178690},null,null,null,null,"農林水産業費",null,null,null,{"$f":"データ一覧!N472","v":1358871},null,null,null,null,{"$f":"データ一覧!N486","v":1295875},null,null,null,null,"火災発生件数",null,null,null,null,null,null,null,null,null,"林野焼損",null,null,null,null,"損      害",null,null,null,null,"消 防 自",null,null,null,"その他の",null,null,null," ",null,null,null,null," "]
["業","令",null,null,null,null,null,null,null,null,null,null,null,null,null,null,null,null,null,null,null,null,null,null,null,"  ８  住　　　　　　 　宅",null,null,null,null,null,null,null,null,null,null,null,null,null,"使用料および手数料",null,null,null,{"$f":"データ一覧!N445","v":445433},null,null,null,null,{"$f":"データ一覧!N459","v":409315},null,null,null,null,"商工費",null,null,null,{"$f":"データ一覧!N473","v":2179243},null,null,null,null,{"$f":"データ一覧!N487","v":2176179},null,null,null,null,{"$f":"+データ一覧!$A$686","v":"2年中"},null,null,null,null,"焼損棟数",null,null,null,null,"面    積",null,null,null,null,"見  積  額",null,null,null,null,"動 車 数",null,null,null,"ﾎﾟﾝﾌﾟ数",null,null,null," 消防吏員",null,null,null," 消防団員"]
["経",{"$f":"+LEFT(データ一覧!$A$213)","v":"2"},"計",null,null,null,{"$f":"データ一覧!N213","v":1196},null,null,"総　　　 数",null,null,null,null,{"$f":"データ一覧!N217","v":1196},null,null,"総　　　 数",null,null,null,null,{"$f":"データ一覧!N233","v":3053},null,null,null,null,null,null,null,null,null,null,null,null,null,null,null,null,"国庫支出金",null,null,null,{"$f":"データ一覧!N446","v":4356170},null,null,null,null,{"$f":"データ一覧!N460","v":14779956},null,null,null,null,"土木費",null,null,null,{"$f":"データ一覧!N474","v":2905914},null,null,null,null,{"$f":"データ一覧!N488","v":3946125},null,null,null,null,"         件",null,null,null,null,null,"      棟",null,null,null,null,null,null,"  ａ",null,null,null,"  千円",null,null,"        ",null,null,null,null,null,null,null,null,null,"  人",null,null,null,"  人"]
["営","・","個人経営体",null,null,null,{"$f":"データ一覧!N214","v":1128},null,null,"販 売 な し",null,null,null,null,{"$f":"データ一覧!N218","v":95},null,null,"0.5 ha 未満",null,null,null,null,{"$f":"データ一覧!N234","v":83},null,null,{"$f":"+データ一覧!$A$321","v":"令和元年"},null,null,null,null,{"$f":"データ一覧!$A$324","v":"2年"},"中の増減",null,null,null,{"$f":"+データ一覧!$A$324","v":"2年"},null,null,null,"県支出金",null,null,null,{"$f":"データ一覧!N447","v":3137680},null,null,null,null,{"$f":"データ一覧!N461","v":2807273},null,null,null,null,"消防費",null,null,null,{"$f":"データ一覧!N475","v":1394852},null,null,null,null,{"$f":"データ一覧!N489","v":1340561},null,null,null,null,null,{"$f":"データ一覧!N686","v":11},null,null,null,null,{"$f":"データ一覧!N687","v":5},null,null,null,null,{"$f":"データ一覧!N688","v":0},null,null,null,{"$f":"データ一覧!N689","v":1069},null,null,null,null,null,{"$f":"データ一覧!N690","v":13},null,null,null,{"$f":"データ一覧!N691","v":19},null,null,null,{"$f":"データ一覧!N692","v":103},null,null,null,{"$f":"データ一覧!N693","v":538}]
["体",{"$f":"+LEFT(データ一覧!$A$213,1)","v":"2"},"団体経営体",null,null,null,{"$f":"データ一覧!N215","v":68},null,null,"50万円未満",null,null,null,null,{"$f":"データ一覧!N219","v":450},null,null,"0.5 ha ～ 1.0 ha",null,null,null,null,{"$f":"データ一覧!N235","v":302},null,null,null,null,null,null,"建設した住宅",null,null,"消失した住宅",null,null,null,null,null,null,"財産収入",null,null,null,{"$f":"データ一覧!N448","v":307701},null,null,null,null,{"$f":"データ一覧!N462","v":157369},null,null,null,null,"教育費",null,null,null,{"$f":"データ一覧!N476","v":3162977},null,null,null,null,{"$f":"データ一覧!N490","v":3421469},null,null,null,null," ２０  そ　　　の　　　他　"]
["数","・",null,"法人経営",null,null,{"$f":"データ一覧!N216","v":40},null,null,"50～300万円",null,null,null,null,{"$f":"データ一覧!N220","v":527},null,null,"1.0 ha ～ 2.0 ha",null,null,null,null,{"$f":"データ一覧!N236","v":463},null,null,null,null,null,null,null,null,null,null,null,null,null,null,null,null,"繰入金",null,null,null,{"$f":"データ一覧!N449","v":2015755},null,null,null,null,{"$f":"データ一覧!N463","v":2076047},null,null,null,null,"災害復旧費",null,null,null,{"$f":"データ一覧!N477","v":14000},null,null,null,null,{"$f":"データ一覧!N491","v":2012}]
["（",{"$f":"+RIGHT(データ一覧!$A$213)","v":"1"},null,null,null,null,null,null,null,"300～500万円",null,null,null,null,{"$f":"データ一覧!N221","v":35},null,null,"2.0 ha ～ 3.0 ha",null,null,null,null,{"$f":"データ一覧!N237","v":166},null,null,null,{"$f":"データ一覧!N321","v":31910},null,"戸",{"$f":"データ一覧!N322","v":609},null,"戸",{"$f":"データ一覧!N323","v":210},null,"戸",null,{"$f":"データ一覧!N324","v":32309},null,"戸","地方債",null,null,null,{"$f":"データ一覧!N450","v":3458800},null,null,null,null,{"$f":"データ一覧!N464","v":2525320},null,null,null,null,"公債費",null,null,null,{"$f":"データ一覧!N478","v":4101560},null,null,null,null,{"$f":"データ一覧!N492","v":3945891},null,null,null,null,null,null,null,null,null,"毫摂寺、龍泉寺、引接寺、正覚寺、龍門寺、大塩八幡宮、大虫神社、大滝神社、成願寺、旧谷口家住宅、越前和紙の里(紙の文化博物館・卯立の工芸館)、パピルス館、城福寺、小丸城跡、野々宮廃寺跡、茶臼山古墳群、大虫廃寺塔跡、越前の里味真野苑、紫式部公園、花筐公園、小次郎公園、八ッ杉自然公園、岡太神社、聖徳太子堂、武生公会堂記念館、蔵の辻、万葉菊花園、タケフナイフビレッジ、蓑脇の時水、コウノトリ、アベサンショウウオ"]
["総",null,null,null,null,null,null,null,null,"500～1,000万円",null,null,null,null,{"$f":"データ一覧!N222","v":36},null,null,"3.0 ha ～ 5.0 ha",null,null,null,null,{"$f":"データ一覧!N238","v":142},null,null,null,null,null,null,null,null,null,null,null,null,null,null,null,null,"その他",null,null,null,{"$f":"データ一覧!N451","v":1031108},null,null,null,null,{"$f":"データ一覧!N465","v":2343808},null,null,null,null,"その他",null,null,null,{"$f":"データ一覧!N479","v":1431125},null,null,null,null,{"$f":"データ一覧!N493","v":0},null,null,null,null,"　名所・旧跡"]
["数",null,null,null,null,null,null,null,null,"1,000万円以上",null,null,null,null,{"$f":"データ一覧!N223","v":53},null,null,"5.0 ha以上",null,null,null,null,{"$f":"データ一覧!N239","v":1896},null,null,null,null,null,null,null,null,null,null,null,null,null,null,null,null,null,null,null,null,null,null,null,null,null,null,null,null,null,null,null,null,null,null,null,null,null,null,null,null,null,null,null,null,"  文化財等"]
["）",null,"15歳以上の常雇い数",null,null,null,null,null,null,"農業に60日以上従事した世帯員、役員・構成員\n（経営主を含む）の平均年齢",null,null,null,null,null,null,null,null,null,null,null,null,null,null,null,"  ９  議　 員　・　職 　員",null,null,null,null,null,null,null,null,null,null,null,null,null," １４  文　　　　　　化",null,null,null,null,null,null,null,null,null," ( ",{"$f":"データ一覧!$A$500","v":"3.3.31"},null,null,null,"ただし図書館・公民館・児童館",null,null,null,null,null,null,null,{"$f":"データ一覧!$A$494","v":"3.4.1"}]
["と",null,null,null,null,null,null,null,null,null,null,null,null,null,null,null,null,null,null,null,null,null,null,null,null,null,null,null,null,null,null,null,null,null,null,null,null,null,null,null,null,null,null,null,null,null,null,null,null,null,null,null,null,null,null,"　宗教法人数 ",null,null,null,null,null,null,{"$f":"データ一覧!$A$502","v":"2.12.31"},null,null,null,"）"]
["就",null,null,null,null,null,null,null,null,"農業に60日以上従事",null,null,null,null,null,null,null,"農業に150日以上従事",null,null,null,null,null,null,null," 市 町 村 議 会",null,null,"有権者数",null,{"$f":"データ一覧!$A$328","v":"3.9.1"},null,"市 町 村 議 会",null,null,"  職      員      数",null,null,null,null,null,null,null,null,"図書館",null,null,null,null,null,"公　民　館",null,null,null,null,null,null,null,null,null,null," 社会教育学級講座",null,null,null,null,null,"　　特産物",null,null,null,null,"越前和紙、越前打刃物、野球バット、スポーツウェア、家具建具、白山スイカ、"]
["業",null,"区　分",null,null,null,"人",null,null,"区　分",null,null,null,null,"人",null,null,"区　分",null,null,null,null,"人",null,null," 議  員  定  数",null,null,"    男",null,"    女",null,"選 挙 投 票 率",null,null," 総     数",null,"一般行政職",null,"公    共",null,null,null," 館  数",null,null," 図書数",null,null," 本  館",null,null," 分  館",null,null," 公  園",null,null," 児童館",null,null,"学級講座数",null,null,"受講者数",null,null,null,null,null,null,null,"越前おろしそば、ボルガライス"]
["状",null,"総数",null,null,null,{"$f":"データ一覧!N230","v":33},null,null,"総数",null,null,null,null,{"$f":"データ一覧!N224","v":68.2},null,null,"総数",null,null,null,null,{"$f":"データ一覧!N227","v":66.599999999999994},null,null,null,null,"人",null,"人",null,"人",null,null,"　％",null,"人",null,"人","施 設 数",null,null,null,null,{"$f":"データ一覧!N494","v":2},null,{"$f":"データ一覧!N495","v":558832},null,null,null,{"$f":"データ一覧!N496","v":17},null,{"$f":"データ一覧!N497","v":0},null,null,{"$f":"データ一覧!N498","v":94},null,null,{"$f":"データ一覧!N499","v":15},null,null,{"$f":"データ一覧!N500","v":0},null,null,{"$f":"データ一覧!N501","v":0},null,null," 　年中行事",null,null,null,null,"たけふ菊人形（10月初旬から11月中旬）、"]
["況",null,"男",null,null,null,{"$f":"データ一覧!N231","v":28},null,null,"男",null,null,null,null,{"$f":"データ一覧!N225","v":67.400000000000006},null,null,"男",null,null,null,null,{"$f":"データ一覧!N228","v":65.7},null,null,null,{"$f":"データ一覧!N325","v":22},null,{"$f":"データ一覧!N328","v":31725},null,{"$f":"データ一覧!N329","v":33425},null,{"$f":"データ一覧!N327","v":57.39},null,null,{"$f":"データ一覧!N330","v":566},null,{"$f":"データ一覧!N331","v":350},null,"宗    教",null,null,null," 仏教系",null,null,"ｷﾘｽﾄ教系",null,null,"神道諸派",null,null,"公会堂・市民会館",null,null,null,null,null," テレビ",null,null,"衛星放送契約数",null,null,null,null,null,null,null,null,null,null,"越前市サマーフェスティバル（8月中旬）、"]
[null,null,"女",null,null,null,{"$f":"データ一覧!N232","v":5},null,null,"女",null,null,null,null,{"$f":"データ一覧!N226","v":70.599999999999994},null,null,"女",null,null,null,null,{"$f":"データ一覧!N229","v":69.3},null,null,null,null,null,null,null,null,null,{"$f":"データ一覧!$N$326","v":"30.7.8"},null,null,null,null,null,null,"法 人 数",null,null,null,{"$f":"データ一覧!N502","v":222},null,null,{"$f":"データ一覧!N503","v":3},null,null,{"$f":"データ一覧!N504","v":167},null,null,{"$f":"データ一覧!N505","v":3},null,null,null,null,null,"      等",null,null,{"$f":"データ一覧!N506","v":18074},null,null,null,null,null,null,null,null,null,null,"神と紙のまつり（5月3日～5日）"]

{"sheet":"坂井市","index":13,"n_rows":93,"n_cols":107,"rows_kept":93,"cut":false,"hidden":false,"merged":[[86,2,88,8],[86,9,87,24],[88,9,88,16],[88,17,88,24],[89,2,89,5],[89,9,89,13],[89,17,89,21],[90,2,90,5],[90,9,90,13],[90,17,90,21],[91,2,91,5],[91,9,91,13],[91,17,91,21],[92,2,92,5],[92,9,92,13],[92,14,92,16],[92,17,92,21],[92,6,92,8],[92,22,92,24],[89,6,89,8],[89,14,89,16],[89,22,89,24],[81,6,81,8],[81,9,81,13],[81,14,81,16],[82,6,82,8],[82,9,82,13],[82,14,82,16],[83,6,83,8],[83,9,83,13],[83,14,83,16],[84,6,84,8],[84,9,84,13],[84,14,84,16],[84,22,84,24],[85,6,85,8],[85,9,85,13],[85,14,85,16],[85,22,85,24],[85,17,85,21],[76,2,76,8],[76,9,76,16],[76,17,76,24],[77,2,78,5],[77,6,78,8],[77,9,78,13],[77,14,78,16],[77,17,78,21],[77,22,78,24],[79,2,79,5],[79,6,79,8],[79,9,79,13],[79,14,79,16],[79,17,79,21],[79,22,79,24],[80,6,80,8],[80,9,80,13],[80,14,80,16],[80,17,80,21],[80,22,80,24],[11,106,22,113],[73,86,73,92],[73,77,73,83],[69,39,69,66],[67,43,67,47],[67,48,67,52],[67,53,67,56],[67,57,67,61],[67,62,67,66],[68,39,68,42],[68,43,68,47],[68,48,68,52],[67,39,67,42],[17,82,17,83],[17,86,17,89],[19,73,19,76],[19,77,19,80],[19,81,19,84],[20,73,20,76],[21,81,21,84],[21,86,21,90],[24,77,24,80],[24,81,24,84],[24,86,24,90],[29,73,29,76],[29,86,29,90],[26,73,26,76],[26,77,26,80],[25,73,25,76],[29,81,29,84],[24,40,24,46],[25,40,25,46],[32,91,32,94],[42,13,42,15],[46,36,46,37],[53,33,53,34],[53,36,53,37],[45,25,45,28],[46,32,46,35],[45,32,45,35],[48,7,48,9],[48,10,48,12],[48,13,48,15],[46,25,46,28],[50,0,51,24],[46,0,46,1],[48,0,48,1],[47,0,47,1],[48,16,48,18],[48,19,48,21],[51,36,51,38],[47,10,47,12],[47,13,47,15],[42,10,42,12],[46,29,46,30],[51,29,51,32],[47,16,47,18],[47,19,47,21],[47,22,47,24],[44,0,45,1],[42,19,42,21],[48,22,48,24],[41,4,41,6],[41,7,41,9],[41,10,41,12],[41,13,41,15],[25,37,26,38],[44,32,44,35],[27,31,27,32],[27,33,27,34],[34,36,34,37],[51,25,51,28],[51,33,51,35],[50,33,50,38],[55,25,55,30],[55,31,55,34],[50,25,50,28],[50,29,50,32],[54,25,54,32],[53,25,53,27],[53,29,53,31],[36,36,36,37],[27,29,27,30],[27,27,27,28],[27,35,27,36],[27,37,27,38],[25,35,26,36],[32,20,32,21],[35,36,35,37],[34,20,34,21],[35,22,35,24],[41,29,41,30],[27,22,27,24],[42,16,42,18],[24,31,24,32],[42,4,42,6],[21,25,21,28],[25,29,26,30],[25,25,25,26],[34,11,34,13],[27,25,27,26],[31,5,31,7],[21,29,21,31],[26,25,26,26],[26,27,26,28],[23,32,23,34],[25,33,26,34],[23,25,23,28],[22,32,22,34],[23,29,23,31],[22,29,22,31],[24,29,24,30],[42,7,42,9],[41,16,41,18],[35,5,35,7],[35,8,35,10],[35,11,35,13],[35,14,35,16],[35,18,35,19],[35,20,35,21],[27,0,27,4],[27,5,27,7],[29,18,29,19],[29,20,29,21],[33,20,33,21],[33,11,33,13],[40,2,40,3],[33,8,33,10],[34,22,34,24],[34,18,34,19],[30,5,30,7],[29,5,29,7],[29,8,29,10],[29,11,29,13],[29,14,29,16],[24,33,24,34],[25,31,26,32],[34,14,34,16],[5,0,5,9],[6,0,8,9],[30,8,30,10],[30,11,30,13],[30,14,30,16],[30,22,30,24],[23,16,23,18],[20,11,20,13],[20,16,20,18],[40,4,40,6],[40,7,40,9],[40,10,40,12],[40,13,40,15],[34,8,34,10],[31,8,31,10],[31,11,31,13],[22,7,22,8],[23,11,23,13],[33,14,33,16],[33,18,33,19],[15,29,15,30],[15,32,15,33],[25,27,25,28],[17,40,17,46],[17,48,17,52],[24,27,24,28],[20,53,20,56],[17,53,17,57],[19,29,19,31],[19,32,19,34],[23,40,23,46],[23,49,23,51],[21,49,21,51],[20,49,20,51],[21,32,21,34],[20,35,20,38],[22,53,22,56],[22,25,22,28],[16,36,16,37],[17,32,17,34],[17,36,17,38],[19,35,19,38],[20,29,20,31],[18,35,18,38],[16,32,16,33],[18,28,18,30],[20,32,20,34],[14,25,15,25],[14,26,15,28],[15,35,15,37],[18,31,18,34],[20,25,20,28],[16,74,16,95],[19,3,19,5],[21,95,21,98],[20,91,20,94],[20,60,20,64],[22,40,22,46],[20,40,20,46],[22,49,22,51],[17,59,17,65],[23,21,23,23],[20,21,20,23],[21,35,21,38],[23,35,23,38],[24,37,24,38],[24,35,24,36],[22,35,22,38],[20,77,20,80],[20,81,20,84],[20,86,20,90],[22,73,22,76],[23,60,23,64],[23,53,23,56],[19,25,19,28],[17,25,17,27],[18,25,18,27],[19,40,19,46],[19,49,19,51],[19,53,19,56],[19,60,19,64],[21,40,21,46],[24,53,24,56],[21,53,21,56],[19,99,19,102],[19,91,19,94],[19,95,19,98],[17,68,17,71],[17,73,17,76],[24,49,24,51],[17,91,17,94],[25,86,25,90],[24,99,24,102],[25,95,25,98],[25,99,25,102],[25,91,25,94],[21,60,21,64],[21,73,21,76],[21,77,21,80],[22,68,22,72],[23,95,23,98],[25,49,25,51],[25,53,25,56],[23,91,23,94],[23,68,23,72],[23,73,23,76],[23,77,23,80],[24,91,24,94],[24,95,24,98],[24,68,24,72],[24,60,24,64],[22,95,22,98],[22,91,22,94],[22,77,22,80],[22,81,22,84],[22,86,22,90],[28,99,28,102],[26,22,26,24],[28,40,28,46],[28,49,28,51],[28,53,28,56],[28,60,28,64],[28,95,28,98],[27,40,27,46],[27,49,27,51],[27,53,27,56],[27,60,27,64],[28,91,28,94],[28,68,28,72],[28,73,28,76],[28,77,28,80],[28,81,28,84],[27,77,27,80],[27,81,27,84],[27,86,27,90],[27,91,27,94],[27,95,27,98],[27,99,27,102],[26,60,26,64],[26,68,26,72],[21,99,21,102],[34,5,34,7],[33,67,34,80],[32,18,32,19],[26,99,26,102],[26,91,26,94],[27,68,27,72],[27,73,27,76],[26,81,26,84],[26,86,26,90],[26,95,26,98],[26,40,26,46],[26,49,26,51],[26,53,26,56],[30,18,30,19],[30,20,30,21],[30,40,30,46],[30,49,30,51],[30,53,30,56],[30,60,30,64],[32,99,32,102],[29,60,29,64],[30,86,30,90],[31,73,31,76],[31,77,31,80],[31,60,31,64],[30,68,30,72],[30,73,30,76],[30,77,30,80],[30,81,30,84],[31,95,31,98],[31,91,31,94],[39,40,39,46],[40,22,40,24],[45,36,45,37],[42,32,42,35],[45,29,45,30],[43,60,43,64],[40,67,41,73],[42,36,42,37],[29,40,29,46],[29,49,29,51],[29,53,29,56],[29,22,29,24],[29,77,29,80],[32,5,32,7],[32,11,32,13],[32,8,32,10],[33,5,33,7],[31,18,31,19],[31,20,31,21],[31,53,31,56],[36,29,36,30],[32,14,32,16],[35,53,35,56],[35,60,35,64],[32,22,32,24],[34,29,34,30],[35,29,35,30],[33,22,33,24],[32,40,32,46],[33,60,33,64],[31,14,31,16],[40,16,40,18],[31,49,31,51],[31,22,31,24],[38,49,38,51],[38,40,38,46],[34,49,34,51],[34,53,34,56],[34,60,34,64],[32,49,32,51],[33,40,33,46],[31,40,31,46],[33,49,33,51],[32,68,32,72],[32,73,32,76],[32,77,32,80],[40,29,40,30],[41,36,41,37],[41,32,41,35],[40,32,40,35],[35,49,35,51],[32,53,32,56],[34,40,34,46],[33,53,33,56],[35,40,35,46],[32,60,32,64],[41,49,41,51],[37,53,37,56],[36,53,36,56],[36,40,36,46],[37,40,37,46],[37,49,37,51],[39,49,39,51],[35,75,35,77],[42,40,42,46],[41,19,41,21],[41,60,41,64],[40,19,40,21],[40,36,40,37],[41,53,41,56],[41,22,41,24],[40,49,40,51],[41,40,41,46],[42,22,42,24],[49,99,49,102],[49,95,49,98],[48,95,48,98],[48,83,48,86],[48,68,48,75],[48,77,48,79],[40,40,40,46],[49,58,49,61],[44,36,44,37],[47,77,47,79],[47,80,47,82],[46,95,46,98],[44,25,44,28],[45,84,45,89],[44,29,44,30],[42,93,42,95],[44,19,44,24],[45,92,45,101],[42,75,42,77],[46,99,46,102],[42,97,42,100],[46,69,46,74],[50,55,50,57],[49,46,49,49],[43,40,43,46],[43,49,43,51],[48,56,48,59],[51,99,51,102],[55,99,55,102],[54,43,54,46],[54,99,54,102],[50,99,50,102],[50,87,50,90],[51,83,51,86],[50,91,50,94],[49,83,49,86],[49,91,49,94],[49,87,49,90],[54,47,54,50],[52,91,52,94],[48,99,48,102],[48,87,48,90],[51,80,51,82],[53,87,53,90],[51,95,51,98],[51,87,51,90],[51,91,51,94],[54,77,54,79],[54,95,54,98],[51,77,51,79],[55,80,55,82],[55,83,55,86],[53,80,53,82],[47,83,47,86],[69,0,69,6],[68,0,68,6],[66,32,66,34],[65,43,65,49],[57,43,57,46],[57,47,57,50],[57,31,57,33],[64,68,64,71],[63,89,63,91],[63,94,63,96],[65,78,65,81],[65,68,65,71],[65,83,65,86],[65,93,65,96],[62,75,62,77],[62,81,62,83],[60,91,60,96],[61,68,61,71],[61,39,61,42],[66,35,66,38],[62,68,62,71],[57,39,57,42],[60,39,60,42],[61,80,61,83],[65,39,65,42],[60,85,60,90],[59,59,59,62],[63,84,63,86],[66,92,66,96],[66,39,66,66],[58,39,58,42],[67,0,67,6],[65,0,65,6],[65,13,65,15],[65,16,65,18],[64,0,64,6],[66,7,66,9],[62,19,62,21],[64,19,64,21],[64,22,64,24],[65,19,65,21],[63,13,63,15],[68,13,68,15],[63,19,63,21],[62,16,62,18],[67,10,67,12],[67,13,67,15],[66,19,66,21],[68,19,68,21],[67,16,67,18],[63,0,63,6],[62,0,62,6],[63,10,63,12],[68,16,68,18],[68,10,68,12],[62,10,62,12],[62,13,62,15],[67,19,67,21],[68,7,68,9],[66,22,66,24],[63,22,63,24],[67,7,67,9],[64,10,64,12],[63,99,63,101],[63,74,63,76],[68,100,68,102],[68,94,68,96],[68,91,68,93],[67,82,67,84],[57,67,58,102],[68,76,68,78],[67,67,70,71],[70,53,70,56],[70,43,70,47],[65,73,65,76],[70,77,70,78],[70,72,70,75],[68,53,68,56],[68,57,68,61],[68,62,68,66],[60,97,60,102],[70,83,70,84],[70,62,70,66],[67,79,67,81],[58,61,58,63],[61,63,61,66],[70,57,70,61],[58,58,58,60],[57,55,57,57],[58,64,58,66],[60,63,60,66],[58,55,58,57],[60,59,60,62],[68,72,68,75],[61,59,61,62],[57,35,57,37],[57,19,57,21],[56,10,56,12],[59,7,59,9],[62,7,62,9],[57,13,57,15],[55,0,55,6],[55,19,55,21],[55,39,55,42],[55,10,55,12],[55,35,55,38],[60,16,60,18],[59,19,59,21],[60,29,60,30],[60,22,60,24],[59,22,59,24],[58,22,58,24],[62,29,62,30],[62,22,62,24],[60,13,60,15],[56,22,56,24],[57,16,57,18],[61,10,61,12],[57,0,57,6],[61,16,61,18],[59,16,59,18],[61,22,61,24],[61,19,61,21],[60,19,60,21],[58,7,58,9],[57,51,57,54],[57,58,57,60],[81,67,82,102],[79,101,79,102],[80,96,80,98],[80,68,80,70],[80,73,80,75],[73,62,73,66],[75,57,75,61],[71,48,71,52],[71,43,71,47],[73,35,73,37],[70,25,70,28],[74,32,74,33],[72,35,72,37],[73,43,73,47],[70,48,70,52],[71,39,71,42],[73,39,73,42],[73,48,73,52],[72,62,72,66],[74,62,74,66],[72,53,72,56],[72,57,72,61],[71,67,72,82],[71,53,71,56],[71,62,71,66],[73,57,73,61],[74,48,74,52],[80,25,81,28],[73,95,73,101],[70,29,70,30],[77,77,77,81],[78,62,78,66],[75,53,75,56],[76,78,76,81],[76,87,76,90],[76,96,76,99],[76,69,76,72],[76,53,76,56],[77,53,77,56],[79,48,79,52],[78,99,78,102],[78,77,78,81],[80,78,80,80],[79,97,79,98],[78,95,78,98],[78,91,78,94],[78,67,78,71],[78,72,78,76],[80,92,80,94],[77,57,77,61],[78,53,78,56],[76,57,76,61],[75,62,75,66],[76,62,76,66],[75,48,75,52],[78,82,78,86],[78,87,78,90],[77,91,77,94],[80,62,80,66],[78,57,78,61],[80,88,80,90],[79,57,79,61],[83,39,83,42],[82,48,82,52],[81,39,81,42],[81,53,81,56],[81,48,81,52],[82,57,82,61],[83,48,83,52],[79,62,79,66],[74,68,74,74],[77,87,77,90],[77,82,77,86],[79,43,79,47],[80,57,80,61],[80,39,80,42],[74,77,74,83],[74,87,74,91],[78,39,78,42],[78,43,78,47],[76,43,76,47],[77,48,77,52],[76,48,76,52],[75,43,75,47],[77,39,77,42],[77,43,77,47],[80,48,80,52],[80,53,80,56],[75,39,75,42],[83,72,87,102],[80,100,80,102],[80,82,80,86],[77,62,77,66],[65,57,65,63],[68,29,68,30],[68,25,68,28],[68,32,68,33],[68,22,68,24],[65,22,65,24],[71,22,71,24],[68,82,68,84],[71,32,71,33],[72,22,72,24],[74,25,74,28],[73,29,73,30],[71,29,71,30],[73,25,73,28],[71,83,72,102],[70,85,70,87],[65,98,65,101],[65,88,65,91],[67,97,67,102],[74,96,74,100],[69,25,69,28],[70,32,70,33],[70,22,70,24],[69,32,69,33],[74,0,75,24],[71,7,71,9],[74,57,74,61],[70,97,70,99],[71,57,71,61],[69,10,69,12],[71,25,71,28],[66,0,66,6],[73,7,73,9],[69,13,69,15],[71,13,71,15],[69,16,69,18],[70,16,70,18],[69,29,69,30],[69,35,69,37],[67,22,67,24],[68,35,68,37],[58,19,58,21],[65,7,65,9],[64,7,64,9],[63,7,63,9],[61,7,61,9],[72,7,72,9],[64,13,64,15],[64,16,64,18],[66,16,66,18],[63,16,63,18],[69,19,69,21],[70,10,70,12],[66,10,66,12],[66,13,66,15],[73,22,73,24],[71,35,71,37],[65,10,65,12],[59,10,59,12],[61,29,61,30],[61,36,61,37],[69,22,69,24],[70,39,70,42],[72,29,72,30],[72,16,72,18],[70,35,70,37],[72,13,72,15],[74,43,74,47],[71,10,71,12],[71,16,71,18],[72,25,72,28],[59,43,59,56],[60,43,60,47],[60,48,60,52],[60,53,60,56],[61,43,61,47],[61,48,61,52],[61,53,61,56],[60,36,60,37],[73,19,73,21],[73,16,73,18],[72,48,72,52],[71,19,71,21],[73,13,73,15],[74,29,74,30],[72,19,72,21],[74,53,74,56],[70,13,70,15],[70,19,70,21],[73,32,73,33],[65,53,65,56],[72,10,72,12],[76,35,76,37],[75,25,75,28],[72,32,72,33],[81,22,81,24],[79,39,79,42],[79,53,79,56],[76,39,76,42],[74,39,74,42],[76,25,76,28],[76,29,76,30],[75,29,75,30],[75,32,75,33],[76,32,76,33],[75,35,75,37],[78,48,78,52],[73,53,73,56],[74,35,74,37],[72,39,72,42],[72,43,72,47],[92,32,92,34],[88,28,88,29],[88,30,88,31],[91,28,91,29],[88,32,88,34],[89,39,89,42],[84,48,84,52],[81,62,81,66],[91,32,91,34],[91,22,91,24],[92,52,92,57],[92,61,92,66],[92,39,92,42],[92,43,92,45],[92,46,92,48],[92,49,92,51],[82,22,82,24],[83,22,83,24],[83,29,83,30],[81,32,81,34],[91,39,91,42],[82,39,82,42],[91,52,91,57],[91,61,91,66],[90,39,90,42],[91,43,91,45],[91,46,91,48],[91,49,91,51],[84,62,84,66],[89,61,89,63],[90,52,90,54],[91,37,91,38],[90,50,90,51],[90,44,90,45],[90,46,90,48],[91,30,91,31],[90,58,90,60],[81,57,81,61],[84,53,84,56],[84,57,84,61],[88,44,88,47],[82,43,82,47],[84,43,84,47],[82,53,82,56],[83,57,83,61],[83,43,83,47],[88,61,88,66],[83,53,83,56],[83,62,83,66],[90,61,90,63],[90,64,90,66],[90,55,90,57],[88,50,88,53],[84,39,84,42],[83,32,83,33],[83,36,83,37],[91,35,91,36],[82,62,82,66],[89,32,89,34],[80,35,81,38],[81,43,81,47],[80,43,80,47],[81,29,81,31],[42,53,42,56],[40,53,40,56],[42,60,42,64],[43,53,43,56],[39,60,39,64],[49,50,49,53],[50,59,50,61],[45,57,45,61],[40,60,40,64],[48,91,48,94],[48,80,48,82],[48,62,48,65],[49,68,49,75],[50,95,50,98],[50,63,50,66],[42,79,42,82],[42,85,42,91],[43,83,44,102],[42,49,42,51],[42,67,42,73],[39,97,39,100],[43,67,44,82],[39,75,39,77],[45,77,45,82],[47,68,47,75],[41,97,41,100],[40,93,40,95],[39,85,39,91],[40,85,40,91],[41,85,41,91],[40,79,41,82],[40,75,41,77],[70,79,70,81],[68,79,68,81],[70,94,70,96],[70,88,70,90],[56,80,56,82],[70,91,70,93],[68,88,68,90],[67,88,67,90],[62,99,62,101],[49,77,49,79],[68,85,68,87],[66,76,66,90],[62,93,62,95],[50,77,50,79],[50,68,50,75],[56,99,56,102],[55,95,55,98],[54,87,54,90],[70,100,70,102],[55,68,55,75],[56,68,56,75],[56,95,56,98],[56,91,56,94],[54,91,54,94],[52,99,52,102],[53,99,53,102],[55,87,55,90],[52,95,52,98],[53,95,53,98],[56,83,56,86],[55,77,55,79],[62,87,62,89],[47,87,47,90],[38,79,38,82],[49,80,49,82],[36,67,36,73],[36,60,36,64],[37,75,37,77],[33,83,34,96],[54,68,54,75],[54,83,54,86],[53,91,53,94],[50,80,50,82],[52,87,52,90],[50,83,50,86],[54,80,54,82],[53,77,53,79],[52,77,52,79],[52,80,52,82],[38,93,38,95],[36,79,36,82],[35,80,35,83],[35,93,35,95],[55,63,55,65],[53,83,53,86],[38,97,38,100],[52,83,52,86],[38,85,38,91],[47,91,47,94],[47,95,47,98],[47,99,47,102],[14,82,15,95],[56,87,56,90],[55,91,55,94],[31,81,31,84],[32,95,32,98],[31,68,31,72],[23,81,23,84],[23,86,23,90],[24,73,24,76],[22,60,22,64],[17,100,17,101],[21,91,21,94],[25,60,25,64],[25,77,25,80],[25,81,25,84]],"merged_total":1105,"flags":["merged_cut"]}
[{"$f":"+データ一覧!O2","v":0}]
[{"$f":"+データ一覧!O5","v":0}]
[null,null,null,null,null,null,null,null,null,null,null,null,null,null,null,null,null,null,null,null,null,null,null,null,null,null,null,null,null,"【市章とそのいわれ】",null,"坂井市のイニシャル「S」と日本海をモチーフに",null,null,null,null,null,null,null,"　【位置および地勢】坂井市は、福井県の北部に位置し、南北約17km、東西約31kmに",null,null,null,null,null,null,null,null,null,null,null,null,null,null,null,null,null,null,null,null,null,null,null,null,null,null,null,null,null,null,0]
[null,null,null,null,null,null,null,null,null,null,null,null,null,null,null,null,null,null,null,null,null,null,null,null,null,null,null,null,null,null,null,"デザイン化している。",null,null,null,null,null,null,null,null,"およぶ東西に長い行政区域で、面積は約210ｋ㎡となっている。",null,null,null,null,null,null,null,null,null,null,null,null,null,null,null,null,null,null,null,null,null,null,null,null,null,null,null,null,null,"所在地",null,null,null,null,null,null,null,"〒919-0592"]
[null,null,null,null,null,null,null,null,null,null,null,null,null,null,null,null,null,null,null,null,null,null,null,null,null,null,null,null,null,null,null,"豊かな自然の緑を基調として、坂井平野と",null,null,null,null,null,null,null,null,"西は日本海に面し、東は勝山市、北はあわら市および石川県、南は福井市、",null,null,null,null,null,null,null,null,null,null,null,null,null,null,null,null,null,null,null,null,null,null,null,null,null,null,null,null,null,null,null,null,null,null,null,null,null,"坂井市坂井町下新庄第1号1番地"]
[{"$f":"+データ一覧!O3","v":"さかいし"},null,null,null,null,null,null,null,null,null,null,null,null,null,null,null,null,null,null,null,null,null,null,null,null,null,null,null,null,null,null,"日本海を照らし出す太陽に明日への情熱を重ねて",null,null,null,null,null,null,null,null,"永平寺町に接している。"]
[{"$f":"データ一覧!O6","v":"坂井市"},null,null,null,null,null,null,null,null,null,null,null,null,null,null,null,null,null,null,null,null,null,null,null,null,null,null,null,null,null,null,"いる。",null,null,null,null,null,null,null,null,"坂井市の南部を九頭竜川が、東部の森林地域を源流とする竹田川が北部を流れ、",null,null,null,null,null,null,null,null,null,null,null,null,null,null,null,null,null,null,null,null,null,null,null,null,null,null,null,null,null,"電話番号",null,null,null,null,null,null,null,"（０７７６）６６－１５００"]
[null,null,null,null,null,null,null,null,null,null,null,null,null,null,null,null,null,null,null,null,null,null,null,null,null,null,null,null,null,null,null,"主役である市民と市が一緒になって「輝く",null,null,null,null,null,null,null,null,"西部で合流し日本海に注ぎ込んでいる。中部には福井県随一の穀倉地帯である",null,null,null,null,null,null,null,null,null,null,null,null,null,null,null,null,null,null,null,null,null,null,null,null,null,null,null,null,null,"FAX番号",null,null,null,null,null,null,null,"　　〃　　　６６－４８３７"]
[null,null,null,null,null,null,null,null,null,null,null,null,null,null,null,null,null,null,null,null,null,null,null,null,null,null,null,null,null,null,null,"未来へ・・・みんなで創る希望の都市（まち）」",null,null,null,null,null,null,null,null,"広大な坂井平野が広がり、西部には砂丘地および丘陵地が広がっている。"]
[null,null,null,null,null,null,null,null,null,null,null,null,null,null,null,null,null,null,null,null,null,null,null,null,null,null,null,null,null,null,null,"を目指します。",null,null,null,null,null,null,null,null,"道路網は、東部に北陸自動車道・丸岡インターチェンジや国道３６４号、西部に",null,null,null,null,null,null,null,null,null,null,null,null,null,null,null,null,null,null,null,null,null,null,null,null,null,null,null,null,null,"最寄駅および距離",null,null,null,null,null,null,null,"ＪＲ北陸本線丸岡駅　下車４００ｍ"]
[null,null,null,null,null,null,null,null,null,null,null,null,null,null,null,null,null,null,null,null,null,null,null,null,null,null,null,null,null,null,null,"躍動感と力強さを表現した。",null,null,null,null,null,null,null,null,"国道３０５号、中部に国道８号、主要地方道福井金津線（嶺北縦貫線）および"]
[null,null,null,null,null,null,null,null,null,null,null,null,null,null,null,null,null,null,null,null,null,null,null,null,null,null,null,null,null,null,null,null,null,null,null,null,null,null,null,null,"主要地方道福井加賀線（芦原街道）が走るなど、主要な基幹道路は南北方向を中心に",null,null,null,null,null,null,null,null,null,null,null,null,null,null,null,null,null,null,null,null,null,null,null,null,null,null,null,null,null,"ホームページ",null,null,null,null,null,null,null,"http://www.city.fukui-sakai.lg.jp",null,null,null,null,null,null,null,null,null,null,null,null,null,null,null,null,null,null,null,null,null,null,null,null,null,null,null,"　【位置および地勢】坂井市は、福井県の北部に位置し、南北約17km、東西約31kmにおよぶ東西に長い行政区域で、面積は約210ｋ㎡となっている。西は日本海に面し、東は勝山市、北はあわら市および石川県、南は福井市、永平寺町に接している。坂井市の南部を九頭竜川が、東部の森林地域を源流とする竹田川が北部を流れ、西部で合流し日本海に注ぎ込んでいる。中部には福井県随一の穀倉地帯である広大な坂井平野が広がり、西部には砂丘地および丘陵地が広がっている。道路網は、東部に北陸自動車道・丸岡インターチェンジや国道３６４号、西部に国道３０５号、中部に国道８号、主要地方道福井金津線（嶺北縦貫線）および主要地方道福井加賀線（芦原街道）が走るなど、主要な基幹道路は南北方向を中心に発達している。また、鉄道網も坂井市の中央を南北に走り、ＪＲ北陸本線が２駅、えちぜん鉄道三国芦原線が９駅設置されている。"]
[null,null,null,null,null,null,null,null,null,null,null,null,null,null,null,null,null,null,null,null,null,null,null,null,null,null,"【市が掲げる標語】 みんなが笑顔で暮らせるまち",null,null,null,null,null,null,null,null,null,null,null,null,null,"発達している。また、鉄道網も坂井市の中央を南北に走り、ＪＲ北陸本線が２駅、"]
[null,null,null,null,null,null,null,null,null,null,null,null,null,null,null,null,null,null,null,null,null,null,null,null,null,null,null,null,null,null,null,null,null,null,null,null,null,null,null,null,"えちぜん鉄道三国芦原線が９駅設置されている。"]
["  １  土            　　地",null,null,null,null,null,null,null,null,null,null,null,null,null,null,null,null,null,null,null,null,null,null,null,null,{"$f":"データ一覧!$A$240","v":"2年"},"産米収穫量",null,null,"　 収　穫　量",null,null," 　作 付 面 積",null,null,"   10a当たり収量",null,null,null,null,null,null,null,null,null,null,null,null,null,null,null,null,null,null,null,null,null,null,null,null,null,null,null,null,null,null,null," １５  労　　　　　　　働",null,null,null,null,null,null,null,null,null,null,null,null,null,null,"27.10.1"]
[null,null,null,null,null,null,null,null,null,null,null,null,null,null,null,null,null,null,null,null,null,null,null,null,null,null,null,null,null,{"$f":"データ一覧!$O$240","v":21600},null,"t",{"$f":"データ一覧!$O$241","v":4060},null,"ha",{"$f":"データ一覧!O242","v":533},null,null,"kg"," １０  工　　　　　　業 ",null,null,null,null,null,null,null,null,null,null,null,null,null,{"$f":"データ一覧!$A$332","v":"2.6.1（令和元年実績）"}]
["   総          面           積",null,null,null,null,null,null,null,null,null," 固 定 資 産 概 要 調 書 に よ る 地 目 別 面 積",null,null,null,null,null,null,null,null,null,null,null,null,null,null,null,null,null,"   総　　　数",null,null,null,"うち　　田",null,null,null,"うち　　畑",null,null,null,null,null,null,null,null,null,null,null,null,null,null,null,null,null,null,null,null,null,null,null,null,null,null,null,null,null,null,null,null,null,null,null,null,null,"産業別就業者数   "]
[null,null,{"$f":"データ一覧!$A$7","v":"3.10.1"},null,null,null,null,null,null,null,null,null,null,null,null,null,{"$f":"データ一覧!$A$9","v":"3.1.1"},null,null,null,null,null,null,null,null," 耕  地  面  積",null,null,null,"       ha",null,null,"ha ",null,null,null,"ha ",null,null,"      ","産業分類",null,null,null,null,null,null,null,"事業所数",null,null,null,null,"従業者数",null,null,null,null,null,"年間製造品出荷額等",null,null,null,null,null,null,null,null,"区  分",null,null,null,null,"総    数",null,null,null,null,"男",null,null,null,"女",null,null,"  ","区  分",null,null,null,null,"総    数",null,null,null,null,"男",null,null,null,"女"]
[null,null,null,null,null,null,"㎢",null,null,null,"   総       数",null,null,null,null,"  う ち     田",null,null,null,null,"  う ち     畑",null,null,null,null,{"$f":"データ一覧!A243","v":"2.7.15"},null,null,{"$f":"データ一覧!$O$243","v":6610},null,null,{"$f":"データ一覧!$O$244","v":5880},null,null,null,{"$f":"データ一覧!$O$245","v":735},null,null,null,null,null,null,null,null,null,null,null,null,"　　   ",null,null,"事業所",null,"　　　　　　　 人",null,null,"人",null,"　　　　　　　　　　　　　　万円",null,null,null,null,null,null,"万円",null,null,null,null,null,null,null,"      人",null,null,null,null,null," 人",null,null,null," 人",null,null,null,null,null,null,null,"      人",null,null,null,"      人",null,null,null,"      人"]
[null,null,null,{"$f":"データ一覧!O7","v":209.67},null,null,null,null,null,null,null,null,null,null,"ha",null,null,null,null,"ha",null,null,null,null,"ha","農 業 生 産 物",null,null,null,"作 付 面 積",null,null,"収 穫 量",null,null,"10a当たり収量",null,null,null,"     ","総数",null,null,null,null,null,null,null,null,{"$f":"データ一覧!O332","v":310},null,null,null,{"$f":"+データ一覧!O357","v":9524},null,null,null,null,null,null,{"$f":"データ一覧!O382","v":30382209},null,null,null,null,null,null," 総　　　数",null,null,null,null,null,{"$f":"BZ20+CD20","v":47726},null,null,null,{"$f":"データ一覧!O507","v":25751},null,null,null,{"$f":"データ一覧!O532","v":21975}]
[null,null,null,null,null,null,null,null,null,null,null,{"$f":"データ一覧!O9","v":20310.599999999999},null,null,null,null,{"$f":"データ一覧!O10","v":6052.2},null,null,null,null,{"$f":"データ一覧!O11","v":902.2},null,null,null,{"$f":"データ一覧!$A$246","v":"2年中"},null,null,null,"ha",null,null,"t",null,null,"kg",null,null,null,"     食料品","食料品",null,null,null,null,null,null,null,null,{"$f":"データ一覧!O333","v":18},null,null,null,{"$f":"+データ一覧!O358","v":431},null,null,null,null,null,null,{"$f":"データ一覧!O383","v":499115},null,null,null,null,null,null,null,null,null,null,null,null,null,null,null,null,null,null,null,null,null,null,null,null,null,"卸売業,小売業",null,null,null,null,{"$f":"CR21+CV21","v":7285},null,null,null,{"$f":"データ一覧!O520","v":3485},null,null,null,{"$f":"データ一覧!O545","v":3800}]
["  町 ･ 丁 ･ 大 字",null,null,null,null,null,null,null,null,null,"  う ち  宅 地",null,null,null,null,"  う ち  山 林",null,null,null,null,"  う ち  原 野",null,null,null,null,"水　　　　　稲",null,null,null,{"$f":"データ一覧!O246","v":4060},null,null,{"$f":"データ一覧!O247","v":21600},null,null,{"$f":"データ一覧!O248","v":533},null,null,null,"     飲料・飼料","飲料・飼料",null,null,null,null,null,null,null,null,{"$f":"データ一覧!O334","v":2},null,null,null,{"$f":"+データ一覧!O359","v":40},null,null,null,null,null,null,{"$f":"データ一覧!O384","v":"x"},null,null,null,null,null,null," 第１次産業",null,null,null,null,null,{"$f":"BZ22+CD22","v":2050},null,null,null,{"$f":"データ一覧!O508","v":1333},null,null,null,{"$f":"データ一覧!O533","v":717},null,null,null,null,"金融業,保険業",null,null,null,null,{"$f":"CR22+CV22","v":1016},null,null,null,{"$f":"データ一覧!O521","v":393},null,null,null,{"$f":"データ一覧!O546","v":623}]
["  区    画    数",null,null,null,null,null,null,{"$f":"データ一覧!O8","v":368},null,null,null,null,null,null,"ha",null,null,null,null,"ha",null,null,null,null,"ha","六　条　大　麦",null,null,null,{"$f":"データ一覧!O249","v":1440},null,null,{"$f":"データ一覧!O250","v":4870},null,null,{"$f":"データ一覧!O251","v":339},null,null,null,"     繊維","繊維",null,null,null,null,null,null,null,null,{"$f":"データ一覧!O335","v":103},null,null,null,{"$f":"+データ一覧!O360","v":2949},null,null,null,null,null,null,{"$f":"データ一覧!O385","v":3730399},null,null,null,null,null,null,"  ","農業",null,null,null,null,{"$f":"BZ23+CD23","v":1920},null,null,null,{"$f":"データ一覧!O509","v":1219},null,null,null,{"$f":"データ一覧!O534","v":701},null,null,null,"  ","不動産業",null,null,null,null,413,null,null,null,{"$f":"データ一覧!O522","v":248},null,null,null,{"$f":"データ一覧!O547","v":165}]
[{"$f":"データ一覧!$A$8","v":"2.4.1"},null,null,null,null,null,null,null,null,null,null,{"$f":"データ一覧!O12","v":2373.6},null,null,null,null,{"$f":"データ一覧!O13","v":5986.8},null,null,null,null,{"$f":"データ一覧!O14","v":97},null,null,null,"大　　      豆",null,null,null,{"$f":"データ一覧!O252","v":677},null,null,{"$f":"データ一覧!O253","v":623},null,null,{"$f":"データ一覧!O254","v":92},null,null,null,"     衣服","木材",null,null,null,null,null,null,null,null,{"$f":"データ一覧!O336","v":3},null,null,null,{"$f":"+データ一覧!O361","v":80},null,null,null,null,null,null,{"$f":"データ一覧!O386","v":312763},null,null,null,null,null,null,"  ","林業",null,null,null,null,34,null,null,null,{"$f":"データ一覧!O510","v":32},null,null,null,{"$f":"データ一覧!O535","v":2},null,null,null,"  ","学術研究",null,null,null,null,1102,null,null,null,{"$f":"データ一覧!O523","v":677},null,null,null,{"$f":"データ一覧!O548","v":425}]
["  ２  世　帯　数　と　人　口",null,null,null,null,null,null,null,null,null,null,null,null,null,null,null,null,null,null,null,null,null,null,null,null,null,null,"  区　分",null," 乳 用 牛",null," 肉 用 牛",null,"豚",null,"採卵鶏",null,"ブロイラー",null,"     木材","家具",null,null,null,null,null,null,null,null,{"$f":"データ一覧!O337","v":7},null,null,null,{"$f":"+データ一覧!O362","v":179},null,null,null,null,null,null,{"$f":"データ一覧!O387","v":265030},null,null,null,null,null,null,"  ","漁業",null,null,null,null,96,null,null,null,{"$f":"データ一覧!O511","v":82},null,null,null,{"$f":"データ一覧!O536","v":14},null,null,null,"  ","宿泊業,飲食ｻｰﾋﾞｽ",null,null,null,null,2295,null,null,null,{"$f":"データ一覧!O524","v":837},null,null,null,{"$f":"データ一覧!O549","v":1458}]
[null,null,null,null,null,null,null,null,null,null,null,null,null,null,null,null,null,null,null,null,null,null,null,null,null,"畜　産",null," 飼養農家",null,{"$f":"データ一覧!$O$255","v":4},null,{"$f":"データ一覧!$O$257","v":17},null,{"$f":"データ一覧!$O$259","v":"-"},null,{"$f":"データ一覧!$O$261","v":5},null,{"$f":"データ一覧!$O$263","v":"x"},null,"     家具","パルプ・紙",null,null,null,null,null,null,null,null,{"$f":"データ一覧!O338","v":7},null,null,null,{"$f":"+データ一覧!O363","v":312},null,null,null,null,null,null,{"$f":"データ一覧!O388","v":1545742},null,null,null,null,null,null," 第２次産業",null,null,null,null,null,16003,null,null,null,{"$f":"データ一覧!O512","v":10687},null,null,null,{"$f":"データ一覧!O537","v":5316},null,null,null,"  ","生活関連ｻｰﾋﾞｽ業",null,null,null,null,1693,null,null,null,{"$f":"データ一覧!O525","v":675},null,null,null,{"$f":"データ一覧!O550","v":1018}]
[null,null,null,null,null,null,null,null,"        人　　　　　　　　　　口",null,null,null,null,null,null,null,null,null,null,null,"１世帯当",null,"人    口",null,null,{"$f":"データ一覧!$A$255","v":"3.3.31"},null,"（戸）",null,null,null,null,null,null,null,null,null,null,null,"     パルプ・紙","印刷",null,null,null,null,null,null,null,null,{"$f":"データ一覧!O339","v":16},null,null,null,{"$f":"+データ一覧!O364","v":314},null,null,null,null,null,null,{"$f":"データ一覧!O389","v":273233},null,null,null,null,null,null,null,"鉱業，採石業",null,null,null,null,4,null,null,null,{"$f":"データ一覧!O513","v":3},null,null,null,{"$f":"データ一覧!O538","v":1},null,null,null,"  ","教育,学習支援業",null,null,null,null,2006,null,null,null,{"$f":"データ一覧!O526","v":804},null,null,null,{"$f":"データ一覧!O551","v":1202}]
[" 区　　　　分",null,null,null,null,"世帯数",null,null," 総   数",null,null,"    男",null,null,"    女",null,null,"  男／女",null,null,"たり人員",null,"密    度",null,null,null,null," 頭 羽",null,{"$f":"データ一覧!$O$256","v":131},null,{"$f":"データ一覧!$O$258","v":1174},null,{"$f":"データ一覧!$O$260","v":0},null,{"$f":"データ一覧!$O$262","v":508301},null,{"$f":"データ一覧!$O$264","v":30000},null,"     出版・印刷","化学",null,null,null,null,null,null,null,null,{"$f":"データ一覧!O340","v":19},null,null,null,{"$f":"+データ一覧!O365","v":654},null,null,null,null,null,null,{"$f":"データ一覧!O390","v":4097145},null,null,null,null,null,null,"  ","建設業",null,null,null,null,3967,null,null,null,{"$f":"データ一覧!O514","v":3327},null,null,null,{"$f":"データ一覧!O539","v":640},null,null,null,null,"医療，福祉",null,null,null,null,5978,null,null,null,{"$f":"データ一覧!O527","v":1180},null,null,null,{"$f":"データ一覧!O552","v":4798}]
[null,null,null,null,null,"    世 帯",null,null,"       人",null,null,"       人",null,null,"       人",null,null,null,"　　％",null,"    人",null,"    人/㎢",null,null,null,null,null,null,null,null,null,null,null,null,null,null,null,null,"     化学","石油・石炭",null,null,null,null,null,null,null,null,{"$f":"データ一覧!O341","v":1},null,null,null,{"$f":"+データ一覧!O366","v":9},null,null,null,null,null,null,{"$f":"データ一覧!O391","v":"x"},null,null,null,null,null,null,null,"製造業",null,null,null,null,12032,null,null,null,{"$f":"データ一覧!O515","v":7357},null,null,null,{"$f":"データ一覧!O540","v":4675},null,null,null,null,"複合サービス事業",null,null,null,null,595,null,null,null,{"$f":"データ一覧!O528","v":354},null,null,null,{"$f":"データ一覧!O553","v":241}]
[{"$f":"データ一覧!$A$22","v":" 2.10.1"},null,null,null,null,{"$f":"データ一覧!O22","v":21981},null,null,{"$f":"+L30+O30","v":83372},null,null,{"$f":"データ一覧!O24","v":40152},null,null,{"$f":"データ一覧!O25","v":43220},null,null,null,{"$f":"+L30/O30*100","v":92.901434521055066},null,{"$f":"データ一覧!O27","v":3.79},null,{"$f":"データ一覧!O21","v":0},null,null,"  ５  林               業",null,null,null,null,null,null,null,null,null,null,null,null,null,"     石油・石炭","プラスチック",null,null,null,null,null,null,null,null,{"$f":"データ一覧!O342","v":14},null,null,null,{"$f":"+データ一覧!O367","v":875},null,null,null,null,null,null,{"$f":"データ一覧!O392","v":2731671},null,null,null,null,null,null," 第３次産業",null,null,null,null,null,29388,null,null,null,{"$f":"データ一覧!O516","v":13575},null,null,null,{"$f":"データ一覧!O541","v":15813},null,null,null,null,"サービス業",null,null,null,null,2278,null,null,null,{"$f":"データ一覧!O529","v":1385},null,null,null,{"$f":"データ一覧!O554","v":893}]
[{"$f":"データ一覧!$A$29","v":" 7.10.1"},null,null,null,null,{"$f":"データ一覧!O29","v":23882},null,null,{"$f":"+L31+O31","v":86870},null,null,{"$f":"データ一覧!O31","v":41942},null,null,{"$f":"データ一覧!O32","v":44928},null,null,null,93.353810541310551,null,{"$f":"データ一覧!O34","v":3.64},null,{"$f":"データ一覧!O28","v":0},null,null,null,null,null,null,null,null,null,null,null,null,null,null,null,null,"     プラスチック","ゴム",null,null,null,null,null,null,null,null,{"$f":"データ一覧!O343","v":0},null,null,null,{"$f":"+データ一覧!O368","v":0},null,null,null,null,null,null,{"$f":"データ一覧!O393","v":0},null,null,null,null,null,null,null,"電気･ｶﾞｽ･水道業",null,null,null,null,211,null,null,null,{"$f":"データ一覧!O517","v":178},null,null,null,{"$f":"データ一覧!O542","v":33},null,null,null,null,"公務",null,null,null,null,1447,null,null,null,{"$f":"データ一覧!O530","v":1040},null,null,null,{"$f":"データ一覧!O555","v":407}]
[{"$f":"データ一覧!$A$36","v":"12.10.1"},null,null,null,null,{"$f":"データ一覧!O36","v":26278},null,null,{"$f":"+L32+O32","v":91173},null,null,{"$f":"データ一覧!O38","v":43972},null,null,{"$f":"データ一覧!O39","v":47201},null,null,null,93.159043240609307,null,{"$f":"データ一覧!O41","v":3.47},null,{"$f":"データ一覧!O35","v":0},null,null,"    　森　　　林　　　総　　　面　　　積   ",null,null,null,null,null,null,null,{"$f":"データ一覧!$A$265","v":"3.3.31"},null,null,null,null,null,"     ゴム","皮革",null,null,null,null,null,null,null,null,{"$f":"データ一覧!O344","v":1},null,null,null,{"$f":"+データ一覧!O369","v":5},null,null,null,null,null,null,{"$f":"データ一覧!O394","v":"x"},null,null,null,null,null,null,null,"情報通信業",null,null,null,null,724,null,null,null,{"$f":"データ一覧!O518","v":500},null,null,null,{"$f":"データ一覧!O543","v":224},null,null,null," 分類不能の産業",null,null,null,null,null,285,null,null,null,{"$f":"データ一覧!O531","v":156},null,null,null,{"$f":"データ一覧!O556","v":129}]
[{"$f":"+データ一覧!$A$43","v":"17.10.1"},null,null,null,null,{"$f":"データ一覧!O43","v":28035},null,null,{"$f":"+L33+O33","v":92318},null,null,{"$f":"データ一覧!O45","v":44349},null,null,{"$f":"データ一覧!O46","v":47969},null,null,null,92.453459525943842,null,{"$f":"データ一覧!O48","v":3.29},null,{"$f":"データ一覧!O49","v":439.8},null,null,"　　　森　　　　　　　林　　　　　　　の　　　　　　　構　　　　　　　成",null,null,null,null,null,null,null,null,null,null,null,null,null,"     皮革","窯業・土石",null,null,null,null,null,null,null,null,{"$f":"データ一覧!O345","v":11},null,null,null,{"$f":"+データ一覧!O370","v":252},null,null,null,null,null,null,{"$f":"データ一覧!O395","v":468107},null,null,null,null,null,null,"  ","運輸業,郵便業",null,null,null,null,{"$f":"BZ33+CD33","v":2345},null,null,null,{"$f":"データ一覧!O519","v":1819},null,null,null,{"$f":"データ一覧!O544","v":526}]
[{"$f":"+データ一覧!$A$50","v":"22.10.1"},null,null,null,null,{"$f":"データ一覧!O50","v":28744},null,null,{"$f":"+L34+O34","v":91900},null,null,{"$f":"+データ一覧!O52","v":44235},null,null,{"$f":"+データ一覧!O53","v":47665},null,null,null,92.803944193852928,null,{"$f":"+データ一覧!O55","v":3.2},null,{"$f":"+データ一覧!O56","v":437.8},null,null,null,null,null,null,null,"       ha",null,null,null,null,null,null,"       ha",null,"     窯業・土石","鉄鋼",null,null,null,null,null,null,null,null,{"$f":"データ一覧!O346","v":4},null,null,null,{"$f":"+データ一覧!O371","v":65},null,null,null,null,null,null,{"$f":"データ一覧!O396","v":198281},null,null,null,null,null,null," １６  社　 会 　福　 祉",null,null,null,null,null,null,null,null,null,null,null,null,null,null,null,{"$f":"データ一覧!$A$557","v":"3.4.1"}]
[{"$f":"データ一覧!$A$57","v":"27.10.1"},null,null,null,null,{"$f":"データ一覧!O57","v":29454},null,null,{"$f":"データ一覧!O58","v":90280},null,null,{"$f":"データ一覧!O59","v":43526},null,null,{"$f":"データ一覧!O60","v":46754},null,null,null,93.09577790135603,null,{"$f":"データ一覧!O62","v":3.0651184898485773},null,{"$f":"データ一覧!O63","v":430.6},null,null,"  総　　　　　   数",null,null,null,{"$f":"データ一覧!O265","v":7361.97},null,null," 天然林       針葉樹",null,null,null,{"$f":"データ一覧!O268","v":149.07},null,null,"     鉄鋼","非鉄金属",null,null,null,null,null,null,null,null,{"$f":"データ一覧!O347","v":2},null,null,null,{"$f":"+データ一覧!O372","v":846},null,null,null,null,null,null,{"$f":"データ一覧!O397","v":"x"}]
["令　2.10.1（国調）",null,null,null,null,{"$f":"データ一覧!O64","v":31067},null,null,{"$f":"データ一覧!O65","v":88481},null,null,{"$f":"データ一覧!O66","v":42719},null,null,{"$f":"データ一覧!O67","v":45762},null,null,null,{"$f":"+L36/O36*100","v":93.350378042917697},null,{"$f":"データ一覧!O72","v":2.8},null,{"$f":"データ一覧!O73","v":418.26680020985361},null,null,"  人工林     針葉樹",null,null,null,{"$f":"データ一覧!O266","v":3968.3},null,null," 天然林       広葉樹",null,null,null,{"$f":"データ一覧!O269","v":3076.86},null,null,"     非鉄金属","金属",null,null,null,null,null,null,null,null,{"$f":"データ一覧!O348","v":37},null,null,null,{"$f":"+データ一覧!O373","v":762},null,null,null,null,null,null,{"$f":"データ一覧!O398","v":2468668},null,null,null,null,null,null,"    ","区分",null,null,null,null,null,null,"施設数",null,null,null,null,"収容定員",null,null,null,null,null,"区分",null,null,null,null,null,null,"施設数",null,null,null,null,"収容定員"]
["年",null,"  区",null," 0歳",null,null,"15歳",null,null,"25歳",null,null,"35歳",null,null,"45歳",null,null,"55歳",null,null,"65歳",null,null,"  人工林     広葉樹",null,null,null,{"$f":"データ一覧!O267","v":29.6},null,null," 竹               林",null,null,null,{"$f":"データ一覧!O270","v":2.64},null,null,"     金属","はん用機械",null,null,null,null,null,null,null,null,{"$f":"データ一覧!O349","v":7},null,null,null,{"$f":"+データ一覧!O374","v":342},null,null,null,null,null,null,{"$f":"データ一覧!O399","v":1019783},null,null,null,null,null,null,"生活保護施設",null,null,null,null,null,null,null,{"$f":"データ一覧!O557","v":0},null,null,null,{"$f":"データ一覧!O570","v":0},null,null,null,"人",null,"指定障害者支援施設",null,null,null,null,null,null,null,{"$f":"データ一覧!O563","v":1},null,null,null,{"$f":"データ一覧!O576","v":125},null,null,null,"人"]
["齢","令",null,null,null,"～",null,null,"～",null,null,"～",null,null,"～",null,null,"～",null,null,"～",null,null,null,null,null,null,null,null,null,null,null,null,null,null,null,null,null,null,"     一般機械","生産用機械",null,null,null,null,null,null,null,null,{"$f":"データ一覧!O350","v":38},null,null,null,{"$f":"+データ一覧!O375","v":477},null,null,null,null,null,null,{"$f":"データ一覧!O400","v":743081},null,null,null,null,null,null,"地域福祉施設",null,null,null,null,null,null,null,{"$f":"データ一覧!O558","v":0},null,null,null,{"$f":"データ一覧!O571","v":0},null,null,null,null,null,"指定相談支援事業所",null,null,null,null,null,null,null,{"$f":"データ一覧!O564","v":3},null,null,null,{"$f":"データ一覧!O577","v":0}]
["階",{"$f":"+LEFT(データ一覧!$A$83,1)","v":"3"},"  分",null,null,null,"14歳",null,null,"24歳",null,null,"34歳",null,null,"44歳",null,null,"54歳",null,null,"64歳",null,null,"以上","    林     野     の     構     成",null,null,null,null,null,null,"保     有     形     態     別",null,null,null,null,null,null,"     電気機械","業務用機械",null,null,null,null,null,null,null,null,{"$f":"データ一覧!O351","v":2},null,null,null,{"$f":"+データ一覧!O376","v":21},null,null,null,null,null,null,{"$f":"データ一覧!O401","v":"x"},null,null,null,null,null,null,"老人福祉施設",null,null,null,null,null,null,null,{"$f":"データ一覧!O559","v":20},null,null,null,{"$f":"データ一覧!O572","v":689},null,null,null,null,null,"児童福祉施設",null,null,null,null,null,null,null,{"$f":"データ一覧!O565","v":57},null,null,null,{"$f":"データ一覧!O578","v":2790}]
["級","・",null,null,null,null,"人",null,null,"人",null,"    人",null,null,"    人",null,null,"    人",null,null,"    人",null,null,"    人",null,null,null,null,null,null,null,"ha",null,null,null,null,null,"       ha",null,null,"電子・デバイス",null,null,null,null,null,null,null,null,{"$f":"データ一覧!O352","v":5},null,null,null,{"$f":"+データ一覧!O377","v":385},null,null,null,null,null,null,{"$f":"データ一覧!O402","v":713634},null,null,null,null,null,null,"介護保険施設",null,null,null,null,null,null,null,{"$f":"データ一覧!O560","v":122},null,null,null,{"$f":"データ一覧!O573","v":2442},null,null,null,null,null,"母子福祉施設",null,null,null,null,null,null,null,{"$f":"データ一覧!O566","v":0},null,null,null,{"$f":"データ一覧!O579","v":0}]
["別",{"$f":"+MID(データ一覧!$A$83,3,2)","v":"10"},"総 数",null,{"$f":"+E42+E43","v":11259},null,null,{"$f":"+H42+H43","v":8237},null,null,{"$f":"+K42+K43","v":7778},null,null,{"$f":"+N42+N43","v":10030},null,null,{"$f":"+Q42+Q43","v":12975},null,null,{"$f":"+T42+T43","v":11008},null,null,{"$f":"+W42+W43","v":25600},null,null," 無立木地   伐採跡地",null,null,null,{"$f":"データ一覧!O271","v":2.1},null,null,"国   　　　 　 有",null,null,null,{"$f":"データ一覧!O273","v":46.34},null,null,null,"電気機械",null,null,null,null,null,null,null,null,{"$f":"データ一覧!O353","v":8},null,null,null,{"$f":"+データ一覧!O378","v":335},null,null,null,null,null,null,{"$f":"データ一覧!O403","v":908420},null,null,null,null,null,null,"障害者自立支援法施行前からの身体障害者福祉施設",null,null,null,null,null,null,null,{"$f":"データ一覧!O561","v":0},null,null,null,{"$f":"データ一覧!O574","v":0},null,null,null,null,null,"婦人保護施設",null,null,null,null,null,null,null,{"$f":"データ一覧!O567","v":0},null,null,null,{"$f":"データ一覧!O580","v":0}]
["人","・","  男",null,{"$f":"データ一覧!O83","v":5761},null,null,{"$f":"データ一覧!O84","v":4147},null,null,{"$f":"データ一覧!O85","v":3988},null,null,{"$f":"データ一覧!O86","v":5044},null,null,{"$f":"データ一覧!O87","v":6447},null,null,{"$f":"データ一覧!O88","v":5351},null,null,{"$f":"データ一覧!O89","v":11204},null,null," 無立木地   未立木地",null,null,null,{"$f":"データ一覧!O272","v":133.4},null,null,"公       　　  有",null,null,null,{"$f":"データ一覧!O274","v":1451.5400000000002},null,null,"     輸送機械","情報通信機械",null,null,null,null,null,null,null,null,{"$f":"データ一覧!O354","v":0},null,null,null,{"$f":"+データ一覧!O379","v":0},null,null,null,null,null,null,{"$f":"データ一覧!O404","v":0},null,null,null,null,null,null,null,null,null,null,null,null,null,null,null,null,null,null,null,null,null,null,null,null,"その他の社会福祉施設",null,null,null,null,null,null,null,{"$f":"データ一覧!O568+データ一覧!O569","v":1},null,null,null,{"$f":"データ一覧!O581+データ一覧!O582","v":0}]
["口",{"$f":"+RIGHT(データ一覧!$A$83,1)","v":"1"},"  女",null,{"$f":"データ一覧!O91","v":5498},null,null,{"$f":"データ一覧!O92","v":4090},null,null,{"$f":"データ一覧!O93","v":3790},null,null,{"$f":"データ一覧!O94","v":4986},null,null,{"$f":"データ一覧!O95","v":6528},null,null,{"$f":"データ一覧!O96","v":5657},null,null,{"$f":"データ一覧!O97","v":14396},null,null,null,null,null,null,null,null,null,"私          　 有",null,null,null,{"$f":"データ一覧!O275","v":5864.0900000000011},null,null,"     精密機械","輸送機械",null,null,null,null,null,null,null,null,{"$f":"データ一覧!O355","v":2},null,null,null,{"$f":"+データ一覧!O380","v":15},null,null,null,null,null,null,{"$f":"データ一覧!O405","v":"x"},null,null,null,null,null,null,"障害福祉サービス事業所",null,null,null,null,null,null,null,{"$f":"データ一覧!O562","v":51},null,null,null,{"$f":"データ一覧!O575","v":625}]
[null,null,null,null,null,null,null,null,null,null,null,null,null,null,null,null,null,null,null,null,null,null,null,null,null,"            林     産     物     生     産     量 ",null,null,null,null,null,null,null,null,null,{"$f":"データ一覧!$A$276","v":"2年中"},null,null,null,"     その他","その他",null,null,null,null,null,null,null,null,{"$f":"データ一覧!O356","v":3},null,null,null,{"$f":"+データ一覧!O381","v":176},null,null,null,null,null,null,{"$f":"データ一覧!O406","v":210130},null,null,null,null,null,null," １７  教　　　　　　　育",null,null,null,null,null,null,null,null,null,null,null,null,null,null,null,{"$f":"データ一覧!$A$583","v":"3.5.1"}]
["人口動態",null,null,null,null,null,null,"   自　然　動　態",null,null,null,null,null,"   社  会  動  態",null,null,null,null,null,{"$f":"データ一覧!$A78","v":"2.1.1～3.12.31"},null,null,null,null,null,"生椎茸",null,null,null,{"$f":"データ一覧!O276","v":1509},null,"㎏","乾椎茸",null,null,null,{"$f":"データ一覧!O277","v":"-"},null,"㎏"]
[null,null,"   区       分",null,null,null,null," 出   生",null,null," 死   亡",null,null," 転   入",null,null," 転   出",null,null," 婚   姻",null,null," 離   婚",null,null,"えのきだけ",null,null,null,{"$f":"データ一覧!O279","v":"-"},null,"㎏","なめこ",null,null,null,{"$f":"データ一覧!O278","v":23500},null,"㎏","    ","工　業　用　水　量",null,null,null,null,null,"（従業者30人以上の事業所）",null,null,null,null,null,null,null,null,null,null,{"$f":"データ一覧!O407","v":25861},null,null,null,null,"㎥／日",null,null,null,null,null,null,null,null,null,null,null,null,null,null,"学校数（校）",null,null,null,null,null,null,"教員数（人）",null,null,null,null,null,null,null,"学生・生徒・児童数（人）"]
[{"$f":"LEFT(データ一覧!$A74,6)","v":"2.10.1"},null,null,null,null,null,null,"       人",null,null,"       人",null,null,"       人",null,null,"       人",null,null,null,"    件",null,null,"    件",null,"ひらたけ",null,null,null,{"$f":"+データ一覧!O280","v":"-"},null,"㎏","まいたけ",null,null,null,{"$f":"+データ一覧!O281","v":"-"},null,"㎏",null,null,null,null,null,null,null,null,null,null,null,null,null,null,null,null,null,null,null,null,null,null,null,null,null,null,null,null,null,"　","区分",null,null,null,null,null,null,null," 本 校",null,null," 分 校",null,null," 本   務",null,null,null," 兼   務",null,null,null," 総   数",null,null,null,"男",null,null,null,"女"]
["～",null," 実          数",null,null,null,null,{"$f":"データ一覧!O74","v":257},null,null,{"$f":"データ一覧!O75","v":533},null,null,{"$f":"データ一覧!O76","v":1084},null,null,{"$f":"データ一覧!O77","v":1199},null,null,{"$f":"データ一覧!O78","v":317},null,null,{"$f":"データ一覧!O79","v":120},null,null,null,null,null,null,null,null,null,null,null,null,null,null,null,null," １１ 　上　・　下　水　道",null,null,null,null,null,null,null,null,null,null,null,null,null,null,null,null,null,null,null,null,null,null,null,null,null,null,null,null,"小学校",null,null,null,null,null,null,null,null,{"$f":"データ一覧!O584","v":19},null,null,{"$f":"データ一覧!O585","v":0},null,null,{"$f":"データ一覧!O586","v":340},null,null,null,{"$f":"データ一覧!O587","v":58},null,null,null,{"$f":"データ一覧!O588","v":4872},null,null,null,{"$f":"データ一覧!O589","v":2461},null,null,null,{"$f":"データ一覧!O590","v":2411}]
[{"$f":"RIGHT(データ一覧!$A76,6)","v":"3.9.30"},null,"比率(対1,000人)",null,null,null,null,{"$f":"+H48/I35*1000","v":2.8466991581745678},null,null,{"$f":"+K48/I35*1000","v":5.9038546743464781},null,null,"- ",null,null,"- ",null,null,{"$f":"+T48/I35*1000","v":3.5112981834293313},null,null,{"$f":"+W48/I35*1000","v":1.329198050509526},null,null,"  ６  漁               業",null,null,null,null,null,null,null,null,null,null,null,null,null,null,null,null,null,null,null,null,null,null,null,null,null,null,null,null,null,null,null,null,null,null,null,null,null,null,null,null,null,"  ","中学校",null,null,null,null,null,null,null,null,{"$f":"データ一覧!O592","v":5},null,null,{"$f":"データ一覧!O593","v":0},null,null,{"$f":"データ一覧!O594","v":194},null,null,null,{"$f":"データ一覧!O595","v":15},null,null,null,{"$f":"データ一覧!O596","v":2572},null,null,null,{"$f":"データ一覧!O597","v":1352},null,null,null,{"$f":"データ一覧!O598","v":1220}]
[null,null,null,null,null,null,null,null,null,null,null,null,null,null,null,null,null,null,null,null,null,null,null,null,null,null,null,null,null,null,null,null,null,null,null,null,null,null,null,"水 道 供 給 人 口",null,null,null,null,null,null,"上 水 道",null,null,null,"簡易水道",null,null,null,"専用水道",null,null,null,"飲料水供給施設",null,null,null,"下水道処理人口",null,null,null,null,"  ","高等学校",null,null,null,null,null,null,null,null,{"$f":"データ一覧!O600","v":3},null,null,{"$f":"データ一覧!O601","v":0},null,null,{"$f":"データ一覧!O602","v":151},null,null,null,{"$f":"データ一覧!O603","v":45},null,null,null,{"$f":"データ一覧!O604","v":1556},null,null,null,{"$f":"データ一覧!O605","v":876},null,null,null,{"$f":"データ一覧!O606","v":680}]
["  ３  事　　業　　所（民　　営）    （平 28.6.1）",null,null,null,null,null,null,null,null,null,null,null,null,null,null,null,null,null,null,null,null,null,null,null,null,"漁船隻数・トン数",null,null,null,{"$f":"データ一覧!$A$282","v":"2.12.31"},null,null,null,"動　力　船",null,null,null,null,null,{"$f":"データ一覧!$A$408","v":"3.3.31"},null,null,null,null,null,"人",null,{"$f":"データ一覧!O408","v":90462},null,null,{"$f":"データ一覧!O409","v":0},null,null,null,null,{"$f":"データ一覧!O410","v":0},null,null,null,{"$f":"データ一覧!O411","v":0},null,null,null,{"$f":"データ一覧!O412","v":89525},null,null,null,"  ","大学・短期大学",null,null,null,null,null,null,null,null,{"$f":"データ一覧!O607","v":0},null,null,{"$f":"データ一覧!O608","v":0},null,null,{"$f":"データ一覧!O609","v":0},null,null,null,{"$f":"データ一覧!O610","v":0},null,null,null,{"$f":"データ一覧!O611","v":0},null,null,null,{"$f":"データ一覧!O612","v":0},null,null,null,{"$f":"データ一覧!O613","v":0}]
[null,null,null,null,null,null,null,null,null,null,null,null,null,null,null,null,null,null,null,null,null,null,null,null,null,"無動力船隻数",null,null,null,"船外機付漁船隻数",null,null,null,"隻　数",null,null,"総 ト ン 数",null,null,null,null,null,null,null,null,null,null,null,null,null,null,null,null,null,null,null,null,null,null,null,null,null,null,null,null,null,null,"  ","高等専門学校",null,null,null,null,null,null,null,null,{"$f":"データ一覧!O614","v":0},null,null,{"$f":"データ一覧!O615","v":0},null,null,{"$f":"データ一覧!O616","v":0},null,null,null,{"$f":"データ一覧!O617","v":0},null,null,null,{"$f":"データ一覧!O618","v":0},null,null,null,{"$f":"データ一覧!O619","v":0},null,null,null,{"$f":"データ一覧!O620","v":0}]
[null,null,null,null,null,null,null,"    総　　　　　数",null,null,null,null,null,"    民　　　　　営",null,null,null,null,null,"  国 ･ 地方公共団体",null,null,null,null,null,null,null,null,"隻",null,null,null,"隻",null,null,"隻",null,null,"t"," １２  交   通　・　通   信",null,null,null,null,null,null,null,null,null,null,null,null,null,null,null,null,null,null,null,null,null,null,null,null,null,null,null,"  ","特別支援学校",null,null,null,null,null,null,null,null,{"$f":"+データ一覧!O622","v":1},null,null,{"$f":"+データ一覧!O623","v":0},null,null,{"$f":"+データ一覧!O624","v":117},null,null,null,{"$f":"+データ一覧!O625","v":5},null,null,null,{"$f":"+データ一覧!O626","v":182},null,null,null,{"$f":"+データ一覧!O627","v":123},null,null,null,{"$f":"+データ一覧!O628","v":59}]
["  　区　　　　　　分",null,null,null,null,null,null," 事業所数",null,null," 従業者数",null,null," 事業所数",null,null," 従業者数",null,null," 事業所数",null,null," 従業者数",null,null,{"$f":"データ一覧!$O$282","v":7},null,null,null,{"$f":"データ一覧!$O$283","v":67},null,null,null,{"$f":"データ一覧!O284","v":54},null,null,{"$f":"データ一覧!O285","v":605.71},null,null,null,null,null,null,null,null,null,null,null,null,null,null,null,null,null,null,null,null,null,null,null,null,null,null,null,null,null,null,"  ","幼稚園",null,null,null,null,null,null,null,null,{"$f":"データ一覧!O630","v":12},null,null,{"$f":"データ一覧!O631","v":0},null,null,{"$f":"データ一覧!O632","v":34},null,null,null,{"$f":"データ一覧!O633","v":0},null,null,null,{"$f":"データ一覧!O634","v":59},null,null,null,{"$f":"データ一覧!O635","v":22},null,null,null,{"$f":"データ一覧!O636","v":37}]
[null,null,null,null,null,null,null,null,null,null,"       人",null,null,null,null,null,"       人",null,null,null,null,null,"       人",null,null,"  男女別就業者数",null,null,null,null,null,null,null,{"$f":"データ一覧!$A$286","v":"30.11.1"},null,null,null,null,null,"道     路",null,null,null,"実 延 長",null,null,null,"国     道",null,null,null,"県     道",null,null,null,"市町道",null,null,null," 鉄 道 営 業 キ ロ 数",null,null,null,null,null,null,null,"  ","幼保連携認定こども園",null,null,null,null,null,null,null,null,{"$f":"データ一覧!O638","v":9},null,null,{"$f":"データ一覧!O639","v":0},null,null,{"$f":"データ一覧!O640","v":192},null,null,null,{"$f":"データ一覧!O641","v":40},null,null,null,{"$f":"データ一覧!O642","v":1116},null,null,null,{"$f":"データ一覧!O643","v":556},null,null,null,{"$f":"データ一覧!O644","v":560}]
["総数",null,null,null,null,null,null,{"$f":"データ一覧!O99","v":"…"},null,null,{"$f":"データ一覧!O156","v":"…"},null,null,{"$f":"データ一覧!O100","v":3754},null,null,{"$f":"データ一覧!O157","v":34682},null,null,{"$f":"データ一覧!O101","v":"…"},null,null,{"$f":"データ一覧!O158","v":"…"},null,null,"総　　数",null,null,null,null,null,"男",null,null,null,"女",null,null,null,{"$f":"データ一覧!$A$413","v":"2.4.1"},null,null,null,{"$f":"データ一覧!O413","v":997.19999999999993},null,null,"㎞",{"$f":"データ一覧!O414","v":25.3},null,null,"㎞",{"$f":"データ一覧!O415","v":183.6},null,null,"㎞",{"$f":"データ一覧!O416","v":788.3},null,null,"km",{"$f":"データ一覧!$A$417","v":"3.4.1"},null,null,null,{"$f":"データ一覧!O417","v":20.47},null,null,"㎞","  ","各種学校",null,null,null,null,null,null,null,null,{"$f":"データ一覧!O646","v":1},null,null,{"$f":"データ一覧!O647","v":0},null,null,{"$f":"データ一覧!O648","v":11},null,null,null,{"$f":"データ一覧!O649","v":0},null,null,null,{"$f":"データ一覧!O650","v":90},null,null,null,{"$f":"データ一覧!O651","v":60},null,null,null,{"$f":"データ一覧!O652","v":30}]
["農林漁業",null,null,null,null,null,null,{"$f":"データ一覧!O102","v":"…"},null,null,{"$f":"データ一覧!O159","v":"…"},null,null,{"$f":"データ一覧!O103","v":37},null,null,{"$f":"データ一覧!O160","v":330},null,null,{"$f":"データ一覧!O104","v":"…"},null,null,{"$f":"データ一覧!O161","v":"…"},null,null,null,null,null,null,null,"人",null,null,"　　　　人",null,null,null,null,"  人","自動車",null,null,null,null,null,null,null,null,"乗用車",null,null,null,null,null,null,null,null,null,null,null,null,null,null,null,null,null,null,"  ","専修学校",null,null,null,null,null,null,null,null,{"$f":"データ一覧!O654","v":1},null,null,{"$f":"データ一覧!O655","v":0},null,null,{"$f":"データ一覧!O656","v":6},null,null,null,{"$f":"データ一覧!O657","v":5},null,null,null,{"$f":"データ一覧!O658","v":58},null,null,null,{"$f":"データ一覧!O659","v":9},null,null,null,{"$f":"データ一覧!O660","v":49}]
["鉱業",null,null,null,null,null,null,{"$f":"データ一覧!O105","v":"…"},null,null,{"$f":"データ一覧!O162","v":"…"},null,null,{"$f":"データ一覧!O106","v":0},null,null,{"$f":"データ一覧!O163","v":0},null,null,{"$f":"データ一覧!O107","v":"…"},null,null,{"$f":"データ一覧!O164","v":"…"},null,null,{"$f":"AF58+AJ58","v":122},null,null,null,null,null,{"$f":"データ一覧!$O$287","v":93},null,null,null,{"$f":"データ一覧!O288","v":29},null,null,null,"台  数",null,null,null,"貨    物",null,null,null,"普     通",null,null,null,"小     型",null,null,null,"乗  合",null,null,"特  種",null,null,"小型二輪",null,null,"軽自動車",null,null," １８  衛　　　　　　　生"]
["建設業",null,null,null,null,null,null,{"$f":"データ一覧!O108","v":"…"},null,null,{"$f":"データ一覧!O165","v":"…"},null,null,{"$f":"データ一覧!O109","v":448},null,null,{"$f":"データ一覧!O166","v":2674},null,null,{"$f":"データ一覧!O110","v":"…"},null,null,{"$f":"データ一覧!O167","v":"…"},null,null,"　　　　海 面 漁 業 漁 獲 量 （属人）",null,null,null,null,null,null,null,{"$f":"データ一覧!$A$289","v":"30年中"},null,null,null,null,null,{"$f":"データ一覧!$A$418","v":"3.3.31"},null,null,null,null,{"$f":"データ一覧!O418","v":4854},null,null,null,{"$f":"データ一覧!O420","v":18221},null,null,null,{"$f":"データ一覧!O421","v":18574},null,null,{"$f":"データ一覧!O419","v":136},null,null,{"$f":"データ一覧!O422","v":1477},null,null,{"$f":"データ一覧!O423","v":1034},null,null,{"$f":"データ一覧!O424","v":33342}]
["製造業",null,null,null,null,null,null,{"$f":"データ一覧!O111","v":"…"},null,null,{"$f":"データ一覧!O168","v":"…"},null,null,{"$f":"データ一覧!O112","v":651},null,null,{"$f":"データ一覧!O169","v":10661},null,null,{"$f":"データ一覧!O113","v":"…"},null,null,{"$f":"データ一覧!O170","v":"…"},null,null,null,null,null,null,null,"       ","ｔ",null,null,null,null,null,null,"t",null,null,"     ",null,"郵　便　局　数",null,null,null,null,null,null,null,null,null,null,null,null,null,{"$f":"+MID(データ一覧!$A$428,3,2)","v":"12"},"令","一般加入",null,null,null,"ＩＮＳネット",null,null,null,null,null,null,null,"医療関係施設",null,null,null,null,null,{"$f":"データ一覧!$A$661","v":"元.10.1"},null,null,null,null,null,null,"および医療関係者数",null,null,null,null,null,null,null,{"$f":"データ一覧!$A$666","v":"30.12.31"}]
["電気・ｶﾞ ｽ・熱供給・水道業",null,null,null,null,null,null,{"$f":"データ一覧!O114","v":"…"},null,null,{"$f":"データ一覧!O171","v":"…"},null,null,{"$f":"データ一覧!O115","v":7},null,null,{"$f":"データ一覧!O172","v":162},null,null,{"$f":"データ一覧!O116","v":"…"},null,null,{"$f":"データ一覧!O173","v":"…"},null,null,"   総　　　　　　数",null,null,null,{"$f":"データ一覧!O289","v":507},null,null,"   藻　　　　　　類",null,null,null,{"$f":"データ一覧!O292","v":4},null,null,"通  信",null,null,null," 総     数",null,null,null,null," 郵 便 局",null,null,null,null," 簡 易 局",null,null,null,"・",{"$f":"+LEFT(データ一覧!$A$428,1)","v":"2"},"電話数",null,null,null,"加入数",null,null,null,null,null,null,null,null,null,"　","病",null,null,"院",null,"　",null,null,null,null," ","一般診療所",null,null,null,null,null,null,null,null,null,null,null,"歯科診療所"]
["情報通信業",null,null,null,null,null,null,{"$f":"データ一覧!O117","v":"…"},null,null,{"$f":"データ一覧!O174","v":"…"},null,null,{"$f":"データ一覧!O118","v":37},null,null,{"$f":"データ一覧!O175","v":825},null,null,{"$f":"データ一覧!O119","v":"…"},null,null,{"$f":"データ一覧!O176","v":"…"},null,null,"   魚　　　　　　類",null,null,null,{"$f":"データ一覧!O290","v":94},null,null,"   そ　   の　　 他",null,null,null,{"$f":"データ一覧!O293","v":389},null,null,{"$f":"データ一覧!$A$428","v":"2.12.31"},null,null,null,{"$f":"データ一覧!O425","v":22},null,null,null,null,{"$f":"データ一覧!O426","v":17},null,null,null,null,{"$f":"データ一覧!O427","v":5},null,null,null,{"$f":"+RIGHT(データ一覧!$A$428,2)","v":"31"},"・",{"$f":"データ一覧!O428","v":5658},null,null,null,{"$f":"データ一覧!O429","v":830},null,null,null," ","医療関係",null,null,null,null,null,null,null,null,null,null,null,"一般病院",null,null,null,null,null,null,null,null,null,null,null,"有",null,null,"床"]
["運輸業、郵便業",null,null,null,null,null,null,{"$f":"データ一覧!O120","v":"…"},null,null,{"$f":"データ一覧!O177","v":"…"},null,null,{"$f":"データ一覧!O121","v":106},null,null,{"$f":"データ一覧!O178","v":1677},null,null,{"$f":"データ一覧!O122","v":"…"},null,null,{"$f":"データ一覧!O179","v":"…"},null,null,"   貝　　　　　　類",null,null,null,{"$f":"データ一覧!O291","v":20},null,null,null,null,null,null,null,null,null,null,null,null,null,null,null,null,null,null,null,null,null,null,null,null,null,null,null,null,null,null,null,null,null,null,null,null,null,null,"施設数",null,null,null,null,null,null,{"$f":"データ一覧!O661","v":4},null,null,null,null,null,{"$f":"データ一覧!O662","v":4},null,null,null,null,null,{"$f":"データ一覧!O663","v":47},null,null,null,null,null,{"$f":"データ一覧!O664","v":3},null,null,null,null,null,{"$f":"データ一覧!O665","v":24}]
["卸売業、小売業",null,null,null,null,null,null,{"$f":"データ一覧!O123","v":"…"},null,null,{"$f":"データ一覧!O180","v":"…"},null,null,{"$f":"データ一覧!O124","v":930},null,null,{"$f":"データ一覧!O181","v":6702},null,null,{"$f":"データ一覧!O125","v":"…"},null,null,{"$f":"データ一覧!O182","v":"…"},null,null,null,null,null,null,null,null,null,null,null,null,null,null,null,null," １３  税　　・　　財　　政",null,null,null,null,null,null,null,null,null,null,null,null,null,null,null,null,null,null,null,null,null,null,null,null,null,null,null,null,null,null,null,null,null,null,"医師",null,null,null,null,"歯科医師",null,null,null,null,"薬剤師",null,null,null,null,"保健師",null,null,null,null,"助産師",null,null," ",null,"看護師",null,null," "]
["金融業、保険業",null,null,null,null,null,null,{"$f":"データ一覧!O126","v":"…"},null,null,{"$f":"データ一覧!O183","v":"…"},null,null,{"$f":"データ一覧!O127","v":41},null,null,{"$f":"データ一覧!O184","v":481},null,null,{"$f":"データ一覧!O128","v":"…"},null,null,{"$f":"データ一覧!O185","v":"…"},null,null,"  ７  商        　　　業 ",null,null,null,null,null,null,{"$f":"データ一覧!$A$294","v":"28.6.1(平成27年実績）"},null,null,null,null,null,null,null,null,null,null,null,null,null,null,null,null,null,null,null,null,null,null,null,null,null,null,null,null,null,null,null,null,null,null," ","医療",null,null,null,null,null,null,null,null,"人",null,null,null,null,"人",null,null,null,null,"人",null,null,null,null,"人",null,null,null,null,"人",null,null,null,null,"人"]
["不動産業、物品賃貸業",null,null,null,null,null,null,{"$f":"データ一覧!O129","v":"…"},null,null,{"$f":"データ一覧!O186","v":"…"},null,null,{"$f":"データ一覧!O130","v":72},null,null,{"$f":"データ一覧!O187","v":445},null,null,{"$f":"データ一覧!O131","v":"…"},null,null,{"$f":"データ一覧!O188","v":"…"},null,null,null,null,null,null,null,null,null,null,null,null,null,null,null,null,"           ",null,null,null,"歳入",null,null,null,null,null,null,null,null,"(千円）"," ",null,null,null,"歳出",null,null,null,null,null,null,null,null,"(千円）",null,"関係者",null,null,null,null,{"$f":"データ一覧!O666","v":77},null,null,null,null,{"$f":"データ一覧!O667","v":31},null,null,null,null,{"$f":"データ一覧!O668","v":122},null,null,null,null,{"$f":"データ一覧!O669","v":34},null,null,null,null,{"$f":"データ一覧!O670","v":5},null,null,null,null,{"$f":"データ一覧!O671","v":675}]
["学術研究、専門・技術ｻｰﾋﾞｽ業",null,null,null,null,null,null,{"$f":"データ一覧!O132","v":"…"},null,null,{"$f":"データ一覧!O189","v":"…"},null,null,{"$f":"データ一覧!O133","v":115},null,null,{"$f":"データ一覧!O190","v":668},null,null,{"$f":"データ一覧!O134","v":"…"},null,null,{"$f":"データ一覧!O191","v":"…"},null,null,"  産   業　 分　 類",null,null,null,"  商　 店 　数",null,null," 従　業　者　数",null,null,"年　間　販　売　額",null,null,null,"一人当たり歳入歳出予算決算額",null,null,null,null,null,null,null,null,null,null,null,null,null,null,null,null,null,null,null,null,null,null,null,null,null,null,null,"                   ",null,null,null,null,null,null,null,null,"死因別死亡数　　　　　　    ",null,null,null,null,null,null,null,null,null,null,null,null,null,null,null,{"$f":"データ一覧!$A$672","v":"2年中"},null,null,null,null,null,null,null,null,"      単 位：人"]
["宿泊業、飲食サービス業",null,null,null,null,null,null,{"$f":"データ一覧!O135","v":"…"},null,null,{"$f":"データ一覧!O192","v":"…"},null,null,{"$f":"データ一覧!O136","v":376},null,null,{"$f":"データ一覧!O193","v":2523},null,null,{"$f":"データ一覧!O137","v":"…"},null,null,{"$f":"データ一覧!O194","v":"…"},null,null,null,null,null,null,null,"        店",null,null,null,"　人",null,"         百万円",null,null,"区分",null,null,null,{"$f":"データ一覧!$A$438","v":"3年度"},null,null,null,null,{"$f":"データ一覧!$A$452","v":"2年度"},null,null,null,null,"区分",null,null,null,{"$f":"+AR68","v":"3年度"},null,null,null,null,{"$f":"データ一覧!$A$452","v":"2年度"},null,null,null,null," 死     因",null,null,null,null,null,null,null,null,null,null,null,"悪  性",null,null,"高血圧",null,null,null,null,null,"脳血管",null,null,null,null,null," ",null,null,"不慮の事故"]
["生活関連サービス業、娯楽業",null,null,null,null,null,null,{"$f":"データ一覧!O138","v":"…"},null,null,{"$f":"データ一覧!O195","v":"…"},null,null,{"$f":"データ一覧!O139","v":330},null,null,{"$f":"データ一覧!O196","v":1246},null,null,{"$f":"データ一覧!O140","v":"…"},null,null,{"$f":"データ一覧!O197","v":"…"},null,null,"総　　　　　　計",null,null,null,{"$f":"データ一覧!O294","v":797},null,null,{"$f":"データ一覧!O303","v":5510},null,null,{"$f":"データ一覧!O312","v":133270},null,null,null,null,null,null,null,{"$f":"データ一覧!O434","v":461321.05635248241},null,null,null,null,{"$f":"データ一覧!O435","v":659920.18236254761},null,null,null,null,null,null,null,null,{"$f":"データ一覧!O436","v":461321.05635248241},null,null,null,null,{"$f":"データ一覧!O437","v":642452.73090183281},null,null,null,null,null,null,null,null,null,"全 死 因",null,null,null,"結 核",null,null,"新生物",null,null,"性疾患",null,null,"心疾患",null,null,"疾  患",null,null,"肺  炎",null,null,"老  衰",null,null,null,null," ","交通事故"]
["教育、学習支援業",null,null,null,null,null,null,{"$f":"データ一覧!O141","v":"…"},null,null,{"$f":"データ一覧!O198","v":"…"},null,null,{"$f":"データ一覧!O142","v":95},null,null,{"$f":"データ一覧!O199","v":253},null,null,{"$f":"データ一覧!O143","v":"…"},null,null,{"$f":"データ一覧!O200","v":"…"},null,null,"卸売業",null,null,null,{"$f":"データ一覧!O295","v":142},null,null,{"$f":"データ一覧!O304","v":1203},null,null,{"$f":"データ一覧!O313","v":56203},null,null,null,"項目別歳入歳出予算決算額"]
["医療、福祉",null,null,null,null,null,null,{"$f":"データ一覧!O144","v":"…"},null,null,{"$f":"データ一覧!O201","v":"…"},null,null,{"$f":"データ一覧!O145","v":200},null,null,{"$f":"データ一覧!O202","v":3530},null,null,{"$f":"データ一覧!O146","v":"…"},null,null,{"$f":"データ一覧!O203","v":"…"},null,null,"小売業",null,null,null,{"$f":"データ一覧!O296","v":655},null,null,{"$f":"データ一覧!O305","v":4307},null,null,{"$f":"データ一覧!O314","v":77067},null,null,null,"区分",null,null,null,{"$f":"データ一覧!$A$438","v":"3年度"},null,null,null,null,{"$f":"データ一覧!$A$452","v":"2年度"},null,null,null,null,"区分",null,null,null,{"$f":"+AR71","v":"3年度"},null,null,null,null,{"$f":"データ一覧!$A$452","v":"2年度"},null,null,null,null,null,null,null,null,null,{"$f":"データ一覧!O672","v":971},null,null,null,"   －",{"$f":"データ一覧!O673","v":0},null,{"$f":"データ一覧!O674","v":52},null,null,null,{"$f":"データ一覧!O675","v":14},null,{"$f":"データ一覧!O676","v":20},null,null,{"$f":"データ一覧!O677","v":3},null,null,{"$f":"データ一覧!O678","v":66},null,null,{"$f":"データ一覧!O679","v":104},null,null,{"$f":"データ一覧!O680","v":30},null,null,{"$f":"データ一覧!O681","v":3}]
["複合サービス事業",null,null,null,null,null,null,{"$f":"データ一覧!O147","v":"…"},null,null,{"$f":"データ一覧!O204","v":"…"},null,null,{"$f":"データ一覧!O148","v":36},null,null,{"$f":"データ一覧!O205","v":624},null,null,{"$f":"データ一覧!O149","v":"…"},null,null,{"$f":"データ一覧!O206","v":"…"},null,null,"各種商品",null,null,null,{"$f":"データ一覧!O297","v":2},null,null,{"$f":"データ一覧!O306","v":317},null,null,{"$f":"データ一覧!O315","v":"x"},null,null,null,"総額",null,null,null,{"$f":"SUM(AR73:AV85)","v":40456934},null,null,null,null,{"$f":"SUM(AW73:BA85)","v":58028531},null,null,null,null,"総額",null,null,null,{"$f":"SUM(BF73:BJ85)","v":40456934},null,null,null,null,{"$f":"SUM(BK73:BO85)","v":56648912},null,null,null,null," １９  警　察　・　消　防  ",null,null,null,null,null,null,null,null,null,null,null,null,null,null,null,{"$f":"+データ一覧!$A682","v":"3.4.1"}]
["サービス業",null,null,null,null,null,null,{"$f":"データ一覧!O150","v":"…"},null,null,{"$f":"データ一覧!O207","v":"…"},null,null,{"$f":"データ一覧!O151","v":273},null,null,{"$f":"データ一覧!O208","v":1881},null,null,{"$f":"データ一覧!O152","v":"…"},null,null,{"$f":"データ一覧!O209","v":"…"},null,null,"織物・衣服・身の回り品",null,null,null,{"$f":"データ一覧!O298","v":73},null,null,{"$f":"データ一覧!O307","v":214},null,null,{"$f":"データ一覧!O316","v":2581},null,null,null,"地方税",null,null,null,{"$f":"データ一覧!O439","v":11682800},null,null,null,null,{"$f":"データ一覧!O453","v":12532147},null,null,null,null,"議会費",null,null,null,{"$f":"データ一覧!O467","v":300996},null,null,null,null,{"$f":"データ一覧!O481","v":272583}]
["公務",null,null,null,null,null,null,{"$f":"データ一覧!O153","v":"…"},null,null,{"$f":"データ一覧!O210","v":"…"},null,null,{"$f":"データ一覧!O154","v":"…"},null,null,{"$f":"データ一覧!O211","v":"…"},null,null,{"$f":"データ一覧!O155","v":"…"},null,null,{"$f":"データ一覧!O212","v":"…"},null,null,"飲食料品",null,null,null,{"$f":"データ一覧!O299","v":221},null,null,{"$f":"データ一覧!O308","v":1786},null,null,{"$f":"データ一覧!O317","v":25739},null,null,null,"地方譲与税",null,null,null,{"$f":"データ一覧!O440","v":240850},null,null,null,null,{"$f":"データ一覧!O454","v":332629},null,null,null,null,"総務費",null,null,null,{"$f":"データ一覧!O468","v":6383700},null,null,null,null,{"$f":"データ一覧!O482","v":20793523},null,null,null,null,null,null,null,null,null,null,null,null,null,null,"交番・駐在所",null,null,null,null,null,null,null,null,"刑法犯認知件数",null,null,null,null,null,null,null,null,"交通人身事故発生件数"]
["  ４  農        　　　業 ",null,null,null,null,null,null,null,null,null,null,null,null,null,null,null,null,null,null,null,null,null,null,null,null,"機械器具",null,null,null,{"$f":"データ一覧!O300","v":89},null,null,{"$f":"データ一覧!O309","v":493},null,null,{"$f":"データ一覧!O318","v":12373},null,null,null,"各種交付金",null,null,null,{"$f":"データ一覧!O441","v":1816300},null,null,null,null,{"$f":"データ一覧!O455","v":2037030},null,null,null,null,"民生費",null,null,null,{"$f":"データ一覧!O469","v":14097662},null,null,null,null,{"$f":"データ一覧!O483","v":14243996},null,null,null,null,null,"警察署数",null,null,null,null,null,null,null,null,"検問所数",null,null,null,null,null,null,null,null,null,{"$f":"データ一覧!$A$684","v":"2年中"},null,null,null,null,null,null,null,null,{"$f":"データ一覧!$A$684","v":"2年中"}]
[null,null,null,null,null,null,null,null,null,null,null,null,null,null,null,null,null,null,null,null,null,null,null,null,null,"その他",null,null,null,{"$f":"データ一覧!O301","v":242},null,null,{"$f":"データ一覧!O310","v":1366},null,null,{"$f":"データ一覧!O319","v":"x"},null,null,null,"地方特例交付金",null,null,null,{"$f":"データ一覧!O442","v":284000},null,null,null,null,{"$f":"データ一覧!O456","v":99650},null,null,null,null,"衛生費",null,null,null,{"$f":"データ一覧!O470","v":2322492},null,null,null,null,{"$f":"データ一覧!O484","v":2512479},null,null,null,null,null,null,null,null,null,null,null,null,null,null,null,null,null,null,null,null,null,null,null,null,null,null,null,null," 件",null,null,null,null,null,null,null,null,"　件"]
[null,null,"農業経営体数",null,null,null,null,null,null,"農産物販売額規模別経営体数",null,null,null,null,null,null,null,"経営耕地面積規模別経営体数",null,null,null,null,null,null,null,"無店舗",null,null,null,{"$f":"データ一覧!O302","v":28},null,null,{"$f":"データ一覧!O311","v":131},null,null,{"$f":"データ一覧!O320","v":1894},null,null,null,"地方交付税",null,null,null,{"$f":"データ一覧!O443","v":7457000},null,null,null,null,{"$f":"データ一覧!O457","v":7896750},null,null,null,null,"労働費",null,null,null,{"$f":"データ一覧!O471","v":82751},null,null,null,null,{"$f":"データ一覧!O485","v":81120},null,null,null,null,null,null,{"$f":"データ一覧!O682","v":2},null,null,null,null,null,null,null,null,{"$f":"データ一覧!O683","v":12},null,null,null,null,null,null,null,null,{"$f":"データ一覧!O684","v":248},null,null,null,null,null,null,null,null,{"$f":"データ一覧!O685","v":98}]
["農",null,"区　分",null,null,null,"経営体数\n（経営体）",null,null,"区　分",null,null,null,null,"経営体数\n（経営体）",null,null,"区　分",null,null,null,null,"経営体数\n（経営体）",null,null,null,null,null,null,null,null,null,null,null,null,null,null,null,null,"分担金および負担金",null,null,null,{"$f":"データ一覧!O444","v":432038},null,null,null,null,{"$f":"データ一覧!O458","v":419301},null,null,null,null,"農林水産業費",null,null,null,{"$f":"データ一覧!O472","v":2089733},null,null,null,null,{"$f":"データ一覧!O486","v":1901873},null,null,null,null,"火災発生件数",null,null,null,null,null,null,null,null,null,"林野焼損",null,null,null,null,"損      害",null,null,null,null,"消 防 自",null,null,null,"その他の",null,null,null," ",null,null,null,null," "]
["業","令",null,null,null,null,null,null,null,null,null,null,null,null,null,null,null,null,null,null,null,null,null,null,null,"  ８  住　　　　　　 　宅",null,null,null,null,null,null,null,null,null,null,null,null,null,"使用料および手数料",null,null,null,{"$f":"データ一覧!O445","v":526258},null,null,null,null,{"$f":"データ一覧!O459","v":485908},null,null,null,null,"商工費",null,null,null,{"$f":"データ一覧!O473","v":1513540},null,null,null,null,{"$f":"データ一覧!O487","v":1386496},null,null,null,null,{"$f":"+データ一覧!$A$686","v":"2年中"},null,null,null,null,"焼損棟数",null,null,null,null,"面    積",null,null,null,null,"見  積  額",null,null,null,null,"動 車 数",null,null,null,"ﾎﾟﾝﾌﾟ数",null,null,null," 消防吏員",null,null,null," 消防団員"]
["経",{"$f":"+LEFT(データ一覧!$A$213)","v":"2"},"計",null,null,null,{"$f":"データ一覧!O213","v":1454},null,null,"総　　　 数",null,null,null,null,{"$f":"データ一覧!O217","v":1454},null,null,"総　　　 数",null,null,null,null,{"$f":"データ一覧!O233","v":5920},null,null,null,null,null,null,null,null,null,null,null,null,null,null,null,null,"国庫支出金",null,null,null,{"$f":"データ一覧!O446","v":4101753},null,null,null,null,{"$f":"データ一覧!O460","v":15220950},null,null,null,null,"土木費",null,null,null,{"$f":"データ一覧!O474","v":2910059},null,null,null,null,{"$f":"データ一覧!O488","v":3394429},null,null,null,null,"         件",null,null,null,null,null,"      棟",null,null,null,null,null,null,"  ａ",null,null,null,"  千円",null,null,"        ",null,null,null,null,null,null,null,null,null,"  人",null,null,null,"  人"]
["営","・","個人経営体",null,null,null,{"$f":"データ一覧!O214","v":1316},null,null,"販 売 な し",null,null,null,null,{"$f":"データ一覧!O218","v":29},null,null,"0.5 ha 未満",null,null,null,null,{"$f":"データ一覧!O234","v":55},null,null,{"$f":"+データ一覧!$A$321","v":"令和元年"},null,null,null,null,{"$f":"データ一覧!$A$324","v":"2年"},"中の増減",null,null,null,{"$f":"+データ一覧!$A$324","v":"2年"},null,null,null,"県支出金",null,null,null,{"$f":"データ一覧!O447","v":3359453},null,null,null,null,{"$f":"データ一覧!O461","v":3158063},null,null,null,null,"消防費",null,null,null,{"$f":"データ一覧!O475","v":1643434},null,null,null,null,{"$f":"データ一覧!O489","v":1671474},null,null,null,null,null,{"$f":"データ一覧!O686","v":16},null,null,null,null,{"$f":"データ一覧!O687","v":5},null,null,null,null,{"$f":"データ一覧!O688","v":0},null,null,null,{"$f":"データ一覧!O689","v":15212},null,null,null,null,null,{"$f":"データ一覧!O690","v":41},null,null,null,{"$f":"データ一覧!O691","v":10},null,null,null,{"$f":"データ一覧!O692","v":153},null,null,null,{"$f":"データ一覧!O693","v":459}]
["体",{"$f":"+LEFT(データ一覧!$A$213,1)","v":"2"},"団体経営体",null,null,null,{"$f":"データ一覧!O215","v":138},null,null,"50万円未満",null,null,null,null,{"$f":"データ一覧!O219","v":319},null,null,"0.5 ha ～ 1.0 ha",null,null,null,null,{"$f":"データ一覧!O235","v":230},null,null,null,null,null,null,"建設した住宅",null,null,"消失した住宅",null,null,null,null,null,null,"財産収入",null,null,null,{"$f":"データ一覧!O448","v":69634},null,null,null,null,{"$f":"データ一覧!O462","v":57152},null,null,null,null,"教育費",null,null,null,{"$f":"データ一覧!O476","v":5024109},null,null,null,null,{"$f":"データ一覧!O490","v":6428514},null,null,null,null," ２０  そ　　　の　　　他　"]
["数","・",null,"法人経営",null,null,{"$f":"データ一覧!O216","v":54},null,null,"50～300万円",null,null,null,null,{"$f":"データ一覧!O220","v":778},null,null,"1.0 ha ～ 2.0 ha",null,null,null,null,{"$f":"データ一覧!O236","v":711},null,null,null,null,null,null,null,null,null,null,null,null,null,null,null,null,"繰入金",null,null,null,{"$f":"データ一覧!O449","v":3362280},null,null,null,null,{"$f":"データ一覧!O463","v":1954347},null,null,null,null,"災害復旧費",null,null,null,{"$f":"データ一覧!O477","v":0},null,null,null,null,{"$f":"データ一覧!O491","v":7830}]
["（",{"$f":"+RIGHT(データ一覧!$A$213)","v":"1"},null,null,null,null,null,null,null,"300～500万円",null,null,null,null,{"$f":"データ一覧!O221","v":103},null,null,"2.0 ha ～ 3.0 ha",null,null,null,null,{"$f":"データ一覧!O237","v":431},null,null,null,{"$f":"データ一覧!O321","v":32406},null,"戸",{"$f":"データ一覧!O322","v":394},null,"戸",{"$f":"データ一覧!O323","v":230},null,"戸",null,{"$f":"データ一覧!O324","v":32570},null,"戸","地方債",null,null,null,{"$f":"データ一覧!O450","v":4074800},null,null,null,null,{"$f":"データ一覧!O464","v":6841945},null,null,null,null,"公債費",null,null,null,{"$f":"データ一覧!O478","v":4078458},null,null,null,null,{"$f":"データ一覧!O492","v":3954595},null,null,null,null,null,null,null,null,null,"越前加賀海岸国定公園（東尋坊、雄島、越前松島）、瀧谷寺の金銅毛彫宝相華唐草文磬、三国港突堤、三國神社、みくに龍翔館、丸岡城、坪川家住宅、六呂瀬山古墳群、新田義貞公墓所、中野重治記念文庫、竹田水車メロディーパーク、一筆啓上 日本一短い手紙の館、藤鷲塚のフジ、エンゼルランドふくい、文化の森、ゆりの里公園、大善寺の金剛孔雀文磬、春日神社の黒仏"]
["総",null,null,null,null,null,null,null,null,"500～1,000万円",null,null,null,null,{"$f":"データ一覧!O222","v":100},null,null,"3.0 ha ～ 5.0 ha",null,null,null,null,{"$f":"データ一覧!O238","v":333},null,null,null,null,null,null,null,null,null,null,null,null,null,null,null,null,"その他",null,null,null,{"$f":"データ一覧!O451","v":3049768},null,null,null,null,{"$f":"データ一覧!O465","v":6992659},null,null,null,null,"その他",null,null,null,{"$f":"データ一覧!O479","v":10000},null,null,null,null,{"$f":"データ一覧!O493","v":0},null,null,null,null,"　名所・旧跡"]
["数",null,null,null,null,null,null,null,null,"1,000万円以上",null,null,null,null,{"$f":"データ一覧!O223","v":125},null,null,"5.0 ha以上",null,null,null,null,{"$f":"データ一覧!O239","v":4161},null,null,null,null,null,null,null,null,null,null,null,null,null,null,null,null,null,null,null,null,null,null,null,null,null,null,null,null,null,null,null,null,null,null,null,null,null,null,null,null,null,null,null,null,"  文化財等"]
["）",null,"15歳以上の常雇い数",null,null,null,null,null,null,"農業に60日以上従事した世帯員、役員・構成員\n（経営主を含む）の平均年齢",null,null,null,null,null,null,null,null,null,null,null,null,null,null,null,"  ９  議　 員　・　職 　員",null,null,null,null,null,null,null,null,null,null,null,null,null," １４  文　　　　　　化",null,null,null,null,null,null,null,null,null," ( ",{"$f":"データ一覧!$A$500","v":"3.3.31"},null,null,null,"ただし図書館・公民館・児童館",null,null,null,null,null,null,null,{"$f":"データ一覧!$A$494","v":"3.4.1"}]
["と",null,null,null,null,null,null,null,null,null,null,null,null,null,null,null,null,null,null,null,null,null,null,null,null,null,null,null,null,null,null,null,null,null,null,null,null,null,null,null,null,null,null,null,null,null,null,null,null,null,null,null,null,null,null,"　宗教法人数 ",null,null,null,null,null,null,{"$f":"データ一覧!$A$502","v":"2.12.31"},null,null,null,"）"]
["就",null,null,null,null,null,null,null,null,"農業に60日以上従事",null,null,null,null,null,null,null,"農業に150日以上従事",null,null,null,null,null,null,null," 市 町 村 議 会",null,null,"有権者数",null,{"$f":"データ一覧!$A$328","v":"3.9.1"},null,"市 町 村 議 会",null,null,"  職      員      数",null,null,null,null,null,null,null,null,"図書館",null,null,null,null,null,"公　民　館",null,null,null,null,null,null,null,null,null,null," 社会教育学級講座",null,null,null,null,null,"　　特産物",null,null,null,null,"越前がに、甘えび、もみわかめ、酒まんじゅう、焼き鯖寿司、花らっきょ、若狭牛、"]
["業",null,"区　分",null,null,null,"人",null,null,"区　分",null,null,null,null,"人",null,null,"区　分",null,null,null,null,"人",null,null," 議  員  定  数",null,null,"    男",null,"    女",null,"選 挙 投 票 率",null,null," 総     数",null,"一般行政職",null,"公    共",null,null,null," 館  数",null,null," 図書数",null,null," 本  館",null,null," 分  館",null,null," 公  園",null,null," 児童館",null,null,"学級講座数",null,null,"受講者数",null,null,null,null,null,null,null,"丸岡産おろしそば、地酒、竹田の油揚げ、コシヒカリ、織ネーム、越前竹人形"]
["状",null,"総数",null,null,null,{"$f":"データ一覧!O230","v":154},null,null,"総数",null,null,null,null,{"$f":"データ一覧!O224","v":66.8},null,null,"総数",null,null,null,null,{"$f":"データ一覧!O227","v":66.400000000000006},null,null,null,null,"人",null,"人",null,"人",null,null,"　％",null,"人",null,"人","施 設 数",null,null,null,null,{"$f":"データ一覧!O494","v":4},null,{"$f":"データ一覧!O495","v":649435},null,null,null,{"$f":"データ一覧!O496","v":23},null,{"$f":"データ一覧!O497","v":3},null,null,{"$f":"データ一覧!O498","v":81},null,null,{"$f":"データ一覧!O499","v":11},null,null,{"$f":"データ一覧!O500","v":323},null,null,{"$f":"データ一覧!O501","v":11832},null,null," 　年中行事",null,null,null,null,"三国祭、三国花火大会、三國湊帯のまち流し、丸岡城桜まつり、丸岡古城まつり、"]
["況",null,"男",null,null,null,{"$f":"データ一覧!O231","v":109},null,null,"男",null,null,null,null,{"$f":"データ一覧!O225","v":66.2},null,null,"男",null,null,null,null,{"$f":"データ一覧!O228","v":66},null,null,null,{"$f":"データ一覧!O325","v":26},null,{"$f":"データ一覧!O328","v":35876},null,{"$f":"データ一覧!O329","v":38772},null,{"$f":"データ一覧!O327","v":52.39},null,null,{"$f":"データ一覧!O330","v":838},null,{"$f":"データ一覧!O331","v":384},null,"宗    教",null,null,null," 仏教系",null,null,"ｷﾘｽﾄ教系",null,null,"神道諸派",null,null,"公会堂・市民会館",null,null,null,null,null," テレビ",null,null,"衛星放送契約数",null,null,null,null,null,null,null,null,null,null,"丸岡新そばまつり、坂井市古城マラソン、ゆりフェスタ、"]
[null,null,"女",null,null,null,{"$f":"データ一覧!O232","v":45},null,null,"女",null,null,null,null,{"$f":"データ一覧!O226","v":68.3},null,null,"女",null,null,null,null,{"$f":"データ一覧!O229","v":67.5},null,null,null,null,null,null,null,null,null,{"$f":"データ一覧!O326","v":"30.4.15"},null,null,null,null,null,null,"法 人 数",null,null,null,{"$f":"データ一覧!O502","v":121},null,null,{"$f":"データ一覧!O503","v":3},null,null,{"$f":"データ一覧!O504","v":205},null,null,{"$f":"データ一覧!O505","v":2},null,null,null,null,null,"      等",null,null,{"$f":"データ一覧!O506","v":19699},null,null,null,null,null,null,null,null,null,null,"はるえイッチョライでんすけ祭り、さかい夏まつり"]

{"sheet":"永平寺町","index":14,"n_rows":93,"n_cols":103,"rows_kept":93,"cut":false,"hidden":false,"merged":[[92,2,92,5],[92,9,92,13],[92,14,92,16],[92,17,92,21],[92,6,92,8],[92,22,92,24],[89,6,89,8],[89,14,89,16],[89,22,89,24],[90,6,90,8],[90,14,90,16],[90,22,90,24],[91,6,91,8],[91,14,91,16],[85,9,85,13],[85,14,85,16],[81,6,81,8],[81,9,81,13],[84,14,84,16],[84,22,84,24],[85,6,85,8],[86,2,88,8],[86,9,87,24],[88,9,88,16],[88,17,88,24],[89,2,89,5],[89,9,89,13],[89,17,89,21],[90,2,90,5],[90,9,90,13],[90,17,90,21],[91,2,91,5],[91,9,91,13],[91,17,91,21],[66,0,66,6],[61,0,61,6],[85,22,85,24],[85,17,85,21],[83,22,83,24],[76,17,76,24],[77,2,78,5],[77,6,78,8],[77,9,78,13],[77,14,78,16],[77,17,78,21],[77,22,78,24],[79,2,79,5],[79,6,79,8],[79,9,79,13],[79,14,79,16],[79,17,79,21],[79,22,79,24],[80,6,80,8],[80,9,80,13],[80,14,80,16],[80,17,80,21],[82,22,82,24],[82,9,82,13],[82,6,82,8],[83,6,83,8],[83,9,83,13],[83,14,83,16],[82,14,82,16],[76,9,76,16],[84,6,84,8],[84,9,84,13],[61,22,61,24],[62,22,62,24],[56,19,56,21],[56,22,56,24],[48,10,48,12],[59,22,59,24],[64,13,64,15],[65,10,65,12],[68,13,68,15],[58,19,58,21],[42,10,42,12],[56,10,56,12],[48,22,48,24],[61,16,61,18],[60,16,60,18],[60,22,60,24],[63,22,63,24],[74,0,75,24],[70,19,70,21],[72,19,72,21],[70,0,70,6],[69,0,69,6],[73,7,73,9],[73,10,73,12],[73,13,73,15],[73,19,73,21],[72,10,72,12],[72,7,72,9],[70,13,70,15],[70,10,70,12],[34,14,34,16],[40,16,40,18],[40,13,40,15],[58,22,58,24],[65,0,65,6],[58,13,58,15],[61,19,61,21],[63,16,63,18],[55,7,55,9],[59,13,59,15],[40,2,40,3],[63,0,63,6],[62,0,62,6],[44,0,45,1],[58,0,58,6],[57,0,57,6],[33,14,33,16],[62,16,62,18],[55,10,55,12],[58,7,58,9],[57,7,57,9],[59,7,59,9],[48,7,48,9],[42,13,42,15],[48,19,48,21],[57,19,57,21],[34,11,34,13],[34,8,34,10],[60,13,60,15],[62,7,62,9],[67,19,67,21],[47,19,47,21],[35,22,35,24],[67,22,67,24],[35,14,35,16],[35,18,35,19],[35,20,35,21],[35,86,35,90],[31,81,31,84],[40,36,40,37],[45,25,45,28],[42,32,42,35],[43,53,43,56],[53,29,53,31],[49,39,49,45],[32,49,32,51],[57,13,57,15],[60,10,60,12],[33,22,33,24],[32,20,32,21],[63,10,63,12],[61,13,61,15],[62,13,62,15],[55,13,55,15],[35,8,35,10],[35,11,35,13],[23,11,23,13],[29,5,29,7],[40,7,40,9],[27,0,27,4],[56,7,56,9],[34,5,34,7],[33,5,33,7],[41,10,41,12],[47,7,47,9],[47,10,47,12],[56,13,56,15],[60,7,60,9],[30,11,30,13],[29,8,29,10],[30,5,30,7],[56,16,56,18],[59,16,59,18],[59,10,59,12],[58,10,58,12],[57,10,57,12],[42,16,42,18],[33,18,33,19],[55,16,55,18],[48,0,48,1],[47,0,47,1],[46,0,46,1],[55,0,55,6],[60,0,60,6],[59,0,59,6],[33,8,33,10],[42,19,42,21],[56,0,56,6],[40,19,40,21],[41,22,41,24],[42,22,42,24],[44,19,44,24],[41,16,41,18],[41,19,41,21],[57,16,57,18],[58,16,58,18],[60,19,60,21],[59,19,59,21],[36,40,36,46],[36,53,36,56],[36,60,36,64],[73,95,73,101],[74,77,74,83],[55,22,55,24],[56,39,56,42],[60,39,60,42],[55,19,55,21],[50,0,51,24],[47,16,47,18],[58,48,58,50],[51,77,51,79],[55,77,55,79],[53,77,53,79],[61,10,61,12],[62,10,62,12],[74,87,74,91],[62,19,62,21],[47,13,47,15],[48,13,48,15],[48,16,48,18],[42,7,42,9],[42,4,42,6],[40,4,40,6],[41,4,41,6],[41,7,41,9],[35,5,35,7],[40,10,40,12],[34,18,34,19],[20,11,20,13],[30,14,30,16],[29,11,29,13],[14,82,15,95],[17,86,17,89],[19,81,19,84],[16,74,16,95],[20,40,20,46],[20,49,20,51],[23,60,23,64],[14,67,15,81],[21,73,21,76],[21,77,21,80],[21,81,21,84],[17,82,17,83],[19,77,19,80],[23,68,23,72],[23,73,23,76],[21,86,21,90],[17,68,17,71],[17,73,17,76],[21,49,21,51],[20,77,20,80],[22,7,22,8],[23,91,23,94],[23,95,23,98],[20,73,20,76],[21,40,21,46],[22,53,22,56],[23,77,23,80],[24,0,25,24],[24,33,24,34],[24,49,24,51],[24,53,24,56],[24,35,24,36],[41,13,41,15],[19,73,19,76],[21,53,21,56],[20,53,20,56],[22,40,22,46],[23,16,23,18],[20,16,20,18],[30,18,30,19],[26,60,26,64],[24,68,24,72],[24,60,24,64],[23,53,23,56],[23,49,23,51],[24,73,24,76],[22,60,22,64],[24,77,24,80],[24,81,24,84],[24,86,24,90],[20,81,20,84],[33,11,33,13],[40,22,40,24],[19,99,19,102],[17,91,17,94],[19,95,19,98],[19,91,19,94],[17,100,17,101],[20,99,20,102],[23,99,23,102],[41,29,41,30],[40,32,40,35],[32,22,32,24],[17,25,17,27],[18,25,18,27],[24,40,24,46],[25,40,25,46],[25,49,25,51],[27,40,27,46],[26,77,26,80],[24,95,24,98],[20,21,20,23],[23,21,23,23],[27,81,27,84],[27,86,27,90],[23,81,23,84],[23,86,23,90],[20,29,20,31],[20,32,20,34],[24,27,24,28],[20,95,20,98],[20,91,20,94],[21,95,21,98],[22,91,22,94],[24,91,24,94],[5,0,5,9],[6,0,8,9],[17,40,17,46],[17,48,17,52],[19,3,19,5],[17,53,17,57],[15,32,15,33],[15,35,15,37],[14,26,15,28],[15,29,15,30],[17,59,17,65],[19,40,19,46],[19,49,19,51],[19,53,19,56],[18,28,18,30],[16,32,16,33],[17,32,17,34],[19,60,19,64],[17,36,17,38],[18,35,18,38],[18,31,18,34],[19,25,19,28],[19,29,19,31],[19,32,19,34],[14,0,15,24],[22,81,22,84],[20,86,20,90],[22,68,22,72],[22,73,22,76],[22,77,22,80],[22,86,22,90],[20,60,20,64],[21,60,21,64],[26,81,26,84],[25,60,25,64],[26,68,26,72],[26,73,26,76],[26,49,26,51],[31,40,31,46],[34,60,34,64],[29,77,29,80],[26,53,26,56],[27,49,27,51],[25,73,25,76],[26,40,26,46],[28,53,28,56],[30,68,30,72],[32,77,32,80],[25,77,25,80],[31,73,31,76],[31,77,31,80],[32,68,32,72],[25,53,25,56],[27,53,27,56],[23,40,23,46],[22,49,22,51],[34,22,34,24],[35,36,35,37],[25,27,25,28],[25,29,26,30],[27,25,27,26],[27,27,27,28],[27,29,27,30],[27,33,27,34],[29,20,29,21],[34,29,34,30],[34,40,34,46],[34,36,34,37],[31,20,31,21],[35,53,35,56],[35,49,35,51],[28,40,28,46],[28,49,28,51],[33,40,33,46],[27,31,27,32],[30,49,30,51],[35,40,35,46],[25,25,25,26],[26,22,26,24],[34,20,34,21],[31,22,31,24],[33,20,33,21],[27,5,27,7],[27,22,27,24],[29,40,29,46],[29,18,29,19],[32,14,32,16],[31,11,31,13],[31,5,31,7],[31,14,31,16],[32,11,32,13],[31,18,31,19],[32,18,32,19],[31,8,31,10],[32,8,32,10],[32,5,32,7],[32,40,32,46],[30,8,30,10],[27,35,27,36],[30,40,30,46],[29,14,29,16],[29,22,29,24],[30,22,30,24],[30,20,30,21],[31,91,31,94],[30,60,30,64],[31,68,31,72],[33,49,33,51],[32,60,32,64],[31,49,31,51],[31,53,31,56],[33,60,33,64],[34,53,34,56],[34,49,34,51],[30,81,30,84],[30,73,30,76],[30,77,30,80],[40,79,41,82],[40,75,41,77],[48,83,48,86],[48,80,48,82],[40,93,40,95],[37,75,37,77],[38,93,38,95],[38,75,38,77],[46,95,46,98],[40,67,41,73],[33,67,34,80],[46,32,46,35],[42,36,42,37],[30,86,30,90],[36,49,36,51],[38,79,38,82],[39,60,39,64],[40,53,40,56],[40,49,40,51],[41,49,41,51],[67,48,67,52],[35,60,35,64],[36,67,36,73],[32,53,32,56],[33,53,33,56],[31,60,31,64],[37,49,37,51],[37,60,37,64],[38,60,38,64],[42,85,42,91],[32,73,32,76],[30,53,30,56],[36,75,36,77],[36,79,36,82],[33,83,34,96],[32,95,32,98],[55,63,55,65],[45,57,45,61],[50,50,50,53],[52,95,52,98],[53,95,53,98],[51,91,51,94],[35,93,35,95],[57,22,57,24],[64,22,64,24],[38,67,38,73],[47,22,47,24],[65,68,65,71],[53,25,53,27],[48,68,48,75],[65,83,65,86],[65,43,65,49],[57,61,57,63],[60,63,60,66],[57,31,57,33],[57,47,57,50],[57,51,57,54],[57,55,57,57],[42,60,42,64],[62,29,62,30],[55,59,55,62],[54,55,54,58],[54,47,54,50],[49,58,49,61],[49,62,49,66],[50,63,50,66],[48,56,48,59],[58,55,58,57],[52,80,52,82],[53,68,53,75],[48,77,48,79],[60,29,60,30],[59,59,59,62],[55,25,55,30],[55,31,55,34],[43,40,43,46],[38,40,38,46],[53,33,53,34],[53,36,53,37],[45,84,45,89],[64,68,64,71],[58,39,58,42],[56,68,56,75],[58,44,58,46],[66,35,66,38],[57,25,57,29],[70,72,70,75],[66,32,66,34],[57,39,57,42],[51,68,51,75],[54,68,54,75],[58,58,58,60],[60,59,60,62],[41,85,41,91],[54,51,54,54],[49,46,49,49],[49,50,49,53],[45,32,45,35],[44,29,44,30],[54,59,54,66],[54,39,54,42],[55,43,55,45],[54,43,54,46],[55,55,55,57],[70,43,70,47],[56,48,56,53],[57,35,57,37],[62,75,62,77],[62,81,62,83],[67,79,67,81],[65,88,65,91],[61,80,61,83],[61,39,61,42],[76,87,76,90],[71,32,71,33],[71,29,71,30],[71,39,71,42],[72,48,72,52],[77,57,77,61],[76,48,76,52],[76,57,76,61],[76,43,76,47],[68,48,68,52],[68,53,68,56],[61,63,61,66],[75,48,75,52],[68,88,68,90],[70,77,70,78],[73,77,73,83],[73,86,73,92],[92,61,92,66],[76,25,76,28],[71,25,71,28],[89,32,89,34],[90,46,90,48],[77,43,77,47],[77,48,77,52],[80,39,80,42],[82,43,82,47],[81,43,81,47],[74,48,74,52],[79,48,79,52],[77,53,77,56],[75,43,75,47],[75,53,75,56],[91,61,91,66],[90,58,90,60],[91,26,91,27],[90,39,90,42],[88,28,88,29],[88,30,88,31],[88,32,88,34],[79,57,79,61],[78,53,78,56],[81,32,81,34],[72,53,72,56],[78,57,78,61],[76,39,76,42],[72,35,72,37],[84,48,84,52],[83,53,83,56],[74,25,74,28],[92,39,92,42],[92,43,92,45],[92,46,92,48],[16,36,16,37],[14,25,15,25],[22,29,22,31],[22,32,22,34],[69,10,69,12],[66,10,66,12],[66,16,66,18],[67,13,67,15],[73,0,73,6],[72,13,72,15],[25,31,26,32],[25,33,26,34],[25,35,26,36],[26,25,26,26],[26,27,26,28],[27,37,27,38],[20,25,20,28],[84,39,84,42],[81,39,81,42],[82,39,82,42],[71,48,71,52],[74,39,74,42],[74,29,74,30],[67,39,67,42],[70,39,70,42],[59,43,59,56],[60,43,60,47],[60,48,60,52],[60,53,60,56],[0,0,0,9],[1,0,3,9],[58,61,58,63],[58,64,58,66],[90,50,90,51],[88,50,88,53],[84,53,84,56],[73,57,73,61],[70,62,70,66],[82,53,82,56],[67,53,67,56],[71,53,71,56],[61,43,61,47],[61,48,61,52],[61,53,61,56],[73,43,73,47],[68,25,68,28],[77,62,77,66],[78,39,78,42],[71,62,71,66],[71,35,71,37],[72,62,72,66],[69,22,69,24],[68,22,68,24],[65,39,65,42],[69,35,69,37],[68,35,68,37],[74,32,74,33],[75,29,75,30],[73,22,73,24],[83,29,83,30],[75,32,75,33],[76,29,76,30],[84,57,84,61],[90,64,90,66],[83,62,83,66],[72,29,72,30],[73,62,73,66],[75,62,75,66],[91,22,91,24],[90,55,90,57],[78,62,78,66],[79,39,79,42],[83,32,83,33],[90,52,90,54],[74,62,74,66],[80,25,81,28],[83,36,83,37],[81,29,81,31],[75,39,75,42],[74,53,74,56],[83,57,83,61],[83,43,83,47],[83,48,83,52],[83,39,83,42],[76,53,76,56],[80,53,80,56],[73,32,73,33],[75,25,75,28],[76,32,76,33],[76,35,76,37],[74,35,74,37],[78,43,78,47],[80,35,81,38],[77,39,77,42],[67,67,70,71],[89,72,92,102],[76,62,76,66],[88,61,88,66],[72,43,72,47],[92,32,92,34],[91,39,91,42],[91,32,91,34],[91,46,91,48],[91,49,91,51],[92,52,92,57],[72,25,72,28],[73,29,73,30],[72,32,72,33],[89,39,89,42],[88,44,88,47],[82,48,82,52],[92,49,92,51],[91,35,91,36],[91,43,91,45],[90,44,90,45],[91,28,91,29],[91,30,91,31],[91,37,91,38],[75,35,75,37],[80,43,80,47],[73,53,73,56],[82,57,82,61],[91,52,91,57],[83,26,83,27],[73,25,73,28],[81,62,81,66],[80,92,80,94],[70,91,70,93],[70,88,70,90],[84,62,84,66],[82,62,82,66],[89,61,89,63],[90,61,90,63],[81,67,82,102],[70,97,70,99],[84,43,84,47],[77,82,77,86],[71,67,72,82],[81,53,81,56],[81,57,81,61],[80,48,80,52],[79,53,79,56],[81,48,81,52],[78,48,78,52],[80,96,80,98],[74,57,74,61],[74,43,74,47],[70,85,70,87],[76,96,76,99],[69,25,69,28],[71,13,71,15],[68,85,68,87],[68,32,68,33],[69,32,69,33],[60,36,60,37],[67,57,67,61],[65,53,65,56],[65,57,65,63],[66,39,66,66],[67,43,67,47],[68,62,68,66],[69,39,69,66],[68,57,68,61],[70,48,70,52],[68,43,68,47],[72,57,72,61],[71,43,71,47],[70,25,70,28],[66,13,66,15],[69,13,69,15],[70,32,70,33],[70,29,70,30],[68,29,68,30],[69,29,69,30],[61,68,61,71],[62,87,62,89],[63,74,63,76],[62,68,62,71],[63,84,63,86],[63,89,63,91],[65,73,65,76],[69,7,69,9],[63,13,63,15],[65,22,65,24],[72,16,72,18],[68,82,68,84],[68,79,68,81],[60,85,60,90],[79,62,79,66],[80,68,80,70],[80,73,80,75],[80,78,80,80],[80,88,80,90],[80,62,80,66],[78,72,78,76],[78,95,78,98],[71,83,72,102],[70,100,70,102],[80,100,80,102],[80,82,80,86],[78,91,78,94],[78,67,78,71],[78,82,78,86],[68,100,68,102],[68,94,68,96],[67,97,67,102],[68,91,68,93],[65,93,65,96],[63,99,63,101],[62,99,62,101],[65,98,65,101],[62,93,62,95],[67,82,67,84],[57,58,57,60],[57,64,57,66],[66,76,66,90],[65,78,65,81],[60,97,60,102],[70,79,70,81],[53,80,53,82],[53,83,53,86],[63,94,63,96],[60,91,60,96],[66,92,66,96],[71,57,71,61],[67,62,67,66],[80,57,80,61],[52,83,52,86],[77,87,77,90],[77,91,77,94],[78,77,78,81],[70,94,70,96],[75,57,75,61],[78,87,78,90],[76,69,76,72],[77,77,77,81],[74,68,74,74],[68,72,68,75],[70,83,70,84],[70,57,70,61],[79,101,79,102],[78,99,78,102],[79,97,79,98],[74,96,74,100],[76,78,76,81],[39,67,39,73],[39,75,39,77],[42,67,42,73],[37,67,37,73],[52,87,52,90],[51,83,51,86],[51,80,51,82],[54,83,54,86],[52,68,52,75],[50,77,50,79],[54,99,54,102],[54,95,54,98],[55,87,55,90],[55,95,55,98],[55,91,55,94],[55,99,55,102],[53,87,53,90],[54,91,54,94],[51,95,51,98],[50,83,50,86],[51,87,51,90],[46,69,46,74],[54,80,54,82],[50,87,50,90],[52,77,52,79],[52,91,52,94],[56,87,56,90],[56,91,56,94],[50,95,50,98],[67,88,67,90],[46,29,46,30],[41,53,41,56],[29,81,29,84],[29,86,29,90],[27,95,27,98],[25,91,25,94],[28,86,28,90],[28,81,28,84],[25,81,25,84],[25,86,25,90],[32,91,32,94],[36,85,36,91],[37,79,37,82],[35,98,35,101],[48,91,48,94],[41,40,41,46],[44,36,44,37],[61,36,61,37],[42,49,42,51],[40,85,40,91],[61,59,61,62],[42,53,42,56],[42,79,42,82],[41,97,41,100],[50,99,50,102],[45,92,45,101],[49,99,49,102],[31,99,31,102],[24,99,24,102],[25,95,25,98],[25,99,25,102],[26,99,26,102],[30,99,30,102],[26,86,26,90],[29,99,29,102],[29,91,29,94],[29,95,29,98],[30,91,30,94],[25,37,26,38],[29,49,29,51],[29,53,29,56],[29,60,29,64],[28,60,28,64],[27,60,27,64],[27,68,27,72],[27,73,27,76],[30,95,30,98],[47,77,47,79],[47,87,47,90],[47,91,47,94],[47,95,47,98],[47,99,47,102],[53,99,53,102],[54,87,54,90],[51,99,51,102],[55,39,55,42],[55,35,55,38],[55,47,55,49],[49,54,49,57],[55,51,55,53],[50,55,50,57],[50,59,50,61],[49,80,49,82],[48,87,48,90],[50,91,50,94],[54,77,54,79],[50,80,50,82],[47,80,47,82],[47,83,47,86],[48,95,48,98],[49,95,49,98],[48,99,48,102],[49,91,49,94],[49,87,49,90],[55,80,55,82],[55,83,55,86],[49,77,49,79],[42,93,42,95],[41,93,41,95],[46,99,46,102],[42,75,42,77],[68,76,68,78],[52,99,52,102],[53,91,53,94],[41,60,41,64],[51,36,51,38],[48,62,48,65],[68,39,68,42],[38,49,38,51],[38,53,38,56],[43,83,44,102],[40,97,40,100],[57,67,58,102],[56,99,56,102],[56,95,56,98],[56,77,56,79],[56,80,56,82],[56,83,56,86],[55,68,55,75],[45,77,45,82],[47,68,47,75],[39,40,39,46],[40,40,40,46],[42,97,42,100],[57,43,57,46],[46,36,46,37],[48,50,48,53],[43,49,43,51],[41,36,41,37],[32,99,32,102],[36,97,36,100],[35,68,35,72],[35,75,35,77],[35,80,35,83],[39,85,39,91],[39,97,39,100],[39,79,39,82],[37,85,37,91],[37,93,37,95],[38,97,38,100],[37,97,37,100],[38,85,38,91],[39,93,39,95],[21,99,21,102],[21,91,21,94],[27,99,27,102],[28,99,28,102],[28,95,28,98],[26,91,26,94],[28,91,28,94],[27,91,27,94]],"merged_total":1106,"flags":["merged_cut"]}
[{"$f":"+データ一覧!P2","v":"よしだぐん"}]
[{"$f":"+データ一覧!P5","v":"吉田郡"}]
[null,null,null,null,null,null,null,null,null,null,null,null,null,null,null,null,null,null,null,null,null,null,null,null,null,null,null,null,null,"【町章とそのいわれ】",null,"将来に向かって波紋が広がっていくように、",null,null,null,null,null,null,null,null,"【位置および地勢】永平寺町は、福井県の北部に位置し、町土の中央には"]
[null,null,null,null,null,null,null,null,null,null,null,null,null,null,null,null,null,null,null,null,null,null,null,null,null,null,null,null,null,null,null,"人々が両手を広げて豊かな未来をつかもうと",null,null,null,null,null,null,null,null,null,"九頭竜川に平行して国道４１６号とえちぜん鉄道（勝山永平寺線）",null,null,null,null,null,null,null,null,null,null,null,null,null,null,null,null,null,null,null,null,null,null,null,null,null,null,null,null,"所在地",null,null,null,null,null,null,null,"〒910-1192"]
[null,null,null,null,null,null,null,null,null,null,null,null,null,null,null,null,null,null,null,null,null,null,null,null,null,null,null,null,null,null,null,"している様子をイメージし、町の発展と人の",null,null,null,null,null,null,null,null,null,"が走っており、西部の福井北ジャンクションでは、南北に走る北陸",null,null,null,null,null,null,null,null,null,null,null,null,null,null,null,null,null,null,null,null,null,null,null,null,null,null,null,null,null,null,null,null,null,null,null,null,"吉田郡永平寺町松岡春日１－４"]
[{"$f":"+データ一覧!P3","v":"えいへいじちょう"},null,null,null,null,null,null,null,null,null,null,null,null,null,null,null,null,null,null,null,null,null,null,null,null,null,null,null,null,null,null,"つながりへの願いが込められている。",null,null,null,null,null,null,null,null,null,"自動車道と東西に走る中部縦貫自動車道が結節し、広域交通の要衝と"]
[{"$f":"データ一覧!P6","v":"永平寺町"},null,null,null,null,null,null,null,null,null,null,null,null,null,null,null,null,null,null,null,null,null,null,null,null,null,null,null,null,null,null,null,null,null,null,null,null,null,null,null,null,"なっている。",null,null,null,null,null,null,null,null,null,null,null,null,null,null,null,null,null,null,null,null,null,null,null,null,null,null,null,null,"電話番号",null,null,null,null,null,null,null,"（０７７６）６１－１１１１"]
[null,null,null,null,null,null,null,null,null,null,null,null,null,null,null,null,null,null,null,null,null,null,null,null,null,null,null,null,null,null,null,null,null,null,null,null,null,null,null,null,null,null,null,null,null,null,null,null,null,null,null,null,null,null,null,null,null,null,null,null,null,null,null,null,null,null,null,null,null,null,"FAX番号",null,null,null,null,null,null,null,"　　〃　　　６１－２４３４"]
[]
[null,null,null,null,null,null,null,null,null,null,null,null,null,null,null,null,null,null,null,null,null,null,null,null,null,null,null,null,null,null,null,null,null,null,null,null,null,null,null,null,null,null,null,null,null,null,null,null,null,null,null,null,null,null,null,null,null,null,null,null,null,null,null,null,null,null,null,null,null,null,"最寄駅および距離",null,null,null,null,null,null,null,"えちぜん鉄道勝山永平寺線松岡駅　下車４００ｍ"]
[]
[null,null,null,null,null,null,null,null,null,null,null,null,null,null,null,null,null,null,null,null,null,null,null,null,null,null,null,null,null,null,null,null,null,null,null,null,null,null,null,null,null,null,null,null,null,null,null,null,null,null,null,null,null,null,null,null,null,null,null,null,null,null,null,null,null,null,null,null,null,null,"ホームページ",null,null,null,null,null,null,null,"http://www.town.eiheiji.lg.jp/"]
[null,null,null,null,null,null,null,null,null,null,null,null,null,null,null,null,null,null,null,null,null,null,null,null,null,null,"【町が掲げる標語】めぐる感動　心つながる清流のまち　えいへいじ"]
[]
["  １  土            　　地",null,null,null,null,null,null,null,null,null,null,null,null,null,null,null,null,null,null,null,null,null,null,null,null,{"$f":"データ一覧!$A$240","v":"2年"},"産米収穫量",null,null,"　 収　穫　量",null,null," 　作 付 面 積",null,null,"   10a当たり収量",null,null,null,null,null,null,null,null,null,null,null,null,null,null,null,null,null,null,null,null,null,null,null,null,null,null,null,null,null,null,null," １５  労　　　　　　　働",null,null,null,null,null,null,null,null,null,null,null,null,null,null,"27.10.1"]
[null,null,null,null,null,null,null,null,null,null,null,null,null,null,null,null,null,null,null,null,null,null,null,null,null,null,null,null,null,{"$f":"データ一覧!$P$240","v":3440},null,"t",{"$f":"データ一覧!$P$241","v":686},null,"ha",{"$f":"データ一覧!P242","v":501},null,null,"kg"," １０  工　　　　　　業 ",null,null,null,null,null,null,null,null,null,null,null,null,null,{"$f":"データ一覧!$A$332","v":"2.6.1（令和元年実績）"}]
["   総          面           積",null,null,null,null,null,null,null,null,null," 固 定 資 産 概 要 調 書 に よ る 地 目 別 面 積",null,null,null,null,null,null,null,null,null,null,null,null,null,null,null,null,null,"   総　　　数",null,null,null,"うち　　田",null,null,null,"うち　　畑",null,null,null,null,null,null,null,null,null,null,null,null,null,null,null,null,null,null,null,null,null,null,null,null,null,null,null,null,null,null,null,null,null,null,null,null,null,"産業別就業者数   "]
[null,null,{"$f":"データ一覧!$A$7","v":"3.10.1"},null,null,null,null,null,null,null,null,null,null,null,null,null,{"$f":"データ一覧!$A$9","v":"3.1.1"},null,null,null,null,null,null,null,null," 耕  地  面  積",null,null,null,"       ha",null,null,"ha ",null,null,null,"ha ",null,null,"      ","産業分類",null,null,null,null,null,null,null,"事業所数",null,null,null,null,"従業者数",null,null,null,null,null,"年間製造品出荷額等",null,null,null,null,null,null,null,null,"区  分",null,null,null,null,"総    数",null,null,null,null,"男",null,null,null,"女",null,null,"  ","区  分",null,null,null,null,"総    数",null,null,null,null,"男",null,null,null,"女"]
[null,null,null,null,null,null,"㎢",null,null,null,"   総       数",null,null,null,null,"  う ち     田",null,null,null,null,"  う ち     畑",null,null,null,null,{"$f":"データ一覧!A243","v":"2.7.15"},null,null,{"$f":"データ一覧!$P$243","v":1000},null,null,{"$f":"データ一覧!$P$244","v":936},null,null,null,{"$f":"データ一覧!$P$245","v":64},null,null,null,null,null,null,null,null,null,null,null,null,"　　   ",null,null,"事業所",null,"　　　　　　　 人",null,null,"人",null,"　　　　　　　　　　　　　　万円",null,null,null,null,null,null,"万円",null,null,null,null,null,null,null,"      人",null,null,null,null,null," 人",null,null,null," 人",null,null,null,null,null,null,null,"      人",null,null,null,"      人",null,null,null,"      人"]
[null,null,null,{"$f":"データ一覧!P7","v":94.43},null,null,null,null,null,null,null,null,null,null,"ha",null,null,null,null,"ha",null,null,null,null,"ha","農 業 生 産 物",null,null,null,"作 付 面 積",null,null,"収 穫 量",null,null,"10a当たり収量",null,null,null,"     ","総数",null,null,null,null,null,null,null,null,{"$f":"データ一覧!P332","v":48},null,null,null,{"$f":"+データ一覧!P357","v":970},null,null,null,null,null,null,{"$f":"データ一覧!P382","v":1503806},null,null,null,null,null,null," 総　　　数",null,null,null,null,null,{"$f":"BZ20+CD20","v":10414},null,null,null,{"$f":"データ一覧!P507","v":5512},null,null,null,{"$f":"データ一覧!P532","v":4902}]
[null,null,null,null,null,null,null,null,null,null,null,{"$f":"データ一覧!P9","v":6146.1},null,null,null,null,{"$f":"データ一覧!P10","v":1020.1},null,null,null,null,{"$f":"データ一覧!P11","v":85.1},null,null,null,{"$f":"データ一覧!$A$246","v":"2年中"},null,null,null,"ha",null,null,"t",null,null,"kg",null,null,null,"     食料品","食料品",null,null,null,null,null,null,null,null,{"$f":"データ一覧!P333","v":7},null,null,null,{"$f":"+データ一覧!P358","v":130},null,null,null,null,null,null,{"$f":"データ一覧!P383","v":212860},null,null,null,null,null,null,null,null,null,null,null,null,null,null,null,null,null,null,null,null,null,null,null,null,null,"卸売業,小売業",null,null,null,null,{"$f":"CR21+CV21","v":1602},null,null,null,{"$f":"データ一覧!P520","v":852},null,null,null,{"$f":"データ一覧!P545","v":750}]
["  町 ･ 丁 ･ 大 字",null,null,null,null,null,null,null,null,null,"  う ち  宅 地",null,null,null,null,"  う ち  山 林",null,null,null,null,"  う ち  原 野",null,null,null,null,"水　　　　　稲",null,null,null,{"$f":"データ一覧!P246","v":686},null,null,{"$f":"データ一覧!P247","v":3440},null,null,{"$f":"データ一覧!P248","v":501},null,null,null,"     飲料・飼料","飲料・飼料",null,null,null,null,null,null,null,null,{"$f":"データ一覧!P334","v":4},null,null,null,{"$f":"+データ一覧!P359","v":68},null,null,null,null,null,null,{"$f":"データ一覧!P384","v":228658},null,null,null,null,null,null," 第１次産業",null,null,null,null,null,{"$f":"BZ22+CD22","v":358},null,null,null,{"$f":"データ一覧!P508","v":237},null,null,null,{"$f":"データ一覧!P533","v":121},null,null,null,null,"金融業,保険業",null,null,null,null,{"$f":"CR22+CV22","v":240},null,null,null,{"$f":"データ一覧!P521","v":96},null,null,null,{"$f":"データ一覧!P546","v":144}]
["  区    画    数",null,null,null,null,null,null,{"$f":"データ一覧!P8","v":93},null,null,null,null,null,null,"ha",null,null,null,null,"ha",null,null,null,null,"ha","六　条　大　麦",null,null,null,{"$f":"データ一覧!P249","v":6},null,null,{"$f":"データ一覧!P250","v":14},null,null,{"$f":"データ一覧!P251","v":233},null,null,null,"     繊維","繊維",null,null,null,null,null,null,null,null,{"$f":"データ一覧!P335","v":21},null,null,null,{"$f":"+データ一覧!P360","v":329},null,null,null,null,null,null,{"$f":"データ一覧!P385","v":378954},null,null,null,null,null,null,"  ","農業",null,null,null,null,{"$f":"BZ23+CD23","v":343},null,null,null,{"$f":"データ一覧!P509","v":227},null,null,null,{"$f":"データ一覧!P534","v":116},null,null,null,"  ","不動産業",null,null,null,null,100,null,null,null,{"$f":"データ一覧!P522","v":64},null,null,null,{"$f":"データ一覧!P547","v":36}]
[{"$f":"データ一覧!$A$8","v":"2.4.1"},null,null,null,null,null,null,null,null,null,null,{"$f":"データ一覧!P12","v":404.5},null,null,null,null,{"$f":"データ一覧!P13","v":4014.2},null,null,null,null,{"$f":"データ一覧!P14","v":48.3},null,null,null,"大　　      豆",null,null,null,{"$f":"データ一覧!P252","v":4},null,null,{"$f":"データ一覧!P253","v":2},null,null,{"$f":"データ一覧!P254","v":50},null,null,null,"     衣服","木材",null,null,null,null,null,null,null,null,{"$f":"データ一覧!P336","v":3},null,null,null,{"$f":"+データ一覧!P361","v":110},null,null,null,null,null,null,{"$f":"データ一覧!P386","v":146966},null,null,null,null,null,null,"  ","林業",null,null,null,null,13,null,null,null,{"$f":"データ一覧!P510","v":9},null,null,null,{"$f":"データ一覧!P535","v":4},null,null,null,"  ","学術研究",null,null,null,null,272,null,null,null,{"$f":"データ一覧!P523","v":175},null,null,null,{"$f":"データ一覧!P548","v":97}]
["  ２  世　帯　数　と　人　口",null,null,null,null,null,null,null,null,null,null,null,null,null,null,null,null,null,null,null,null,null,null,null,null,null,null,"  区　分",null," 乳 用 牛",null," 肉 用 牛",null,"豚",null,"採卵鶏",null,"ブロイラー",null,"     木材","家具",null,null,null,null,null,null,null,null,{"$f":"データ一覧!P337","v":0},null,null,null,{"$f":"+データ一覧!P362","v":0},null,null,null,null,null,null,{"$f":"データ一覧!P387","v":0},null,null,null,null,null,null,"  ","漁業",null,null,null,null,2,null,null,null,{"$f":"データ一覧!P511","v":1},null,null,null,{"$f":"データ一覧!P536","v":1},null,null,null,"  ","宿泊業,飲食ｻｰﾋﾞｽ",null,null,null,null,501,null,null,null,{"$f":"データ一覧!P524","v":190},null,null,null,{"$f":"データ一覧!P549","v":311}]
[null,null,null,null,null,null,null,null,null,null,null,null,null,null,null,null,null,null,null,null,null,null,null,null,null,"畜　産",null," 飼養農家",null,{"$f":"データ一覧!$P$255","v":0},null,{"$f":"データ一覧!$P$257","v":0},null,{"$f":"データ一覧!$P$259","v":"-"},null,{"$f":"データ一覧!$P$261","v":0},null,{"$f":"データ一覧!$P$263","v":0},null,"     家具","パルプ・紙",null,null,null,null,null,null,null,null,{"$f":"データ一覧!P338","v":0},null,null,null,{"$f":"+データ一覧!P363","v":0},null,null,null,null,null,null,{"$f":"データ一覧!P388","v":0},null,null,null,null,null,null," 第２次産業",null,null,null,null,null,2734,null,null,null,{"$f":"データ一覧!P512","v":1791},null,null,null,{"$f":"データ一覧!P537","v":943},null,null,null,"  ","生活関連ｻｰﾋﾞｽ業",null,null,null,null,274,null,null,null,{"$f":"データ一覧!P525","v":94},null,null,null,{"$f":"データ一覧!P550","v":180}]
[null,null,null,null,null,null,null,null,"        人　　　　　　　　　　口",null,null,null,null,null,null,null,null,null,null,null,"１世帯当",null,"人    口",null,null,{"$f":"データ一覧!$A$255","v":"3.3.31"},null,"（戸）",null,null,null,null,null,null,null,null,null,null,null,"     パルプ・紙","印刷",null,null,null,null,null,null,null,null,{"$f":"データ一覧!P339","v":2},null,null,null,{"$f":"+データ一覧!P364","v":41},null,null,null,null,null,null,{"$f":"データ一覧!P389","v":"x"},null,null,null,null,null,null,null,"鉱業，採石業",null,null,null,null,3,null,null,null,{"$f":"データ一覧!P513","v":2},null,null,null,{"$f":"データ一覧!P538","v":1},null,null,null,"  ","教育,学習支援業",null,null,null,null,661,null,null,null,{"$f":"データ一覧!P526","v":278},null,null,null,{"$f":"データ一覧!P551","v":383}]
[" 区　　　　分",null,null,null,null,"世帯数",null,null," 総   数",null,null,"    男",null,null,"    女",null,null,"  男／女",null,null,"たり人員",null,"密    度",null,null,null,null," 頭 羽",null,{"$f":"データ一覧!$P$256","v":0},null,{"$f":"データ一覧!$P$258","v":0},null,{"$f":"データ一覧!$P$260","v":0},null,{"$f":"データ一覧!$P$262","v":0},null,{"$f":"データ一覧!$P$264","v":0},null,"     出版・印刷","化学",null,null,null,null,null,null,null,null,{"$f":"データ一覧!P340","v":0},null,null,null,{"$f":"+データ一覧!P365","v":0},null,null,null,null,null,null,{"$f":"データ一覧!P390","v":0},null,null,null,null,null,null,"  ","建設業",null,null,null,null,882,null,null,null,{"$f":"データ一覧!P514","v":729},null,null,null,{"$f":"データ一覧!P539","v":153},null,null,null,null,"医療，福祉",null,null,null,null,1638,null,null,null,{"$f":"データ一覧!P527","v":326},null,null,null,{"$f":"データ一覧!P552","v":1312}]
[null,null,null,null,null,"    世 帯",null,null,"       人",null,null,"       人",null,null,"       人",null,null,null,"　　％",null,"    人",null,"    人/㎢",null,null,null,null,null,null,null,null,null,null,null,null,null,null,null,null,"     化学","石油・石炭",null,null,null,null,null,null,null,null,{"$f":"データ一覧!P341","v":0},null,null,null,{"$f":"+データ一覧!P366","v":0},null,null,null,null,null,null,{"$f":"データ一覧!P391","v":0},null,null,null,null,null,null,null,"製造業",null,null,null,null,1849,null,null,null,{"$f":"データ一覧!P515","v":1060},null,null,null,{"$f":"データ一覧!P540","v":789},null,null,null,null,"複合サービス事業",null,null,null,null,123,null,null,null,{"$f":"データ一覧!P528","v":73},null,null,null,{"$f":"データ一覧!P553","v":50}]
[{"$f":"データ一覧!$A$22","v":" 2.10.1"},null,null,null,null,{"$f":"データ一覧!P22","v":5159},null,null,{"$f":"+L30+O30","v":19387},null,null,{"$f":"データ一覧!P24","v":9427},null,null,{"$f":"データ一覧!P25","v":9960},null,null,null,{"$f":"+L30/O30*100","v":94.648594377510037},null,{"$f":"データ一覧!P27","v":3.76},null,{"$f":"データ一覧!P21","v":0},null,null,"  ５  林               業",null,null,null,null,null,null,null,null,null,null,null,null,null,"     石油・石炭","プラスチック",null,null,null,null,null,null,null,null,{"$f":"データ一覧!P342","v":2},null,null,null,{"$f":"+データ一覧!P367","v":22},null,null,null,null,null,null,{"$f":"データ一覧!P392","v":"x"},null,null,null,null,null,null," 第３次産業",null,null,null,null,null,7064,null,null,null,{"$f":"データ一覧!P516","v":3362},null,null,null,{"$f":"データ一覧!P541","v":3702},null,null,null,null,"サービス業",null,null,null,null,650,null,null,null,{"$f":"データ一覧!P529","v":451},null,null,null,{"$f":"データ一覧!P554","v":199}]
[{"$f":"データ一覧!$A$29","v":" 7.10.1"},null,null,null,null,{"$f":"データ一覧!P29","v":6049},null,null,{"$f":"+L31+O31","v":20183},null,null,{"$f":"データ一覧!P31","v":9907},null,null,{"$f":"データ一覧!P32","v":10276},null,null,null,96.409108602569091,null,{"$f":"データ一覧!P34","v":3.34},null,{"$f":"データ一覧!P28","v":0},null,null,null,null,null,null,null,null,null,null,null,null,null,null,null,null,"     プラスチック","ゴム",null,null,null,null,null,null,null,null,{"$f":"データ一覧!P343","v":0},null,null,null,{"$f":"+データ一覧!P368","v":0},null,null,null,null,null,null,{"$f":"データ一覧!P393","v":0},null,null,null,null,null,null,null,"電気･ｶﾞｽ･水道業",null,null,null,null,67,null,null,null,{"$f":"データ一覧!P517","v":58},null,null,null,{"$f":"データ一覧!P542","v":9},null,null,null,null,"公務",null,null,null,null,370,null,null,null,{"$f":"データ一覧!P530","v":273},null,null,null,{"$f":"データ一覧!P555","v":97}]
[{"$f":"データ一覧!$A$36","v":"12.10.1"},null,null,null,null,{"$f":"データ一覧!P36","v":6781},null,null,{"$f":"+L32+O32","v":21182},null,null,{"$f":"データ一覧!P38","v":10225},null,null,{"$f":"データ一覧!P39","v":10957},null,null,null,93.319339235192118,null,{"$f":"データ一覧!P41","v":3.12},null,{"$f":"データ一覧!P35","v":0},null,null,"    　森　　　林　　　総　　　面　　　積   ",null,null,null,null,null,null,null,{"$f":"データ一覧!$A$265","v":"3.3.31"},null,null,null,null,null,"     ゴム","皮革",null,null,null,null,null,null,null,null,{"$f":"データ一覧!P344","v":0},null,null,null,{"$f":"+データ一覧!P369","v":0},null,null,null,null,null,null,{"$f":"データ一覧!P394","v":0},null,null,null,null,null,null,null,"情報通信業",null,null,null,null,151,null,null,null,{"$f":"データ一覧!P518","v":101},null,null,null,{"$f":"データ一覧!P543","v":50},null,null,null," 分類不能の産業",null,null,null,null,null,258,null,null,null,{"$f":"データ一覧!P531","v":122},null,null,null,{"$f":"データ一覧!P556","v":136}]
[{"$f":"+データ一覧!$A$43","v":"17.10.1"},null,null,null,null,{"$f":"データ一覧!P43","v":6868},null,null,{"$f":"+L33+O33","v":20764},null,null,{"$f":"データ一覧!P45","v":10085},null,null,{"$f":"データ一覧!P46","v":10679},null,null,null,94.437681430845586,null,{"$f":"データ一覧!P48","v":3.02},null,{"$f":"データ一覧!P49","v":220.1},null,null,"　　　森　　　　　　　林　　　　　　　の　　　　　　　構　　　　　　　成",null,null,null,null,null,null,null,null,null,null,null,null,null,"     皮革","窯業・土石",null,null,null,null,null,null,null,null,{"$f":"データ一覧!P345","v":1},null,null,null,{"$f":"+データ一覧!P370","v":4},null,null,null,null,null,null,{"$f":"データ一覧!P395","v":"x"},null,null,null,null,null,null,"  ","運輸業,郵便業",null,null,null,null,{"$f":"BZ33+CD33","v":415},null,null,null,{"$f":"データ一覧!P519","v":331},null,null,null,{"$f":"データ一覧!P544","v":84}]
[{"$f":"+データ一覧!$A$50","v":"22.10.1"},null,null,null,null,{"$f":"+データ一覧!P50","v":7217},null,null,{"$f":"+L34+O34","v":20647},null,null,{"$f":"+データ一覧!P52","v":10026},null,null,{"$f":"+データ一覧!P53","v":10621},null,null,null,94.397890970718393,null,{"$f":"+データ一覧!P55","v":2.86},null,{"$f":"+データ一覧!P56","v":218.9},null,null,null,null,null,null,null,"       ha",null,null,null,null,null,null,"       ha",null,"     窯業・土石","鉄鋼",null,null,null,null,null,null,null,null,{"$f":"データ一覧!P346","v":1},null,null,null,{"$f":"+データ一覧!P371","v":4},null,null,null,null,null,null,{"$f":"データ一覧!P396","v":0},null,null,null,null,null,null," １６  社　 会 　福　 祉",null,null,null,null,null,null,null,null,null,null,null,null,null,null,null,{"$f":"データ一覧!$A$557","v":"3.4.1"}]
[{"$f":"データ一覧!$A$57","v":"27.10.1"},null,null,null,null,{"$f":"データ一覧!P57","v":7276},null,null,{"$f":"データ一覧!P58","v":19883},null,null,{"$f":"データ一覧!P59","v":9621},null,null,{"$f":"データ一覧!P60","v":10262},null,null,null,93.753654258429151,null,{"$f":"データ一覧!P62","v":2.7326827927432653},null,{"$f":"データ一覧!P63","v":210.6},null,null,"  総　　　　　   数",null,null,null,{"$f":"データ一覧!P265","v":6865.21},null,null," 天然林       針葉樹",null,null,null,{"$f":"データ一覧!P268","v":68.23},null,null,"     鉄鋼","非鉄金属",null,null,null,null,null,null,null,null,{"$f":"データ一覧!P347","v":0},null,null,null,{"$f":"+データ一覧!P372","v":0},null,null,null,null,null,null,{"$f":"データ一覧!P397","v":0}]
["令　2.10.1（国調）",null,null,null,null,{"$f":"データ一覧!P64","v":7285},null,null,{"$f":"データ一覧!P65","v":18965},null,null,{"$f":"データ一覧!P66","v":9231},null,null,{"$f":"データ一覧!P67","v":9734},null,null,null,{"$f":"+L36/O36*100","v":94.832545716046852},null,{"$f":"データ一覧!P72","v":2.56},null,{"$f":"データ一覧!P73","v":199.31165943026579},null,null,"  人工林     針葉樹",null,null,null,{"$f":"データ一覧!P266","v":3102.87},null,null," 天然林       広葉樹",null,null,null,{"$f":"データ一覧!P269","v":3606.76},null,null,"     非鉄金属","金属",null,null,null,null,null,null,null,null,{"$f":"データ一覧!P348","v":1},null,null,null,{"$f":"+データ一覧!P373","v":7},null,null,null,null,null,null,{"$f":"データ一覧!P398","v":"x"},null,null,null,null,null,null,"    ","区分",null,null,null,null,null,null,"施設数",null,null,null,null,"収容定員",null,null,null,null,null,"区分",null,null,null,null,null,null,"施設数",null,null,null,null,"収容定員"]
["年",null,"  区",null," 0歳",null,null,"15歳",null,null,"25歳",null,null,"35歳",null,null,"45歳",null,null,"55歳",null,null,"65歳",null,null,"  人工林     広葉樹",null,null,null,{"$f":"データ一覧!P267","v":14.31},null,null," 竹               林",null,null,null,{"$f":"データ一覧!P270","v":18.34},null,null,"     金属","はん用機械",null,null,null,null,null,null,null,null,{"$f":"データ一覧!P349","v":1},null,null,null,{"$f":"+データ一覧!P374","v":72},null,null,null,null,null,null,{"$f":"データ一覧!P399","v":"x"},null,null,null,null,null,null,"生活保護施設",null,null,null,null,null,null,null,{"$f":"データ一覧!P557","v":0},null,null,null,{"$f":"データ一覧!P570","v":0},null,null,null,"人",null,"指定障害者支援施設",null,null,null,null,null,null,null,{"$f":"データ一覧!P563","v":0},null,null,null,{"$f":"データ一覧!P576","v":0},null,null,null,"人"]
["齢","令",null,null,null,"～",null,null,"～",null,null,"～",null,null,"～",null,null,"～",null,null,"～",null,null,null,null,null,null,null,null,null,null,null,null,null,null,null,null,null,null,"     一般機械","生産用機械",null,null,null,null,null,null,null,null,{"$f":"データ一覧!P350","v":0},null,null,null,{"$f":"+データ一覧!P375","v":0},null,null,null,null,null,null,{"$f":"データ一覧!P400","v":0},null,null,null,null,null,null,"地域福祉施設",null,null,null,null,null,null,null,{"$f":"データ一覧!P558","v":0},null,null,null,{"$f":"データ一覧!P571","v":0},null,null,null,null,null,"指定相談支援事業所",null,null,null,null,null,null,null,{"$f":"データ一覧!P564","v":0},null,null,null,{"$f":"データ一覧!P577","v":0}]
["階",{"$f":"+LEFT(データ一覧!$A$83,1)","v":"3"},"  分",null,null,null,"14歳",null,null,"24歳",null,null,"34歳",null,null,"44歳",null,null,"54歳",null,null,"64歳",null,null,"以上","    林     野     の     構     成",null,null,null,null,null,null,"保     有     形     態     別",null,null,null,null,null,null,"     電気機械","業務用機械",null,null,null,null,null,null,null,null,{"$f":"データ一覧!P351","v":0},null,null,null,{"$f":"+データ一覧!P376","v":0},null,null,null,null,null,null,{"$f":"データ一覧!P401","v":0},null,null,null,null,null,null,"老人福祉施設",null,null,null,null,null,null,null,{"$f":"データ一覧!P559","v":4},null,null,null,{"$f":"データ一覧!P572","v":525},null,null,null,null,null,"児童福祉施設",null,null,null,null,null,null,null,{"$f":"データ一覧!P565","v":17},null,null,null,{"$f":"データ一覧!P578","v":771}]
["級","・",null,null,null,null,"人",null,null,"人",null,"    人",null,null,"    人",null,null,"    人",null,null,"    人",null,null,"    人",null,null,null,null,null,null,null,"ha",null,null,null,null,null,"       ha",null,null,"電子・デバイス",null,null,null,null,null,null,null,null,{"$f":"データ一覧!P352","v":0},null,null,null,{"$f":"+データ一覧!P377","v":125},null,null,null,null,null,null,{"$f":"データ一覧!P402","v":0},null,null,null,null,null,null,"介護保険施設",null,null,null,null,null,null,null,{"$f":"データ一覧!P560","v":24},null,null,null,{"$f":"データ一覧!P573","v":614},null,null,null,null,null,"母子福祉施設",null,null,null,null,null,null,null,{"$f":"データ一覧!P566","v":0},null,null,null,{"$f":"データ一覧!P579","v":0}]
["別",{"$f":"+MID(データ一覧!$A$83,3,2)","v":"10"},"総 数",null,{"$f":"+E42+E43","v":2087},null,null,{"$f":"+H42+H43","v":2405},null,null,{"$f":"+K42+K43","v":1711},null,null,{"$f":"+N42+N43","v":1895},null,null,{"$f":"+Q42+Q43","v":2469},null,null,{"$f":"+T42+T43","v":2285},null,null,{"$f":"+W42+W43","v":5619},null,null," 無立木地   伐採跡地",null,null,null,{"$f":"データ一覧!P271","v":0},null,null,"国   　　　 　 有",null,null,null,{"$f":"データ一覧!P273","v":41.629999999999903},null,null,null,"電気機械",null,null,null,null,null,null,null,null,{"$f":"データ一覧!P353","v":1},null,null,null,{"$f":"+データ一覧!P378","v":"-"},null,null,null,null,null,null,{"$f":"データ一覧!P403","v":"x"},null,null,null,null,null,null,"障害者自立支援法施行前からの身体障害者福祉施設",null,null,null,null,null,null,null,{"$f":"データ一覧!P561","v":0},null,null,null,{"$f":"データ一覧!P574","v":0},null,null,null,null,null,"婦人保護施設",null,null,null,null,null,null,null,{"$f":"データ一覧!P567","v":0},null,null,null,{"$f":"データ一覧!P580","v":0}]
["人","・","  男",null,{"$f":"データ一覧!P83","v":1037},null,null,{"$f":"データ一覧!P84","v":1248},null,null,{"$f":"データ一覧!P85","v":904},null,null,{"$f":"データ一覧!P86","v":975},null,null,{"$f":"データ一覧!P87","v":1209},null,null,{"$f":"データ一覧!P88","v":1102},null,null,{"$f":"データ一覧!P89","v":2472},null,null," 無立木地   未立木地",null,null,null,{"$f":"データ一覧!P272","v":54.7},null,null,"公       　　  有",null,null,null,{"$f":"データ一覧!P274","v":393.90999999999997},null,null,"     輸送機械","情報通信機械",null,null,null,null,null,null,null,null,{"$f":"データ一覧!P354","v":0},null,null,null,{"$f":"+データ一覧!P379","v":0},null,null,null,null,null,null,{"$f":"データ一覧!P404","v":0},null,null,null,null,null,null,null,null,null,null,null,null,null,null,null,null,null,null,null,null,null,null,null,null,"その他の社会福祉施設",null,null,null,null,null,null,null,{"$f":"データ一覧!P568+データ一覧!P569","v":0},null,null,null,{"$f":"データ一覧!P581+データ一覧!P582","v":0}]
["口",{"$f":"+RIGHT(データ一覧!$A$83,1)","v":"1"},"  女",null,{"$f":"データ一覧!P91","v":1050},null,null,{"$f":"データ一覧!P92","v":1157},null,null,{"$f":"データ一覧!P93","v":807},null,null,{"$f":"データ一覧!P94","v":920},null,null,{"$f":"データ一覧!P95","v":1260},null,null,{"$f":"データ一覧!P96","v":1183},null,null,{"$f":"データ一覧!P97","v":3147},null,null,null,null,null,null,null,null,null,"私          　 有",null,null,null,{"$f":"データ一覧!P275","v":6429.6700000000019},null,null,"     精密機械","輸送機械",null,null,null,null,null,null,null,null,{"$f":"データ一覧!P355","v":1},null,null,null,{"$f":"+データ一覧!P380","v":13},null,null,null,null,null,null,{"$f":"データ一覧!P405","v":"x"},null,null,null,null,null,null,"障害福祉サービス事業所",null,null,null,null,null,null,null,{"$f":"データ一覧!P562","v":7},null,null,null,{"$f":"データ一覧!P575","v":49}]
[null,null,null,null,null,null,null,null,null,null,null,null,null,null,null,null,null,null,null,null,null,null,null,null,null,"            林     産     物     生     産     量 ",null,null,null,null,null,null,null,null,null,{"$f":"データ一覧!$A$276","v":"2年中"},null,null,null,"     その他","その他",null,null,null,null,null,null,null,null,{"$f":"データ一覧!P356","v":3},null,null,null,{"$f":"+データ一覧!P381","v":45},null,null,null,null,null,null,{"$f":"データ一覧!P406","v":41396},null,null,null,null,null,null," １７  教　　　　　　　育",null,null,null,null,null,null,null,null,null,null,null,null,null,null,null,{"$f":"データ一覧!$A$583","v":"3.5.1"}]
["人口動態",null,null,null,null,null,null,"   自　然　動　態",null,null,null,null,null,"   社  会  動  態",null,null,null,null,null,{"$f":"データ一覧!$A78","v":"2.1.1～3.12.31"},null,null,null,null,null,"生椎茸",null,null,null,{"$f":"データ一覧!P276","v":780},null,"㎏","乾椎茸",null,null,null,{"$f":"データ一覧!P277","v":"-"},null,"㎏"]
[null,null,"   区       分",null,null,null,null," 出   生",null,null," 死   亡",null,null," 転   入",null,null," 転   出",null,null," 婚   姻",null,null," 離   婚",null,null,"えのきだけ",null,null,null,{"$f":"データ一覧!P279","v":"-"},null,"㎏","なめこ",null,null,null,{"$f":"データ一覧!P278","v":"-"},null,"㎏","    ","工　業　用　水　量",null,null,null,null,null,"（従業者30人以上の事業所）",null,null,null,null,null,null,null,null,null,null,{"$f":"データ一覧!P407","v":259},null,null,null,null,"㎥／日",null,null,null,null,null,null,null,null,null,null,null,null,null,null,"学校数（校）",null,null,null,null,null,null,"教員数（人）",null,null,null,null,null,null,null,"学生・生徒・児童数（人）"]
[{"$f":"LEFT(データ一覧!$A74,6)","v":"2.10.1"},null,null,null,null,null,null,"       人",null,null,"       人",null,null,"       人",null,null,"       人",null,null,null,"    件",null,null,"    件",null,"ひらたけ",null,null,null,{"$f":"+データ一覧!P280","v":"-"},null,"㎏","まいたけ",null,null,null,{"$f":"+データ一覧!P281","v":"-"},null,"㎏",null,null,null,null,null,null,null,null,null,null,null,null,null,null,null,null,null,null,null,null,null,null,null,null,null,null,null,null,null,"　","区分",null,null,null,null,null,null,null," 本 校",null,null," 分 校",null,null," 本   務",null,null,null," 兼   務",null,null,null," 総   数",null,null,null,"男",null,null,null,"女"]
["～",null," 実          数",null,null,null,null,{"$f":"データ一覧!P74","v":60},null,null,{"$f":"データ一覧!P75","v":127},null,null,{"$f":"データ一覧!P76","v":265},null,null,{"$f":"データ一覧!P77","v":269},null,null,{"$f":"データ一覧!P78","v":56},null,null,{"$f":"データ一覧!P79","v":22},null,null,null,null,null,null,null,null,null,null,null,null,null,null,null,null," １１ 　上　・　下　水　道",null,null,null,null,null,null,null,null,null,null,null,null,null,null,null,null,null,null,null,null,null,null,null,null,null,null,null,null,"小学校",null,null,null,null,null,null,null,null,{"$f":"データ一覧!P584","v":7},null,null,{"$f":"データ一覧!P585","v":0},null,null,{"$f":"データ一覧!P586","v":89},null,null,null,{"$f":"データ一覧!P587","v":14},null,null,null,{"$f":"データ一覧!P588","v":905},null,null,null,{"$f":"データ一覧!P589","v":455},null,null,null,{"$f":"データ一覧!P590","v":450}]
[{"$f":"RIGHT(データ一覧!$A76,6)","v":"3.9.30"},null,"比率(対1,000人)",null,null,null,null,{"$f":"+H48/I35*1000","v":3.0176532716390887},null,null,{"$f":"+K48/I35*1000","v":6.3873660916360713},null,null,"- ",null,null,"- ",null,null,{"$f":"+T48/I35*1000","v":2.8164763868631497},null,null,{"$f":"+W48/I35*1000","v":1.1064728662676659},null,null,"  ６  漁               業",null,null,null,null,null,null,null,null,null,null,null,null,null,null,null,null,null,null,null,null,null,null,null,null,null,null,null,null,null,null,null,null,null,null,null,null,null,null,null,null,null,"  ","中学校",null,null,null,null,null,null,null,null,{"$f":"データ一覧!P592","v":3},null,null,{"$f":"データ一覧!P593","v":0},null,null,{"$f":"データ一覧!P594","v":54},null,null,null,{"$f":"データ一覧!P595","v":7},null,null,null,{"$f":"データ一覧!P596","v":488},null,null,null,{"$f":"データ一覧!P597","v":248},null,null,null,{"$f":"データ一覧!P598","v":240}]
[null,null,null,null,null,null,null,null,null,null,null,null,null,null,null,null,null,null,null,null,null,null,null,null,null,null,null,null,null,null,null,null,null,null,null,null,null,null,null,"水 道 供 給 人 口",null,null,null,null,null,null,"上 水 道",null,null,null,"簡易水道",null,null,null,"専用水道",null,null,null,"飲料水供給施設",null,null,null,"下水道処理人口",null,null,null,null,"  ","高等学校",null,null,null,null,null,null,null,null,{"$f":"データ一覧!P600","v":0},null,null,{"$f":"データ一覧!P601","v":0},null,null,{"$f":"データ一覧!P602","v":0},null,null,null,{"$f":"データ一覧!P603","v":0},null,null,null,{"$f":"データ一覧!P604","v":0},null,null,null,{"$f":"データ一覧!P605","v":0},null,null,null,{"$f":"データ一覧!P606","v":0}]
["  ３  事　　業　　所（民　　営）    （平 28.6.1）",null,null,null,null,null,null,null,null,null,null,null,null,null,null,null,null,null,null,null,null,null,null,null,null,"漁船隻数・トン数",null,null,null,{"$f":"データ一覧!$A$282","v":"2.12.31"},null,null,null,"動　力　船",null,null,null,null,null,{"$f":"データ一覧!$A$408","v":"3.3.31"},null,null,null,null,null,"人",null,{"$f":"データ一覧!P408","v":18159},null,null,{"$f":"データ一覧!P409","v":0},null,null,null,null,{"$f":"データ一覧!P410","v":0},null,null,null,{"$f":"データ一覧!P411","v":0},null,null,null,{"$f":"データ一覧!P412","v":14002},null,null,null,"  ","大学・短期大学",null,null,null,null,null,null,null,null,{"$f":"データ一覧!P607","v":2},null,null,{"$f":"データ一覧!P608","v":0},null,null,{"$f":"データ一覧!P609","v":461},null,null,null,{"$f":"データ一覧!P610","v":241},null,null,null,{"$f":"データ一覧!P611","v":2730},null,null,null,{"$f":"データ一覧!P612","v":1283},null,null,null,{"$f":"データ一覧!P613","v":1447}]
[null,null,null,null,null,null,null,null,null,null,null,null,null,null,null,null,null,null,null,null,null,null,null,null,null,"無動力船隻数",null,null,null,"船外機付漁船隻数",null,null,null,"隻　数",null,null,"総 ト ン 数",null,null,null,null,null,null,null,null,null,null,null,null,null,null,null,null,null,null,null,null,null,null,null,null,null,null,null,null,null,null,"  ","高等専門学校",null,null,null,null,null,null,null,null,{"$f":"データ一覧!P614","v":0},null,null,{"$f":"データ一覧!P615","v":0},null,null,{"$f":"データ一覧!P616","v":0},null,null,null,{"$f":"データ一覧!P617","v":0},null,null,null,{"$f":"データ一覧!P618","v":0},null,null,null,{"$f":"データ一覧!P619","v":0},null,null,null,{"$f":"データ一覧!P620","v":0}]
[null,null,null,null,null,null,null,"    総　　　　　数",null,null,null,null,null,"    民　　　　　営",null,null,null,null,null,"  国 ･ 地方公共団体",null,null,null,null,null,null,null,null,"隻",null,null,null,"隻",null,null,"隻",null,null,"t"," １２  交   通　・　通   信",null,null,null,null,null,null,null,null,null,null,null,null,null,null,null,null,null,null,null,null,null,null,null,null,null,null,null,"  ","特別支援学校",null,null,null,null,null,null,null,null,{"$f":"+データ一覧!P622","v":0},null,null,{"$f":"+データ一覧!P623","v":0},null,null,{"$f":"+データ一覧!P624","v":0},null,null,null,{"$f":"+データ一覧!P625","v":0},null,null,null,{"$f":"+データ一覧!P626","v":0},null,null,null,{"$f":"+データ一覧!P627","v":0},null,null,null,{"$f":"+データ一覧!P628","v":0}]
["  　区　　　　　　分",null,null,null,null,null,null," 事業所数",null,null," 従業者数",null,null," 事業所数",null,null," 従業者数",null,null," 事業所数",null,null," 従業者数",null,null,{"$f":"データ一覧!$P$282","v":12},null,null,null,{"$f":"データ一覧!$P$283","v":0},null,null,null,{"$f":"データ一覧!P284","v":0},null,null,{"$f":"データ一覧!P285","v":0},null,null,null,null,null,null,null,null,null,null,null,null,null,null,null,null,null,null,null,null,null,null,null,null,null,null,null,null,null,null,"  ","幼稚園",null,null,null,null,null,null,null,null,{"$f":"データ一覧!P630","v":3},null,null,{"$f":"データ一覧!P631","v":0},null,null,{"$f":"データ一覧!P632","v":7},null,null,null,{"$f":"データ一覧!P633","v":4},null,null,null,{"$f":"データ一覧!P634","v":52},null,null,null,{"$f":"データ一覧!P635","v":27},null,null,null,{"$f":"データ一覧!P636","v":25}]
[null,null,null,null,null,null,null,null,null,null,"       人",null,null,null,null,null,"       人",null,null,null,null,null,"       人",null,null,"  男女別就業者数",null,null,null,null,null,null,null,{"$f":"データ一覧!$A$286","v":"30.11.1"},null,null,null,null,null,"道     路",null,null,null,"実 延 長",null,null,null,"国     道",null,null,null,"県     道",null,null,null,"市町道",null,null,null," 鉄 道 営 業 キ ロ 数",null,null,null,null,null,null,null,"  ","幼保連携認定こども園",null,null,null,null,null,null,null,null,{"$f":"データ一覧!P638","v":0},null,null,{"$f":"データ一覧!P639","v":0},null,null,{"$f":"データ一覧!P640","v":0},null,null,null,{"$f":"データ一覧!P641","v":0},null,null,null,{"$f":"データ一覧!P642","v":0},null,null,null,{"$f":"データ一覧!P643","v":0},null,null,null,{"$f":"データ一覧!P644","v":0}]
["総数",null,null,null,null,null,null,{"$f":"データ一覧!P99","v":"…"},null,null,{"$f":"データ一覧!P156","v":"…"},null,null,{"$f":"データ一覧!P100","v":797},null,null,{"$f":"データ一覧!P157","v":9454},null,null,{"$f":"データ一覧!P101","v":"…"},null,null,{"$f":"データ一覧!P158","v":"…"},null,null,"総　　数",null,null,null,null,null,"男",null,null,null,"女",null,null,null,{"$f":"データ一覧!$A$413","v":"2.4.1"},null,null,null,{"$f":"データ一覧!P413","v":265},null,null,"㎞",{"$f":"データ一覧!P414","v":27.3},null,null,"㎞",{"$f":"データ一覧!P415","v":25.9},null,null,"㎞",{"$f":"データ一覧!P416","v":211.8},null,null,"km",{"$f":"データ一覧!$A$417","v":"3.4.1"},null,null,null,{"$f":"データ一覧!P417","v":15.2},null,null,"㎞","  ","各種学校",null,null,null,null,null,null,null,null,{"$f":"データ一覧!P646","v":0},null,null,{"$f":"データ一覧!P647","v":0},null,null,{"$f":"データ一覧!P648","v":0},null,null,null,{"$f":"データ一覧!P649","v":0},null,null,null,{"$f":"データ一覧!P650","v":0},null,null,null,{"$f":"データ一覧!P651","v":0},null,null,null,{"$f":"データ一覧!P652","v":0}]
["農林漁業",null,null,null,null,null,null,{"$f":"データ一覧!P102","v":"…"},null,null,{"$f":"データ一覧!P159","v":"…"},null,null,{"$f":"データ一覧!P103","v":13},null,null,{"$f":"データ一覧!P160","v":334},null,null,{"$f":"データ一覧!P104","v":"…"},null,null,{"$f":"データ一覧!P161","v":"…"},null,null,null,null,null,null,null,"人",null,null,"　　　　人",null,null,null,null,"  人","自動車",null,null,null,null,null,null,null,null,"乗用車",null,null,null,null,null,null,null,null,null,null,null,null,null,null,null,null,null,null,"  ","専修学校",null,null,null,null,null,null,null,null,{"$f":"データ一覧!P654","v":3},null,null,{"$f":"データ一覧!P655","v":0},null,null,{"$f":"データ一覧!P656","v":21},null,null,null,{"$f":"データ一覧!P657","v":18},null,null,null,{"$f":"データ一覧!P658","v":131},null,null,null,{"$f":"データ一覧!P659","v":51},null,null,null,{"$f":"データ一覧!P660","v":80}]
["鉱業",null,null,null,null,null,null,{"$f":"データ一覧!P105","v":"…"},null,null,{"$f":"データ一覧!P162","v":"…"},null,null,{"$f":"データ一覧!P106","v":1},null,null,{"$f":"データ一覧!P163","v":8},null,null,{"$f":"データ一覧!P107","v":"…"},null,null,{"$f":"データ一覧!P164","v":"…"},null,null,{"$f":"SUM(AF58,AJ58)","v":0},null,null,null,null,null,{"$f":"データ一覧!$P$287","v":0},null,null,null,{"$f":"データ一覧!P288","v":0},null,null,null,"台  数",null,null,null,"貨    物",null,null,null,"普     通",null,null,null,"小     型",null,null,null,"乗  合",null,null,"特  種",null,null,"小型二輪",null,null,"軽自動車",null,null," １８  衛　　　　　　　生"]
["建設業",null,null,null,null,null,null,{"$f":"データ一覧!P108","v":"…"},null,null,{"$f":"データ一覧!P165","v":"…"},null,null,{"$f":"データ一覧!P109","v":106},null,null,{"$f":"データ一覧!P166","v":620},null,null,{"$f":"データ一覧!P110","v":"…"},null,null,{"$f":"データ一覧!P167","v":"…"},null,null,"　　　　海 面 漁 業 漁 獲 量 （属人）",null,null,null,null,null,null,null,{"$f":"データ一覧!$A$289","v":"30年中"},null,null,null,null,null,{"$f":"データ一覧!$A$418","v":"3.3.31"},null,null,null,null,{"$f":"データ一覧!P418","v":866},null,null,null,{"$f":"データ一覧!P420","v":3694},null,null,null,{"$f":"データ一覧!P421","v":3751},null,null,{"$f":"データ一覧!P419","v":20},null,null,{"$f":"データ一覧!P422","v":295},null,null,{"$f":"データ一覧!P423","v":171},null,null,{"$f":"データ一覧!P424","v":6424}]
["製造業",null,null,null,null,null,null,{"$f":"データ一覧!P111","v":"…"},null,null,{"$f":"データ一覧!P168","v":"…"},null,null,{"$f":"データ一覧!P112","v":142},null,null,{"$f":"データ一覧!P169","v":1312},null,null,{"$f":"データ一覧!P113","v":"…"},null,null,{"$f":"データ一覧!P170","v":"…"},null,null,null,null,null,null,null,"       ","ｔ",null,null,null,null,null,null,"t",null,null,"     ",null,"郵　便　局　数",null,null,null,null,null,null,null,null,null,null,null,null,null,{"$f":"+MID(データ一覧!$A$428,3,2)","v":"12"},"令","一般加入",null,null,null,"ＩＮＳネット",null,null,null,null,null,null,null,"医療関係施設",null,null,null,null,null,{"$f":"データ一覧!$A$661","v":"元.10.1"},null,null,null,null,null,null,"および医療関係者数",null,null,null,null,null,null,null,{"$f":"データ一覧!$A$666","v":"30.12.31"}]
["電気・ｶﾞ ｽ・熱供給・水道業",null,null,null,null,null,null,{"$f":"データ一覧!P114","v":"…"},null,null,{"$f":"データ一覧!P171","v":"…"},null,null,{"$f":"データ一覧!P115","v":2},null,null,{"$f":"データ一覧!P172","v":92},null,null,{"$f":"データ一覧!P116","v":"…"},null,null,{"$f":"データ一覧!P173","v":"…"},null,null,"   総　　　　　　数",null,null,null,{"$f":"データ一覧!P289","v":0},null,null,"   藻　　　　　　類",null,null,null,{"$f":"データ一覧!P292","v":0},null,null,"通  信",null,null,null," 総     数",null,null,null,null," 郵 便 局",null,null,null,null," 簡 易 局",null,null,null,"・",{"$f":"+LEFT(データ一覧!$A$428,1)","v":"2"},"電話数",null,null,null,"加入数",null,null,null,null,null,null,null,null,null,"　","病",null,null,"院",null,"　",null,null,null,null," ","一般診療所",null,null,null,null,null,null,null,null,null,null,null,"歯科診療所"]
["情報通信業",null,null,null,null,null,null,{"$f":"データ一覧!P117","v":"…"},null,null,{"$f":"データ一覧!P174","v":"…"},null,null,{"$f":"データ一覧!P118","v":3},null,null,{"$f":"データ一覧!P175","v":20},null,null,{"$f":"データ一覧!P119","v":"…"},null,null,{"$f":"データ一覧!P176","v":"…"},null,null,"   魚　　　　　　類",null,null,null,{"$f":"データ一覧!P290","v":0},null,null,"   そ　   の　　 他",null,null,null,{"$f":"データ一覧!P293","v":0},null,null,{"$f":"データ一覧!$A$428","v":"2.12.31"},null,null,null,{"$f":"データ一覧!P425","v":6},null,null,null,null,{"$f":"データ一覧!P426","v":6},null,null,null,null,{"$f":"データ一覧!P427","v":0},null,null,null,{"$f":"+RIGHT(データ一覧!$A$428,2)","v":"31"},"・",{"$f":"データ一覧!P428","v":1737},null,null,null,{"$f":"データ一覧!P429","v":254},null,null,null," ","医療関係",null,null,null,null,null,null,null,null,null,null,null,"一般病院",null,null,null,null,null,null,null,null,null,null,null,"有",null,null,"床"]
["運輸業、郵便業",null,null,null,null,null,null,{"$f":"データ一覧!P120","v":"…"},null,null,{"$f":"データ一覧!P177","v":"…"},null,null,{"$f":"データ一覧!P121","v":17},null,null,{"$f":"データ一覧!P178","v":254},null,null,{"$f":"データ一覧!P122","v":"…"},null,null,{"$f":"データ一覧!P179","v":"…"},null,null,"   貝　　　　　　類",null,null,null,{"$f":"データ一覧!P291","v":0},null,null,null,null,null,null,null,null,null,null,null,null,null,null,null,null,null,null,null,null,null,null,null,null,null,null,null,null,null,null,null,null,null,null,null,null,null,null,"施設数",null,null,null,null,null,null,{"$f":"データ一覧!P661","v":1},null,null,null,null,null,{"$f":"データ一覧!P662","v":1},null,null,null,null,null,{"$f":"データ一覧!P663","v":11},null,null,null,null,null,{"$f":"データ一覧!P664","v":0},null,null,null,null,null,{"$f":"データ一覧!P665","v":7}]
["卸売業、小売業",null,null,null,null,null,null,{"$f":"データ一覧!P123","v":"…"},null,null,{"$f":"データ一覧!P180","v":"…"},null,null,{"$f":"データ一覧!P124","v":174},null,null,{"$f":"データ一覧!P181","v":922},null,null,{"$f":"データ一覧!P125","v":"…"},null,null,{"$f":"データ一覧!P182","v":"…"},null,null,null,null,null,null,null,null,null,null,null,null,null,null,null,null," １３  税　　・　　財　　政",null,null,null,null,null,null,null,null,null,null,null,null,null,null,null,null,null,null,null,null,null,null,null,null,null,null,null,null,null,null,null,null,null,null,"医師",null,null,null,null,"歯科医師",null,null,null,null,"薬剤師",null,null,null,null,"保健師",null,null,null,null,"助産師",null,null," ",null,"看護師",null,null," "]
["金融業、保険業",null,null,null,null,null,null,{"$f":"データ一覧!P126","v":"…"},null,null,{"$f":"データ一覧!P183","v":"…"},null,null,{"$f":"データ一覧!P127","v":7},null,null,{"$f":"データ一覧!P184","v":62},null,null,{"$f":"データ一覧!P128","v":"…"},null,null,{"$f":"データ一覧!P185","v":"…"},null,null,"  ７  商        　　　業 ",null,null,null,null,null,null,{"$f":"データ一覧!$A$294","v":"28.6.1(平成27年実績）"},null,null,null,null,null,null,null,null,null,null,null,null,null,null,null,null,null,null,null,null,null,null,null,null,null,null,null,null,null,null,null,null,null,null," ","医療",null,null,null,null,null,null,null,null,"人",null,null,null,null,"人",null,null,null,null,"人",null,null,null,null,"人",null,null,null,null,"人",null,null,null,null,"人"]
["不動産業、物品賃貸業",null,null,null,null,null,null,{"$f":"データ一覧!P129","v":"…"},null,null,{"$f":"データ一覧!P186","v":"…"},null,null,{"$f":"データ一覧!P130","v":47},null,null,{"$f":"データ一覧!P187","v":88},null,null,{"$f":"データ一覧!P131","v":"…"},null,null,{"$f":"データ一覧!P188","v":"…"},null,null,null,null,null,null,null,null,null,null,null,null,null,null,null,null,"           ",null,null,null,"歳入",null,null,null,null,null,null,null,null,"(千円）"," ",null,null,null,"歳出",null,null,null,null,null,null,null,null,"(千円）",null,"関係者",null,null,null,null,{"$f":"データ一覧!P666","v":418},null,null,null,null,{"$f":"データ一覧!P667","v":19},null,null,null,null,{"$f":"データ一覧!P668","v":88},null,null,null,null,{"$f":"データ一覧!P669","v":17},null,null,null,null,{"$f":"データ一覧!P670","v":19},null,null,null,null,{"$f":"データ一覧!P671","v":869}]
["学術研究、専門・技術ｻｰﾋﾞｽ業",null,null,null,null,null,null,{"$f":"データ一覧!P132","v":"…"},null,null,{"$f":"データ一覧!P189","v":"…"},null,null,{"$f":"データ一覧!P133","v":22},null,null,{"$f":"データ一覧!P190","v":74},null,null,{"$f":"データ一覧!P134","v":"…"},null,null,{"$f":"データ一覧!P191","v":"…"},null,null,"  産   業　 分　 類",null,null,null,"  商　 店 　数",null,null," 従　業　者　数",null,null,"年　間　販　売　額",null,null,null,"一人当たり歳入歳出予算決算額",null,null,null,null,null,null,null,null,null,null,null,null,null,null,null,null,null,null,null,null,null,null,null,null,null,null,null,"                   ",null,null,null,null,null,null,null,null,"死因別死亡数　　　　　　    ",null,null,null,null,null,null,null,null,null,null,null,null,null,null,null,{"$f":"データ一覧!$A$672","v":"2年中"},null,null,null,null,null,null,null,null,"      単 位：人"]
["宿泊業、飲食サービス業",null,null,null,null,null,null,{"$f":"データ一覧!P135","v":"…"},null,null,{"$f":"データ一覧!P192","v":"…"},null,null,{"$f":"データ一覧!P136","v":69},null,null,{"$f":"データ一覧!P193","v":364},null,null,{"$f":"データ一覧!P137","v":"…"},null,null,{"$f":"データ一覧!P194","v":"…"},null,null,null,null,null,null,null,"        店",null,null,null,"　人",null,"         百万円",null,null,"区分",null,null,null,{"$f":"データ一覧!$A$438","v":"3年度"},null,null,null,null,{"$f":"データ一覧!$A$452","v":"2年度"},null,null,null,null,"区分",null,null,null,{"$f":"+AR68","v":"3年度"},null,null,null,null,{"$f":"データ一覧!$A$452","v":"2年度"},null,null,null,null," 死     因",null,null,null,null,null,null,null,null,null,null,null,"悪  性",null,null,"高血圧",null,null,null,null,null,"脳血管",null,null,null,null,null," ",null,null,"不慮の事故"]
["生活関連サービス業、娯楽業",null,null,null,null,null,null,{"$f":"データ一覧!P138","v":"…"},null,null,{"$f":"データ一覧!P195","v":"…"},null,null,{"$f":"データ一覧!P139","v":68},null,null,{"$f":"データ一覧!P196","v":143},null,null,{"$f":"データ一覧!P140","v":"…"},null,null,{"$f":"データ一覧!P197","v":"…"},null,null,"総　　　　　　計",null,null,null,{"$f":"データ一覧!P294","v":149},null,null,{"$f":"データ一覧!P303","v":755},null,null,{"$f":"データ一覧!P312","v":16280},null,null,null,null,null,null,null,{"$f":"データ一覧!P434","v":453974.01838372031},null,null,null,null,{"$f":"データ一覧!P435","v":621753.68576242623},null,null,null,null,null,null,null,null,{"$f":"データ一覧!P436","v":453974.01838372031},null,null,null,null,{"$f":"データ一覧!P437","v":595792.01769165962},null,null,null,null,null,null,null,null,null,"全 死 因",null,null,null,"結 核",null,null,"新生物",null,null,"性疾患",null,null,"心疾患",null,null,"疾  患",null,null,"肺  炎",null,null,"老  衰",null,null,null,null," ","交通事故"]
["教育、学習支援業",null,null,null,null,null,null,{"$f":"データ一覧!P141","v":"…"},null,null,{"$f":"データ一覧!P198","v":"…"},null,null,{"$f":"データ一覧!P142","v":25},null,null,{"$f":"データ一覧!P199","v":2643},null,null,{"$f":"データ一覧!P143","v":"…"},null,null,{"$f":"データ一覧!P200","v":"…"},null,null,"卸売業",null,null,null,{"$f":"データ一覧!P295","v":17},null,null,{"$f":"データ一覧!P304","v":150},null,null,{"$f":"データ一覧!P313","v":7075},null,null,null,"項目別歳入歳出予算決算額"]
["医療、福祉",null,null,null,null,null,null,{"$f":"データ一覧!P144","v":"…"},null,null,{"$f":"データ一覧!P201","v":"…"},null,null,{"$f":"データ一覧!P145","v":36},null,null,{"$f":"データ一覧!P202","v":2124},null,null,{"$f":"データ一覧!P146","v":"…"},null,null,{"$f":"データ一覧!P203","v":"…"},null,null,"小売業",null,null,null,{"$f":"データ一覧!P296","v":132},null,null,{"$f":"データ一覧!P305","v":605},null,null,{"$f":"データ一覧!P314","v":9205},null,null,null,"区分",null,null,null,{"$f":"データ一覧!$A$438","v":"3年度"},null,null,null,null,{"$f":"データ一覧!$A$452","v":"2年度"},null,null,null,null,"区分",null,null,null,{"$f":"+AR71","v":"3年度"},null,null,null,null,{"$f":"データ一覧!$A$452","v":"2年度"},null,null,null,null,null,null,null,null,null,{"$f":"データ一覧!P672","v":241},null,null,null,"   －",{"$f":"データ一覧!P673","v":0},null,{"$f":"データ一覧!P674","v":15},null,null,null,{"$f":"データ一覧!P675","v":0},null,{"$f":"データ一覧!P676","v":3},null,null,{"$f":"データ一覧!P677","v":2},null,null,{"$f":"データ一覧!P678","v":22},null,null,{"$f":"データ一覧!P679","v":30},null,null,{"$f":"データ一覧!P680","v":13},null,null,{"$f":"データ一覧!P681","v":2}]
["複合サービス事業",null,null,null,null,null,null,{"$f":"データ一覧!P147","v":"…"},null,null,{"$f":"データ一覧!P204","v":"…"},null,null,{"$f":"データ一覧!P148","v":11},null,null,{"$f":"データ一覧!P205","v":94},null,null,{"$f":"データ一覧!P149","v":"…"},null,null,{"$f":"データ一覧!P206","v":"…"},null,null,"各種商品",null,null,null,{"$f":"データ一覧!P297","v":0},null,null,{"$f":"データ一覧!P306","v":0},null,null,{"$f":"データ一覧!P315","v":0},null,null,null,"総額",null,null,null,{"$f":"SUM(AR73:AV85)","v":8544245},null,null,null,null,{"$f":"SUM(AW73:BA85)","v":11792417},null,null,null,null,"総額",null,null,null,{"$f":"SUM(BF73:BJ85)","v":8544245},null,null,null,null,{"$f":"SUM(BK73:BO85)","v":11315282},null,null,null,null," １９  警　察　・　消　防  ",null,null,null,null,null,null,null,null,null,null,null,null,null,null,null,{"$f":"+データ一覧!$A682","v":"3.4.1"}]
["サービス業",null,null,null,null,null,null,{"$f":"データ一覧!P150","v":"…"},null,null,{"$f":"データ一覧!P207","v":"…"},null,null,{"$f":"データ一覧!P151","v":54},null,null,{"$f":"データ一覧!P208","v":300},null,null,{"$f":"データ一覧!P152","v":"…"},null,null,{"$f":"データ一覧!P209","v":"…"},null,null,"織物・衣服・身の回り品",null,null,null,{"$f":"データ一覧!P298","v":10},null,null,{"$f":"データ一覧!P307","v":21},null,null,{"$f":"データ一覧!P316","v":162},null,null,null,"地方税",null,null,null,{"$f":"データ一覧!P439","v":1912328},null,null,null,null,{"$f":"データ一覧!P453","v":2062416},null,null,null,null,"議会費",null,null,null,{"$f":"データ一覧!P467","v":93993},null,null,null,null,{"$f":"データ一覧!P481","v":109310}]
["公務",null,null,null,null,null,null,{"$f":"データ一覧!P153","v":"…"},null,null,{"$f":"データ一覧!P210","v":"…"},null,null,{"$f":"データ一覧!P154","v":"…"},null,null,{"$f":"データ一覧!P211","v":"…"},null,null,{"$f":"データ一覧!P155","v":"…"},null,null,{"$f":"データ一覧!P212","v":"…"},null,null,"飲食料品",null,null,null,{"$f":"データ一覧!P299","v":48},null,null,{"$f":"データ一覧!P308","v":241},null,null,{"$f":"データ一覧!P317","v":3511},null,null,null,"地方譲与税",null,null,null,{"$f":"データ一覧!P440","v":83000},null,null,null,null,{"$f":"データ一覧!P454","v":82305},null,null,null,null,"総務費",null,null,null,{"$f":"データ一覧!P468","v":1104578},null,null,null,null,{"$f":"データ一覧!P482","v":3383060},null,null,null,null,null,null,null,null,null,null,null,null,null,null,"交番・駐在所",null,null,null,null,null,null,null,null,"刑法犯認知件数",null,null,null,null,null,null,null,null,"交通人身事故発生件数"]
["  ４  農        　　　業 ",null,null,null,null,null,null,null,null,null,null,null,null,null,null,null,null,null,null,null,null,null,null,null,null,"機械器具",null,null,null,{"$f":"データ一覧!P300","v":12},null,null,{"$f":"データ一覧!P309","v":39},null,null,{"$f":"データ一覧!P318","v":392},null,null,null,"各種交付金",null,null,null,{"$f":"データ一覧!P441","v":465600},null,null,null,null,{"$f":"データ一覧!P455","v":447935},null,null,null,null,"民生費",null,null,null,{"$f":"データ一覧!P469","v":2652291},null,null,null,null,{"$f":"データ一覧!P483","v":2764476},null,null,null,null,null,"警察署数",null,null,null,null,null,null,null,null,"検問所数",null,null,null,null,null,null,null,null,null,{"$f":"データ一覧!$A$684","v":"2年中"},null,null,null,null,null,null,null,null,{"$f":"データ一覧!$A$684","v":"2年中"}]
[null,null,null,null,null,null,null,null,null,null,null,null,null,null,null,null,null,null,null,null,null,null,null,null,null,"その他",null,null,null,{"$f":"データ一覧!P301","v":58},null,null,{"$f":"データ一覧!P310","v":299},null,null,{"$f":"データ一覧!P319","v":5118},null,null,null,"地方特例交付金",null,null,null,{"$f":"データ一覧!P442","v":10000},null,null,null,null,{"$f":"データ一覧!P456","v":16919},null,null,null,null,"衛生費",null,null,null,{"$f":"データ一覧!P470","v":647132},null,null,null,null,{"$f":"データ一覧!P484","v":662203},null,null,null,null,null,null,null,null,null,null,null,null,null,null,null,null,null,null,null,null,null,null,null,null,null,null,null,null," 件",null,null,null,null,null,null,null,null,"　件"]
[null,null,"農業経営体数",null,null,null,null,null,null,"農産物販売額規模別経営体数",null,null,null,null,null,null,null,"経営耕地面積規模別経営体数",null,null,null,null,null,null,null,"無店舗",null,null,null,{"$f":"データ一覧!P302","v":4},null,null,{"$f":"データ一覧!P311","v":5},null,null,{"$f":"データ一覧!P320","v":23},null,null,null,"地方交付税",null,null,null,{"$f":"データ一覧!P443","v":3660000},null,null,null,null,{"$f":"データ一覧!P457","v":4084218},null,null,null,null,"労働費",null,null,null,{"$f":"データ一覧!P471","v":28100},null,null,null,null,{"$f":"データ一覧!P485","v":28137},null,null,null,null,null,null,{"$f":"データ一覧!P682","v":0},null,null,null,null,null,null,null,null,{"$f":"データ一覧!P683","v":4},null,null,null,null,null,null,null,null,{"$f":"データ一覧!P684","v":31},null,null,null,null,null,null,null,null,{"$f":"データ一覧!P685","v":11}]
["農",null,"区　分",null,null,null,"経営体数\n（経営体）",null,null,"区　分",null,null,null,null,"経営体数\n（経営体）",null,null,"区　分",null,null,null,null,"経営体数\n（経営体）",null,null,null,null,null,null,null,null,null,null,null,null,null,null,null,null,"分担金および負担金",null,null,null,{"$f":"データ一覧!P444","v":61205},null,null,null,null,{"$f":"データ一覧!P458","v":10305},null,null,null,null,"農林水産業費",null,null,null,{"$f":"データ一覧!P472","v":506045},null,null,null,null,{"$f":"データ一覧!P486","v":529368},null,null,null,null,"火災発生件数",null,null,null,null,null,null,null,null,null,"林野焼損",null,null,null,null,"損      害",null,null,null,null,"消 防 自",null,null,null,"その他の",null,null,null," ",null,null,null,null," "]
["業","令",null,null,null,null,null,null,null,null,null,null,null,null,null,null,null,null,null,null,null,null,null,null,null,"  ８  住　　　　　　 　宅",null,null,null,null,null,null,null,null,null,null,null,null,null,"使用料および手数料",null,null,null,{"$f":"データ一覧!P445","v":143260},null,null,null,null,{"$f":"データ一覧!P459","v":175978},null,null,null,null,"商工費",null,null,null,{"$f":"データ一覧!P473","v":210892},null,null,null,null,{"$f":"データ一覧!P487","v":258585},null,null,null,null,{"$f":"+データ一覧!$A$686","v":"2年中"},null,null,null,null,"焼損棟数",null,null,null,null,"面    積",null,null,null,null,"見  積  額",null,null,null,null,"動 車 数",null,null,null,"ﾎﾟﾝﾌﾟ数",null,null,null," 消防吏員",null,null,null," 消防団員"]
["経",{"$f":"+LEFT(データ一覧!$A$213)","v":"2"},"計",null,null,null,{"$f":"データ一覧!P213","v":269},null,null,"総　　　 数",null,null,null,null,{"$f":"データ一覧!P217","v":269},null,null,"総　　　 数",null,null,null,null,{"$f":"データ一覧!P233","v":653},null,null,null,null,null,null,null,null,null,null,null,null,null,null,null,null,"国庫支出金",null,null,null,{"$f":"データ一覧!P446","v":612913},null,null,null,null,{"$f":"データ一覧!P460","v":3000523},null,null,null,null,"土木費",null,null,null,{"$f":"データ一覧!P474","v":959745},null,null,null,null,{"$f":"データ一覧!P488","v":1272819},null,null,null,null,"         件",null,null,null,null,null,"      棟",null,null,null,null,null,null,"  ａ",null,null,null,"  千円",null,null,"        ",null,null,null,null,null,null,null,null,null,"  人",null,null,null,"  人"]
["営","・","個人経営体",null,null,null,{"$f":"データ一覧!P214","v":253},null,null,"販 売 な し",null,null,null,null,{"$f":"データ一覧!P218","v":17},null,null,"0.5 ha 未満",null,null,null,null,{"$f":"データ一覧!P234","v":18},null,null,{"$f":"+データ一覧!$A$321","v":"令和元年"},null,null,null,null,{"$f":"データ一覧!$A$324","v":"2年"},"中の増減",null,null,null,{"$f":"+データ一覧!$A$324","v":"2年"},null,null,null,"県支出金",null,null,null,{"$f":"データ一覧!P447","v":550934},null,null,null,null,{"$f":"データ一覧!P461","v":599719},null,null,null,null,"消防費",null,null,null,{"$f":"データ一覧!P475","v":365737},null,null,null,null,{"$f":"データ一覧!P489","v":336493},null,null,null,null,null,{"$f":"データ一覧!P686","v":1},null,null,null,null,{"$f":"データ一覧!P687","v":4},null,null,null,null,{"$f":"データ一覧!P688","v":0},null,null,null,{"$f":"データ一覧!P689","v":305},null,null,null,null,null,{"$f":"データ一覧!P690","v":14},null,null,null,{"$f":"データ一覧!P691","v":14},null,null,null,{"$f":"データ一覧!P692","v":39},null,null,null,{"$f":"データ一覧!P693","v":350}]
["体",{"$f":"+LEFT(データ一覧!$A$213,1)","v":"2"},"団体経営体",null,null,null,{"$f":"データ一覧!P215","v":16},null,null,"50万円未満",null,null,null,null,{"$f":"データ一覧!P219","v":112},null,null,"0.5 ha ～ 1.0 ha",null,null,null,null,{"$f":"データ一覧!P235","v":70},null,null,null,null,null,null,"建設した住宅",null,null,"消失した住宅",null,null,null,null,null,null,"財産収入",null,null,null,{"$f":"データ一覧!P448","v":20635},null,null,null,null,{"$f":"データ一覧!P462","v":16878},null,null,null,null,"教育費",null,null,null,{"$f":"データ一覧!P476","v":1063247},null,null,null,null,{"$f":"データ一覧!P490","v":1108246},null,null,null,null," ２０  そ　　　の　　　他　"]
["数","・",null,"法人経営",null,null,{"$f":"データ一覧!P216","v":11},null,null,"50～300万円",null,null,null,null,{"$f":"データ一覧!P220","v":113},null,null,"1.0 ha ～ 2.0 ha",null,null,null,null,{"$f":"データ一覧!P236","v":99},null,null,null,null,null,null,null,null,null,null,null,null,null,null,null,null,"繰入金",null,null,null,{"$f":"データ一覧!P449","v":295000},null,null,null,null,{"$f":"データ一覧!P463","v":165768},null,null,null,null,"災害復旧費",null,null,null,{"$f":"データ一覧!P477","v":0},null,null,null,null,{"$f":"データ一覧!P491","v":2693}]
["（",{"$f":"+RIGHT(データ一覧!$A$213)","v":"1"},null,null,null,null,null,null,null,"300～500万円",null,null,null,null,{"$f":"データ一覧!P221","v":9},null,null,"2.0 ha ～ 3.0 ha",null,null,null,null,{"$f":"データ一覧!P237","v":33},null,null,null,{"$f":"データ一覧!P321","v":7461},null,"戸",{"$f":"データ一覧!P322","v":83},null,"戸",{"$f":"データ一覧!P323","v":56},null,"戸",null,{"$f":"データ一覧!P324","v":7488},null,"戸","地方債",null,null,null,{"$f":"データ一覧!P450","v":515000},null,null,null,null,{"$f":"データ一覧!P464","v":690200},null,null,null,null,"公債費",null,null,null,{"$f":"データ一覧!P478","v":909485},null,null,null,null,{"$f":"データ一覧!P492","v":859892},null,null,null,null,null,null,null,null,null,"曹洞宗大本山永平寺、手繰ケ城山古墳、石舟山古墳、鳥越山古墳、二本松山古墳、"]
["総",null,null,null,null,null,null,null,null,"500～1,000万円",null,null,null,null,{"$f":"データ一覧!P222","v":9},null,null,"3.0 ha ～ 5.0 ha",null,null,null,null,{"$f":"データ一覧!P238","v":43},null,null,null,null,null,null,null,null,null,null,null,null,null,null,null,null,"その他",null,null,null,{"$f":"データ一覧!P451","v":214370},null,null,null,null,{"$f":"データ一覧!P465","v":439253},null,null,null,null,"その他",null,null,null,{"$f":"データ一覧!P479","v":3000},null,null,null,null,{"$f":"データ一覧!P493","v":0},null,null,null,null,"　名所・旧跡",null,null,null,null,"波多野城跡、春日山古墳、東諏訪間一号墳、志比線刻磨崖仏、芭蕉塚、"]
["数",null,null,null,null,null,null,null,null,"1,000万円以上",null,null,null,null,{"$f":"データ一覧!P223","v":9},null,null,"5.0 ha以上",null,null,null,null,{"$f":"データ一覧!P239","v":390},null,null,null,null,null,null,null,null,null,null,null,null,null,null,null,null,null,null,null,null,null,null,null,null,null,null,null,null,null,null,null,null,null,null,null,null,null,null,null,null,null,null,null,null,"  文化財等",null,null,null,null,"島の宝篋印塔、吉峰寺、白山遙拝松と舟渡跡、火薬局跡碑、大廻り史跡、"]
["）",null,"15歳以上の常雇い数",null,null,null,null,null,null,"農業に60日以上従事した世帯員、役員・構成員\n（経営主を含む）の平均年齢",null,null,null,null,null,null,null,null,null,null,null,null,null,null,null,"  ９  議　 員　・　職 　員",null,null,null,null,null,null,null,null,null,null,null,null,null," １４  文　　　　　　化",null,null,null,null,null,null,null,null,null," ( ",{"$f":"データ一覧!$A$500","v":"3.3.31"},null,null,null,"ただし図書館・公民館・児童館",null,null,null,null,null,null,null,{"$f":"データ一覧!$A$494","v":"3.4.1"},null,null,null,null,null,null,null,null,null,"天龍寺、赤井家高麗門"]
["と",null,null,null,null,null,null,null,null,null,null,null,null,null,null,null,null,null,null,null,null,null,null,null,null,null,null,null,null,null,null,null,null,null,null,null,null,null,null,null,null,null,null,null,null,null,null,null,null,null,null,null,null,null,null,"　宗教法人数 ",null,null,null,null,null,null,{"$f":"データ一覧!$A$502","v":"2.12.31"},null,null,null,"）","　　特産物",null,null,null,null,"鮎、ごまどうふ、精進料理、永平寺そば、サクラマス、日本酒"]
["就",null,null,null,null,null,null,null,null,"農業に60日以上従事",null,null,null,null,null,null,null,"農業に150日以上従事",null,null,null,null,null,null,null," 市 町 村 議 会",null,null,"有権者数",null,{"$f":"データ一覧!$A$328","v":"3.9.1"},null,"市 町 村 議 会",null,null,"  職      員      数",null,null,null,null,null,null,null,null,"図書館",null,null,null,null,null,"公　民　館",null,null,null,null,null,null,null,null,null,null," 社会教育学級講座",null,null,null,null,null,null,null,null,null,null,"油桐の葉っぱ寿し、れんげ米、にんにく、たまねぎ、スイートコーン、にんじん"]
["業",null,"区　分",null,null,null,"人",null,null,"区　分",null,null,null,null,"人",null,null,"区　分",null,null,null,null,"人",null,null," 議  員  定  数",null,null,"    男",null,"    女",null,"選 挙 投 票 率",null,null," 総     数",null,"一般行政職",null,"公    共",null,null,null," 館  数",null,null," 図書数",null,null," 本  館",null,null," 分  館",null,null," 公  園",null,null," 児童館",null,null,"学級講座数",null,null,"受講者数",null,null," 　年中行事",null,null,null,null,"九頭竜フェスティバル永平寺大燈籠ながし、御像まつり、\n永平寺参ろーど禅ウォーキング、\n永平寺除夜の鐘とライトアップ、永平寺花祭り"]
["状",null,"総数",null,null,null,{"$f":"データ一覧!P230","v":9},null,null,"総数",null,null,null,null,{"$f":"データ一覧!P224","v":69.2},null,null,"総数",null,null,null,null,{"$f":"データ一覧!P227","v":70.7},null,null,null,null,"人",null,"人",null,"人",null,null,"　％",null,"人",null,"人","施 設 数",null,null,null,null,{"$f":"データ一覧!P494","v":3},null,{"$f":"データ一覧!P495","v":164223},null,null,null,{"$f":"データ一覧!P496","v":7},null,{"$f":"データ一覧!P497","v":1},null,null,{"$f":"データ一覧!P498","v":1},null,null,{"$f":"データ一覧!P499","v":3},null,null,{"$f":"データ一覧!P500","v":0},null,null,{"$f":"データ一覧!P501","v":0}]
["況",null,"男",null,null,null,{"$f":"データ一覧!P231","v":7},null,null,"男",null,null,null,null,{"$f":"データ一覧!P225","v":68.8},null,null,"男",null,null,null,null,{"$f":"データ一覧!P228","v":70.3},null,null,null,{"$f":"データ一覧!P325","v":14},null,{"$f":"データ一覧!P328","v":7457},null,{"$f":"データ一覧!P329","v":7900},null,{"$f":"データ一覧!P327","v":61.59},null,null,{"$f":"データ一覧!P330","v":244},null,{"$f":"データ一覧!P331","v":104},null,"宗    教",null,null,null," 仏教系",null,null,"ｷﾘｽﾄ教系",null,null,"神道諸派",null,null,"公会堂・市民会館",null,null,null,null,null," テレビ",null,null,"衛星放送契約数"]
[null,null,"女",null,null,null,{"$f":"データ一覧!P232","v":2},null,null,"女",null,null,null,null,{"$f":"データ一覧!P226","v":70.3},null,null,"女",null,null,null,null,{"$f":"データ一覧!P229","v":71.599999999999994},null,null,null,null,null,null,null,null,null,{"$f":"データ一覧!P326","v":"30.7.8"},null,null,null,null,null,null,"法 人 数",null,null,null,{"$f":"データ一覧!P502","v":35},null,null,{"$f":"データ一覧!P503","v":0},null,null,{"$f":"データ一覧!P504","v":55},null,null,{"$f":"データ一覧!P505","v":3},null,null,null,null,null,"      等",null,null,{"$f":"データ一覧!P506","v":4626}]

{"sheet":"池田町","index":15,"n_rows":93,"n_cols":103,"rows_kept":93,"cut":false,"hidden":false,"merged":[[76,87,76,90],[76,69,76,72],[76,57,76,61],[75,62,75,66],[76,62,76,66],[76,39,76,42],[80,22,80,24],[92,14,92,16],[92,17,92,21],[85,17,85,21],[81,6,81,8],[81,9,81,13],[81,14,81,16],[82,6,82,8],[82,9,82,13],[82,14,82,16],[83,6,83,8],[83,9,83,13],[83,14,83,16],[84,6,84,8],[84,9,84,13],[84,14,84,16],[84,22,84,24],[85,6,85,8],[85,9,85,13],[85,14,85,16],[85,22,85,24],[92,6,92,8],[92,22,92,24],[90,17,90,21],[80,53,80,56],[81,53,81,56],[17,25,17,27],[18,25,18,27],[70,94,70,96],[70,79,70,81],[74,68,74,74],[72,62,72,66],[74,57,74,61],[74,62,74,66],[73,57,73,61],[68,100,68,102],[70,97,70,99],[68,94,68,96],[67,97,67,102],[27,81,27,84],[27,86,27,90],[28,68,28,72],[28,73,28,76],[28,77,28,80],[28,81,28,84],[28,86,28,90],[29,73,29,76],[29,77,29,80],[29,81,29,84],[29,86,29,90],[57,67,58,102],[71,67,72,82],[71,83,72,102],[28,91,28,94],[38,97,38,100],[32,99,32,102],[40,75,41,77],[45,57,45,61],[29,20,29,21],[35,75,35,77],[40,2,40,3],[30,68,30,72],[30,73,30,76],[30,77,30,80],[30,81,30,84],[30,86,30,90],[31,68,31,72],[31,73,31,76],[31,77,31,80],[31,81,31,84],[35,22,35,24],[35,5,35,7],[35,8,35,10],[35,11,35,13],[35,14,35,16],[35,18,35,19],[35,20,35,21],[33,83,34,96],[31,60,31,64],[30,49,30,51],[32,5,32,7],[32,8,32,10],[35,86,35,90],[35,93,35,95],[36,40,36,46],[38,60,38,64],[30,20,30,21],[31,18,31,19],[31,20,31,21],[34,18,34,19],[31,49,31,51],[31,53,31,56],[40,36,40,37],[36,29,36,30],[29,40,29,46],[28,49,28,51],[27,49,27,51],[27,53,27,56],[27,60,27,64],[35,53,35,56],[35,49,35,51],[35,60,35,64],[34,53,34,56],[39,53,39,56],[39,49,39,51],[39,40,39,46],[34,40,34,46],[34,29,34,30],[33,53,33,56],[36,49,36,51],[36,53,36,56],[36,60,36,64],[28,99,28,102],[32,91,32,94],[28,53,28,56],[30,95,30,98],[23,95,23,98],[24,91,24,94],[27,25,27,26],[27,27,27,28],[34,60,34,64],[32,95,32,98],[32,40,32,46],[31,40,31,46],[30,40,30,46],[26,73,26,76],[26,77,26,80],[26,81,26,84],[26,86,26,90],[27,68,27,72],[27,73,27,76],[27,77,27,80],[29,53,29,56],[27,35,27,36],[30,91,30,94],[28,40,28,46],[33,67,34,80],[28,60,28,64],[30,53,30,56],[27,40,27,46],[30,60,30,64],[24,37,24,38],[24,29,24,30],[27,33,27,34],[24,33,24,34],[27,31,27,32],[29,60,29,64],[29,49,29,51],[70,35,70,37],[27,99,27,102],[20,91,20,94],[21,99,21,102],[26,99,26,102],[24,95,24,98],[25,95,25,98],[21,95,21,98],[29,91,29,94],[29,95,29,98],[29,99,29,102],[26,91,26,94],[25,91,25,94],[27,95,27,98],[27,91,27,94],[22,99,22,102],[26,95,26,98],[28,95,28,98],[30,99,30,102],[31,91,31,94],[34,36,34,37],[33,40,33,46],[31,95,31,98],[31,99,31,102],[22,95,22,98],[25,99,25,102],[24,99,24,102],[25,40,25,46],[25,49,25,51],[25,53,25,56],[24,73,24,76],[23,99,23,102],[81,67,82,102],[70,32,70,33],[75,35,75,37],[70,48,70,52],[71,62,71,66],[72,53,72,56],[71,53,71,56],[73,62,73,66],[68,25,68,28],[69,25,69,28],[70,25,70,28],[38,75,38,77],[38,79,38,82],[38,67,38,73],[39,60,39,64],[39,67,39,73],[39,79,39,82],[39,75,39,77],[37,53,37,56],[37,67,37,73],[37,49,37,51],[42,75,42,77],[40,67,41,73],[40,79,41,82],[33,60,33,64],[35,68,35,72],[35,80,35,83],[37,60,37,64],[46,0,46,1],[47,0,47,1],[48,16,48,18],[48,19,48,21],[48,13,48,15],[48,0,48,1],[48,7,48,9],[49,39,49,45],[50,0,51,24],[48,10,48,12],[71,57,71,61],[71,43,71,47],[71,0,71,6],[69,35,69,37],[50,25,50,28],[62,0,62,6],[72,57,72,61],[61,59,61,62],[47,19,47,21],[51,25,51,28],[50,33,50,38],[71,29,71,30],[72,19,72,21],[69,32,69,33],[72,35,72,37],[71,32,71,33],[60,0,60,6],[55,22,55,24],[55,35,55,38],[49,54,49,57],[55,0,55,6],[62,29,62,30],[0,0,0,9],[1,0,3,9],[5,0,5,9],[14,25,15,25],[19,3,19,5],[29,5,29,7],[31,5,31,7],[31,8,31,10],[29,8,29,10],[41,16,41,18],[42,13,42,15],[47,13,47,15],[56,0,56,6],[56,16,56,18],[22,7,22,8],[42,4,42,6],[42,7,42,9],[44,0,45,1],[42,16,42,18],[22,25,22,28],[18,28,18,30],[40,29,40,30],[30,22,30,24],[31,22,31,24],[32,18,32,19],[32,20,32,21],[32,22,32,24],[54,25,54,32],[53,25,53,27],[53,29,53,31],[48,22,48,24],[33,22,33,24],[19,99,19,102],[19,81,19,84],[17,91,17,94],[17,86,17,89],[19,77,19,80],[19,25,19,28],[19,29,19,31],[21,25,21,28],[40,4,40,6],[41,4,41,6],[41,7,41,9],[29,18,29,19],[31,11,31,13],[25,31,26,32],[35,29,35,30],[21,29,21,31],[17,82,17,83],[17,100,17,101],[19,40,19,46],[19,49,19,51],[19,53,19,56],[19,60,19,64],[19,91,19,94],[19,95,19,98],[20,11,20,13],[20,16,20,18],[20,21,20,23],[20,95,20,98],[20,99,20,102],[20,25,20,28],[27,29,27,30],[21,86,21,90],[14,26,15,28],[15,29,15,30],[14,0,15,24],[16,74,16,95],[17,59,17,65],[6,0,8,9],[17,40,17,46],[17,48,17,52],[17,53,17,57],[15,32,15,33],[19,32,19,34],[15,35,15,37],[17,68,17,71],[17,73,17,76],[19,73,19,76],[19,35,19,38],[21,40,21,46],[21,49,21,51],[21,53,21,56],[21,60,21,64],[20,40,20,46],[16,32,16,33],[16,36,16,37],[21,91,21,94],[21,35,21,38],[20,73,20,76],[20,77,20,80],[20,81,20,84],[20,86,20,90],[21,73,21,76],[21,77,21,80],[21,81,21,84],[17,32,17,34],[17,36,17,38],[18,31,18,34],[18,35,18,38],[22,68,22,72],[22,73,22,76],[22,91,22,94],[22,77,22,80],[22,81,22,84],[22,86,22,90],[23,77,23,80],[20,29,20,31],[20,32,20,34],[22,40,22,46],[22,49,22,51],[22,53,22,56],[22,60,22,64],[20,35,20,38],[22,35,22,38],[22,29,22,31],[22,32,22,34],[23,29,23,31],[23,32,23,34],[23,68,23,72],[23,73,23,76],[20,60,20,64],[20,49,20,51],[20,53,20,56],[21,32,21,34],[23,91,23,94],[23,11,23,13],[23,16,23,18],[23,21,23,23],[23,25,23,28],[23,35,23,38],[23,81,23,84],[23,86,23,90],[23,40,23,46],[23,49,23,51],[23,53,23,56],[23,60,23,64],[24,68,24,72],[24,77,24,80],[24,81,24,84],[24,86,24,90],[25,73,25,76],[25,77,25,80],[25,81,25,84],[25,86,25,90],[25,25,25,26],[25,33,26,34],[26,60,26,64],[25,27,25,28],[25,37,26,38],[26,40,26,46],[26,49,26,51],[26,53,26,56],[24,40,24,46],[24,49,24,51],[24,53,24,56],[24,60,24,64],[26,68,26,72],[30,5,30,7],[30,8,30,10],[30,11,30,13],[30,14,30,16],[32,53,32,56],[32,60,32,64],[33,49,33,51],[34,49,34,51],[47,10,47,12],[34,14,34,16],[36,36,36,37],[46,25,46,28],[45,25,45,28],[41,36,41,37],[41,29,41,30],[45,29,45,30],[35,36,35,37],[41,32,41,35],[40,16,40,18],[41,19,41,21],[41,22,41,24],[32,14,32,16],[43,60,43,64],[32,11,32,13],[30,18,30,19],[33,5,33,7],[33,8,33,10],[33,11,33,13],[34,20,34,21],[34,22,34,24],[33,14,33,16],[32,49,32,51],[27,0,27,4],[27,5,27,7],[27,22,27,24],[26,22,26,24],[26,25,26,26],[26,27,26,28],[25,35,26,36],[25,60,25,64],[40,32,40,35],[42,22,42,24],[44,19,44,24],[42,19,42,21],[31,14,31,16],[24,0,25,24],[29,22,29,24],[24,31,24,32],[27,37,27,38],[24,35,24,36],[25,29,26,30],[24,27,24,28],[40,22,40,24],[40,19,40,21],[29,11,29,13],[29,14,29,16],[42,10,42,12],[40,7,40,9],[40,10,40,12],[34,8,34,10],[34,11,34,13],[41,10,41,12],[41,13,41,15],[40,13,40,15],[41,85,41,91],[34,5,34,7],[33,18,33,19],[33,20,33,21],[44,25,44,28],[44,29,44,30],[44,36,44,37],[42,32,42,35],[48,50,48,53],[48,56,48,59],[43,40,43,46],[43,49,43,51],[47,22,47,24],[43,53,43,56],[40,40,40,46],[46,29,46,30],[42,36,42,37],[35,40,35,46],[37,40,37,46],[38,40,38,46],[47,7,47,9],[47,16,47,18],[38,53,38,56],[38,49,38,51],[45,32,45,35],[46,32,46,35],[45,36,45,37],[44,32,44,35],[46,36,46,37],[41,53,41,56],[36,79,36,82],[36,85,36,91],[54,55,54,58],[49,62,49,66],[49,68,49,75],[49,58,49,61],[50,55,50,57],[48,95,48,98],[48,68,48,75],[48,80,48,82],[42,67,42,73],[45,92,45,101],[45,84,45,89],[48,99,48,102],[46,99,46,102],[48,83,48,86],[42,49,42,51],[42,79,42,82],[48,62,48,65],[48,77,48,79],[42,93,42,95],[42,53,42,56],[50,68,50,75],[50,77,50,79],[49,77,49,79],[50,59,50,61],[55,25,55,30],[63,89,63,91],[65,73,65,76],[68,16,68,18],[68,19,68,21],[66,16,66,18],[66,32,66,34],[68,22,68,24],[66,35,66,38],[68,82,68,84],[67,82,67,84],[68,29,68,30],[65,19,65,21],[65,22,65,24],[62,16,62,18],[60,19,60,21],[63,74,63,76],[66,76,66,90],[67,88,67,90],[67,79,67,81],[68,91,68,93],[68,43,68,47],[68,72,68,75],[68,76,68,78],[68,79,68,81],[56,68,56,75],[56,77,56,79],[68,88,68,90],[56,83,56,86],[64,16,64,18],[64,19,64,21],[55,59,55,62],[56,10,56,12],[57,13,57,15],[56,13,56,15],[60,13,60,15],[59,13,59,15],[57,7,57,9],[60,36,60,37],[57,22,57,24],[58,22,58,24],[60,22,60,24],[58,52,58,54],[57,47,57,50],[57,51,57,54],[59,22,59,24],[61,29,61,30],[61,0,61,6],[56,22,56,24],[59,0,59,6],[60,39,60,42],[60,29,60,30],[56,48,56,53],[62,99,62,101],[63,22,63,24],[62,87,62,89],[62,81,62,83],[62,75,62,77],[65,13,65,15],[65,16,65,18],[58,0,58,6],[57,0,57,6],[61,80,61,83],[59,16,59,18],[58,16,58,18],[57,16,57,18],[60,16,60,18],[61,10,61,12],[61,63,61,66],[61,39,61,42],[61,68,61,71],[62,68,62,71],[60,97,60,102],[60,59,60,62],[60,63,60,66],[59,59,59,62],[60,85,60,90],[57,58,57,60],[57,61,57,63],[62,93,62,95],[60,91,60,96],[68,53,68,56],[68,57,68,61],[68,62,68,66],[65,53,65,56],[70,62,70,66],[69,22,69,24],[68,48,68,52],[70,19,70,21],[65,43,65,49],[70,100,70,102],[70,83,70,84],[70,88,70,90],[70,85,70,87],[65,93,65,96],[63,19,63,21],[64,68,64,71],[65,68,65,71],[63,94,63,96],[65,83,65,86],[65,88,65,91],[63,99,63,101],[67,57,67,61],[67,62,67,66],[66,92,66,96],[68,85,68,87],[64,22,64,24],[63,84,63,86],[73,39,73,42],[75,57,75,61],[73,32,73,33],[73,35,73,37],[76,53,76,56],[76,96,76,99],[73,77,73,83],[73,86,73,92],[73,95,73,101],[74,77,74,83],[74,87,74,91],[74,96,74,100],[76,78,76,81],[61,16,61,18],[61,22,61,24],[63,16,63,18],[62,22,62,24],[61,19,61,21],[65,98,65,101],[65,78,65,81],[70,72,70,75],[70,77,70,78],[67,67,70,71],[69,39,69,66],[68,39,68,42],[65,57,65,63],[66,39,66,66],[67,43,67,47],[67,48,67,52],[68,32,68,33],[69,19,69,21],[66,19,66,21],[79,101,79,102],[79,39,79,42],[79,43,79,47],[79,48,79,52],[79,53,79,56],[79,57,79,61],[79,62,79,66],[78,95,78,98],[80,78,80,80],[80,82,80,86],[78,82,78,86],[78,87,78,90],[80,68,80,70],[80,73,80,75],[80,88,80,90],[77,91,77,94],[78,67,78,71],[79,97,79,98],[78,72,78,76],[78,77,78,81],[80,100,80,102],[78,99,78,102],[80,92,80,94],[80,96,80,98],[78,91,78,94],[77,57,77,61],[77,62,77,66],[77,82,77,86],[77,87,77,90],[77,77,77,81],[78,53,78,56],[78,62,78,66],[55,7,55,9],[72,10,72,12],[71,10,71,12],[70,10,70,12],[62,10,62,12],[60,10,60,12],[59,10,59,12],[69,10,69,12],[58,10,58,12],[55,10,55,12],[63,10,63,12],[63,13,63,15],[55,16,55,18],[59,19,59,21],[58,19,58,21],[57,19,57,21],[56,19,56,21],[55,13,55,15],[57,10,57,12],[62,19,62,21],[62,13,62,15],[65,10,65,12],[68,7,68,9],[68,10,68,12],[69,7,69,9],[67,7,67,9],[70,7,70,9],[67,10,67,12],[55,19,55,21],[68,13,68,15],[70,13,70,15],[70,16,70,18],[78,57,78,61],[73,53,73,56],[75,53,75,56],[56,7,56,9],[59,7,59,9],[58,7,58,9],[60,7,60,9],[64,7,64,9],[61,7,61,9],[62,7,62,9],[63,7,63,9],[67,53,67,56],[67,39,67,42],[67,22,67,24],[68,35,68,37],[65,39,65,42],[72,43,72,47],[71,48,71,52],[72,7,72,9],[78,39,78,42],[78,43,78,47],[78,48,78,52],[66,7,66,9],[70,22,70,24],[69,13,69,15],[70,57,70,61],[70,53,70,56],[71,35,71,37],[64,10,64,12],[61,13,61,15],[72,39,72,42],[75,32,75,33],[92,52,92,57],[92,61,92,66],[92,39,92,42],[92,43,92,45],[92,46,92,48],[92,49,92,51],[91,52,91,57],[91,43,91,45],[89,39,89,42],[84,57,84,61],[91,61,91,66],[90,46,90,48],[90,64,90,66],[90,61,90,63],[89,61,89,63],[88,44,88,47],[84,62,84,66],[88,61,88,66],[88,50,88,53],[91,39,91,42],[90,58,90,60],[91,49,91,51],[84,48,84,52],[84,53,84,56],[84,39,84,42],[84,43,84,47],[80,62,80,66],[90,50,90,51],[70,39,70,42],[69,29,69,30],[70,29,70,30],[83,26,83,27],[83,32,83,33],[77,39,77,42],[75,39,75,42],[72,32,72,33],[83,39,83,42],[73,29,73,30],[73,25,73,28],[74,29,74,30],[82,53,82,56],[90,55,90,57],[88,32,88,34],[83,48,83,52],[83,43,83,47],[90,52,90,54],[82,39,82,42],[80,25,81,28],[83,36,83,37],[89,32,89,34],[75,43,75,47],[75,48,75,52],[75,25,75,28],[75,29,75,30],[81,43,81,47],[80,35,81,38],[80,39,80,42],[80,43,80,47],[74,53,74,56],[74,35,74,37],[73,19,73,21],[73,48,73,52],[72,48,72,52],[71,19,71,21],[72,13,72,15],[72,25,72,28],[72,29,72,30],[74,25,74,28],[81,32,81,34],[76,32,76,33],[76,35,76,37],[76,25,76,28],[73,0,73,6],[82,48,82,52],[71,7,71,9],[71,13,71,15],[71,16,71,18],[72,16,72,18],[73,7,73,9],[82,43,82,47],[80,48,80,52],[76,2,76,8],[76,9,76,16],[76,17,76,24],[77,2,78,5],[77,6,78,8],[77,9,78,13],[77,14,78,16],[77,17,78,21],[73,43,73,47],[74,32,74,33],[74,48,74,52],[41,97,41,100],[42,97,42,100],[46,69,46,74],[46,95,46,98],[51,83,51,86],[52,68,52,75],[52,77,52,79],[51,68,51,75],[49,80,49,82],[49,83,49,86],[40,49,40,51],[40,60,40,64],[40,53,40,56],[38,85,38,91],[39,85,39,91],[40,85,40,91],[51,91,51,94],[53,91,53,94],[52,99,52,102],[50,99,50,102],[50,80,50,82],[49,99,49,102],[42,85,42,91],[51,99,51,102],[51,87,51,90],[52,83,52,86],[53,99,53,102],[53,83,53,86],[56,99,56,102],[74,43,74,47],[71,25,71,28],[70,91,70,93],[55,31,55,34],[54,99,54,102],[55,68,55,75],[55,77,55,79],[55,80,55,82],[55,83,55,86],[55,99,55,102],[54,77,54,79],[54,83,54,86],[54,87,54,90],[54,91,54,94],[54,95,54,98],[55,43,55,45],[55,95,55,98],[14,67,15,81],[14,82,15,95],[39,93,39,95],[38,93,38,95],[52,87,52,90],[52,91,52,94],[40,93,40,95],[35,98,35,101],[36,67,36,73],[56,87,56,90],[56,91,56,94],[48,87,48,90],[48,91,48,94],[50,91,50,94],[50,87,50,90],[49,87,49,90],[51,29,51,32],[51,33,51,35],[42,60,42,64],[56,39,56,42],[57,39,57,42],[51,36,51,38],[50,29,50,32],[53,33,53,34],[49,46,49,49],[83,62,83,66],[81,57,81,61],[82,57,82,61],[83,57,83,61],[81,62,81,66],[82,62,82,66],[58,64,58,66],[58,58,58,60],[58,61,58,63],[58,55,58,57],[58,48,58,50],[57,43,57,46],[77,43,77,47],[77,48,77,52],[76,43,76,47],[76,48,76,52],[77,53,77,56],[80,57,80,61],[81,39,81,42],[83,53,83,56],[81,48,81,52],[50,50,50,53],[74,39,74,42],[83,29,83,30],[92,32,92,34],[58,44,58,46],[81,29,81,31],[90,44,90,45],[88,30,88,31],[90,39,90,42],[88,28,88,29],[74,0,75,24],[65,7,65,9],[64,13,64,15],[58,13,58,15],[65,0,65,6],[61,36,61,37],[63,0,63,6],[64,0,64,6],[71,39,71,42],[70,43,70,47],[83,22,83,24],[76,29,76,30],[91,26,91,27],[91,28,91,29],[91,30,91,31],[91,32,91,34],[91,35,91,36],[91,37,91,38],[91,46,91,48],[58,39,58,42],[73,10,73,12],[73,13,73,15],[73,16,73,18],[66,0,66,6],[72,0,72,6],[67,19,67,21],[73,22,73,24],[69,16,69,18],[91,6,91,8],[91,14,91,16],[91,22,91,24],[89,6,89,8],[89,14,89,16],[89,22,89,24],[90,6,90,8],[90,14,90,16],[90,22,90,24],[86,2,88,8],[86,9,87,24],[88,9,88,16],[88,17,88,24],[89,2,89,5],[89,9,89,13],[89,17,89,21],[90,2,90,5],[90,9,90,13]],"merged_total":1106,"flags":["merged_cut"]}
[{"$f":"+データ一覧!Q2","v":"いまだてぐん"}]
[{"$f":"+データ一覧!Q5","v":"今立郡"}]
[null,null,null,null,null,null,null,null,null,null,null,null,null,null,null,null,null,null,null,null,null,null,null,null,null,null,null,null,null,null,null,null,null,null,null,null,null,null,null,0]
[null,null,null,null,null,null,null,null,null,null,null,null,null,null,null,null,null,null,null,null,null,null,null,null,null,null,null,"【町章とそのいわれ】「イケダ」の「イ」を簡潔明瞭に図案化し、",null,null,null,null,null,null,null,null,null,null,null,"【位置および地勢】池田町の南東は、部子山から冠山を経て岩谷山に結ぶ",null,null,null,null,null,null,null,null,null,null,null,null,null,null,null,null,null,null,null,null,null,null,null,null,null,null,null,null,null,null,"所在地",null,null,null,null,null,null,null,"〒910-2512"]
[null,null,null,null,null,null,null,null,null,null,null,null,null,null,null,null,null,null,null,null,null,null,null,null,null,null,null,"   　　　        上方に伸びるのは将来の躍進を意味し、円は和",null,null,null,null,null,null,null,null,null,null,null,"　山岳地帯で大野市、岐阜県の一部及び南条郡に接している。",null,null,null,null,null,null,null,null,null,null,null,null,null,null,null,null,null,null,null,null,null,null,null,null,null,null,null,null,null,null,null,null,null,null,null,null,null,null,"今立郡池田町稲荷第３５号４番地"]
[{"$f":"+データ一覧!Q3","v":"いけだちょう"},null,null,null,null,null,null,null,null,null,null,null,null,null,null,null,null,null,null,null,null,null,null,null,null,null,null,"   　　          と団結円満なる発展を印象づけたもの。",null,null,null,null,null,null,null,null,null,null,null,"  また北は福井市、西は越前市と連なる。  四囲山が入り組み、森林面積が"]
[{"$f":"データ一覧!Q6","v":"池田町"},null,null,null,null,null,null,null,null,null,null,null,null,null,null,null,null,null,null,null,null,null,null,null,null,null,null,0,null,null,null,null,null,null,null,null,null,null,null,"  91.7％を占める山間の地である。県境よりその源を発する足羽川は南北に",null,null,null,null,null,null,null,null,null,null,null,null,null,null,null,null,null,null,null,null,null,null,null,null,null,null,null,null,null,null,"電話番号",null,null,null,null,null,null,null,"（０７７８）４４－６０００"]
[null,null,null,null,null,null,null,null,null,null,null,null,null,null,null,null,null,null,null,null,null,null,null,null,null,null,null,0,null,null,null,null,null,null,null,null,null,null,null,"  流れ、その清流は岩をかんで渓谷をなし風光明媚である。魚見川、水海川、",null,null,null,null,null,null,null,null,null,null,null,null,null,null,null,null,null,null,null,null,null,null,null,null,null,null,null,null,null,null,"FAX番号",null,null,null,null,null,null,null,"     〃     ４４－６２９６"]
[null,null,null,null,null,null,null,null,null,null,null,null,null,null,null,null,null,null,null,null,null,null,null,null,null,null,null,0,null,null,null,null,null,null,null,null,null,null,null,"  部子川が合流する足羽川の流域に集落が点在しており、中央部は盆地を"]
[null,null,null,null,null,null,null,null,null,null,null,null,null,null,null,null,null,null,null,null,null,null,null,null,null,null,null,null,null,null,null,null,null,null,null,null,null,null,null,"  形成し560ha余りの肥沃な水田を有している。",null,null,null,null,null,null,null,null,null,null,null,null,null,null,null,null,null,null,null,null,null,null,null,null,null,null,null,null,null,null,"最寄駅および距離",null,null,null,null,null,null,null,"福鉄バス池田線稲荷　下車１００ｍ"]
[null,null,null,null,null,null,null,null,null,null,null,null,null,null,null,null,null,null,null,null,null,null,null,null,null,null,null,null,null,null,null,null,null,null,null,null,null,null,null,0,null,null,null,null,null,null,null,null,null,null,null,null,null,null,null,null,null,null,null,null,null,null,null,null,null,null,null,null,null,null,null,null,null,null,null,null,null,null,"池田町町民協働バス「マイバス」役場玄関前　下車0m"]
[]
[null,null,null,null,null,null,null,null,null,null,null,null,null,null,null,null,null,null,null,null,null,null,null,null,null,null,null,"【町が掲げる標語】あたりまえをたやさない 池田町",null,null,null,null,null,null,null,null,null,null,null,null,null,null,null,null,null,null,null,null,null,null,null,null,null,null,null,null,null,null,null,null,null,null,null,null,null,null,null,null,null,null,"ホームページ",null,null,null,null,null,null,null,"http://www.town.ikeda.fukui.jp/"]
[]
["  １  土            　　地",null,null,null,null,null,null,null,null,null,null,null,null,null,null,null,null,null,null,null,null,null,null,null,null,{"$f":"データ一覧!$A$240","v":"2年"},"産米収穫量",null,null,"　 収　穫　量",null,null," 　作 付 面 積",null,null,"   10a当たり収量",null,null,null,null,null,null,null,null,null,null,null,null,null,null,null,null,null,null,null,null,null,null,null,null,null,null,null,null,null,null,null," １５  労　　　　　　　働",null,null,null,null,null,null,null,null,null,null,null,null,null,null,"27.10.1"]
[null,null,null,null,null,null,null,null,null,null,null,null,null,null,null,null,null,null,null,null,null,null,null,null,null,null,null,null,null,{"$f":"データ一覧!$Q$240","v":1230},null,"t",{"$f":"データ一覧!$Q$241","v":280},null,"ha",{"$f":"データ一覧!Q242","v":439},null,null,"kg"," １０  工　　　　　　業 ",null,null,null,null,null,null,null,null,null,null,null,null,null,{"$f":"データ一覧!$A$332","v":"2.6.1（令和元年実績）"}]
["   総          面           積",null,null,null,null,null,null,null,null,null," 固 定 資 産 概 要 調 書 に よ る 地 目 別 面 積",null,null,null,null,null,null,null,null,null,null,null,null,null,null,null,null,null,"   総　　　数",null,null,null,"うち　　田",null,null,null,"うち　　畑",null,null,null,null,null,null,null,null,null,null,null,null,null,null,null,null,null,null,null,null,null,null,null,null,null,null,null,null,null,null,null,null,null,null,null,null,null,"産業別就業者数   "]
[null,null,{"$f":"データ一覧!$A$7","v":"3.10.1"},null,null,null,null,null,null,null,null,null,null,null,null,null,{"$f":"データ一覧!$A$9","v":"3.1.1"},null,null,null,null,null,null,null,null," 耕  地  面  積",null,null,null,"       ha",null,null,"ha ",null,null,null,"ha ",null,null,"      ","産業分類",null,null,null,null,null,null,null,"事業所数",null,null,null,null,"従業者数",null,null,null,null,null,"年間製造品出荷額等",null,null,null,null,null,null,null,null,"区  分",null,null,null,null,"総    数",null,null,null,null,"男",null,null,null,"女",null,null,"  ","区  分",null,null,null,null,"総    数",null,null,null,null,"男",null,null,null,"女"]
[null,null,null,null,null,null,"㎢",null,null,null,"   総       数",null,null,null,null,"  う ち     田",null,null,null,null,"  う ち     畑",null,null,null,null,{"$f":"データ一覧!A243","v":"2.7.15"},null,null,{"$f":"データ一覧!$Q$243","v":469},null,null,{"$f":"データ一覧!$Q$244","v":414},null,null,null,{"$f":"データ一覧!$Q$245","v":55},null,null,null,null,null,null,null,null,null,null,null,null,"　　   ",null,null,"事業所",null,"　　　　　　　 人",null,null,"人",null,"　　　　　　　　　　　　　　万円",null,null,null,null,null,null,"万円",null,null,null,null,null,null,null,"      人",null,null,null,null,null," 人",null,null,null," 人",null,null,null,null,null,null,null,"      人",null,null,null,"      人",null,null,null,"      人"]
[null,null,null,{"$f":"データ一覧!Q7","v":194.65},null,null,null,null,null,null,null,null,null,null,"ha",null,null,null,null,"ha",null,null,null,null,"ha","農 業 生 産 物",null,null,null,"作 付 面 積",null,null,"収 穫 量",null,null,"10a当たり収量",null,null,null,"     ","総数",null,null,null,null,null,null,null,null,{"$f":"データ一覧!Q332","v":9},null,null,null,{"$f":"+データ一覧!Q357","v":159},null,null,null,null,null,null,{"$f":"データ一覧!Q382","v":148803},null,null,null,null,null,null," 総　　　数",null,null,null,null,null,{"$f":"BZ20+CD20","v":1271},null,null,null,{"$f":"データ一覧!Q507","v":689},null,null,null,{"$f":"データ一覧!Q532","v":582}]
[null,null,null,null,null,null,null,null,null,null,null,{"$f":"データ一覧!Q9","v":6550.9},null,null,null,null,{"$f":"データ一覧!Q10","v":558.79999999999995},null,null,null,null,{"$f":"データ一覧!Q11","v":118},null,null,null,{"$f":"データ一覧!$A$246","v":"2年中"},null,null,null,"ha",null,null,"t",null,null,"kg",null,null,null,"     食料品","食料品",null,null,null,null,null,null,null,null,{"$f":"データ一覧!Q333","v":2},null,null,null,{"$f":"+データ一覧!Q358","v":9},null,null,null,null,null,null,{"$f":"データ一覧!Q383","v":"x"},null,null,null,null,null,null,null,null,null,null,null,null,null,null,null,null,null,null,null,null,null,null,null,null,null,"卸売業,小売業",null,null,null,null,{"$f":"CR21+CV21","v":132},null,null,null,{"$f":"データ一覧!Q520","v":63},null,null,null,{"$f":"データ一覧!Q545","v":69}]
["  町 ･ 丁 ･ 大 字",null,null,null,null,null,null,null,null,null,"  う ち  宅 地",null,null,null,null,"  う ち  山 林",null,null,null,null,"  う ち  原 野",null,null,null,null,"水　　　　　稲",null,null,null,{"$f":"データ一覧!Q246","v":280},null,null,{"$f":"データ一覧!Q247","v":1230},null,null,{"$f":"データ一覧!Q248","v":439},null,null,null,"     飲料・飼料","飲料・飼料",null,null,null,null,null,null,null,null,{"$f":"データ一覧!Q334","v":0},null,null,null,{"$f":"+データ一覧!Q359","v":0},null,null,null,null,null,null,{"$f":"データ一覧!Q384","v":0},null,null,null,null,null,null," 第１次産業",null,null,null,null,null,{"$f":"BZ22+CD22","v":148},null,null,null,{"$f":"データ一覧!Q508","v":93},null,null,null,{"$f":"データ一覧!Q533","v":55},null,null,null,null,"金融業,保険業",null,null,null,null,{"$f":"CR22+CV22","v":12},null,null,null,{"$f":"データ一覧!Q521","v":9},null,null,null,{"$f":"データ一覧!Q546","v":3}]
["  区    画    数",null,null,null,null,null,null,{"$f":"データ一覧!Q8","v":47},null,null,null,null,null,null,"ha",null,null,null,null,"ha",null,null,null,null,"ha","六　条　大　麦",null,null,null,{"$f":"データ一覧!Q249","v":"-"},null,null,{"$f":"データ一覧!Q250","v":"-"},null,null,{"$f":"データ一覧!Q251","v":"-"},null,null,null,"     繊維","繊維",null,null,null,null,null,null,null,null,{"$f":"データ一覧!Q335","v":2},null,null,null,{"$f":"+データ一覧!Q360","v":34},null,null,null,null,null,null,{"$f":"データ一覧!Q385","v":"x"},null,null,null,null,null,null,"  ","農業",null,null,null,null,{"$f":"BZ23+CD23","v":122},null,null,null,{"$f":"データ一覧!Q509","v":73},null,null,null,{"$f":"データ一覧!Q534","v":49},null,null,null,"  ","不動産業",null,null,null,null,5,null,null,null,{"$f":"データ一覧!Q522","v":1},null,null,null,{"$f":"データ一覧!Q547","v":4}]
[{"$f":"データ一覧!$A$8","v":"2.4.1"},null,null,null,null,null,null,null,null,null,null,{"$f":"データ一覧!Q12","v":96.5},null,null,null,null,{"$f":"データ一覧!Q13","v":2519.1999999999998},null,null,null,null,{"$f":"データ一覧!Q14","v":81.7},null,null,null,"大　　      豆",null,null,null,{"$f":"データ一覧!Q252","v":4},null,null,{"$f":"データ一覧!Q253","v":2},null,null,{"$f":"データ一覧!Q254","v":60},null,null,null,"     衣服","木材",null,null,null,null,null,null,null,null,{"$f":"データ一覧!Q336","v":0},null,null,null,{"$f":"+データ一覧!Q361","v":0},null,null,null,null,null,null,{"$f":"データ一覧!Q386","v":0},null,null,null,null,null,null,"  ","林業",null,null,null,null,23,null,null,null,{"$f":"データ一覧!Q510","v":19},null,null,null,{"$f":"データ一覧!Q535","v":4},null,null,null,"  ","学術研究",null,null,null,null,18,null,null,null,{"$f":"データ一覧!Q523","v":13},null,null,null,{"$f":"データ一覧!Q548","v":5}]
["  ２  世　帯　数　と　人　口",null,null,null,null,null,null,null,null,null,null,null,null,null,null,null,null,null,null,null,null,null,null,null,null,null,null,"  区　分",null," 乳 用 牛",null," 肉 用 牛",null,"豚",null,"採卵鶏",null,"ブロイラー",null,"     木材","家具",null,null,null,null,null,null,null,null,{"$f":"データ一覧!Q337","v":0},null,null,null,{"$f":"+データ一覧!Q362","v":0},null,null,null,null,null,null,{"$f":"データ一覧!Q387","v":0},null,null,null,null,null,null,"  ","漁業",null,null,null,null,3,null,null,null,{"$f":"データ一覧!Q511","v":1},null,null,null,{"$f":"データ一覧!Q536","v":2},null,null,null,"  ","宿泊業,飲食ｻｰﾋﾞｽ",null,null,null,null,80,null,null,null,{"$f":"データ一覧!Q524","v":33},null,null,null,{"$f":"データ一覧!Q549","v":47}]
[null,null,null,null,null,null,null,null,null,null,null,null,null,null,null,null,null,null,null,null,null,null,null,null,null,"畜　産",null," 飼養農家",null,{"$f":"データ一覧!$Q$255","v":0},null,{"$f":"データ一覧!$Q$257","v":4},null,{"$f":"データ一覧!$Q$259","v":"-"},null,{"$f":"データ一覧!$Q$261","v":"x"},null,{"$f":"データ一覧!$Q$263","v":0},null,"     家具","パルプ・紙",null,null,null,null,null,null,null,null,{"$f":"データ一覧!Q338","v":0},null,null,null,{"$f":"+データ一覧!Q363","v":0},null,null,null,null,null,null,{"$f":"データ一覧!Q388","v":0},null,null,null,null,null,null," 第２次産業",null,null,null,null,null,434,null,null,null,{"$f":"データ一覧!Q512","v":281},null,null,null,{"$f":"データ一覧!Q537","v":153},null,null,null,"  ","生活関連ｻｰﾋﾞｽ業",null,null,null,null,24,null,null,null,{"$f":"データ一覧!Q525","v":11},null,null,null,{"$f":"データ一覧!Q550","v":13}]
[null,null,null,null,null,null,null,null,"        人　　　　　　　　　　口",null,null,null,null,null,null,null,null,null,null,null,"１世帯当",null,"人    口",null,null,{"$f":"データ一覧!$A$255","v":"3.3.31"},null,"（戸）",null,null,null,null,null,null,null,null,null,null,null,"     パルプ・紙","印刷",null,null,null,null,null,null,null,null,{"$f":"データ一覧!Q339","v":0},null,null,null,{"$f":"+データ一覧!Q364","v":0},null,null,null,null,null,null,{"$f":"データ一覧!Q389","v":0},null,null,null,null,null,null,null,"鉱業，採石業",null,null,null,null,0,null,null,null,{"$f":"データ一覧!Q513","v":0},null,null,null,{"$f":"データ一覧!Q538","v":0},null,null,null,"  ","教育,学習支援業",null,null,null,null,50,null,null,null,{"$f":"データ一覧!Q526","v":20},null,null,null,{"$f":"データ一覧!Q551","v":30}]
[" 区　　　　分",null,null,null,null,"世帯数",null,null," 総   数",null,null,"    男",null,null,"    女",null,null,"  男／女",null,null,"たり人員",null,"密    度",null,null,null,null," 頭 羽",null,{"$f":"データ一覧!$Q$256","v":0},null,{"$f":"データ一覧!$Q$258","v":280},null,{"$f":"データ一覧!$Q$260","v":0},null,{"$f":"データ一覧!$Q$262","v":300},null,{"$f":"データ一覧!$Q$264","v":0},null,"     出版・印刷","化学",null,null,null,null,null,null,null,null,{"$f":"データ一覧!Q340","v":0},null,null,null,{"$f":"+データ一覧!Q365","v":0},null,null,null,null,null,null,{"$f":"データ一覧!Q390","v":0},null,null,null,null,null,null,"  ","建設業",null,null,null,null,131,null,null,null,{"$f":"データ一覧!Q514","v":116},null,null,null,{"$f":"データ一覧!Q539","v":15},null,null,null,null,"医療，福祉",null,null,null,null,182,null,null,null,{"$f":"データ一覧!Q527","v":28},null,null,null,{"$f":"データ一覧!Q552","v":154}]
[null,null,null,null,null,"    世 帯",null,null,"       人",null,null,"       人",null,null,"       人",null,null,null,"　　％",null,"    人",null,"    人/㎢",null,null,null,null,null,null,null,null,null,null,null,null,null,null,null,null,"     化学","石油・石炭",null,null,null,null,null,null,null,null,{"$f":"データ一覧!Q341","v":0},null,null,null,{"$f":"+データ一覧!Q366","v":0},null,null,null,null,null,null,{"$f":"データ一覧!Q391","v":0},null,null,null,null,null,null,null,"製造業",null,null,null,null,303,null,null,null,{"$f":"データ一覧!Q515","v":165},null,null,null,{"$f":"データ一覧!Q540","v":138},null,null,null,null,"複合サービス事業",null,null,null,null,27,null,null,null,{"$f":"データ一覧!Q528","v":14},null,null,null,{"$f":"データ一覧!Q553","v":13}]
[{"$f":"データ一覧!$A$22","v":" 2.10.1"},null,null,null,null,{"$f":"データ一覧!Q22","v":1130},null,null,{"$f":"+L30+O30","v":4203},null,null,{"$f":"データ一覧!Q24","v":2051},null,null,{"$f":"データ一覧!Q25","v":2152},null,null,null,{"$f":"+L30/O30*100","v":95.306691449814124},null,{"$f":"データ一覧!Q27","v":3.72},null,{"$f":"データ一覧!Q28","v":21.6},null,null,"  ５  林               業",null,null,null,null,null,null,null,null,null,null,null,null,null,"     石油・石炭","プラスチック",null,null,null,null,null,null,null,null,{"$f":"データ一覧!Q342","v":0},null,null,null,{"$f":"+データ一覧!Q367","v":0},null,null,null,null,null,null,{"$f":"データ一覧!Q392","v":0},null,null,null,null,null,null," 第３次産業",null,null,null,null,null,681,null,null,null,{"$f":"データ一覧!Q516","v":310},null,null,null,{"$f":"データ一覧!Q541","v":371},null,null,null,null,"サービス業",null,null,null,null,46,null,null,null,{"$f":"データ一覧!Q529","v":34},null,null,null,{"$f":"データ一覧!Q554","v":12}]
[{"$f":"データ一覧!$A$29","v":" 7.10.1"},null,null,null,null,{"$f":"データ一覧!Q29","v":1115},null,null,{"$f":"+L31+O31","v":4032},null,null,{"$f":"データ一覧!Q31","v":1957},null,null,{"$f":"データ一覧!Q32","v":2075},null,null,null,94.313253012048193,null,{"$f":"データ一覧!Q34","v":3.62},null,{"$f":"データ一覧!Q35","v":20.7},null,null,null,null,null,null,null,null,null,null,null,null,null,null,null,null,"     プラスチック","ゴム",null,null,null,null,null,null,null,null,{"$f":"データ一覧!Q343","v":0},null,null,null,{"$f":"+データ一覧!Q368","v":0},null,null,null,null,null,null,{"$f":"データ一覧!Q393","v":0},null,null,null,null,null,null,null,"電気･ｶﾞｽ･水道業",null,null,null,null,3,null,null,null,{"$f":"データ一覧!Q517","v":2},null,null,null,{"$f":"データ一覧!Q542","v":1},null,null,null,null,"公務",null,null,null,null,53,null,null,null,{"$f":"データ一覧!Q530","v":41},null,null,null,{"$f":"データ一覧!Q555","v":12}]
[{"$f":"データ一覧!$A$36","v":"12.10.1"},null,null,null,null,{"$f":"データ一覧!Q36","v":1095},null,null,{"$f":"+L32+O32","v":3759},null,null,{"$f":"データ一覧!Q38","v":1825},null,null,{"$f":"データ一覧!Q39","v":1934},null,null,null,94.364012409513961,null,{"$f":"データ一覧!Q41","v":3.43},null,{"$f":"データ一覧!Q42","v":19.3},null,null,"    　森　　　林　　　総　　　面　　　積   ",null,null,null,null,null,null,null,{"$f":"データ一覧!$A$265","v":"3.3.31"},null,null,null,null,null,"     ゴム","皮革",null,null,null,null,null,null,null,null,{"$f":"データ一覧!Q344","v":0},null,null,null,{"$f":"+データ一覧!Q369","v":0},null,null,null,null,null,null,{"$f":"データ一覧!Q394","v":0},null,null,null,null,null,null,null,"情報通信業",null,null,null,null,8,null,null,null,{"$f":"データ一覧!Q518","v":5},null,null,null,{"$f":"データ一覧!Q543","v":3},null,null,null," 分類不能の産業",null,null,null,null,null,8,null,null,null,{"$f":"データ一覧!Q531","v":5},null,null,null,{"$f":"データ一覧!Q556","v":3}]
[{"$f":"+データ一覧!$A$43","v":"17.10.1"},null,null,null,null,{"$f":"データ一覧!Q43","v":1060},null,null,{"$f":"+L33+O33","v":3405},null,null,{"$f":"データ一覧!Q45","v":1643},null,null,{"$f":"データ一覧!Q46","v":1762},null,null,null,93.246311010215663,null,{"$f":"データ一覧!Q48","v":3.21},null,{"$f":"データ一覧!Q49","v":17.5},null,null,"　　　森　　　　　　　林　　　　　　　の　　　　　　　構　　　　　　　成",null,null,null,null,null,null,null,null,null,null,null,null,null,"     皮革","窯業・土石",null,null,null,null,null,null,null,null,{"$f":"データ一覧!Q345","v":0},null,null,null,{"$f":"+データ一覧!Q370","v":0},null,null,null,null,null,null,{"$f":"データ一覧!Q395","v":0},null,null,null,null,null,null,"  ","運輸業,郵便業",null,null,null,null,{"$f":"BZ33+CD33","v":41},null,null,null,{"$f":"データ一覧!Q519","v":36},null,null,null,{"$f":"データ一覧!Q544","v":5}]
[{"$f":"+データ一覧!$A$50","v":"22.10.1"},null,null,null,null,{"$f":"+データ一覧!Q50","v":1006},null,null,{"$f":"+L34+O34","v":3046},null,null,{"$f":"+データ一覧!Q52","v":1449},null,null,{"$f":"+データ一覧!Q53","v":1597},null,null,null,90.732623669380089,null,{"$f":"+データ一覧!Q55","v":3.03},null,{"$f":"+データ一覧!Q56","v":15.6},null,null,null,null,null,null,null,"       ha",null,null,null,null,null,null,"       ha",null,"     窯業・土石","鉄鋼",null,null,null,null,null,null,null,null,{"$f":"データ一覧!Q346","v":0},null,null,null,{"$f":"+データ一覧!Q371","v":0},null,null,null,null,null,null,{"$f":"データ一覧!Q396","v":0},null,null,null,null,null,null," １６  社　 会 　福　 祉",null,null,null,null,null,null,null,null,null,null,null,null,null,null,null,{"$f":"データ一覧!$A$557","v":"3.4.1"}]
[{"$f":"データ一覧!$A$57","v":"27.10.1"},null,null,null,null,{"$f":"データ一覧!Q57","v":902},null,null,{"$f":"データ一覧!Q58","v":2638},null,null,{"$f":"データ一覧!Q59","v":1250},null,null,{"$f":"データ一覧!Q60","v":1388},null,null,null,90.057636887608069,null,{"$f":"データ一覧!Q62","v":2.9246119733924614},null,{"$f":"データ一覧!Q63","v":13.6},null,null,"  総　　　　　   数",null,null,null,{"$f":"データ一覧!Q265","v":17846.929999999997},null,null," 天然林       針葉樹",null,null,null,{"$f":"データ一覧!Q268","v":30.63},null,null,"     鉄鋼","非鉄金属",null,null,null,null,null,null,null,null,{"$f":"データ一覧!Q347","v":0},null,null,null,{"$f":"+データ一覧!Q372","v":0},null,null,null,null,null,null,{"$f":"データ一覧!Q397","v":0}]
["令　2.10.1（国調）",null,null,null,null,{"$f":"データ一覧!Q64","v":948},null,null,{"$f":"データ一覧!Q65","v":2423},null,null,{"$f":"データ一覧!Q66","v":1196},null,null,{"$f":"データ一覧!Q67","v":1227},null,null,null,{"$f":"+L36/O36*100","v":97.473512632436837},null,{"$f":"データ一覧!Q72","v":2.5099999999999998},null,{"$f":"データ一覧!Q73","v":12.062676599023888},null,null,"  人工林     針葉樹",null,null,null,{"$f":"データ一覧!Q266","v":7961.14},null,null," 天然林       広葉樹",null,null,null,{"$f":"データ一覧!Q269","v":9257.36},null,null,"     非鉄金属","金属",null,null,null,null,null,null,null,null,{"$f":"データ一覧!Q348","v":0},null,null,null,{"$f":"+データ一覧!Q373","v":0},null,null,null,null,null,null,{"$f":"データ一覧!Q398","v":0},null,null,null,null,null,null,"    ","区分",null,null,null,null,null,null,"施設数",null,null,null,null,"収容定員",null,null,null,null,null,"区分",null,null,null,null,null,null,"施設数",null,null,null,null,"収容定員"]
["年",null,"  区",null," 0歳",null,null,"15歳",null,null,"25歳",null,null,"35歳",null,null,"45歳",null,null,"55歳",null,null,"65歳",null,null,"  人工林     広葉樹",null,null,null,{"$f":"データ一覧!Q267","v":178.45999999999998},null,null," 竹               林",null,null,null,{"$f":"データ一覧!Q270","v":1.62},null,null,"     金属","はん用機械",null,null,null,null,null,null,null,null,{"$f":"データ一覧!Q349","v":0},null,null,null,{"$f":"+データ一覧!Q374","v":0},null,null,null,null,null,null,{"$f":"データ一覧!Q399","v":0},null,null,null,null,null,null,"生活保護施設",null,null,null,null,null,null,null,{"$f":"データ一覧!Q557","v":0},null,null,null,{"$f":"データ一覧!Q570","v":0},null,null,null,"人",null,"指定障害者支援施設",null,null,null,null,null,null,null,{"$f":"データ一覧!Q563","v":0},null,null,null,{"$f":"データ一覧!Q576","v":0},null,null,null,"人"]
["齢","令",null,null,null,"～",null,null,"～",null,null,"～",null,null,"～",null,null,"～",null,null,"～",null,null,null,null,null,null,null,null,null,null,null,null,null,null,null,null,null,null,"     一般機械","生産用機械",null,null,null,null,null,null,null,null,{"$f":"データ一覧!Q350","v":0},null,null,null,{"$f":"+データ一覧!Q375","v":0},null,null,null,null,null,null,{"$f":"データ一覧!Q400","v":0},null,null,null,null,null,null,"地域福祉施設",null,null,null,null,null,null,null,{"$f":"データ一覧!Q558","v":0},null,null,null,{"$f":"データ一覧!Q571","v":0},null,null,null,null,null,"指定相談支援事業所",null,null,null,null,null,null,null,{"$f":"データ一覧!Q564","v":0},null,null,null,{"$f":"データ一覧!Q577","v":0}]
["階",{"$f":"+LEFT(データ一覧!$A$83,1)","v":"3"},"  分",null,null,null,"14歳",null,null,"24歳",null,null,"34歳",null,null,"44歳",null,null,"54歳",null,null,"64歳",null,null,"以上","    林     野     の     構     成",null,null,null,null,null,null,"保     有     形     態     別",null,null,null,null,null,null,"     電気機械","業務用機械",null,null,null,null,null,null,null,null,{"$f":"データ一覧!Q351","v":0},null,null,null,{"$f":"+データ一覧!Q376","v":0},null,null,null,null,null,null,{"$f":"データ一覧!Q401","v":0},null,null,null,null,null,null,"老人福祉施設",null,null,null,null,null,null,null,{"$f":"データ一覧!Q559","v":3},null,null,null,{"$f":"データ一覧!Q572","v":22},null,null,null,null,null,"児童福祉施設",null,null,null,null,null,null,null,{"$f":"データ一覧!Q565","v":2},null,null,null,{"$f":"データ一覧!Q578","v":80}]
["級","・",null,null,null,null,"人",null,null,"人",null,"    人",null,null,"    人",null,null,"    人",null,null,"    人",null,null,"    人",null,null,null,null,null,null,null,"ha",null,null,null,null,null,"       ha",null,null,"電子・デバイス",null,null,null,null,null,null,null,null,{"$f":"データ一覧!Q352","v":1},null,null,null,{"$f":"+データ一覧!Q377","v":6},null,null,null,null,null,null,{"$f":"データ一覧!Q402","v":"x"},null,null,null,null,null,null,"介護保険施設",null,null,null,null,null,null,null,{"$f":"データ一覧!Q560","v":6},null,null,null,{"$f":"データ一覧!Q573","v":107},null,null,null,null,null,"母子福祉施設",null,null,null,null,null,null,null,{"$f":"データ一覧!Q566","v":0},null,null,null,{"$f":"データ一覧!Q579","v":0}]
["別",{"$f":"+MID(データ一覧!$A$83,3,2)","v":"10"},"総 数",null,{"$f":"+E42+E43","v":188},null,null,{"$f":"+H42+H43","v":137},null,null,{"$f":"+K42+K43","v":178},null,null,{"$f":"+N42+N43","v":202},null,null,{"$f":"+Q42+Q43","v":239},null,null,{"$f":"+T42+T43","v":359},null,null,{"$f":"+W42+W43","v":1045},null,null," 無立木地   伐採跡地",null,null,null,{"$f":"データ一覧!Q271","v":8.3699999999999992},null,null,"国   　　　 　 有",null,null,null,{"$f":"データ一覧!Q273","v":2264.56},null,null,null,"電気機械",null,null,null,null,null,null,null,null,{"$f":"データ一覧!Q353","v":2},null,null,null,{"$f":"+データ一覧!Q378","v":88},null,null,null,null,null,null,{"$f":"データ一覧!Q403","v":"x"},null,null,null,null,null,null,"障害者自立支援法施行前からの身体障害者福祉施設",null,null,null,null,null,null,null,{"$f":"データ一覧!Q561","v":0},null,null,null,{"$f":"データ一覧!Q574","v":0},null,null,null,null,null,"婦人保護施設",null,null,null,null,null,null,null,{"$f":"データ一覧!Q567","v":0},null,null,null,{"$f":"データ一覧!Q580","v":0}]
["人","・","  男",null,{"$f":"データ一覧!Q83","v":98},null,null,{"$f":"データ一覧!Q84","v":69},null,null,{"$f":"データ一覧!Q85","v":104},null,null,{"$f":"データ一覧!Q86","v":117},null,null,{"$f":"データ一覧!Q87","v":141},null,null,{"$f":"データ一覧!Q88","v":173},null,null,{"$f":"データ一覧!Q89","v":457},null,null," 無立木地   未立木地",null,null,null,{"$f":"データ一覧!Q272","v":409.35},null,null,"公       　　  有",null,null,null,{"$f":"データ一覧!Q274","v":2198.13},null,null,"     輸送機械","情報通信機械",null,null,null,null,null,null,null,null,{"$f":"データ一覧!Q354","v":0},null,null,null,{"$f":"+データ一覧!Q379","v":0},null,null,null,null,null,null,{"$f":"データ一覧!Q404","v":0},null,null,null,null,null,null,null,null,null,null,null,null,null,null,null,null,null,null,null,null,null,null,null,null,"その他の社会福祉施設",null,null,null,null,null,null,null,{"$f":"データ一覧!Q568+データ一覧!Q569","v":0},null,null,null,{"$f":"データ一覧!Q581+データ一覧!Q582","v":0}]
["口",{"$f":"+RIGHT(データ一覧!$A$83,1)","v":"1"},"  女",null,{"$f":"データ一覧!Q91","v":90},null,null,{"$f":"データ一覧!Q92","v":68},null,null,{"$f":"データ一覧!Q93","v":74},null,null,{"$f":"データ一覧!Q94","v":85},null,null,{"$f":"データ一覧!Q95","v":98},null,null,{"$f":"データ一覧!Q96","v":186},null,null,{"$f":"データ一覧!Q97","v":588},null,null,null,null,null,null,null,null,null,"私          　 有",null,null,null,{"$f":"データ一覧!Q275","v":13384.24},null,null,"     精密機械","輸送機械",null,null,null,null,null,null,null,null,{"$f":"データ一覧!Q355","v":0},null,null,null,{"$f":"+データ一覧!Q380","v":0},null,null,null,null,null,null,{"$f":"データ一覧!Q405","v":0},null,null,null,null,null,null,"障害福祉サービス事業所",null,null,null,null,null,null,null,{"$f":"データ一覧!Q562","v":3},null,null,null,{"$f":"データ一覧!Q575","v":20}]
[null,null,null,null,null,null,null,null,null,null,null,null,null,null,null,null,null,null,null,null,null,null,null,null,null,"            林     産     物     生     産     量 ",null,null,null,null,null,null,null,null,null,{"$f":"データ一覧!$A$276","v":"2年中"},null,null,null,"     その他","その他",null,null,null,null,null,null,null,null,{"$f":"データ一覧!Q356","v":2},null,null,null,{"$f":"+データ一覧!Q381","v":22},null,null,null,null,null,null,{"$f":"データ一覧!Q406","v":"x"},null,null,null,null,null,null," １７  教　　　　　　　育",null,null,null,null,null,null,null,null,null,null,null,null,null,null,null,{"$f":"データ一覧!$A$583","v":"3.5.1"}]
["人口動態",null,null,null,null,null,null,"   自　然　動　態",null,null,null,null,null,"   社  会  動  態",null,null,null,null,null,{"$f":"データ一覧!$A78","v":"2.1.1～3.12.31"},null,null,null,null,null,"生椎茸",null,null,null,{"$f":"データ一覧!Q276","v":"-"},null,"㎏","乾椎茸",null,null,null,{"$f":"データ一覧!Q277","v":"-"},null,"㎏"]
[null,null,"   区       分",null,null,null,null," 出   生",null,null," 死   亡",null,null," 転   入",null,null," 転   出",null,null," 婚   姻",null,null," 離   婚",null,null,"えのきだけ",null,null,null,{"$f":"データ一覧!Q279","v":254},null,"㎏","なめこ",null,null,null,{"$f":"データ一覧!Q278","v":"-"},null,"㎏","    ","工　業　用　水　量",null,null,null,null,null,"（従業者30人以上の事業所）",null,null,null,null,null,null,null,null,null,null,{"$f":"データ一覧!Q407","v":"x"},null,null,null,null,"㎥／日",null,null,null,null,null,null,null,null,null,null,null,null,null,null,"学校数（校）",null,null,null,null,null,null,"教員数（人）",null,null,null,null,null,null,null,"学生・生徒・児童数（人）"]
[{"$f":"LEFT(データ一覧!$A74,6)","v":"2.10.1"},null,null,null,null,null,null,"       人",null,null,"       人",null,null,"       人",null,null,"       人",null,null,null,"    件",null,null,"    件",null,"ひらたけ",null,null,null,{"$f":"+データ一覧!Q280","v":"-"},null,"㎏","まいたけ",null,null,null,{"$f":"+データ一覧!Q281","v":"-"},null,"㎏",null,null,null,null,null,null,null,null,null,null,null,null,null,null,null,null,null,null,null,null,null,null,null,null,null,null,null,null,null,"　","区分",null,null,null,null,null,null,null," 本 校",null,null," 分 校",null,null," 本   務",null,null,null," 兼   務",null,null,null," 総   数",null,null,null,"男",null,null,null,"女"]
["～",null," 実          数",null,null,null,null,{"$f":"データ一覧!Q74","v":7},null,null,{"$f":"データ一覧!Q75","v":26},null,null,{"$f":"データ一覧!Q76","v":16},null,null,{"$f":"データ一覧!Q77","v":35},null,null,{"$f":"データ一覧!Q78","v":10},null,null,{"$f":"データ一覧!Q79","v":3},null,null,null,null,null,null,null,null,null,null,null,null,null,null,null,null," １１ 　上　・　下　水　道",null,null,null,null,null,null,null,null,null,null,null,null,null,null,null,null,null,null,null,null,null,null,null,null,null,null,null,null,"小学校",null,null,null,null,null,null,null,null,{"$f":"データ一覧!Q584","v":1},null,null,{"$f":"データ一覧!Q585","v":0},null,null,{"$f":"データ一覧!Q586","v":11},null,null,null,{"$f":"データ一覧!Q587","v":3},null,null,null,{"$f":"データ一覧!Q588","v":77},null,null,null,{"$f":"データ一覧!Q589","v":38},null,null,null,{"$f":"データ一覧!Q590","v":39}]
[{"$f":"RIGHT(データ一覧!$A76,6)","v":"3.9.30"},null,"比率(対1,000人)",null,null,null,null,{"$f":"+H48/I35*1000","v":2.65352539802881},null,null,{"$f":"+K48/I35*1000","v":9.855951478392722},null,null,"- ",null,null,"- ",null,null,{"$f":"+T48/I35*1000","v":3.7907505686125851},null,null,{"$f":"+W48/I35*1000","v":1.1372251705837755},null,null,"  ６  漁               業",null,null,null,null,null,null,null,null,null,null,null,null,null,null,null,null,null,null,null,null,null,null,null,null,null,null,null,null,null,null,null,null,null,null,null,null,null,null,null,null,null,"  ","中学校",null,null,null,null,null,null,null,null,{"$f":"データ一覧!Q592","v":1},null,null,{"$f":"データ一覧!Q593","v":0},null,null,{"$f":"データ一覧!Q594","v":13},null,null,null,{"$f":"データ一覧!Q595","v":1},null,null,null,{"$f":"データ一覧!Q596","v":40},null,null,null,{"$f":"データ一覧!Q597","v":26},null,null,null,{"$f":"データ一覧!Q598","v":14}]
[null,null,null,null,null,null,null,null,null,null,null,null,null,null,null,null,null,null,null,null,null,null,null,null,null,null,null,null,null,null,null,null,null,null,null,null,null,null,null,"水 道 供 給 人 口",null,null,null,null,null,null,"上 水 道",null,null,null,"簡易水道",null,null,null,"専用水道",null,null,null,"飲料水供給施設",null,null,null,"下水道処理人口",null,null,null,null,"  ","高等学校",null,null,null,null,null,null,null,null,{"$f":"データ一覧!Q600","v":0},null,null,{"$f":"データ一覧!Q601","v":0},null,null,{"$f":"データ一覧!Q602","v":0},null,null,null,{"$f":"データ一覧!Q603","v":0},null,null,null,{"$f":"データ一覧!Q604","v":0},null,null,null,{"$f":"データ一覧!Q605","v":0},null,null,null,{"$f":"データ一覧!Q606","v":0}]
["  ３  事　　業　　所（民　　営）    （平 28.6.1）",null,null,null,null,null,null,null,null,null,null,null,null,null,null,null,null,null,null,null,null,null,null,null,null,"漁船隻数・トン数",null,null,null,{"$f":"データ一覧!$A$282","v":"2.12.31"},null,null,null,"動　力　船",null,null,null,null,null,{"$f":"データ一覧!$A$408","v":"3.3.31"},null,null,null,null,null,"人",null,{"$f":"データ一覧!Q408","v":0},null,null,{"$f":"データ一覧!Q409","v":2280},null,null,null,null,{"$f":"データ一覧!Q410","v":0},null,null,null,{"$f":"データ一覧!Q411","v":0},null,null,null,{"$f":"データ一覧!Q412","v":2089},null,null,null,"  ","大学・短期大学",null,null,null,null,null,null,null,null,{"$f":"データ一覧!Q607","v":0},null,null,{"$f":"データ一覧!Q608","v":0},null,null,{"$f":"データ一覧!Q609","v":0},null,null,null,{"$f":"データ一覧!Q610","v":0},null,null,null,{"$f":"データ一覧!Q611","v":0},null,null,null,{"$f":"データ一覧!Q612","v":0},null,null,null,{"$f":"データ一覧!Q613","v":0}]
[null,null,null,null,null,null,null,null,null,null,null,null,null,null,null,null,null,null,null,null,null,null,null,null,null,"無動力船隻数",null,null,null,"船外機付漁船隻数",null,null,null,"隻　数",null,null,"総 ト ン 数",null,null,null,null,null,null,null,null,null,null,null,null,null,null,null,null,null,null,null,null,null,null,null,null,null,null,null,null,null,null,"  ","高等専門学校",null,null,null,null,null,null,null,null,{"$f":"データ一覧!Q614","v":0},null,null,{"$f":"データ一覧!Q615","v":0},null,null,{"$f":"データ一覧!Q616","v":0},null,null,null,{"$f":"データ一覧!Q617","v":0},null,null,null,{"$f":"データ一覧!Q618","v":0},null,null,null,{"$f":"データ一覧!Q619","v":0},null,null,null,{"$f":"データ一覧!Q620","v":0}]
[null,null,null,null,null,null,null,"    総　　　　　数",null,null,null,null,null,"    民　　　　　営",null,null,null,null,null,"  国 ･ 地方公共団体",null,null,null,null,null,null,null,null,"隻",null,null,null,"隻",null,null,"隻",null,null,"t"," １２  交   通　・　通   信",null,null,null,null,null,null,null,null,null,null,null,null,null,null,null,null,null,null,null,null,null,null,null,null,null,null,null,"  ","特別支援学校",null,null,null,null,null,null,null,null,{"$f":"+データ一覧!Q622","v":0},null,null,{"$f":"+データ一覧!Q623","v":0},null,null,{"$f":"+データ一覧!Q624","v":0},null,null,null,{"$f":"+データ一覧!Q625","v":0},null,null,null,{"$f":"+データ一覧!Q626","v":0},null,null,null,{"$f":"+データ一覧!Q627","v":0},null,null,null,{"$f":"+データ一覧!Q628","v":0}]
["  　区　　　　　　分",null,null,null,null,null,null," 事業所数",null,null," 従業者数",null,null," 事業所数",null,null," 従業者数",null,null," 事業所数",null,null," 従業者数",null,null,{"$f":"データ一覧!$Q$282","v":0},null,null,null,{"$f":"データ一覧!$Q$283","v":0},null,null,null,{"$f":"データ一覧!Q284","v":0},null,null,{"$f":"データ一覧!Q285","v":0},null,null,null,null,null,null,null,null,null,null,null,null,null,null,null,null,null,null,null,null,null,null,null,null,null,null,null,null,null,null,"  ","幼稚園",null,null,null,null,null,null,null,null,{"$f":"データ一覧!Q630","v":0},null,null,{"$f":"データ一覧!Q631","v":0},null,null,{"$f":"データ一覧!Q632","v":0},null,null,null,{"$f":"データ一覧!Q633","v":0},null,null,null,{"$f":"データ一覧!Q634","v":0},null,null,null,{"$f":"データ一覧!Q635","v":0},null,null,null,{"$f":"データ一覧!Q636","v":0}]
[null,null,null,null,null,null,null,null,null,null,"       人",null,null,null,null,null,"       人",null,null,null,null,null,"       人",null,null,"  男女別就業者数",null,null,null,null,null,null,null,{"$f":"データ一覧!$A$286","v":"30.11.1"},null,null,null,null,null,"道     路",null,null,null,"実 延 長",null,null,null,"国     道",null,null,null,"県     道",null,null,null,"市町道",null,null,null," 鉄 道 営 業 キ ロ 数",null,null,null,null,null,null,null,"  ","幼保連携認定こども園",null,null,null,null,null,null,null,null,{"$f":"データ一覧!Q638","v":1},null,null,{"$f":"データ一覧!Q639","v":0},null,null,{"$f":"データ一覧!Q640","v":12},null,null,null,{"$f":"データ一覧!Q641","v":3},null,null,null,{"$f":"データ一覧!Q642","v":51},null,null,null,{"$f":"データ一覧!Q643","v":28},null,null,null,{"$f":"データ一覧!Q644","v":23}]
["総数",null,null,null,null,null,null,{"$f":"データ一覧!Q99","v":"…"},null,null,{"$f":"データ一覧!Q156","v":"…"},null,null,{"$f":"データ一覧!Q100","v":143},null,null,{"$f":"データ一覧!Q157","v":856},null,null,{"$f":"データ一覧!Q101","v":"…"},null,null,{"$f":"データ一覧!Q158","v":"…"},null,null,"総　　数",null,null,null,null,null,"男",null,null,null,"女",null,null,null,{"$f":"データ一覧!$A$413","v":"2.4.1"},null,null,null,{"$f":"データ一覧!Q413","v":164.70799999999997},null,null,"㎞",{"$f":"データ一覧!Q414","v":37.6},null,null,"㎞",{"$f":"データ一覧!Q415","v":39},null,null,"㎞",{"$f":"データ一覧!Q416","v":88.10799999999999},null,null,"km",{"$f":"データ一覧!$A$417","v":"3.4.1"},null,null,null,{"$f":"データ一覧!Q417","v":0},null,null,"㎞","  ","各種学校",null,null,null,null,null,null,null,null,{"$f":"データ一覧!Q646","v":0},null,null,{"$f":"データ一覧!Q647","v":0},null,null,{"$f":"データ一覧!Q648","v":0},null,null,null,{"$f":"データ一覧!Q649","v":0},null,null,null,{"$f":"データ一覧!Q650","v":0},null,null,null,{"$f":"データ一覧!Q651","v":0},null,null,null,{"$f":"データ一覧!Q652","v":0}]
["農林漁業",null,null,null,null,null,null,{"$f":"データ一覧!Q102","v":"…"},null,null,{"$f":"データ一覧!Q159","v":"…"},null,null,{"$f":"データ一覧!Q103","v":10},null,null,{"$f":"データ一覧!Q160","v":96},null,null,{"$f":"データ一覧!Q104","v":"…"},null,null,{"$f":"データ一覧!Q161","v":"…"},null,null,null,null,null,null,null,"人",null,null,"　　　　人",null,null,null,null,"  人","自動車",null,null,null,null,null,null,null,null,"乗用車",null,null,null,null,null,null,null,null,null,null,null,null,null,null,null,null,null,null,"  ","専修学校",null,null,null,null,null,null,null,null,{"$f":"データ一覧!Q654","v":0},null,null,{"$f":"データ一覧!Q655","v":0},null,null,{"$f":"データ一覧!Q656","v":0},null,null,null,{"$f":"データ一覧!Q657","v":0},null,null,null,{"$f":"データ一覧!Q658","v":0},null,null,null,{"$f":"データ一覧!Q659","v":0},null,null,null,{"$f":"データ一覧!Q660","v":0}]
["鉱業",null,null,null,null,null,null,{"$f":"データ一覧!Q105","v":"…"},null,null,{"$f":"データ一覧!Q162","v":"…"},null,null,{"$f":"データ一覧!Q106","v":0},null,null,{"$f":"データ一覧!Q163","v":0},null,null,{"$f":"データ一覧!Q107","v":"…"},null,null,{"$f":"データ一覧!Q164","v":"…"},null,null,{"$f":"SUM(AF58,AJ58)","v":0},null,null,null,null,null,{"$f":"データ一覧!$Q$287","v":0},null,null,null,{"$f":"データ一覧!Q288","v":0},null,null,null,"台  数",null,null,null,"貨    物",null,null,null,"普     通",null,null,null,"小     型",null,null,null,"乗  合",null,null,"特  種",null,null,"小型二輪",null,null,"軽自動車",null,null," １８  衛　　　　　　　生"]
["建設業",null,null,null,null,null,null,{"$f":"データ一覧!Q108","v":"…"},null,null,{"$f":"データ一覧!Q165","v":"…"},null,null,{"$f":"データ一覧!Q109","v":24},null,null,{"$f":"データ一覧!Q166","v":128},null,null,{"$f":"データ一覧!Q110","v":"…"},null,null,{"$f":"データ一覧!Q167","v":"…"},null,null,"　　　　海 面 漁 業 漁 獲 量 （属人）",null,null,null,null,null,null,null,{"$f":"データ一覧!$A$289","v":"30年中"},null,null,null,null,null,{"$f":"データ一覧!$A$418","v":"3.3.31"},null,null,null,null,{"$f":"データ一覧!Q418","v":150},null,null,null,{"$f":"データ一覧!Q420","v":454},null,null,null,{"$f":"データ一覧!Q421","v":485},null,null,{"$f":"データ一覧!Q419","v":6},null,null,{"$f":"データ一覧!Q422","v":93},null,null,{"$f":"データ一覧!Q423","v":25},null,null,{"$f":"データ一覧!Q424","v":1311}]
["製造業",null,null,null,null,null,null,{"$f":"データ一覧!Q111","v":"…"},null,null,{"$f":"データ一覧!Q168","v":"…"},null,null,{"$f":"データ一覧!Q112","v":27},null,null,{"$f":"データ一覧!Q169","v":210},null,null,{"$f":"データ一覧!Q113","v":"…"},null,null,{"$f":"データ一覧!Q170","v":"…"},null,null,null,null,null,null,null,"       ","ｔ",null,null,null,null,null,null,"t",null,null,"     ",null,"郵　便　局　数",null,null,null,null,null,null,null,null,null,null,null,null,null,{"$f":"+MID(データ一覧!$A$428,3,2)","v":"12"},"令","一般加入",null,null,null,"ＩＮＳネット",null,null,null,null,null,null,null,"医療関係施設",null,null,null,null,null,{"$f":"データ一覧!$A$661","v":"元.10.1"},null,null,null,null,null,null,"および医療関係者数",null,null,null,null,null,null,null,{"$f":"データ一覧!$A$666","v":"30.12.31"}]
["電気・ｶﾞ ｽ・熱供給・水道業",null,null,null,null,null,null,{"$f":"データ一覧!Q114","v":"…"},null,null,{"$f":"データ一覧!Q171","v":"…"},null,null,{"$f":"データ一覧!Q115","v":0},null,null,{"$f":"データ一覧!Q172","v":0},null,null,{"$f":"データ一覧!Q116","v":"…"},null,null,{"$f":"データ一覧!Q173","v":"…"},null,null,"   総　　　　　　数",null,null,null,{"$f":"データ一覧!Q289","v":0},null,null,"   藻　　　　　　類",null,null,null,{"$f":"データ一覧!Q292","v":0},null,null,"通  信",null,null,null," 総     数",null,null,null,null," 郵 便 局",null,null,null,null," 簡 易 局",null,null,null,"・",{"$f":"+LEFT(データ一覧!$A$428,1)","v":"2"},"電話数",null,null,null,"加入数",null,null,null,null,null,null,null,null,null,"　","病",null,null,"院",null,"　",null,null,null,null," ","一般診療所",null,null,null,null,null,null,null,null,null,null,null,"歯科診療所"]
["情報通信業",null,null,null,null,null,null,{"$f":"データ一覧!Q117","v":"…"},null,null,{"$f":"データ一覧!Q174","v":"…"},null,null,{"$f":"データ一覧!Q118","v":1},null,null,{"$f":"データ一覧!Q175","v":1},null,null,{"$f":"データ一覧!Q119","v":"…"},null,null,{"$f":"データ一覧!Q176","v":"…"},null,null,"   魚　　　　　　類",null,null,null,{"$f":"データ一覧!Q290","v":0},null,null,"   そ　   の　　 他",null,null,null,{"$f":"データ一覧!Q293","v":0},null,null,{"$f":"データ一覧!$A$428","v":"2.12.31"},null,null,null,{"$f":"データ一覧!Q425","v":2},null,null,null,null,{"$f":"データ一覧!Q426","v":2},null,null,null,null,{"$f":"データ一覧!Q427","v":0},null,null,null,{"$f":"+RIGHT(データ一覧!$A$428,2)","v":"31"},"・",{"$f":"データ一覧!Q428","v":365},null,null,null,{"$f":"データ一覧!Q429","v":81},null,null,null," ","医療関係",null,null,null,null,null,null,null,null,null,null,null,"一般病院",null,null,null,null,null,null,null,null,null,null,null,"有",null,null,"床"]
["運輸業、郵便業",null,null,null,null,null,null,{"$f":"データ一覧!Q120","v":"…"},null,null,{"$f":"データ一覧!Q177","v":"…"},null,null,{"$f":"データ一覧!Q121","v":2},null,null,{"$f":"データ一覧!Q178","v":11},null,null,{"$f":"データ一覧!Q122","v":"…"},null,null,{"$f":"データ一覧!Q179","v":"…"},null,null,"   貝　　　　　　類",null,null,null,{"$f":"データ一覧!Q291","v":0},null,null,null,null,null,null,null,null,null,null,null,null,null,null,null,null,null,null,null,null,null,null,null,null,null,null,null,null,null,null,null,null,null,null,null,null,null,null,"施設数",null,null,null,null,null,null,{"$f":"データ一覧!Q661","v":0},null,null,null,null,null,{"$f":"データ一覧!Q662","v":0},null,null,null,null,null,{"$f":"データ一覧!Q663","v":3},null,null,null,null,null,{"$f":"データ一覧!Q664","v":0},null,null,null,null,null,{"$f":"データ一覧!Q665","v":1}]
["卸売業、小売業",null,null,null,null,null,null,{"$f":"データ一覧!Q123","v":"…"},null,null,{"$f":"データ一覧!Q180","v":"…"},null,null,{"$f":"データ一覧!Q124","v":28},null,null,{"$f":"データ一覧!Q181","v":116},null,null,{"$f":"データ一覧!Q125","v":"…"},null,null,{"$f":"データ一覧!Q182","v":"…"},null,null,null,null,null,null,null,null,null,null,null,null,null,null,null,null," １３  税　　・　　財　　政",null,null,null,null,null,null,null,null,null,null,null,null,null,null,null,null,null,null,null,null,null,null,null,null,null,null,null,null,null,null,null,null,null,null,"医師",null,null,null,null,"歯科医師",null,null,null,null,"薬剤師",null,null,null,null,"保健師",null,null,null,null,"助産師",null,null," ",null,"看護師",null,null," "]
["金融業、保険業",null,null,null,null,null,null,{"$f":"データ一覧!Q126","v":"…"},null,null,{"$f":"データ一覧!Q183","v":"…"},null,null,{"$f":"データ一覧!Q127","v":1},null,null,{"$f":"データ一覧!Q184","v":4},null,null,{"$f":"データ一覧!Q128","v":"…"},null,null,{"$f":"データ一覧!Q185","v":"…"},null,null,"  ７  商        　　　業 ",null,null,null,null,null,null,{"$f":"データ一覧!$A$294","v":"28.6.1(平成27年実績）"},null,null,null,null,null,null,null,null,null,null,null,null,null,null,null,null,null,null,null,null,null,null,null,null,null,null,null,null,null,null,null,null,null,null," ","医療",null,null,null,null,null,null,null,null,"人",null,null,null,null,"人",null,null,null,null,"人",null,null,null,null,"人",null,null,null,null,"人",null,null,null,null,"人"]
["不動産業、物品賃貸業",null,null,null,null,null,null,{"$f":"データ一覧!Q129","v":"…"},null,null,{"$f":"データ一覧!Q186","v":"…"},null,null,{"$f":"データ一覧!Q130","v":0},null,null,{"$f":"データ一覧!Q187","v":0},null,null,{"$f":"データ一覧!Q131","v":"…"},null,null,{"$f":"データ一覧!Q188","v":"…"},null,null,null,null,null,null,null,null,null,null,null,null,null,null,null,null,"           ",null,null,null,"歳入",null,null,null,null,null,null,null,null,"(千円）"," ",null,null,null,"歳出",null,null,null,null,null,null,null,null,"(千円）",null,"関係者",null,null,null,null,{"$f":"データ一覧!Q666","v":3},null,null,null,null,{"$f":"データ一覧!Q667","v":1},null,null,null,null,{"$f":"データ一覧!Q668","v":0},null,null,null,null,{"$f":"データ一覧!Q669","v":3},null,null,null,null,{"$f":"データ一覧!Q670","v":0},null,null,null,null,{"$f":"データ一覧!Q671","v":15}]
["学術研究、専門・技術ｻｰﾋﾞｽ業",null,null,null,null,null,null,{"$f":"データ一覧!Q132","v":"…"},null,null,{"$f":"データ一覧!Q189","v":"…"},null,null,{"$f":"データ一覧!Q133","v":4},null,null,{"$f":"データ一覧!Q190","v":4},null,null,{"$f":"データ一覧!Q134","v":"…"},null,null,{"$f":"データ一覧!Q191","v":"…"},null,null,"  産   業　 分　 類",null,null,null,"  商　 店 　数",null,null," 従　業　者　数",null,null,"年　間　販　売　額",null,null,null,"一人当たり歳入歳出予算決算額",null,null,null,null,null,null,null,null,null,null,null,null,null,null,null,null,null,null,null,null,null,null,null,null,null,null,null,"                   ",null,null,null,null,null,null,null,null,"死因別死亡数　　　    ",null,null,null,null,null,null,null,null,null,null,null,null,null,null,null,{"$f":"データ一覧!$A$672","v":"2年中"},null,null,null,null,null,null,null,null,"      単 位：人"]
["宿泊業、飲食サービス業",null,null,null,null,null,null,{"$f":"データ一覧!Q135","v":"…"},null,null,{"$f":"データ一覧!Q192","v":"…"},null,null,{"$f":"データ一覧!Q136","v":14},null,null,{"$f":"データ一覧!Q193","v":94},null,null,{"$f":"データ一覧!Q137","v":"…"},null,null,{"$f":"データ一覧!Q194","v":"…"},null,null,null,null,null,null,null,"        店",null,null,null,"　人",null,"         百万円",null,null,"区分",null,null,null,{"$f":"データ一覧!$A$438","v":"3年度"},null,null,null,null,{"$f":"データ一覧!$A$452","v":"2年度"},null,null,null,null,"区分",null,null,null,{"$f":"+AR68","v":"3年度"},null,null,null,null,{"$f":"データ一覧!$A$452","v":"2年度"},null,null,null,null," 死     因",null,null,null,null,null,null,null,null,null,null,null,"悪  性",null,null,"高血圧",null,null,null,null,null,"脳血管",null,null,null,null,null," ",null,null,"不慮の事故"]
["生活関連サービス業、娯楽業",null,null,null,null,null,null,{"$f":"データ一覧!Q138","v":"…"},null,null,{"$f":"データ一覧!Q195","v":"…"},null,null,{"$f":"データ一覧!Q139","v":10},null,null,{"$f":"データ一覧!Q196","v":14},null,null,{"$f":"データ一覧!Q140","v":"…"},null,null,{"$f":"データ一覧!Q197","v":"…"},null,null,"総　　　　　　計",null,null,null,{"$f":"データ一覧!Q294","v":24},null,null,{"$f":"データ一覧!Q303","v":72},null,null,{"$f":"データ一覧!Q312","v":705},null,null,null,null,null,null,null,{"$f":"データ一覧!Q434","v":1305919.9318568995},null,null,null,null,{"$f":"データ一覧!Q435","v":1784841.8766290182},null,null,null,null,null,null,null,null,{"$f":"データ一覧!Q436","v":1305919.9318568995},null,null,null,null,{"$f":"データ一覧!Q437","v":1596798.87054735},null,null,null,null,null,null,null,null,null,"全 死 因",null,null,null,"結 核",null,null,"新生物",null,null,"性疾患",null,null,"心疾患",null,null,"疾  患",null,null,"肺  炎",null,null,"老  衰",null,null,null,null," ","交通事故"]
["教育、学習支援業",null,null,null,null,null,null,{"$f":"データ一覧!Q141","v":"…"},null,null,{"$f":"データ一覧!Q198","v":"…"},null,null,{"$f":"データ一覧!Q142","v":1},null,null,{"$f":"データ一覧!Q199","v":1},null,null,{"$f":"データ一覧!Q143","v":"…"},null,null,{"$f":"データ一覧!Q200","v":"…"},null,null,"卸売業",null,null,null,{"$f":"データ一覧!Q295","v":3},null,null,{"$f":"データ一覧!Q304","v":5},null,null,{"$f":"データ一覧!Q313","v":63},null,null,null,"項目別歳入歳出予算決算額"]
["医療、福祉",null,null,null,null,null,null,{"$f":"データ一覧!Q144","v":"…"},null,null,{"$f":"データ一覧!Q201","v":"…"},null,null,{"$f":"データ一覧!Q145","v":5},null,null,{"$f":"データ一覧!Q202","v":117},null,null,{"$f":"データ一覧!Q146","v":"…"},null,null,{"$f":"データ一覧!Q203","v":"…"},null,null,"小売業",null,null,null,{"$f":"データ一覧!Q296","v":21},null,null,{"$f":"データ一覧!Q305","v":67},null,null,{"$f":"データ一覧!Q314","v":642},null,null,null,"区分",null,null,null,{"$f":"データ一覧!$A$438","v":"3年度"},null,null,null,null,{"$f":"データ一覧!$A$452","v":"2年度"},null,null,null,null,"区分",null,null,null,{"$f":"+AR71","v":"3年度"},null,null,null,null,{"$f":"データ一覧!$A$452","v":"2年度"},null,null,null,null,null,null,null,null,null,{"$f":"データ一覧!Q672","v":55},null,null,null,"   －",{"$f":"データ一覧!Q673","v":1},null,{"$f":"データ一覧!Q674","v":3},null,null,null,{"$f":"データ一覧!Q675","v":0},null,{"$f":"データ一覧!Q676","v":0},null,null,{"$f":"データ一覧!Q677","v":1},null,null,{"$f":"データ一覧!Q678","v":6},null,null,{"$f":"データ一覧!Q679","v":6},null,null,{"$f":"データ一覧!Q680","v":2},null,null,{"$f":"データ一覧!Q681","v":1}]
["複合サービス事業",null,null,null,null,null,null,{"$f":"データ一覧!Q147","v":"…"},null,null,{"$f":"データ一覧!Q204","v":"…"},null,null,{"$f":"データ一覧!Q148","v":4},null,null,{"$f":"データ一覧!Q205","v":40},null,null,{"$f":"データ一覧!Q149","v":"…"},null,null,{"$f":"データ一覧!Q206","v":"…"},null,null,"各種商品",null,null,null,{"$f":"データ一覧!Q297","v":0},null,null,{"$f":"データ一覧!Q306","v":0},null,null,{"$f":"データ一覧!Q315","v":0},null,null,null,"総額",null,null,null,{"$f":"SUM(AR73:AV85)","v":3066300},null,null,null,null,{"$f":"SUM(AW73:BA85)","v":4105590},null,null,null,null,"総額",null,null,null,{"$f":"SUM(BF73:BJ85)","v":3066300},null,null,null,null,{"$f":"SUM(BK73:BO85)","v":3675831},null,null,null,null," １９  警　察　・　消　防  ",null,null,null,null,null,null,null,null,null,null,null,null,null,null,null,{"$f":"+データ一覧!$A682","v":"3.4.1"}]
["サービス業",null,null,null,null,null,null,{"$f":"データ一覧!Q150","v":"…"},null,null,{"$f":"データ一覧!Q207","v":"…"},null,null,{"$f":"データ一覧!Q151","v":12},null,null,{"$f":"データ一覧!Q208","v":20},null,null,{"$f":"データ一覧!Q152","v":"…"},null,null,{"$f":"データ一覧!Q209","v":"…"},null,null,"織物・衣服・身の回り品",null,null,null,{"$f":"データ一覧!Q298","v":2},null,null,{"$f":"データ一覧!Q307","v":5},null,null,{"$f":"データ一覧!Q316","v":"x"},null,null,null,"地方税",null,null,null,{"$f":"データ一覧!Q439","v":248445},null,null,null,null,{"$f":"データ一覧!Q453","v":253365},null,null,null,null,"議会費",null,null,null,{"$f":"データ一覧!Q467","v":53503},null,null,null,null,{"$f":"データ一覧!Q481","v":52195}]
["公務",null,null,null,null,null,null,{"$f":"データ一覧!Q153","v":"…"},null,null,{"$f":"データ一覧!Q210","v":"…"},null,null,{"$f":"データ一覧!Q154","v":"…"},null,null,{"$f":"データ一覧!Q211","v":"…"},null,null,{"$f":"データ一覧!Q155","v":"…"},null,null,{"$f":"データ一覧!Q212","v":"…"},null,null,"飲食料品",null,null,null,{"$f":"データ一覧!Q299","v":7},null,null,{"$f":"データ一覧!Q308","v":14},null,null,{"$f":"データ一覧!Q317","v":41},null,null,null,"地方譲与税",null,null,null,{"$f":"データ一覧!Q440","v":50294},null,null,null,null,{"$f":"データ一覧!Q454","v":50060},null,null,null,null,"総務費",null,null,null,{"$f":"データ一覧!Q468","v":540593},null,null,null,null,{"$f":"データ一覧!Q482","v":1166231},null,null,null,null,null,null,null,null,null,null,null,null,null,null,"交番・駐在所",null,null,null,null,null,null,null,null,"刑法犯認知件数",null,null,null,null,null,null,null,null,"交通人身事故発生件数"]
["  ４  農        　　　業 ",null,null,null,null,null,null,null,null,null,null,null,null,null,null,null,null,null,null,null,null,null,null,null,null,"機械器具",null,null,null,{"$f":"データ一覧!Q300","v":4},null,null,{"$f":"データ一覧!Q309","v":18},null,null,{"$f":"データ一覧!Q318","v":183},null,null,null,"各種交付金",null,null,null,{"$f":"データ一覧!Q441","v":62310},null,null,null,null,{"$f":"データ一覧!Q455","v":57263},null,null,null,null,"民生費",null,null,null,{"$f":"データ一覧!Q469","v":378972},null,null,null,null,{"$f":"データ一覧!Q483","v":445728},null,null,null,null,null,"警察署数",null,null,null,null,null,null,null,null,"検問所数",null,null,null,null,null,null,null,null,null,{"$f":"データ一覧!$A$684","v":"2年中"},null,null,null,null,null,null,null,null,{"$f":"データ一覧!$A$684","v":"2年中"}]
[null,null,null,null,null,null,null,null,null,null,null,null,null,null,null,null,null,null,null,null,null,null,null,null,null,"その他",null,null,null,{"$f":"データ一覧!Q301","v":8},null,null,{"$f":"データ一覧!Q310","v":30},null,null,{"$f":"データ一覧!Q319","v":"x"},null,null,null,"地方特例交付金",null,null,null,{"$f":"データ一覧!Q442","v":489},null,null,null,null,{"$f":"データ一覧!Q456","v":1541},null,null,null,null,"衛生費",null,null,null,{"$f":"データ一覧!Q470","v":193831},null,null,null,null,{"$f":"データ一覧!Q484","v":146986},null,null,null,null,null,null,null,null,null,null,null,null,null,null,null,null,null,null,null,null,null,null,null,null,null,null,null,null," 件",null,null,null,null,null,null,null,null,"　件"]
[null,null,"農業経営体数",null,null,null,null,null,null,"農産物販売額規模別経営体数",null,null,null,null,null,null,null,"経営耕地面積規模別経営体数",null,null,null,null,null,null,null,"無店舗",null,null,null,{"$f":"データ一覧!Q302","v":0},null,null,{"$f":"データ一覧!Q311","v":0},null,null,{"$f":"データ一覧!Q320","v":0},null,null,null,"地方交付税",null,null,null,{"$f":"データ一覧!Q443","v":1774400},null,null,null,null,{"$f":"データ一覧!Q457","v":1903561},null,null,null,null,"労働費",null,null,null,{"$f":"データ一覧!Q471","v":2750},null,null,null,null,{"$f":"データ一覧!Q485","v":2750},null,null,null,null,null,null,{"$f":"データ一覧!Q682","v":0},null,null,null,null,null,null,null,null,{"$f":"データ一覧!Q683","v":2},null,null,null,null,null,null,null,null,{"$f":"データ一覧!Q684","v":5},null,null,null,null,null,null,null,null,{"$f":"データ一覧!Q685","v":"-"}]
["農",null,"区　分",null,null,null,"経営体数\n（経営体）",null,null,"区　分",null,null,null,null,"経営体数\n（経営体）",null,null,"区　分",null,null,null,null,"経営体数\n（経営体）",null,null,null,null,null,null,null,null,null,null,null,null,null,null,null,null,"分担金および負担金",null,null,null,{"$f":"データ一覧!Q444","v":14638},null,null,null,null,{"$f":"データ一覧!Q458","v":5381},null,null,null,null,"農林水産業費",null,null,null,{"$f":"データ一覧!Q472","v":474374},null,null,null,null,{"$f":"データ一覧!Q486","v":567107},null,null,null,null,"火災発生件数",null,null,null,null,null,null,null,null,null,"林野焼損",null,null,null,null,"損      害",null,null,null,null,"消 防 自",null,null,null,"その他の",null,null,null," ",null,null,null,null," "]
["業","令",null,null,null,null,null,null,null,null,null,null,null,null,null,null,null,null,null,null,null,null,null,null,null,"  ８  住　　　　　　 　宅",null,null,null,null,null,null,null,null,null,null,null,null,null,"使用料および手数料",null,null,null,{"$f":"データ一覧!Q445","v":44638},null,null,null,null,{"$f":"データ一覧!Q459","v":34032},null,null,null,null,"商工費",null,null,null,{"$f":"データ一覧!Q473","v":168796},null,null,null,null,{"$f":"データ一覧!Q487","v":171589},null,null,null,null,{"$f":"+データ一覧!$A$686","v":"2年中"},null,null,null,null,"焼損棟数",null,null,null,null,"面    積",null,null,null,null,"見  積  額",null,null,null,null,"動 車 数",null,null,null,"ﾎﾟﾝﾌﾟ数",null,null,null," 消防吏員",null,null,null," 消防団員"]
["経",{"$f":"+LEFT(データ一覧!$A$213)","v":"2"},"計",null,null,null,{"$f":"データ一覧!Q213","v":125},null,null,"総　　　 数",null,null,null,null,{"$f":"データ一覧!Q217","v":125},null,null,"総　　　 数",null,null,null,null,{"$f":"データ一覧!Q233","v":327},null,null,null,null,null,null,null,null,null,null,null,null,null,null,null,null,"国庫支出金",null,null,null,{"$f":"データ一覧!Q446","v":122289},null,null,null,null,{"$f":"データ一覧!Q460","v":519960},null,null,null,null,"土木費",null,null,null,{"$f":"データ一覧!Q474","v":320908},null,null,null,null,{"$f":"データ一覧!Q488","v":365251},null,null,null,null,"         件",null,null,null,null,null,"      棟",null,null,null,null,null,null,"  ａ",null,null,null,"  千円",null,null,"        ",null,null,null,null,null,null,null,null,null,"  人",null,null,null,"  人"]
["営","・","個人経営体",null,null,null,{"$f":"データ一覧!Q214","v":108},null,null,"販 売 な し",null,null,null,null,{"$f":"データ一覧!Q218","v":13},null,null,"0.5 ha 未満",null,null,null,null,{"$f":"データ一覧!Q234","v":15},null,null,{"$f":"+データ一覧!$A$321","v":"令和元年"},null,null,null,null,{"$f":"データ一覧!$A$324","v":"2年"},"中の増減",null,null,null,{"$f":"+データ一覧!$A$324","v":"2年"},null,null,null,"県支出金",null,null,null,{"$f":"データ一覧!Q447","v":312064},null,null,null,null,{"$f":"データ一覧!Q461","v":285472},null,null,null,null,"消防費",null,null,null,{"$f":"データ一覧!Q475","v":97963},null,null,null,null,{"$f":"データ一覧!Q489","v":91361},null,null,null,null,null,{"$f":"データ一覧!Q686","v":"-"},null,null,null,null,{"$f":"データ一覧!Q687","v":"-"},null,null,null,null,{"$f":"データ一覧!Q688","v":0},null,null,null,{"$f":"データ一覧!Q689","v":0},null,null,null,null,null,{"$f":"データ一覧!Q690","v":5},null,null,null,{"$f":"データ一覧!Q691","v":2},null,null,null,{"$f":"データ一覧!Q692","v":9},null,null,null,{"$f":"データ一覧!Q693","v":57}]
["体",{"$f":"+LEFT(データ一覧!$A$213,1)","v":"2"},"団体経営体",null,null,null,{"$f":"データ一覧!Q215","v":17},null,null,"50万円未満",null,null,null,null,{"$f":"データ一覧!Q219","v":58},null,null,"0.5 ha ～ 1.0 ha",null,null,null,null,{"$f":"データ一覧!Q235","v":26},null,null,null,null,null,null,"建設した住宅",null,null,"消失した住宅",null,null,null,null,null,null,"財産収入",null,null,null,{"$f":"データ一覧!Q448","v":10288},null,null,null,null,{"$f":"データ一覧!Q462","v":10130},null,null,null,null,"教育費",null,null,null,{"$f":"データ一覧!Q476","v":329073},null,null,null,null,{"$f":"データ一覧!Q490","v":260487},null,null,null,null," ２０  そ　　　の　　　他　"]
["数","・",null,"法人経営",null,null,{"$f":"データ一覧!Q216","v":12},null,null,"50～300万円",null,null,null,null,{"$f":"データ一覧!Q220","v":34},null,null,"1.0 ha ～ 2.0 ha",null,null,null,null,{"$f":"データ一覧!Q236","v":22},null,null,null,null,null,null,null,null,null,null,null,null,null,null,null,null,"繰入金",null,null,null,{"$f":"データ一覧!Q449","v":15303},null,null,null,null,{"$f":"データ一覧!Q463","v":12219},null,null,null,null,"災害復旧費",null,null,null,{"$f":"データ一覧!Q477","v":0},null,null,null,null,{"$f":"データ一覧!Q491","v":0}]
["（",{"$f":"+RIGHT(データ一覧!$A$213)","v":"1"},null,null,null,null,null,null,null,"300～500万円",null,null,null,null,{"$f":"データ一覧!Q221","v":2},null,null,"2.0 ha ～ 3.0 ha",null,null,null,null,{"$f":"データ一覧!Q237","v":9},null,null,null,{"$f":"データ一覧!Q321","v":1050},null,"戸",{"$f":"データ一覧!Q322","v":7},null,"戸",{"$f":"データ一覧!Q323","v":8},null,"戸",null,{"$f":"データ一覧!Q324","v":1049},null,"戸","地方債",null,null,null,{"$f":"データ一覧!Q450","v":248200},null,null,null,null,{"$f":"データ一覧!Q464","v":524650},null,null,null,null,"公債費",null,null,null,{"$f":"データ一覧!Q478","v":443686},null,null,null,null,{"$f":"データ一覧!Q492","v":406146},null,null,null,null,null,null,null,null,null,"須波阿湏疑神社、冠山、部子山、龍双ヶ滝、稲荷の大杉、水海の田楽・能舞"]
["総",null,null,null,null,null,null,null,null,"500～1,000万円",null,null,null,null,{"$f":"データ一覧!Q222","v":9},null,null,"3.0 ha ～ 5.0 ha",null,null,null,null,{"$f":"データ一覧!Q238","v":11},null,null,null,null,null,null,null,null,null,null,null,null,null,null,null,null,"その他",null,null,null,{"$f":"データ一覧!Q451","v":162942},null,null,null,null,{"$f":"データ一覧!Q465","v":447956},null,null,null,null,"その他",null,null,null,{"$f":"データ一覧!Q479","v":61851},null,null,null,null,{"$f":"データ一覧!Q493","v":0},null,null,null,null,"　名所・旧跡",null,null,null,null,"堀口家住宅、梅田氏庭園、かずら橋"]
["数",null,null,null,null,null,null,null,null,"1,000万円以上",null,null,null,null,{"$f":"データ一覧!Q223","v":9},null,null,"5.0 ha以上",null,null,null,null,{"$f":"データ一覧!Q239","v":244},null,null,null,null,null,null,null,null,null,null,null,null,null,null,null,null,null,null,null,null,null,null,null,null,null,null,null,null,null,null,null,null,null,null,null,null,null,null,null,null,null,null,null,null,"  文化財等",null,null,null,null,0]
["）",null,"15歳以上の常雇い数",null,null,null,null,null,null,"農業に60日以上従事した世帯員、役員・構成員\n（経営主を含む）の平均年齢",null,null,null,null,null,null,null,null,null,null,null,null,null,null,null,"  ９  議　 員　・　職 　員",null,null,null,null,null,null,null,null,null,null,null,null,null," １４  文　　　　　　化",null,null,null,null,null,null,null,null,null," ( ",{"$f":"データ一覧!$A$500","v":"3.3.31"},null,null,null,"ただし図書館・公民館・児童館",null,null,null,null,null,null,null,{"$f":"データ一覧!$A$494","v":"3.4.1"},null,null,null,null,null,null,null,null,null,0]
["と",null,null,null,null,null,null,null,null,null,null,null,null,null,null,null,null,null,null,null,null,null,null,null,null,null,null,null,null,null,null,null,null,null,null,null,null,null,null,null,null,null,null,null,null,null,null,null,null,null,null,null,null,null,null,"　宗教法人数 ",null,null,null,null,null,null,{"$f":"データ一覧!$A$502","v":"2.12.31"},null,null,null,"）","　　特産物",null,null,null,null,"うららの米(池田町こしひかり）、ばんこもち、きびだんご、おこもじ（漬物）、越のルビートマトジュース、米粉パン、ままの水、おろしそば、みそ、しょうゆ、木工品（池田町産材使用）、足羽杉、しめ縄"]
["就",null,null,null,null,null,null,null,null,"農業に60日以上従事",null,null,null,null,null,null,null,"農業に150日以上従事",null,null,null,null,null,null,null," 市 町 村 議 会",null,null,"有権者数",null,{"$f":"データ一覧!$A$328","v":"3.9.1"},null,"市 町 村 議 会",null,null,"  職      員      数",null,null,null,null,null,null,null,null,"図書館",null,null,null,null,null,"公　民　館",null,null,null,null,null,null,null,null,null,null," 社会教育学級講座"]
["業",null,"区　分",null,null,null,"人",null,null,"区　分",null,null,null,null,"人",null,null,"区　分",null,null,null,null,"人",null,null," 議  員  定  数",null,null,"    男",null,"    女",null,"選 挙 投 票 率",null,null," 総     数",null,"一般行政職",null,"公    共",null,null,null," 館  数",null,null," 図書数",null,null," 本  館",null,null," 分  館",null,null," 公  園",null,null," 児童館",null,null,"学級講座数",null,null,"受講者数"]
["状",null,"総数",null,null,null,{"$f":"データ一覧!Q230","v":7},null,null,"総数",null,null,null,null,{"$f":"データ一覧!Q224","v":68.2},null,null,"総数",null,null,null,null,{"$f":"データ一覧!Q227","v":66},null,null,null,null,"人",null,"人",null,"人",null,null,"　％",null,"人",null,"人","施 設 数",null,null,null,null,{"$f":"データ一覧!Q494","v":1},null,{"$f":"データ一覧!Q495","v":45941},null,null,null,{"$f":"データ一覧!Q496","v":1},null,{"$f":"データ一覧!Q497","v":0},null,null,{"$f":"データ一覧!Q498","v":0},null,null,{"$f":"データ一覧!Q499","v":1},null,null,{"$f":"データ一覧!Q500","v":0},null,null,{"$f":"データ一覧!Q501","v":0},null,null," 　年中行事",null,null,null,null,"池田大祭（6月9日～11日）、能楽の里池田マラソン（10月第2日曜日）、"]
["況",null,"男",null,null,null,{"$f":"データ一覧!Q231","v":6},null,null,"男",null,null,null,null,{"$f":"データ一覧!Q225","v":67.400000000000006},null,null,"男",null,null,null,null,{"$f":"データ一覧!Q228","v":64},null,null,null,{"$f":"データ一覧!Q325","v":8},null,{"$f":"データ一覧!Q328","v":1024},null,{"$f":"データ一覧!Q329","v":1146},null,{"$f":"データ一覧!Q327","v":85.28},null,null,{"$f":"データ一覧!Q330","v":73},null,{"$f":"データ一覧!Q331","v":50},null,"宗    教",null,null,null," 仏教系",null,null,"ｷﾘｽﾄ教系",null,null,"神道諸派",null,null,"公会堂・市民会館",null,null,null,null,null," テレビ",null,null,"衛星放送契約数",null,null,null,null,null,null,null,null,null,null,"いけだ食の文化祭（11月中旬）、水海の田楽能舞（2月15日）"]
[null,null,"女",null,null,null,{"$f":"データ一覧!Q232","v":1},null,null,"女",null,null,null,null,{"$f":"データ一覧!Q226","v":69.8},null,null,"女",null,null,null,null,{"$f":"データ一覧!Q229","v":69.8},null,null,null,null,null,null,null,null,null,{"$f":"データ一覧!Q326","v":"31.4.21"},null,null,null,null,null,null,"法 人 数",null,null,null,{"$f":"データ一覧!Q502","v":11},null,null,{"$f":"データ一覧!Q503","v":0},null,null,{"$f":"データ一覧!Q504","v":34},null,null,{"$f":"データ一覧!Q505","v":1},null,null,null,null,null,"      等",null,null,{"$f":"データ一覧!Q506","v":539},null,null,null,null,null,null,null,null,null,null,0]

{"sheet":"南越前町","index":16,"n_rows":93,"n_cols":103,"rows_kept":93,"cut":false,"hidden":false,"merged":[[68,39,68,42],[68,43,68,47],[68,48,68,52],[68,53,68,56],[68,57,68,61],[71,0,71,6],[73,7,73,9],[76,2,76,8],[76,9,76,16],[76,17,76,24],[77,2,78,5],[77,6,78,8],[77,9,78,13],[77,14,78,16],[77,17,78,21],[77,22,78,24],[79,2,79,5],[79,6,79,8],[79,9,79,13],[79,14,79,16],[79,17,79,21],[79,22,79,24],[68,13,68,15],[71,53,71,56],[69,39,69,66],[70,53,70,56],[69,7,69,9],[68,7,68,9],[68,16,68,18],[68,19,68,21],[68,22,68,24],[69,22,69,24],[80,6,80,8],[80,9,80,13],[80,14,80,16],[80,17,80,21],[80,22,80,24],[42,7,42,9],[64,22,64,24],[41,7,41,9],[48,0,48,1],[41,16,41,18],[48,16,48,18],[47,0,47,1],[47,7,47,9],[71,13,71,15],[62,0,62,6],[50,0,51,24],[61,0,61,6],[60,0,60,6],[55,19,55,21],[55,0,55,6],[57,7,57,9],[60,10,60,12],[64,10,64,12],[66,10,66,12],[57,16,57,18],[58,0,58,6],[57,0,57,6],[56,0,56,6],[60,13,60,15],[63,7,63,9],[64,13,64,15],[46,0,46,1],[17,25,17,27],[18,25,18,27],[73,0,73,6],[35,5,35,7],[35,8,35,10],[35,11,35,13],[35,14,35,16],[35,18,35,19],[35,20,35,21],[27,5,27,7],[27,22,27,24],[35,22,35,24],[41,19,41,21],[41,22,41,24],[40,22,40,24],[42,10,42,12],[41,4,41,6],[41,13,41,15],[56,22,56,24],[64,0,64,6],[63,0,63,6],[25,25,25,26],[26,25,26,26],[26,27,26,28],[67,19,67,21],[66,16,66,18],[64,19,64,21],[71,7,71,9],[19,3,19,5],[20,11,20,13],[70,0,70,6],[70,25,70,28],[20,16,20,18],[20,21,20,23],[31,81,31,84],[29,73,29,76],[30,73,30,76],[30,81,30,84],[26,60,26,64],[27,73,27,76],[35,49,35,51],[34,49,34,51],[54,77,54,79],[30,49,30,51],[37,60,37,64],[29,22,29,24],[32,20,32,21],[32,22,32,24],[59,0,59,6],[27,0,27,4],[44,19,44,24],[30,22,30,24],[33,20,33,21],[40,4,40,6],[29,77,29,80],[54,25,54,32],[50,25,50,28],[50,29,50,32],[50,33,50,38],[51,25,51,28],[42,36,42,37],[44,32,44,35],[25,33,26,34],[25,27,25,28],[30,53,30,56],[31,73,31,76],[31,77,31,80],[29,18,29,19],[29,20,29,21],[73,13,73,15],[72,13,72,15],[72,7,72,9],[68,25,68,28],[73,16,73,18],[71,16,71,18],[55,7,55,9],[55,10,55,12],[58,10,58,12],[57,10,57,12],[56,10,56,12],[56,13,56,15],[57,13,57,15],[55,13,55,15],[59,19,59,21],[60,19,60,21],[65,16,65,18],[65,19,65,21],[56,16,56,18],[61,16,61,18],[59,16,59,18],[64,16,64,18],[62,7,62,9],[55,39,55,42],[55,16,55,18],[70,7,70,9],[73,10,73,12],[0,0,0,9],[1,0,3,9],[5,0,5,9],[17,53,17,57],[6,0,8,9],[17,40,17,46],[17,48,17,52],[14,25,15,25],[14,26,15,28],[15,29,15,30],[72,10,72,12],[71,10,71,12],[74,0,75,24],[22,7,22,8],[26,22,26,24],[31,8,31,10],[31,11,31,13],[31,14,31,16],[31,18,31,19],[60,16,60,18],[73,22,73,24],[73,19,73,21],[71,29,71,30],[69,32,69,33],[70,29,70,30],[68,29,68,30],[68,32,68,33],[69,25,69,28],[70,32,70,33],[69,29,69,30],[42,19,42,21],[47,19,47,21],[17,100,17,101],[19,40,19,46],[19,49,19,51],[19,53,19,56],[19,60,19,64],[17,59,17,65],[19,91,19,94],[17,91,17,94],[19,73,19,76],[19,77,19,80],[16,74,16,95],[18,31,18,34],[18,35,18,38],[17,68,17,71],[17,73,17,76],[17,82,17,83],[17,86,17,89],[17,36,17,38],[19,81,19,84],[19,95,19,98],[19,99,19,102],[19,29,19,31],[19,32,19,34],[19,35,19,38],[18,28,18,30],[16,32,16,33],[16,36,16,37],[17,32,17,34],[20,95,20,98],[20,99,20,102],[20,86,20,90],[21,95,21,98],[21,35,21,38],[20,73,20,76],[20,77,20,80],[20,81,20,84],[22,29,22,31],[22,32,22,34],[22,35,22,38],[22,49,22,51],[22,68,22,72],[22,91,22,94],[21,73,21,76],[21,77,21,80],[21,81,21,84],[21,99,21,102],[21,40,21,46],[20,35,20,38],[21,25,21,28],[21,29,21,31],[21,32,21,34],[20,60,20,64],[23,99,23,102],[24,53,24,56],[24,60,24,64],[24,99,24,102],[24,95,24,98],[22,53,22,56],[22,60,22,64],[24,68,24,72],[21,91,21,94],[21,86,21,90],[21,49,21,51],[21,53,21,56],[21,60,21,64],[22,86,22,90],[23,86,23,90],[24,86,24,90],[23,68,23,72],[23,73,23,76],[23,77,23,80],[23,81,23,84],[23,91,23,94],[23,95,23,98],[22,95,22,98],[22,99,22,102],[24,91,24,94],[20,40,20,46],[20,49,20,51],[20,53,20,56],[23,11,23,13],[23,16,23,18],[23,21,23,23],[24,40,24,46],[24,27,24,28],[23,40,23,46],[23,25,23,28],[23,29,23,31],[23,32,23,34],[23,35,23,38],[27,25,27,26],[27,27,27,28],[27,35,27,36],[25,29,26,30],[25,31,26,32],[25,35,26,36],[27,37,27,38],[25,37,26,38],[24,35,24,36],[24,37,24,38],[27,31,27,32],[27,33,27,34],[24,29,24,30],[24,31,24,32],[24,33,24,34],[27,40,27,46],[27,29,27,30],[28,99,28,102],[27,86,27,90],[28,68,28,72],[26,77,26,80],[26,81,26,84],[26,86,26,90],[28,95,28,98],[27,95,27,98],[28,60,28,64],[25,95,25,98],[28,53,28,56],[24,73,24,76],[25,86,25,90],[26,49,26,51],[24,81,24,84],[25,73,25,76],[25,77,25,80],[25,81,25,84],[24,77,24,80],[25,49,25,51],[25,53,25,56],[25,60,25,64],[24,49,24,51],[28,86,28,90],[27,81,27,84],[26,68,26,72],[26,73,26,76],[28,73,28,76],[28,77,28,80],[25,99,25,102],[28,81,28,84],[27,77,27,80],[34,5,34,7],[34,8,34,10],[29,5,29,7],[29,8,29,10],[29,11,29,13],[29,14,29,16],[32,14,32,16],[31,5,31,7],[30,5,30,7],[30,8,30,10],[30,11,30,13],[30,14,30,16],[30,20,30,21],[31,22,31,24],[30,18,30,19],[26,99,26,102],[30,77,30,80],[29,99,29,102],[30,99,30,102],[26,53,26,56],[26,91,26,94],[29,91,29,94],[29,95,29,98],[27,49,27,51],[27,53,27,56],[27,60,27,64],[27,68,27,72],[28,91,28,94],[29,81,29,84],[30,60,30,64],[27,91,27,94],[29,86,29,90],[34,22,34,24],[34,18,34,19],[36,29,36,30],[31,20,31,21],[30,86,30,90],[32,99,32,102],[44,0,45,1],[58,13,58,15],[58,7,58,9],[48,13,48,15],[48,10,48,12],[48,7,48,9],[44,25,44,28],[58,64,58,66],[55,22,55,24],[31,53,31,56],[31,60,31,64],[40,32,40,35],[40,36,40,37],[36,36,36,37],[34,36,34,37],[33,5,33,7],[33,8,33,10],[33,11,33,13],[33,14,33,16],[33,18,33,19],[34,40,34,46],[32,5,32,7],[32,8,32,10],[32,18,32,19],[32,11,32,13],[31,68,31,72],[38,85,38,91],[39,75,39,77],[39,67,39,73],[39,53,39,56],[47,95,47,98],[43,40,43,46],[42,75,42,77],[42,49,42,51],[41,60,41,64],[40,60,40,64],[39,79,39,82],[39,40,39,46],[34,11,34,13],[34,14,34,16],[33,67,34,80],[33,83,34,96],[33,60,33,64],[34,20,34,21],[33,22,33,24],[34,29,34,30],[36,97,36,100],[38,79,38,82],[38,67,38,73],[37,97,37,100],[38,93,38,95],[37,85,37,91],[36,85,36,91],[35,68,35,72],[37,67,37,73],[35,86,35,90],[36,67,36,73],[34,60,34,64],[39,97,39,100],[41,36,41,37],[42,93,42,95],[42,79,42,82],[42,97,42,100],[40,79,41,82],[39,85,39,91],[41,85,41,91],[40,93,40,95],[41,93,41,95],[48,87,48,90],[48,91,48,94],[48,80,48,82],[45,92,45,101],[46,95,46,98],[42,60,42,64],[40,97,40,100],[47,99,47,102],[48,99,48,102],[48,95,48,98],[46,69,46,74],[41,53,41,56],[39,49,39,51],[40,49,40,51],[48,83,48,86],[47,13,47,15],[40,40,40,46],[47,22,47,24],[40,2,40,3],[40,16,40,18],[42,4,42,6],[42,16,42,18],[45,29,45,30],[47,10,47,12],[46,32,46,35],[47,16,47,18],[47,83,47,86],[47,77,47,79],[47,87,47,90],[42,85,42,91],[42,40,42,46],[42,13,42,15],[40,85,40,91],[41,40,41,46],[45,32,45,35],[47,91,47,94],[43,60,43,64],[42,53,42,56],[40,29,40,30],[42,32,42,35],[44,36,44,37],[45,84,45,89],[40,10,40,12],[40,19,40,21],[40,7,40,9],[43,83,44,102],[46,29,46,30],[51,33,51,35],[50,47,50,49],[41,32,41,35],[41,49,41,51],[41,29,41,30],[46,36,46,37],[49,50,49,53],[49,54,49,57],[48,22,48,24],[48,19,48,21],[52,99,52,102],[50,87,50,90],[52,68,52,75],[50,68,50,75],[51,68,51,75],[46,99,46,102],[42,22,42,24],[66,92,66,96],[67,57,67,61],[67,43,67,47],[67,48,67,52],[66,32,66,34],[66,35,66,38],[67,39,67,42],[65,39,65,42],[61,29,61,30],[63,22,63,24],[66,19,66,21],[60,29,60,30],[49,77,49,79],[52,77,52,79],[52,80,52,82],[49,80,49,82],[49,95,49,98],[52,83,52,86],[52,87,52,90],[50,63,50,66],[51,29,51,32],[52,95,52,98],[53,68,53,75],[67,88,67,90],[60,97,60,102],[54,51,54,54],[54,68,54,75],[61,39,61,42],[54,39,54,42],[56,87,56,90],[53,77,53,79],[50,91,50,94],[60,22,60,24],[59,22,59,24],[54,91,54,94],[58,22,58,24],[57,22,57,24],[57,25,57,29],[55,25,55,30],[57,58,57,60],[57,61,57,63],[56,80,56,82],[58,16,58,18],[56,7,56,9],[54,59,54,66],[54,55,54,58],[55,47,55,49],[55,51,55,53],[56,48,56,53],[54,43,54,46],[55,68,55,75],[55,63,55,65],[58,55,58,57],[55,77,55,79],[63,16,63,18],[63,19,63,21],[61,13,61,15],[61,7,61,9],[61,10,61,12],[60,7,60,9],[54,47,54,50],[55,35,55,38],[55,31,55,34],[58,39,58,42],[56,39,56,42],[57,39,57,42],[60,39,60,42],[58,52,58,54],[60,36,60,37],[73,62,73,66],[72,62,72,66],[72,53,72,56],[72,57,72,61],[73,53,73,56],[73,57,73,61],[55,59,55,62],[69,35,69,37],[70,43,70,47],[69,13,69,15],[59,7,59,9],[59,13,59,15],[63,13,63,15],[67,16,67,18],[66,13,66,15],[66,22,66,24],[62,22,62,24],[75,29,75,30],[75,32,75,33],[75,35,75,37],[76,39,76,42],[74,57,74,61],[74,62,74,66],[74,68,74,74],[71,25,71,28],[71,32,71,33],[71,39,71,42],[71,48,71,52],[74,25,74,28],[74,29,74,30],[74,32,74,33],[74,35,74,37],[75,25,75,28],[72,29,72,30],[72,32,72,33],[72,35,72,37],[73,25,73,28],[73,29,73,30],[73,32,73,33],[73,35,73,37],[72,43,72,47],[72,48,72,52],[73,39,73,42],[73,43,73,47],[73,48,73,52],[75,39,75,42],[75,43,75,47],[75,48,75,52],[75,53,75,56],[74,39,74,42],[74,43,74,47],[74,48,74,52],[74,53,74,56],[83,32,83,33],[83,36,83,37],[81,39,81,42],[81,43,81,47],[77,39,77,42],[77,43,77,47],[77,48,77,52],[77,53,77,56],[78,39,78,42],[81,53,81,56],[76,43,76,47],[78,48,78,52],[78,53,78,56],[76,35,76,37],[75,57,75,61],[75,62,75,66],[74,87,74,91],[76,57,76,61],[74,77,74,83],[76,78,76,81],[76,53,76,56],[81,22,81,24],[84,39,84,42],[84,43,84,47],[84,48,84,52],[84,53,84,56],[83,48,83,52],[88,61,88,66],[84,57,84,61],[84,62,84,66],[83,62,83,66],[83,26,83,27],[83,29,83,30],[83,53,83,56],[83,57,83,61],[82,53,82,56],[77,57,77,61],[78,43,78,47],[77,62,77,66],[80,35,81,38],[79,43,79,47],[80,62,80,66],[80,57,80,61],[80,48,80,52],[79,62,79,66],[76,25,76,28],[88,28,88,29],[88,30,88,31],[80,25,81,28],[82,43,82,47],[82,48,82,52],[91,26,91,27],[91,28,91,29],[91,30,91,31],[91,32,91,34],[91,52,91,57],[91,61,91,66],[91,35,91,36],[91,37,91,38],[91,39,91,42],[90,58,90,60],[90,50,90,51],[90,52,90,54],[90,55,90,57],[90,39,90,42],[90,44,90,45],[91,43,91,45],[91,46,91,48],[82,57,82,61],[83,39,83,42],[83,43,83,47],[81,32,81,34],[81,29,81,31],[82,39,82,42],[89,32,89,34],[89,39,89,42],[89,61,89,63],[88,32,88,34],[25,91,25,94],[92,52,92,57],[92,61,92,66],[92,39,92,42],[92,43,92,45],[92,46,92,48],[92,49,92,51],[90,61,90,63],[90,64,90,66],[90,46,90,48],[80,100,80,102],[79,97,79,98],[81,48,81,52],[81,57,81,61],[80,53,80,56],[81,62,81,66],[80,39,80,42],[80,43,80,47],[79,39,79,42],[79,48,79,52],[79,53,79,56],[79,57,79,61],[76,62,76,66],[78,67,78,71],[78,72,78,76],[76,69,76,72],[68,100,68,102],[66,76,66,90],[49,83,49,86],[68,88,68,90],[68,76,68,78],[62,87,62,89],[68,91,68,93],[78,99,78,102],[68,72,68,75],[67,67,70,71],[68,82,68,84],[62,68,62,71],[62,75,62,77],[61,68,61,71],[64,68,64,71],[56,77,56,79],[54,87,54,90],[53,83,53,86],[53,95,53,98],[55,99,55,102],[65,93,65,96],[65,88,65,91],[56,91,56,94],[70,88,70,90],[78,95,78,98],[78,91,78,94],[76,87,76,90],[55,80,55,82],[55,83,55,86],[56,99,56,102],[60,85,60,90],[63,84,63,86],[53,99,53,102],[68,94,68,96],[68,79,68,81],[67,97,67,102],[63,99,63,101],[53,80,53,82],[81,67,82,102],[79,101,79,102],[80,96,80,98],[80,92,80,94],[80,68,80,70],[77,87,77,90],[78,82,78,86],[80,73,80,75],[80,78,80,80],[80,82,80,86],[80,88,80,90],[78,77,78,81],[56,68,56,75],[76,96,76,99],[73,77,73,83],[73,86,73,92],[73,95,73,101],[74,96,74,100],[70,83,70,84],[70,85,70,87],[77,91,77,94],[77,77,77,81],[78,87,78,90],[77,82,77,86],[67,79,67,81],[65,68,65,71],[63,74,63,76],[68,85,68,87],[62,99,62,101],[62,93,62,95],[65,83,65,86],[65,98,65,101],[63,94,63,96],[49,87,49,90],[51,99,51,102],[51,77,51,79],[51,80,51,82],[51,83,51,86],[51,95,51,98],[51,91,51,94],[51,87,51,90],[63,89,63,91],[56,83,56,86],[57,67,58,102],[49,91,49,94],[52,91,52,94],[50,99,50,102],[50,77,50,79],[50,95,50,98],[50,80,50,82],[50,83,50,86],[55,91,55,94],[55,87,55,90],[54,83,54,86],[54,95,54,98],[60,91,60,96],[55,95,55,98],[56,95,56,98],[53,87,53,90],[53,91,53,94],[54,99,54,102],[54,80,54,82],[65,0,65,6],[62,81,62,83],[61,80,61,83],[65,43,65,49],[65,53,65,56],[67,22,67,24],[65,22,65,24],[61,19,61,21],[62,29,62,30],[61,22,61,24],[63,10,63,12],[62,16,62,18],[59,43,59,56],[60,43,60,47],[60,48,60,52],[60,53,60,56],[61,43,61,47],[61,48,61,52],[61,53,61,56],[62,10,62,12],[62,13,62,15],[64,7,64,9],[67,10,67,12],[67,13,67,15],[67,82,67,84],[65,10,65,12],[65,13,65,15],[67,62,67,66],[59,10,59,12],[65,73,65,76],[65,78,65,81],[62,19,62,21],[70,101,70,102],[70,97,70,99],[71,22,71,24],[72,25,72,28],[71,35,71,37],[70,35,70,37],[70,22,70,24],[72,22,72,24],[72,39,72,42],[71,43,71,47],[71,67,72,82],[71,83,72,102],[70,94,70,96],[70,39,70,42],[70,72,70,75],[70,77,70,78],[70,91,70,93],[70,79,70,81],[70,48,70,52],[30,40,30,46],[26,40,26,46],[22,40,22,46],[22,25,22,28],[45,57,45,61],[33,40,33,46],[49,58,49,61],[35,98,35,101],[35,75,35,77],[49,62,49,66],[44,29,44,30],[45,36,45,37],[47,80,47,82],[49,46,49,49],[49,39,49,45],[48,56,48,59],[48,50,48,53],[45,77,45,82],[47,68,47,75],[41,97,41,100],[36,93,36,95],[38,40,38,46],[31,99,31,102],[27,99,27,102],[30,95,30,98],[35,93,35,95],[39,93,39,95],[33,49,33,51],[31,40,31,46],[30,68,30,72],[30,91,30,94],[49,99,49,102],[14,67,15,81],[37,75,37,77],[36,75,36,77],[23,49,23,51],[23,53,23,56],[23,60,23,64],[25,40,25,46],[22,73,22,76],[22,77,22,80],[22,81,22,84],[14,82,15,95],[37,93,37,95],[32,95,32,98],[29,53,29,56],[29,60,29,64],[29,40,29,46],[29,49,29,51],[28,40,28,46],[28,49,28,51],[32,49,32,51],[32,53,32,56],[32,60,32,64],[35,40,35,46],[36,40,36,46],[37,40,37,46],[37,49,37,51],[36,49,36,51],[35,80,35,83],[32,91,32,94],[32,40,32,46],[26,95,26,98],[20,91,20,94],[31,91,31,94],[31,95,31,98],[32,68,32,72],[33,53,33,56],[35,60,35,64],[35,53,35,56],[40,67,41,73],[39,60,39,64],[49,68,49,75],[48,68,48,75],[42,67,42,73],[50,59,50,61],[50,50,50,53],[50,55,50,57],[48,62,48,65],[40,75,41,77],[43,67,44,82],[31,49,31,51],[38,75,38,77],[38,60,38,64],[37,79,37,82],[38,49,38,51],[38,53,38,56],[36,60,36,64],[34,53,34,56],[48,77,48,79],[43,49,43,51],[38,97,38,100],[36,53,36,56],[36,79,36,82],[40,53,40,56],[43,53,43,56],[37,53,37,56],[92,32,92,34],[88,50,88,53],[58,61,58,63],[70,57,70,61],[68,62,68,66],[82,62,82,66],[60,63,60,66],[71,62,71,66],[57,64,57,66],[57,55,57,57],[59,59,59,62],[71,57,71,61],[60,59,60,62],[61,59,61,62],[61,63,61,66],[66,39,66,66],[57,31,57,33],[57,35,57,37],[65,57,65,63],[67,53,67,56],[61,36,61,37],[58,44,58,46],[68,35,68,37],[58,48,58,50],[58,58,58,60]],"merged_total":1102,"flags":["merged_cut"]}
[{"$f":"+データ一覧!R2","v":"なんじょうぐん"}]
[{"$f":"+データ一覧!R5","v":"南条郡"},null,null,null,null,null,null,null,null,null,null,null,null,null,null,null,null,null,null,null,null,null,null,null,null,null,null,null,null,null,null,null,null,null,null,null,null,null,null,0]
[null,null,null,null,null,null,null,null,null,null,null,null,null,null,null,null,null,null,null,null,null,null,null,null,null,null,null,null,null,null,null,null,null,null,null,null,null,null,null,0]
[null,null,null,null,null,null,null,null,null,null,null,null,null,null,null,null,null,null,null,null,null,null,null,null,null,null,null,"【町章とそのいわれ】    「南越前町」の「み」をモチーフに、",null,null,null,null,null,null,null,null,null,null,null,"【位置および地勢 】南越前町は福井県のほぼ中央、嶺北地域の南端に位置している。",null,null,null,null,null,null,null,null,null,null,null,null,null,null,null,null,null,null,null,null,null,null,null,null,null,null,null,null,null,null,"所在地",null,null,null,null,null,null,null,"〒919-0292"]
[null,null,null,null,null,null,null,null,null,null,null,null,null,null,null,null,null,null,null,null,null,null,null,null,null,null,null,"　　　　　　　　　青・濃い緑・橙色を使用し、海と緑と歴史を",null,null,null,null,null,null,null,null,null,null,null,"　　　　　　　　　","越前市と接する福井平野の南端部、池田町、岐阜県、滋賀県、敦賀市と接する",null,null,null,null,null,null,null,null,null,null,null,null,null,null,null,null,null,null,null,null,null,null,null,null,null,null,null,null,null,null,null,null,null,null,null,null,null,"南条郡南越前町東大道２９-１"]
[{"$f":"+データ一覧!R3","v":"みなみえちぜんちょう"},null,null,null,null,null,null,null,null,null,null,null,null,null,null,null,null,null,null,null,null,null,null,null,null,null,null,"　　　　　　　　　イメージしている。",null,null,null,null,null,null,null,null,null,null,null,null,"日野川上流の山間部と越前町、敦賀市と接する日本海沿岸の海岸部からなり、"]
[{"$f":"データ一覧!R6","v":"南越前町"},null,null,null,null,null,null,null,null,null,null,null,null,null,null,null,null,null,null,null,null,null,null,null,null,null,null,0,null,null,null,null,null,null,null,null,null,null,null,null,"面積は343.69平方キロメートルと福井県全体の8.2％を占めている。",null,null,null,null,null,null,null,null,null,null,null,null,null,null,null,null,null,null,null,null,null,null,null,null,null,null,null,null,null,"電話番号",null,null,null,null,null,null,null,"（０７７８）４７－３０００ 　"]
[null,null,null,null,null,null,null,null,null,null,null,null,null,null,null,null,null,null,null,null,null,null,null,null,null,null,null,0,null,null,null,null,null,null,null,null,null,null,null,null,"日野川上流部の山間地に位置する今庄地区は、豊かな森林に恵まれ、その下流に",null,null,null,null,null,null,null,null,null,null,null,null,null,null,null,null,null,null,null,null,null,null,null,null,null,null,null,null,null,"FAX番号",null,null,null,null,null,null,null,"     〃     ４７－３２６１　"]
[null,null,null,null,null,null,null,null,null,null,null,null,null,null,null,null,null,null,null,null,null,null,null,null,null,null,null,0,null,null,null,null,null,null,null,null,null,null,null,null,"位置する南条地区は、日野川の両岸に整備された田園地帯が広がっている。"]
[null,null,null,null,null,null,null,null,null,null,null,null,null,null,null,null,null,null,null,null,null,null,null,null,null,null,null,0,null,null,null,null,null,null,null,null,null,null,null,null,"また、西側に位置する河野地区は、暖流と寒流が合流する好漁場である若狭湾に",null,null,null,null,null,null,null,null,null,null,null,null,null,null,null,null,null,null,null,null,null,null,null,null,null,null,null,null,null,"最寄駅および距離",null,null,null,null,null,null,null,"ＪＲ北陸本線南条駅　下車５００ｍ"]
[null,null,null,null,null,null,null,null,null,null,null,null,null,null,null,null,null,null,null,null,null,null,null,null,null,null,null,0,null,null,null,null,null,null,null,null,null,null,null,null,"面しており、河野川などの複数の河川が日本海へ注いでいる。"]
[]
[null,null,null,null,null,null,null,null,null,null,null,null,null,null,null,null,null,null,null,null,null,null,null,null,null,null,null,"【町が掲げる標語】海と緑と歴史の恵みに抱かれて、出会いから活力の花ひらく町",null,null,null,null,null,null,null,null,null,null,null,null,null,null,null,null,null,null,null,null,null,null,null,null,null,null,null,null,null,null,null,null,null,null,null,null,null,null,null,null,null,null,"ホームページ",null,null,null,null,null,null,null,"http://www.town.minamiechizen.lg.jp/"]
[]
["  １  土            　　地",null,null,null,null,null,null,null,null,null,null,null,null,null,null,null,null,null,null,null,null,null,null,null,null,{"$f":"データ一覧!$A$240","v":"2年"},"産米収穫量",null,null,"　 収　穫　量",null,null," 　作 付 面 積",null,null,"   10a当たり収量",null,null,null,null,null,null,null,null,null,null,null,null,null,null,null,null,null,null,null,null,null,null,null,null,null,null,null,null,null,null,null," １５  労　　　　　　　働",null,null,null,null,null,null,null,null,null,null,null,null,null,null,"27.10.1"]
[null,null,null,null,null,null,null,null,null,null,null,null,null,null,null,null,null,null,null,null,null,null,null,null,null,null,null,null,null,{"$f":"データ一覧!$R$240","v":3310},null,"t",{"$f":"データ一覧!$R$241","v":693},null,"ha",{"$f":"データ一覧!R242","v":478},null,null,"kg"," １０  工　　　　　　業 ",null,null,null,null,null,null,null,null,null,null,null,null,null,{"$f":"データ一覧!$A$332","v":"2.6.1（令和元年実績）"}]
["   総          面           積",null,null,null,null,null,null,null,null,null," 固 定 資 産 概 要 調 書 に よ る 地 目 別 面 積",null,null,null,null,null,null,null,null,null,null,null,null,null,null,null,null,null,"   総　　　数",null,null,null,"うち　　田",null,null,null,"うち　　畑",null,null,null,null,null,null,null,null,null,null,null,null,null,null,null,null,null,null,null,null,null,null,null,null,null,null,null,null,null,null,null,null,null,null,null,null,null,"産業別就業者数   "]
[null,null,{"$f":"データ一覧!$A$7","v":"3.10.1"},null,null,null,null,null,null,null,null,null,null,null,null,null,{"$f":"データ一覧!$A$9","v":"3.1.1"},null,null,null,null,null,null,null,null," 耕  地  面  積",null,null,null,"       ha",null,null,"ha ",null,null,null,"ha ",null,null,"      ","産業分類",null,null,null,null,null,null,null,"事業所数",null,null,null,null,"従業者数",null,null,null,null,null,"年間製造品出荷額等",null,null,null,null,null,null,null,null,"区  分",null,null,null,null,"総    数",null,null,null,null,"男",null,null,null,"女",null,null,"  ","区  分",null,null,null,null,"総    数",null,null,null,null,"男",null,null,null,"女"]
[null,null,null,null,null,null,"㎢",null,null,null,"   総       数",null,null,null,null,"  う ち     田",null,null,null,null,"  う ち     畑",null,null,null,null,{"$f":"データ一覧!A243","v":"2.7.15"},null,null,{"$f":"データ一覧!$R$243","v":1060},null,null,{"$f":"データ一覧!$R$244","v":956},null,null,null,{"$f":"データ一覧!$R$245","v":103},null,null,null,null,null,null,null,null,null,null,null,null,"　　   ",null,null,"事業所",null,"　　　　　　　 人",null,null,"人",null,"　　　　　　　　　　　　　　万円",null,null,null,null,null,null,"万円",null,null,null,null,null,null,null,"      人",null,null,null,null,null," 人",null,null,null," 人",null,null,null,null,null,null,null,"      人",null,null,null,"      人",null,null,null,"      人"]
[null,null,null,{"$f":"データ一覧!R7","v":343.69},null,null,null,null,null,null,null,null,null,null,"ha",null,null,null,null,"ha",null,null,null,null,"ha","農 業 生 産 物",null,null,null,"作 付 面 積",null,null,"収 穫 量",null,null,"10a当たり収量",null,null,null,"     ","総数",null,null,null,null,null,null,null,null,{"$f":"データ一覧!R332","v":13},null,null,null,{"$f":"+データ一覧!R357","v":431},null,null,null,null,null,null,{"$f":"データ一覧!R382","v":1086397},null,null,null,null,null,null," 総　　　数",null,null,null,null,null,{"$f":"BZ20+CD20","v":5503},null,null,null,{"$f":"データ一覧!R507","v":2990},null,null,null,{"$f":"データ一覧!R532","v":2513}]
[null,null,null,null,null,null,null,null,null,null,null,{"$f":"データ一覧!R9","v":13042.8},null,null,null,null,{"$f":"データ一覧!R10","v":1001},null,null,null,null,{"$f":"データ一覧!R11","v":143.9},null,null,null,{"$f":"データ一覧!$A$246","v":"2年中"},null,null,null,"ha",null,null,"t",null,null,"kg",null,null,null,"     食料品","食料品",null,null,null,null,null,null,null,null,{"$f":"データ一覧!R333","v":1},null,null,null,{"$f":"+データ一覧!R358","v":10},null,null,null,null,null,null,{"$f":"データ一覧!R383","v":"x"},null,null,null,null,null,null,null,null,null,null,null,null,null,null,null,null,null,null,null,null,null,null,null,null,null,"卸売業,小売業",null,null,null,null,{"$f":"CR21+CV21","v":680},null,null,null,{"$f":"データ一覧!R520","v":305},null,null,null,{"$f":"データ一覧!R545","v":375}]
["  町 ･ 丁 ･ 大 字",null,null,null,null,null,null,null,null,null,"  う ち  宅 地",null,null,null,null,"  う ち  山 林",null,null,null,null,"  う ち  原 野",null,null,null,null,"水　　　　　稲",null,null,null,{"$f":"データ一覧!R246","v":693},null,null,{"$f":"データ一覧!R247","v":3310},null,null,{"$f":"データ一覧!R248","v":478},null,null,null,"     飲料・飼料","飲料・飼料",null,null,null,null,null,null,null,null,{"$f":"データ一覧!R334","v":0},null,null,null,{"$f":"+データ一覧!R359","v":0},null,null,null,null,null,null,{"$f":"データ一覧!R384","v":0},null,null,null,null,null,null," 第１次産業",null,null,null,null,null,{"$f":"BZ22+CD22","v":401},null,null,null,{"$f":"データ一覧!R508","v":275},null,null,null,{"$f":"データ一覧!R533","v":126},null,null,null,null,"金融業,保険業",null,null,null,null,{"$f":"CR22+CV22","v":73},null,null,null,{"$f":"データ一覧!R521","v":23},null,null,null,{"$f":"データ一覧!R546","v":50}]
["  区    画    数",null,null,null,null,null,null,{"$f":"データ一覧!R8","v":63},null,null,null,null,null,null,"ha",null,null,null,null,"ha",null,null,null,null,"ha","六　条　大　麦",null,null,null,{"$f":"データ一覧!R249","v":34},null,null,{"$f":"データ一覧!R250","v":35},null,null,{"$f":"データ一覧!R251","v":103},null,null,null,"     繊維","繊維",null,null,null,null,null,null,null,null,{"$f":"データ一覧!R335","v":5},null,null,null,{"$f":"+データ一覧!R360","v":135},null,null,null,null,null,null,{"$f":"データ一覧!R385","v":121666},null,null,null,null,null,null,"  ","農業",null,null,null,null,{"$f":"BZ23+CD23","v":307},null,null,null,{"$f":"データ一覧!R509","v":189},null,null,null,{"$f":"データ一覧!R534","v":118},null,null,null,"  ","不動産業",null,null,null,null,22,null,null,null,{"$f":"データ一覧!R522","v":11},null,null,null,{"$f":"データ一覧!R547","v":11}]
[{"$f":"データ一覧!$A$8","v":"2.4.1"},null,null,null,null,null,null,null,null,null,null,{"$f":"データ一覧!R12","v":281.3},null,null,null,null,{"$f":"データ一覧!R13","v":6130.9},null,null,null,null,{"$f":"データ一覧!R14","v":200.2},null,null,null,"大　　      豆",null,null,null,{"$f":"データ一覧!R252","v":6},null,null,{"$f":"データ一覧!R253","v":3},null,null,{"$f":"データ一覧!R254","v":50},null,null,null,"     衣服","木材",null,null,null,null,null,null,null,null,{"$f":"データ一覧!R336","v":0},null,null,null,{"$f":"+データ一覧!R361","v":0},null,null,null,null,null,null,{"$f":"データ一覧!R386","v":0},null,null,null,null,null,null,"  ","林業",null,null,null,null,35,null,null,null,{"$f":"データ一覧!R510","v":31},null,null,null,{"$f":"データ一覧!R535","v":4},null,null,null,"  ","学術研究",null,null,null,null,103,null,null,null,{"$f":"データ一覧!R523","v":78},null,null,null,{"$f":"データ一覧!R548","v":25}]
["  ２  世　帯　数　と　人　口",null,null,null,null,null,null,null,null,null,null,null,null,null,null,null,null,null,null,null,null,null,null,null,null,null,null,"  区　分",null," 乳 用 牛",null," 肉 用 牛",null,"豚",null,"採卵鶏",null,"ブロイラー",null,"     木材","家具",null,null,null,null,null,null,null,null,{"$f":"データ一覧!R337","v":0},null,null,null,{"$f":"+データ一覧!R362","v":0},null,null,null,null,null,null,{"$f":"データ一覧!R387","v":0},null,null,null,null,null,null,"  ","漁業",null,null,null,null,59,null,null,null,{"$f":"データ一覧!R511","v":55},null,null,null,{"$f":"データ一覧!R536","v":4},null,null,null,"  ","宿泊業,飲食ｻｰﾋﾞｽ",null,null,null,null,329,null,null,null,{"$f":"データ一覧!R524","v":97},null,null,null,{"$f":"データ一覧!R549","v":232}]
[null,null,null,null,null,null,null,null,null,null,null,null,null,null,null,null,null,null,null,null,null,null,null,null,null,"畜　産",null," 飼養農家",null,{"$f":"データ一覧!$R$255","v":0},null,{"$f":"データ一覧!$R$257","v":0},null,{"$f":"データ一覧!$R$259","v":"-"},null,{"$f":"データ一覧!$R$261","v":"x"},null,{"$f":"データ一覧!$R$263","v":0},null,"     家具","パルプ・紙",null,null,null,null,null,null,null,null,{"$f":"データ一覧!R338","v":0},null,null,null,{"$f":"+データ一覧!R363","v":0},null,null,null,null,null,null,{"$f":"データ一覧!R388","v":0},null,null,null,null,null,null," 第２次産業",null,null,null,null,null,1887,null,null,null,{"$f":"データ一覧!R512","v":1290},null,null,null,{"$f":"データ一覧!R537","v":597},null,null,null,"  ","生活関連ｻｰﾋﾞｽ業",null,null,null,null,124,null,null,null,{"$f":"データ一覧!R525","v":42},null,null,null,{"$f":"データ一覧!R550","v":82}]
[null,null,null,null,null,null,null,null,"        人　　　　　　　　　　口",null,null,null,null,null,null,null,null,null,null,null,"１世帯当",null,"人    口",null,null,{"$f":"データ一覧!$A$255","v":"3.3.31"},null,"（戸）",null,null,null,null,null,null,null,null,null,null,null,"     パルプ・紙","印刷",null,null,null,null,null,null,null,null,{"$f":"データ一覧!R339","v":0},null,null,null,{"$f":"+データ一覧!R364","v":0},null,null,null,null,null,null,{"$f":"データ一覧!R389","v":0},null,null,null,null,null,null,null,"鉱業，採石業",null,null,null,null,18,null,null,null,{"$f":"データ一覧!R513","v":14},null,null,null,{"$f":"データ一覧!R538","v":4},null,null,null,"  ","教育,学習支援業",null,null,null,null,195,null,null,null,{"$f":"データ一覧!R526","v":69},null,null,null,{"$f":"データ一覧!R551","v":126}]
[" 区　　　　分",null,null,null,null,"世帯数",null,null," 総   数",null,null,"    男",null,null,"    女",null,null,"  男／女",null,null,"たり人員",null,"密    度",null,null,null,null," 頭 羽",null,{"$f":"データ一覧!$R$256","v":0},null,{"$f":"データ一覧!$R$258","v":0},null,{"$f":"データ一覧!$R$260","v":0},null,{"$f":"データ一覧!$R$262","v":200},null,{"$f":"データ一覧!$R$264","v":0},null,"     出版・印刷","化学",null,null,null,null,null,null,null,null,{"$f":"データ一覧!R340","v":0},null,null,null,{"$f":"+データ一覧!R365","v":0},null,null,null,null,null,null,{"$f":"データ一覧!R390","v":0},null,null,null,null,null,null,"  ","建設業",null,null,null,null,492,null,null,null,{"$f":"データ一覧!R514","v":436},null,null,null,{"$f":"データ一覧!R539","v":56},null,null,null,null,"医療，福祉",null,null,null,null,719,null,null,null,{"$f":"データ一覧!R527","v":98},null,null,null,{"$f":"データ一覧!R552","v":621}]
[null,null,null,null,null,"    世 帯",null,null,"       人",null,null,"       人",null,null,"       人",null,null,null,"　　％",null,"    人",null,"    人/㎢",null,null,null,null,null,null,null,null,null,null,null,null,null,null,null,null,"     化学","石油・石炭",null,null,null,null,null,null,null,null,{"$f":"データ一覧!R341","v":0},null,null,null,{"$f":"+データ一覧!R366","v":0},null,null,null,null,null,null,{"$f":"データ一覧!R391","v":0},null,null,null,null,null,null,null,"製造業",null,null,null,null,1377,null,null,null,{"$f":"データ一覧!R515","v":840},null,null,null,{"$f":"データ一覧!R540","v":537},null,null,null,null,"複合サービス事業",null,null,null,null,106,null,null,null,{"$f":"データ一覧!R528","v":53},null,null,null,{"$f":"データ一覧!R553","v":53}]
[{"$f":"データ一覧!$A$22","v":" 2.10.1"},null,null,null,null,{"$f":"データ一覧!R22","v":3484},null,null,{"$f":"+L30+O30","v":13804},null,null,{"$f":"データ一覧!R24","v":6628},null,null,{"$f":"データ一覧!R25","v":7176},null,null,null,{"$f":"+L30/O30*100","v":92.363433667781493},null,{"$f":"データ一覧!R27","v":3.96},null,{"$f":"データ一覧!R21","v":0},null,null,"  ５  林               業",null,null,null,null,null,null,null,null,null,null,null,null,null,"     石油・石炭","プラスチック",null,null,null,null,null,null,null,null,{"$f":"データ一覧!R342","v":3},null,null,null,{"$f":"+データ一覧!R367","v":99},null,null,null,null,null,null,{"$f":"データ一覧!R392","v":433103},null,null,null,null,null,null," 第３次産業",null,null,null,null,null,3187,null,null,null,{"$f":"データ一覧!R516","v":1409},null,null,null,{"$f":"データ一覧!R541","v":1778},null,null,null,null,"サービス業",null,null,null,null,316,null,null,null,{"$f":"データ一覧!R529","v":202},null,null,null,{"$f":"データ一覧!R554","v":114}]
[{"$f":"データ一覧!$A$29","v":" 7.10.1"},null,null,null,null,{"$f":"データ一覧!R29","v":3634},null,null,{"$f":"+L31+O31","v":13616},null,null,{"$f":"データ一覧!R31","v":6555},null,null,{"$f":"データ一覧!R32","v":7061},null,null,null,92.833876221498372,null,{"$f":"データ一覧!R34","v":3.75},null,{"$f":"データ一覧!R28","v":0},null,null,null,null,null,null,null,null,null,null,null,null,null,null,null,null,"     プラスチック","ゴム",null,null,null,null,null,null,null,null,{"$f":"データ一覧!R343","v":0},null,null,null,{"$f":"+データ一覧!R368","v":0},null,null,null,null,null,null,{"$f":"データ一覧!R393","v":0},null,null,null,null,null,null,null,"電気･ｶﾞｽ･水道業",null,null,null,null,24,null,null,null,{"$f":"データ一覧!R517","v":21},null,null,null,{"$f":"データ一覧!R542","v":3},null,null,null,null,"公務",null,null,null,null,219,null,null,null,{"$f":"データ一覧!R530","v":170},null,null,null,{"$f":"データ一覧!R555","v":49}]
[{"$f":"データ一覧!$A$36","v":"12.10.1"},null,null,null,null,{"$f":"データ一覧!R36","v":3744},null,null,{"$f":"+L32+O32","v":13221},null,null,{"$f":"データ一覧!R38","v":6437},null,null,{"$f":"データ一覧!R39","v":6784},null,null,null,94.885023584905653,null,{"$f":"データ一覧!R41","v":3.53},null,{"$f":"データ一覧!R35","v":0},null,null,"    　森　　　林　　　総　　　面　　　積   ",null,null,null,null,null,null,null,{"$f":"データ一覧!$A$265","v":"3.3.31"},null,null,null,null,null,"     ゴム","皮革",null,null,null,null,null,null,null,null,{"$f":"データ一覧!R344","v":0},null,null,null,{"$f":"+データ一覧!R369","v":0},null,null,null,null,null,null,{"$f":"データ一覧!R394","v":0},null,null,null,null,null,null,null,"情報通信業",null,null,null,null,44,null,null,null,{"$f":"データ一覧!R518","v":36},null,null,null,{"$f":"データ一覧!R543","v":8},null,null,null," 分類不能の産業",null,null,null,null,null,28,null,null,null,{"$f":"データ一覧!R531","v":16},null,null,null,{"$f":"データ一覧!R556","v":12}]
[{"$f":"+データ一覧!$A$43","v":"17.10.1"},null,null,null,null,{"$f":"データ一覧!R43","v":3542},null,null,{"$f":"+L33+O33","v":12274},null,null,{"$f":"データ一覧!R45","v":5850},null,null,{"$f":"データ一覧!R46","v":6424},null,null,null,91.064757160647574,null,{"$f":"データ一覧!R48","v":3.47},null,{"$f":"データ一覧!R49","v":35.700000000000003},null,null,"　　　森　　　　　　　林　　　　　　　の　　　　　　　構　　　　　　　成",null,null,null,null,null,null,null,null,null,null,null,null,null,"     皮革","窯業・土石",null,null,null,null,null,null,null,null,{"$f":"データ一覧!R345","v":0},null,null,null,{"$f":"+データ一覧!R370","v":0},null,null,null,null,null,null,{"$f":"データ一覧!R395","v":0},null,null,null,null,null,null,"  ","運輸業,郵便業"]
[{"$f":"+データ一覧!$A$50","v":"22.10.1"},null,null,null,null,{"$f":"+データ一覧!R50","v":3483},null,null,{"$f":"+L34+O34","v":11551},null,null,{"$f":"+データ一覧!R52","v":5501},null,null,{"$f":"+データ一覧!R53","v":6050},null,null,null,90.925619834710744,null,{"$f":"+データ一覧!R55","v":3.32},null,{"$f":"+データ一覧!R56","v":33.6},null,null,null,null,null,null,null,"       ha",null,null,null,null,null,null,"       ha",null,"     窯業・土石","鉄鋼",null,null,null,null,null,null,null,null,{"$f":"データ一覧!R346","v":0},null,null,null,{"$f":"+データ一覧!R371","v":0},null,null,null,null,null,null,{"$f":"データ一覧!R396","v":0},null,null,null,null,null,null," １６  社　 会 　福　 祉",null,null,null,null,null,null,null,null,null,null,null,null,null,null,null,{"$f":"データ一覧!$A$557","v":"3.4.1"}]
[{"$f":"データ一覧!$A$57","v":"27.10.1"},null,null,null,null,{"$f":"データ一覧!R57","v":3353},null,null,{"$f":"データ一覧!R58","v":10799},null,null,{"$f":"データ一覧!R59","v":5173},null,null,{"$f":"データ一覧!R60","v":5626},null,null,null,91.948098115890502,null,{"$f":"データ一覧!R62","v":3.2206978824932895},null,{"$f":"データ一覧!R63","v":31.4},null,null,"  総　　　　　   数",null,null,null,{"$f":"データ一覧!R265","v":31452.639999999999},null,null," 天然林       針葉樹",null,null,null,{"$f":"データ一覧!R268","v":340.89},null,null,"     鉄鋼","非鉄金属",null,null,null,null,null,null,null,null,{"$f":"データ一覧!R347","v":0},null,null,null,{"$f":"+データ一覧!R372","v":0},null,null,null,null,null,null,{"$f":"データ一覧!R397","v":0}]
["令　2.10.1（国調）",null,null,null,null,{"$f":"データ一覧!R64","v":3266},null,null,{"$f":"データ一覧!R65","v":10002},null,null,{"$f":"データ一覧!R66","v":4804},null,null,{"$f":"データ一覧!R67","v":5198},null,null,null,{"$f":"+L36/O36*100","v":92.420161600615629},null,{"$f":"データ一覧!R72","v":3.01},null,{"$f":"データ一覧!R73","v":28.516977508801535},null,null,"  人工林     針葉樹",null,null,null,{"$f":"データ一覧!R266","v":9174.7799999999988},null,null," 天然林       広葉樹",null,null,null,{"$f":"データ一覧!R269","v":20735.310000000001},null,null,"     非鉄金属","金属",null,null,null,null,null,null,null,null,{"$f":"データ一覧!R348","v":1},null,null,null,{"$f":"+データ一覧!R373","v":21},null,null,null,null,null,null,{"$f":"データ一覧!R398","v":"x"},null,null,null,null,null,null,"    ","区分",null,null,null,null,null,null,"施設数",null,null,null,null,"収容定員",null,null,null,null,null,"区分",null,null,null,null,null,null,"施設数",null,null,null,null,"収容定員"]
["年",null,"  区",null," 0歳",null,null,"15歳",null,null,"25歳",null,null,"35歳",null,null,"45歳",null,null,"55歳",null,null,"65歳",null,null,"  人工林     広葉樹",null,null,null,{"$f":"データ一覧!R267","v":299.63},null,null," 竹               林",null,null,null,{"$f":"データ一覧!R270","v":56.18},null,null,"     金属","はん用機械",null,null,null,null,null,null,null,null,{"$f":"データ一覧!R349","v":0},null,null,null,{"$f":"+データ一覧!R374","v":0},null,null,null,null,null,null,{"$f":"データ一覧!R399","v":0},null,null,null,null,null,null,"生活保護施設",null,null,null,null,null,null,null,{"$f":"データ一覧!R557","v":0},null,null,null,{"$f":"データ一覧!R570","v":0},null,null,null,"人",null,"指定障害者支援施設",null,null,null,null,null,null,null,{"$f":"データ一覧!R563","v":0},null,null,null,{"$f":"データ一覧!R576","v":0},null,null,null,"人"]
["齢","令",null,null,null,"～",null,null,"～",null,null,"～",null,null,"～",null,null,"～",null,null,"～",null,null,null,null,null,null,null,null,null,null,null,null,null,null,null,null,null,null,"     一般機械","生産用機械",null,null,null,null,null,null,null,null,{"$f":"データ一覧!R350","v":0},null,null,null,{"$f":"+データ一覧!R375","v":0},null,null,null,null,null,null,{"$f":"データ一覧!R400","v":0},null,null,null,null,null,null,"地域福祉施設",null,null,null,null,null,null,null,{"$f":"データ一覧!R558","v":0},null,null,null,{"$f":"データ一覧!R571","v":0},null,null,null,null,null,"指定相談支援事業所",null,null,null,null,null,null,null,{"$f":"データ一覧!R564","v":0},null,null,null,{"$f":"データ一覧!R577","v":0}]
["階",{"$f":"+LEFT(データ一覧!$A$83,1)","v":"3"},"  分",null,null,null,"14歳",null,null,"24歳",null,null,"34歳",null,null,"44歳",null,null,"54歳",null,null,"64歳",null,null,"以上","    林     野     の     構     成",null,null,null,null,null,null,"保     有     形     態     別",null,null,null,null,null,null,"     電気機械","業務用機械",null,null,null,null,null,null,null,null,{"$f":"データ一覧!R351","v":0},null,null,null,{"$f":"+データ一覧!R376","v":0},null,null,null,null,null,null,{"$f":"データ一覧!R401","v":0},null,null,null,null,null,null,"老人福祉施設",null,null,null,null,null,null,null,{"$f":"データ一覧!R559","v":4},null,null,null,{"$f":"データ一覧!R572","v":75},null,null,null,null,null,"児童福祉施設",null,null,null,null,null,null,null,{"$f":"データ一覧!R565","v":8},null,null,null,{"$f":"データ一覧!R578","v":445}]
["級","・",null,null,null,null,"人",null,null,"人",null,"    人",null,null,"    人",null,null,"    人",null,null,"    人",null,null,"    人",null,null,null,null,null,null,null,"ha",null,null,null,null,null,"       ha",null,null,"電子・デバイス",null,null,null,null,null,null,null,null,{"$f":"データ一覧!R352","v":0},null,null,null,{"$f":"+データ一覧!R377","v":0},null,null,null,null,null,null,{"$f":"データ一覧!R402","v":0},null,null,null,null,null,null,"介護保険施設",null,null,null,null,null,null,null,{"$f":"データ一覧!R560","v":17},null,null,null,{"$f":"データ一覧!R573","v":462},null,null,null,null,null,"母子福祉施設",null,null,null,null,null,null,null,{"$f":"データ一覧!R566","v":0},null,null,null,{"$f":"データ一覧!R579","v":0}]
["別",{"$f":"+MID(データ一覧!$A$83,3,2)","v":"10"},"総 数",null,{"$f":"+E42+E43","v":1122},null,null,{"$f":"+H42+H43","v":772},null,null,{"$f":"+K42+K43","v":720},null,null,{"$f":"+N42+N43","v":1014},null,null,{"$f":"+Q42+Q43","v":1137},null,null,{"$f":"+T42+T43","v":1267},null,null,{"$f":"+W42+W43","v":3769},null,null," 無立木地   伐採跡地",null,null,null,{"$f":"データ一覧!R271","v":0},null,null,"国   　　　 　 有",null,null,null,{"$f":"データ一覧!R273","v":6530.63},null,null,null,"電気機械",null,null,null,null,null,null,null,null,{"$f":"データ一覧!R353","v":2},null,null,null,{"$f":"+データ一覧!R378","v":97},null,null,null,null,null,null,{"$f":"データ一覧!R403","v":"x"},null,null,null,null,null,null,"障害者自立支援法施行前からの身体障害者福祉施設",null,null,null,null,null,null,null,{"$f":"データ一覧!R561","v":0},null,null,null,{"$f":"データ一覧!R574","v":0},null,null,null,null,null,"婦人保護施設",null,null,null,null,null,null,null,{"$f":"データ一覧!R567","v":0},null,null,null,{"$f":"データ一覧!R580","v":0}]
["人","・","  男",null,{"$f":"データ一覧!R83","v":601},null,null,{"$f":"データ一覧!R84","v":407},null,null,{"$f":"データ一覧!R85","v":381},null,null,{"$f":"データ一覧!R86","v":522},null,null,{"$f":"データ一覧!R87","v":578},null,null,{"$f":"データ一覧!R88","v":613},null,null,{"$f":"データ一覧!R89","v":1607},null,null," 無立木地   未立木地",null,null,null,{"$f":"データ一覧!R272","v":845.84999999999798},null,null,"公       　　  有",null,null,null,{"$f":"データ一覧!R274","v":4625.2700000000004},null,null,"     輸送機械","情報通信機械",null,null,null,null,null,null,null,null,{"$f":"データ一覧!R354","v":0},null,null,null,{"$f":"+データ一覧!R379","v":0},null,null,null,null,null,null,{"$f":"データ一覧!R404","v":0},null,null,null,null,null,null,null,null,null,null,null,null,null,null,null,null,null,null,null,null,null,null,null,null,"その他の社会福祉施設",null,null,null,null,null,null,null,{"$f":"データ一覧!R568+データ一覧!R569","v":0},null,null,null,{"$f":"データ一覧!R581+データ一覧!R582","v":0}]
["口",{"$f":"+RIGHT(データ一覧!$A$83,1)","v":"1"},"  女",null,{"$f":"データ一覧!R91","v":521},null,null,{"$f":"データ一覧!R92","v":365},null,null,{"$f":"データ一覧!R93","v":339},null,null,{"$f":"データ一覧!R94","v":492},null,null,{"$f":"データ一覧!R95","v":559},null,null,{"$f":"データ一覧!R96","v":654},null,null,{"$f":"データ一覧!R97","v":2162},null,null,null,null,null,null,null,null,null,"私          　 有",null,null,null,{"$f":"データ一覧!R275","v":20296.739999999998},null,null,"     精密機械","輸送機械",null,null,null,null,null,null,null,null,{"$f":"データ一覧!R355","v":0},null,null,null,{"$f":"+データ一覧!R380","v":0},null,null,null,null,null,null,{"$f":"データ一覧!R405","v":0},null,null,null,null,null,null,"障害福祉サービス事業所",null,null,null,null,null,null,null,{"$f":"データ一覧!R562","v":5},null,null,null,{"$f":"データ一覧!R575","v":44}]
[null,null,null,null,null,null,null,null,null,null,null,null,null,null,null,null,null,null,null,null,null,null,null,null,null,"            林     産     物     生     産     量 ",null,null,null,null,null,null,null,null,null,{"$f":"データ一覧!$A$276","v":"2年中"},null,null,null,"     その他","その他",null,null,null,null,null,null,null,null,{"$f":"データ一覧!R356","v":1},null,null,null,{"$f":"+データ一覧!R381","v":69},null,null,null,null,null,null,{"$f":"データ一覧!R406","v":"x"},null,null,null,null,null,null," １７  教　　　　　　　育",null,null,null,null,null,null,null,null,null,null,null,null,null,null,null,{"$f":"データ一覧!$A$583","v":"3.5.1"}]
["人口動態",null,null,null,null,null,null,"   自　然　動　態",null,null,null,null,null,"   社  会  動  態",null,null,null,null,null,{"$f":"データ一覧!$A78","v":"2.1.1～3.12.31"},null,null,null,null,null,"生椎茸",null,null,null,{"$f":"データ一覧!R276","v":2193},null,"㎏","乾椎茸",null,null,null,{"$f":"データ一覧!R277","v":"-"},null,"㎏"]
[null,null,"   区       分",null,null,null,null," 出   生",null,null," 死   亡",null,null," 転   入",null,null," 転   出",null,null," 婚   姻",null,null," 離   婚",null,null,"えのきだけ",null,null,null,{"$f":"データ一覧!R279","v":"-"},null,"㎏","なめこ",null,null,null,{"$f":"データ一覧!R278","v":"-"},null,"㎏","    ","工　業　用　水　量",null,null,null,null,null,"（従業者30人以上の事業所）",null,null,null,null,null,null,null,null,null,null,{"$f":"データ一覧!R407","v":268},null,null,null,null,"㎥／日",null,null,null,null,null,null,null,null,null,null,null,null,null,null,"学校数（校）",null,null,null,null,null,null,"教員数（人）",null,null,null,null,null,null,null,"学生・生徒・児童数（人）"]
[{"$f":"LEFT(データ一覧!$A74,6)","v":"2.10.1"},null,null,null,null,null,null,"       人",null,null,"       人",null,null,"       人",null,null,"       人",null,null,null,"    件",null,null,"    件",null,"ひらたけ",null,null,null,{"$f":"+データ一覧!R280","v":"-"},null,"㎏","まいたけ",null,null,null,{"$f":"+データ一覧!R281","v":"-"},null,"㎏",null,null,null,null,null,null,null,null,null,null,null,null,null,null,null,null,null,null,null,null,null,null,null,null,null,null,null,null,null,"　","区分",null,null,null,null,null,null,null," 本 校",null,null," 分 校",null,null," 本   務",null,null,null," 兼   務",null,null,null," 総   数",null,null,null,"男",null,null,null,"女"]
["～",null," 実          数",null,null,null,null,{"$f":"データ一覧!R74","v":27},null,null,{"$f":"データ一覧!R75","v":91},null,null,{"$f":"データ一覧!R76","v":73},null,null,{"$f":"データ一覧!R77","v":115},null,null,{"$f":"データ一覧!R78","v":39},null,null,{"$f":"データ一覧!R79","v":12},null,null,null,null,null,null,null,null,null,null,null,null,null,null,null,null," １１ 　上　・　下　水　道",null,null,null,null,null,null,null,null,null,null,null,null,null,null,null,null,null,null,null,null,null,null,null,null,null,null,null,null,"小学校",null,null,null,null,null,null,null,null,{"$f":"データ一覧!R584","v":4},null,null,{"$f":"データ一覧!R585","v":0},null,null,{"$f":"データ一覧!R586","v":55},null,null,null,{"$f":"データ一覧!R587","v":6},null,null,null,{"$f":"データ一覧!R588","v":479},null,null,null,{"$f":"データ一覧!R589","v":267},null,null,null,{"$f":"データ一覧!R590","v":212}]
[{"$f":"RIGHT(データ一覧!$A76,6)","v":"3.9.30"},null,"比率(対1,000人)",null,null,null,null,{"$f":"+H48/I35*1000","v":2.5002315029169369},null,null,{"$f":"+K48/I35*1000","v":8.4267061764978237},null,null,"- ",null,null,"- ",null,null,{"$f":"+T48/I35*1000","v":3.6114455042133531},null,null,{"$f":"+W48/I35*1000","v":1.1112140012964165},null,null,"  ６  漁               業",null,null,null,null,null,null,null,null,null,null,null,null,null,null,null,null,null,null,null,null,null,null,null,null,null,null,null,null,null,null,null,null,null,null,null,null,null,null,null,null,null,"  ","中学校",null,null,null,null,null,null,null,null,{"$f":"データ一覧!R592","v":3},null,null,{"$f":"データ一覧!R593","v":0},null,null,{"$f":"データ一覧!R594","v":41},null,null,null,{"$f":"データ一覧!R595","v":9},null,null,null,{"$f":"データ一覧!R596","v":259},null,null,null,{"$f":"データ一覧!R597","v":138},null,null,null,{"$f":"データ一覧!R598","v":121}]
[null,null,null,null,null,null,null,null,null,null,null,null,null,null,null,null,null,null,null,null,null,null,null,null,null,null,null,null,null,null,null,null,null,null,null,null,null,null,null,"水 道 供 給 人 口",null,null,null,null,null,null,"上 水 道",null,null,null,"簡易水道",null,null,null,"専用水道",null,null,null,"飲料水供給施設",null,null,null,"下水道処理人口",null,null,null,null,"  ","高等学校",null,null,null,null,null,null,null,null,{"$f":"データ一覧!R600","v":0},null,null,{"$f":"データ一覧!R601","v":0},null,null,{"$f":"データ一覧!R602","v":0},null,null,null,{"$f":"データ一覧!R603","v":0},null,null,null,{"$f":"データ一覧!R604","v":0},null,null,null,{"$f":"データ一覧!R605","v":0},null,null,null,{"$f":"データ一覧!R606","v":0}]
["  ３  事　　業　　所（民　　営）    （平 28.6.1）",null,null,null,null,null,null,null,null,null,null,null,null,null,null,null,null,null,null,null,null,null,null,null,null,"漁船隻数・トン数",null,null,null,{"$f":"データ一覧!$A$282","v":"2.12.31"},null,null,null,"動　力　船",null,null,null,null,null,{"$f":"データ一覧!$A$408","v":"3.3.31"},null,null,null,null,null,"人",null,{"$f":"データ一覧!R408","v":9926},null,null,{"$f":"データ一覧!R409","v":0},null,null,null,null,{"$f":"データ一覧!R410","v":0},null,null,null,{"$f":"データ一覧!R411","v":1},null,null,null,{"$f":"データ一覧!R412","v":4048},null,null,null,"  ","大学・短期大学",null,null,null,null,null,null,null,null,{"$f":"データ一覧!R607","v":0},null,null,{"$f":"データ一覧!R608","v":0},null,null,{"$f":"データ一覧!R609","v":0},null,null,null,{"$f":"データ一覧!R610","v":0},null,null,null,{"$f":"データ一覧!R611","v":0},null,null,null,{"$f":"データ一覧!R612","v":0},null,null,null,{"$f":"データ一覧!R613","v":0}]
[null,null,null,null,null,null,null,null,null,null,null,null,null,null,null,null,null,null,null,null,null,null,null,null,null,"無動力船隻数",null,null,null,"船外機付漁船隻数",null,null,null,"隻　数",null,null,"総 ト ン 数",null,null,null,null,null,null,null,null,null,null,null,null,null,null,null,null,null,null,null,null,null,null,null,null,null,null,null,null,null,null,"  ","高等専門学校",null,null,null,null,null,null,null,null,{"$f":"データ一覧!R614","v":0},null,null,{"$f":"データ一覧!R615","v":0},null,null,{"$f":"データ一覧!R616","v":0},null,null,null,{"$f":"データ一覧!R617","v":0},null,null,null,{"$f":"データ一覧!R618","v":0},null,null,null,{"$f":"データ一覧!R619","v":0},null,null,null,{"$f":"データ一覧!R620","v":0}]
[null,null,null,null,null,null,null,"    総　　　　　数",null,null,null,null,null,"    民　　　　　営",null,null,null,null,null,"  国 ･ 地方公共団体",null,null,null,null,null,null,null,null,"隻",null,null,null,"隻",null,null,"隻",null,null,"t"," １２  交   通　・　通   信",null,null,null,null,null,null,null,null,null,null,null,null,null,null,null,null,null,null,null,null,null,null,null,null,null,null,null,"  ","特別支援学校",null,null,null,null,null,null,null,null,{"$f":"+データ一覧!R622","v":0},null,null,{"$f":"+データ一覧!R623","v":0},null,null,{"$f":"+データ一覧!R624","v":0},null,null,null,{"$f":"+データ一覧!R625","v":0},null,null,null,{"$f":"+データ一覧!R626","v":0},null,null,null,{"$f":"+データ一覧!R627","v":0},null,null,null,{"$f":"+データ一覧!R628","v":0}]
["  　区　　　　　　分",null,null,null,null,null,null," 事業所数",null,null," 従業者数",null,null," 事業所数",null,null," 従業者数",null,null," 事業所数",null,null," 従業者数",null,null,{"$f":"データ一覧!$R$282","v":0},null,null,null,{"$f":"データ一覧!$R$283","v":90},null,null,null,{"$f":"データ一覧!R284","v":27},null,null,{"$f":"データ一覧!R285","v":143.43},null,null,null,null,null,null,null,null,null,null,null,null,null,null,null,null,null,null,null,null,null,null,null,null,null,null,null,null,null,null,"  ","幼稚園",null,null,null,null,null,null,null,null,{"$f":"データ一覧!R630","v":0},null,null,{"$f":"データ一覧!R631","v":0},null,null,{"$f":"データ一覧!R632","v":0},null,null,null,{"$f":"データ一覧!R633","v":0},null,null,null,{"$f":"データ一覧!R634","v":0},null,null,null,{"$f":"データ一覧!R635","v":0},null,null,null,{"$f":"データ一覧!R636","v":0}]
[null,null,null,null,null,null,null,null,null,null,"       人",null,null,null,null,null,"       人",null,null,null,null,null,"       人",null,null,"  男女別就業者数",null,null,null,null,null,null,null,{"$f":"データ一覧!$A$286","v":"30.11.1"},null,null,null,null,null,"道     路",null,null,null,"実 延 長",null,null,null,"国     道",null,null,null,"県     道",null,null,null,"市町道",null,null,null," 鉄 道 営 業 キ ロ 数",null,null,null,null,null,null,null,"  ","幼保連携認定こども園",null,null,null,null,null,null,null,null,{"$f":"データ一覧!R638","v":2},null,null,{"$f":"データ一覧!R639","v":0},null,null,{"$f":"データ一覧!R640","v":34},null,null,null,{"$f":"データ一覧!R641","v":21},null,null,null,{"$f":"データ一覧!R642","v":262},null,null,null,{"$f":"データ一覧!R643","v":133},null,null,null,{"$f":"データ一覧!R644","v":129}]
["総数",null,null,null,null,null,null,{"$f":"データ一覧!R99","v":"…"},null,null,{"$f":"データ一覧!R156","v":"…"},null,null,{"$f":"データ一覧!R100","v":399},null,null,{"$f":"データ一覧!R157","v":2657},null,null,{"$f":"データ一覧!R101","v":"…"},null,null,{"$f":"データ一覧!R158","v":"…"},null,null,"総　　数",null,null,null,null,null,"男",null,null,null,"女",null,null,null,{"$f":"データ一覧!$A$413","v":"2.4.1"},null,null,null,{"$f":"データ一覧!R413","v":419.06200000000001},null,null,"㎞",{"$f":"データ一覧!R414","v":72.400000000000006},null,null,"㎞",{"$f":"データ一覧!R415","v":50.5},null,null,"㎞",{"$f":"データ一覧!R416","v":296.16199999999998},null,null,"km",{"$f":"データ一覧!$A$417","v":"3.4.1"},null,null,null,{"$f":"データ一覧!R417","v":25.611000000000001},null,null,"㎞","  ","各種学校",null,null,null,null,null,null,null,null,{"$f":"データ一覧!R646","v":0},null,null,{"$f":"データ一覧!R647","v":0},null,null,{"$f":"データ一覧!R648","v":0},null,null,null,{"$f":"データ一覧!R649","v":0},null,null,null,{"$f":"データ一覧!R650","v":0},null,null,null,{"$f":"データ一覧!R651","v":0},null,null,null,{"$f":"データ一覧!R652","v":0}]
["農林漁業",null,null,null,null,null,null,{"$f":"データ一覧!R102","v":"…"},null,null,{"$f":"データ一覧!R159","v":"…"},null,null,{"$f":"データ一覧!R103","v":17},null,null,{"$f":"データ一覧!R160","v":227},null,null,{"$f":"データ一覧!R104","v":"…"},null,null,{"$f":"データ一覧!R161","v":"…"},null,null,null,null,null,null,null,"人",null,null,"　　　　人",null,null,null,null,"  人","自動車",null,null,null,null,null,null,null,null,"乗用車",null,null,null,null,null,null,null,null,null,null,null,null,null,null,null,null,null,null,"  ","専修学校",null,null,null,null,null,null,null,null,{"$f":"データ一覧!R654","v":0},null,null,{"$f":"データ一覧!R655","v":0},null,null,{"$f":"データ一覧!R656","v":0},null,null,null,{"$f":"データ一覧!R657","v":0},null,null,null,{"$f":"データ一覧!R658","v":0},null,null,null,{"$f":"データ一覧!R659","v":0},null,null,null,{"$f":"データ一覧!R660","v":0}]
["鉱業",null,null,null,null,null,null,{"$f":"データ一覧!R105","v":"…"},null,null,{"$f":"データ一覧!R162","v":"…"},null,null,{"$f":"データ一覧!R106","v":2},null,null,{"$f":"データ一覧!R163","v":35},null,null,{"$f":"データ一覧!R107","v":"…"},null,null,{"$f":"データ一覧!R164","v":"…"},null,null,{"$f":"AF58+AJ58","v":90},null,null,null,null,null,{"$f":"データ一覧!$R$287","v":90},null,null,null,{"$f":"データ一覧!R288","v":0},null,null,null,"台  数",null,null,null,"貨    物",null,null,null,"普     通",null,null,null,"小     型",null,null,null,"乗  合",null,null,"特  種",null,null,"小型二輪",null,null,"軽自動車",null,null," １８  衛　　　　　　　生"]
["建設業",null,null,null,null,null,null,{"$f":"データ一覧!R108","v":"…"},null,null,{"$f":"データ一覧!R165","v":"…"},null,null,{"$f":"データ一覧!R109","v":64},null,null,{"$f":"データ一覧!R166","v":309},null,null,{"$f":"データ一覧!R110","v":"…"},null,null,{"$f":"データ一覧!R167","v":"…"},null,null,"　　　　海 面 漁 業 漁 獲 量 （属人）",null,null,null,null,null,null,null,{"$f":"データ一覧!$A$289","v":"30年中"},null,null,null,null,null,{"$f":"データ一覧!$A$418","v":"3.3.31"},null,null,null,null,{"$f":"データ一覧!R418","v":938},null,null,null,{"$f":"データ一覧!R420","v":3872},null,null,null,{"$f":"データ一覧!R421","v":4111},null,null,{"$f":"データ一覧!R419","v":41},null,null,{"$f":"データ一覧!R422","v":377},null,null,{"$f":"データ一覧!R423","v":195},null,null,{"$f":"データ一覧!R424","v":8885}]
["製造業",null,null,null,null,null,null,{"$f":"データ一覧!R111","v":"…"},null,null,{"$f":"データ一覧!R168","v":"…"},null,null,{"$f":"データ一覧!R112","v":38},null,null,{"$f":"データ一覧!R169","v":594},null,null,{"$f":"データ一覧!R113","v":"…"},null,null,{"$f":"データ一覧!R170","v":"…"},null,null,null,null,null,null,null,"       ","ｔ",null,null,null,null,null,null,"t",null,null,"     ",null,"郵　便　局　数",null,null,null,null,null,null,null,null,null,null,null,null,null,{"$f":"+MID(データ一覧!$A$428,3,2)","v":"12"},"令","一般加入",null,null,null,"ＩＮＳネット",null,null,null,null,null,null,null,"医療関係施設",null,null,null,null,null,{"$f":"データ一覧!$A$661","v":"元.10.1"},null,null,null,null,null,null,"および医療関係者数",null,null,null,null,null,null,null,{"$f":"データ一覧!$A$666","v":"30.12.31"}]
["電気・ｶﾞ ｽ・熱供給・水道業",null,null,null,null,null,null,{"$f":"データ一覧!R114","v":"…"},null,null,{"$f":"データ一覧!R171","v":"…"},null,null,{"$f":"データ一覧!R115","v":0},null,null,{"$f":"データ一覧!R172","v":0},null,null,{"$f":"データ一覧!R116","v":"…"},null,null,{"$f":"データ一覧!R173","v":"…"},null,null,"   総　　　　　　数",null,null,null,{"$f":"データ一覧!R289","v":1516},null,null,"   藻　　　　　　類",null,null,null,{"$f":"データ一覧!R292","v":3},null,null,"通  信",null,null,null," 総     数",null,null,null,null," 郵 便 局",null,null,null,null," 簡 易 局",null,null,null,"・",{"$f":"+LEFT(データ一覧!$A$428,1)","v":"2"},"電話数",null,null,null,"加入数",null,null,null,null,null,null,null,null,null,"　","病",null,null,"院",null,"　",null,null,null,null," ","一般診療所",null,null,null,null,null,null,null,null,null,null,null,"歯科診療所"]
["情報通信業",null,null,null,null,null,null,{"$f":"データ一覧!R117","v":"…"},null,null,{"$f":"データ一覧!R174","v":"…"},null,null,{"$f":"データ一覧!R118","v":1},null,null,{"$f":"データ一覧!R175","v":32},null,null,{"$f":"データ一覧!R119","v":"…"},null,null,{"$f":"データ一覧!R176","v":"…"},null,null,"   魚　　　　　　類",null,null,null,{"$f":"データ一覧!R290","v":1455},null,null,"   そ　   の　　 他",null,null,null,{"$f":"データ一覧!R293","v":54},null,null,{"$f":"データ一覧!$A$428","v":"2.12.31"},null,null,null,{"$f":"データ一覧!R425","v":6},null,null,null,null,{"$f":"データ一覧!R426","v":6},null,null,null,null,{"$f":"データ一覧!R427","v":0},null,null,null,{"$f":"+RIGHT(データ一覧!$A$428,2)","v":"31"},"・",{"$f":"データ一覧!R428","v":758},null,null,null,{"$f":"データ一覧!R429","v":267},null,null,null," ","医療関係",null,null,null,null,null,null,null,null,null,null,null,"一般病院",null,null,null,null,null,null,null,null,null,null,null,"有",null,null,"床"]
["運輸業、郵便業",null,null,null,null,null,null,{"$f":"データ一覧!R120","v":"…"},null,null,{"$f":"データ一覧!R177","v":"…"},null,null,{"$f":"データ一覧!R121","v":6},null,null,{"$f":"データ一覧!R178","v":49},null,null,{"$f":"データ一覧!R122","v":"…"},null,null,{"$f":"データ一覧!R179","v":"…"},null,null,"   貝　　　　　　類",null,null,null,{"$f":"データ一覧!R291","v":4},null,null,null,null,null,null,null,null,null,null,null,null,null,null,null,null,null,null,null,null,null,null,null,null,null,null,null,null,null,null,null,null,null,null,null,null,null,null,"施設数",null,null,null,null,null,null,{"$f":"データ一覧!R661","v":0},null,null,null,null,null,{"$f":"データ一覧!R662","v":0},null,null,null,null,null,{"$f":"データ一覧!R663","v":8},null,null,null,null,null,{"$f":"データ一覧!R664","v":2},null,null,null,null,null,{"$f":"データ一覧!R665","v":2}]
["卸売業、小売業",null,null,null,null,null,null,{"$f":"データ一覧!R123","v":"…"},null,null,{"$f":"データ一覧!R180","v":"…"},null,null,{"$f":"データ一覧!R124","v":94},null,null,{"$f":"データ一覧!R181","v":411},null,null,{"$f":"データ一覧!R125","v":"…"},null,null,{"$f":"データ一覧!R182","v":"…"},null,null,null,null,null,null,null,null,null,null,null,null,null,null,null,null," １３  税　　・　　財　　政",null,null,null,null,null,null,null,null,null,null,null,null,null,null,null,null,null,null,null,null,null,null,null,null,null,null,null,null,null,null,null,null,null,null,"医師",null,null,null,null,"歯科医師",null,null,null,null,"薬剤師",null,null,null,null,"保健師",null,null,null,null,"助産師",null,null," ",null,"看護師",null,null," "]
["金融業、保険業",null,null,null,null,null,null,{"$f":"データ一覧!R126","v":"…"},null,null,{"$f":"データ一覧!R183","v":"…"},null,null,{"$f":"データ一覧!R127","v":4},null,null,{"$f":"データ一覧!R184","v":24},null,null,{"$f":"データ一覧!R128","v":"…"},null,null,{"$f":"データ一覧!R185","v":"…"},null,null,"  ７  商        　　　業 ",null,null,null,null,null,null,{"$f":"データ一覧!$A$294","v":"28.6.1(平成27年実績）"},null,null,null,null,null,null,null,null,null,null,null,null,null,null,null,null,null,null,null,null,null,null,null,null,null,null,null,null,null,null,null,null,null,null," ","医療",null,null,null,null,null,null,null,null,"人",null,null,null,null,"人",null,null,null,null,"人",null,null,null,null,"人",null,null,null,null,"人",null,null,null,null,"人"]
["不動産業、物品賃貸業",null,null,null,null,null,null,{"$f":"データ一覧!R129","v":"…"},null,null,{"$f":"データ一覧!R186","v":"…"},null,null,{"$f":"データ一覧!R130","v":2},null,null,{"$f":"データ一覧!R187","v":2},null,null,{"$f":"データ一覧!R131","v":"…"},null,null,{"$f":"データ一覧!R188","v":"…"},null,null,null,null,null,null,null,null,null,null,null,null,null,null,null,null,"           ",null,null,null,"歳入",null,null,null,null,null,null,null,null,"(千円）"," ",null,null,null,"歳出",null,null,null,null,null,null,null,null,"(千円）",null,"関係者",null,null,null,null,{"$f":"データ一覧!R666","v":9},null,null,null,null,{"$f":"データ一覧!R667","v":3},null,null,null,null,{"$f":"データ一覧!R668","v":3},null,null,null,null,{"$f":"データ一覧!R669","v":8},null,null,null,null,{"$f":"データ一覧!R670","v":0},null,null,null,null,{"$f":"データ一覧!R671","v":68}]
["学術研究、専門・技術ｻｰﾋﾞｽ業",null,null,null,null,null,null,{"$f":"データ一覧!R132","v":"…"},null,null,{"$f":"データ一覧!R189","v":"…"},null,null,{"$f":"データ一覧!R133","v":13},null,null,{"$f":"データ一覧!R190","v":26},null,null,{"$f":"データ一覧!R134","v":"…"},null,null,{"$f":"データ一覧!R191","v":"…"},null,null,"  産   業　 分　 類",null,null,null,"  商　 店 　数",null,null," 従　業　者　数",null,null,"年　間　販　売　額",null,null,null,"一人当たり歳入歳出予算決算額",null,null,null,null,null,null,null,null,null,null,null,null,null,null,null,null,null,null,null,null,null,null,null,null,null,null,null,"                   ",null,null,null,null,null,null,null,null,"死因別死亡数　　　    ",null,null,null,null,null,null,null,null,null,null,null,null,null,null,null,{"$f":"データ一覧!$A$672","v":"2年中"},null,null,null,null,null,null,null,null,"      単 位：人"]
["宿泊業、飲食サービス業",null,null,null,null,null,null,{"$f":"データ一覧!R135","v":"…"},null,null,{"$f":"データ一覧!R192","v":"…"},null,null,{"$f":"データ一覧!R136","v":62},null,null,{"$f":"データ一覧!R193","v":304},null,null,{"$f":"データ一覧!R137","v":"…"},null,null,{"$f":"データ一覧!R194","v":"…"},null,null,null,null,null,null,null,"        店",null,null,null,"　人",null,"         百万円",null,null,"区分",null,null,null,{"$f":"データ一覧!$A$438","v":"3年度"},null,null,null,null,{"$f":"データ一覧!$A$452","v":"2年度"},null,null,null,null,"区分",null,null,null,{"$f":"+AR68","v":"3年度"},null,null,null,null,{"$f":"データ一覧!$A$452","v":"2年度"},null,null,null,null," 死     因",null,null,null,null,null,null,null,null,null,null,null,"悪  性",null,null,"高血圧",null,null,null,null,null,"脳血管",null,null,null,null,null," ",null,null,"不慮の事故"]
["生活関連サービス業、娯楽業",null,null,null,null,null,null,{"$f":"データ一覧!R138","v":"…"},null,null,{"$f":"データ一覧!R195","v":"…"},null,null,{"$f":"データ一覧!R139","v":30},null,null,{"$f":"データ一覧!R196","v":74},null,null,{"$f":"データ一覧!R140","v":"…"},null,null,{"$f":"データ一覧!R197","v":"…"},null,null,"総　　　　　　計",null,null,null,{"$f":"データ一覧!R294","v":81},null,null,{"$f":"データ一覧!R303","v":344},null,null,{"$f":"データ一覧!R312","v":6548},null,null,null,null,null,null,null,{"$f":"データ一覧!R434","v":904764.10570349975},null,null,null,null,{"$f":"データ一覧!R435","v":1088684.5502218637},null,null,null,null,null,null,null,null,{"$f":"データ一覧!R436","v":904764.10570349975},null,null,null,null,{"$f":"データ一覧!R437","v":1019112.6462283179},null,null,null,null,null,null,null,null,null,"全 死 因",null,null,null,"結 核",null,null,"新生物",null,null,"性疾患",null,null,"心疾患",null,null,"疾  患",null,null,"肺  炎",null,null,"老  衰",null,null,null,null," ","交通事故"]
["教育、学習支援業",null,null,null,null,null,null,{"$f":"データ一覧!R141","v":"…"},null,null,{"$f":"データ一覧!R198","v":"…"},null,null,{"$f":"データ一覧!R142","v":10},null,null,{"$f":"データ一覧!R199","v":15},null,null,{"$f":"データ一覧!R143","v":"…"},null,null,{"$f":"データ一覧!R200","v":"…"},null,null,"卸売業",null,null,null,{"$f":"データ一覧!R295","v":4},null,null,{"$f":"データ一覧!R304","v":10},null,null,{"$f":"データ一覧!R313","v":101},null,null,null,"項目別歳入歳出予算決算額"]
["医療、福祉",null,null,null,null,null,null,{"$f":"データ一覧!R144","v":"…"},null,null,{"$f":"データ一覧!R201","v":"…"},null,null,{"$f":"データ一覧!R145","v":23},null,null,{"$f":"データ一覧!R202","v":377},null,null,{"$f":"データ一覧!R146","v":"…"},null,null,{"$f":"データ一覧!R203","v":"…"},null,null,"小売業",null,null,null,{"$f":"データ一覧!R296","v":77},null,null,{"$f":"データ一覧!R305","v":334},null,null,{"$f":"データ一覧!R314","v":6447},null,null,null,"区分",null,null,null,{"$f":"データ一覧!$A$438","v":"3年度"},null,null,null,null,{"$f":"データ一覧!$A$452","v":"2年度"},null,null,null,null,"区分",null,null,null,{"$f":"+AR71","v":"3年度"},null,null,null,null,{"$f":"データ一覧!$A$452","v":"2年度"},null,null,null,null,null,null,null,null,null,{"$f":"データ一覧!R672","v":164},null,null,null,"   －",{"$f":"データ一覧!R673","v":1},null,{"$f":"データ一覧!R674","v":9},null,null,null,{"$f":"データ一覧!R675","v":0},null,{"$f":"データ一覧!R676","v":3},null,null,{"$f":"データ一覧!R677","v":0},null,null,{"$f":"データ一覧!R678","v":6},null,null,{"$f":"データ一覧!R679","v":7},null,null,{"$f":"データ一覧!R680","v":6},null,null,null,{"$f":"データ一覧!R681","v":0}]
["複合サービス事業",null,null,null,null,null,null,{"$f":"データ一覧!R147","v":"…"},null,null,{"$f":"データ一覧!R204","v":"…"},null,null,{"$f":"データ一覧!R148","v":10},null,null,{"$f":"データ一覧!R205","v":72},null,null,{"$f":"データ一覧!R149","v":"…"},null,null,{"$f":"データ一覧!R206","v":"…"},null,null,"各種商品",null,null,null,{"$f":"データ一覧!R297","v":0},null,null,{"$f":"データ一覧!R306","v":0},null,null,{"$f":"データ一覧!R315","v":0},null,null,null,"総額",null,null,null,{"$f":"SUM(AR73:AV85)","v":8867593},null,null,null,null,{"$f":"SUM(AW73:BA85)","v":10779606},null,null,null,null,"総額",null,null,null,{"$f":"SUM(BF73:BJ85)","v":8867593},null,null,null,null,{"$f":"SUM(BK73:BO85)","v":10105521},null,null,null,null," １９  警　察　・　消　防  ",null,null,null,null,null,null,null,null,null,null,null,null,null,null,null,{"$f":"+データ一覧!$A682","v":"3.4.1"}]
["サービス業",null,null,null,null,null,null,{"$f":"データ一覧!R150","v":"…"},null,null,{"$f":"データ一覧!R207","v":"…"},null,null,{"$f":"データ一覧!R151","v":23},null,null,{"$f":"データ一覧!R208","v":106},null,null,{"$f":"データ一覧!R152","v":"…"},null,null,{"$f":"データ一覧!R209","v":"…"},null,null,"織物・衣服・身の回り品",null,null,null,{"$f":"データ一覧!R298","v":9},null,null,{"$f":"データ一覧!R307","v":16},null,null,{"$f":"データ一覧!R316","v":103},null,null,null,"地方税",null,null,null,{"$f":"データ一覧!R439","v":1312804},null,null,null,null,{"$f":"データ一覧!R453","v":1282651},null,null,null,null,"議会費",null,null,null,{"$f":"データ一覧!R467","v":88018},null,null,null,null,{"$f":"データ一覧!R481","v":84975}]
["公務",null,null,null,null,null,null,{"$f":"データ一覧!R153","v":"…"},null,null,{"$f":"データ一覧!R210","v":"…"},null,null,{"$f":"データ一覧!R154","v":"…"},null,null,{"$f":"データ一覧!R211","v":"…"},null,null,{"$f":"データ一覧!R155","v":"…"},null,null,{"$f":"データ一覧!R212","v":"…"},null,null,"飲食料品",null,null,null,{"$f":"データ一覧!R299","v":38},null,null,{"$f":"データ一覧!R308","v":174},null,null,{"$f":"データ一覧!R317","v":3618},null,null,null,"地方譲与税",null,null,null,{"$f":"データ一覧!R440","v":101312},null,null,null,null,{"$f":"データ一覧!R454","v":102888},null,null,null,null,"総務費",null,null,null,{"$f":"データ一覧!R468","v":1128177},null,null,null,null,{"$f":"データ一覧!R482","v":2156459},null,null,null,null,null,null,null,null,null,null,null,null,null,null,"交番・駐在所",null,null,null,null,null,null,null,null,"刑法犯認知件数",null,null,null,null,null,null,null,null,"交通人身事故発生件数"]
["  ４  農        　　　業 ",null,null,null,null,null,null,null,null,null,null,null,null,null,null,null,null,null,null,null,null,null,null,null,null,"機械器具",null,null,null,{"$f":"データ一覧!R300","v":8},null,null,{"$f":"データ一覧!R309","v":29},null,null,{"$f":"データ一覧!R318","v":351},null,null,null,"各種交付金",null,null,null,{"$f":"データ一覧!R441","v":232200},null,null,null,null,{"$f":"データ一覧!R455","v":223688},null,null,null,null,"民生費",null,null,null,{"$f":"データ一覧!R469","v":1813903},null,null,null,null,{"$f":"データ一覧!R483","v":1849832},null,null,null,null,null,"警察署数",null,null,null,null,null,null,null,null,"検問所数",null,null,null,null,null,null,null,null,null,{"$f":"データ一覧!$A$684","v":"2年中"},null,null,null,null,null,null,null,null,{"$f":"データ一覧!$A$684","v":"2年中"}]
[null,null,null,null,null,null,null,null,null,null,null,null,null,null,null,null,null,null,null,null,null,null,null,null,null,"その他",null,null,null,{"$f":"データ一覧!R301","v":21},null,null,{"$f":"データ一覧!R310","v":114},null,null,{"$f":"データ一覧!R319","v":"x"},null,null,null,"地方特例交付金",null,null,null,{"$f":"データ一覧!R442","v":10800},null,null,null,null,{"$f":"データ一覧!R456","v":8523},null,null,null,null,"衛生費",null,null,null,{"$f":"データ一覧!R470","v":707938},null,null,null,null,{"$f":"データ一覧!R484","v":573009},null,null,null,null,null,null,null,null,null,null,null,null,null,null,null,null,null,null,null,null,null,null,null,null,null,null,null,null," 件",null,null,null,null,null,null,null,null,"　件"]
[null,null,"農業経営体数",null,null,null,null,null,null,"農産物販売額規模別経営体数",null,null,null,null,null,null,null,"経営耕地面積規模別経営体数",null,null,null,null,null,null,null,"無店舗",null,null,null,{"$f":"データ一覧!R302","v":1},null,null,{"$f":"データ一覧!R311","v":1},null,null,{"$f":"データ一覧!R320","v":"x"},null,null,null,"地方交付税",null,null,null,{"$f":"データ一覧!R443","v":3570000},null,null,null,null,{"$f":"データ一覧!R457","v":3849434},null,null,null,null,"労働費",null,null,null,{"$f":"データ一覧!R471","v":18000},null,null,null,null,{"$f":"データ一覧!R485","v":18000},null,null,null,null,null,null,{"$f":"データ一覧!R682","v":0},null,null,null,null,null,null,null,null,{"$f":"データ一覧!R683","v":4},null,null,null,null,null,null,null,null,{"$f":"データ一覧!R684","v":27},null,null,null,null,null,null,null,null,{"$f":"データ一覧!R685","v":3}]
["農",null,"区　分",null,null,null,"経営体数\n（経営体）",null,null,"区　分",null,null,null,null,"経営体数\n（経営体）",null,null,"区　分",null,null,null,null,"経営体数\n（経営体）",null,null,null,null,null,null,null,null,null,null,null,null,null,null,null,null,"分担金および負担金",null,null,null,{"$f":"データ一覧!R444","v":39112},null,null,null,null,{"$f":"データ一覧!R458","v":28164},null,null,null,null,"農林水産業費",null,null,null,{"$f":"データ一覧!R472","v":902619},null,null,null,null,{"$f":"データ一覧!R486","v":808025},null,null,null,null,"火災発生件数",null,null,null,null,null,null,null,null,null,"林野焼損",null,null,null,null,"損      害",null,null,null,null,"消 防 自",null,null,null,"その他の",null,null,null," ",null,null,null,null," "]
["業","令",null,null,null,null,null,null,null,null,null,null,null,null,null,null,null,null,null,null,null,null,null,null,null,"  ８  住　　　　　　 　宅",null,null,null,null,null,null,null,null,null,null,null,null,null,"使用料および手数料",null,null,null,{"$f":"データ一覧!R445","v":73714},null,null,null,null,{"$f":"データ一覧!R459","v":67563},null,null,null,null,"商工費",null,null,null,{"$f":"データ一覧!R473","v":944355},null,null,null,null,{"$f":"データ一覧!R487","v":528519},null,null,null,null,{"$f":"+データ一覧!$A$686","v":"2年中"},null,null,null,null,"焼損棟数",null,null,null,null,"面    積",null,null,null,null,"見  積  額",null,null,null,null,"動 車 数",null,null,null,"ﾎﾟﾝﾌﾟ数",null,null,null," 消防吏員",null,null,null," 消防団員"]
["経",{"$f":"+LEFT(データ一覧!$A$213)","v":"2"},"計",null,null,null,{"$f":"データ一覧!R213","v":251},null,null,"総　　　 数",null,null,null,null,{"$f":"データ一覧!R217","v":251},null,null,"総　　　 数",null,null,null,null,{"$f":"データ一覧!R233","v":837},null,null,null,null,null,null,null,null,null,null,null,null,null,null,null,null,"国庫支出金",null,null,null,{"$f":"データ一覧!R446","v":572564},null,null,null,null,{"$f":"データ一覧!R460","v":2555267},null,null,null,null,"土木費",null,null,null,{"$f":"データ一覧!R474","v":994775},null,null,null,null,{"$f":"データ一覧!R488","v":2036304},null,null,null,null,"         件",null,null,null,null,null,"      棟",null,null,null,null,null,null,"  ａ",null,null,null,"  千円",null,null,"        ",null,null,null,null,null,null,null,null,null,"  人",null,null,null,"  人"]
["営","・","個人経営体",null,null,null,{"$f":"データ一覧!R214","v":229},null,null,"販 売 な し",null,null,null,null,{"$f":"データ一覧!R218","v":20},null,null,"0.5 ha 未満",null,null,null,null,{"$f":"データ一覧!R234","v":14},null,null,{"$f":"+データ一覧!$A$321","v":"令和元年"},null,null,null,null,{"$f":"データ一覧!$A$324","v":"2年"},"中の増減",null,null,null,{"$f":"+データ一覧!$A$324","v":"2年"},null,null,null,"県支出金",null,null,null,{"$f":"データ一覧!R447","v":1064079},null,null,null,null,{"$f":"データ一覧!R461","v":923810},null,null,null,null,"消防費",null,null,null,{"$f":"データ一覧!R475","v":350341},null,null,null,null,{"$f":"データ一覧!R489","v":342434},null,null,null,null,null,{"$f":"データ一覧!R686","v":3},null,null,null,null,{"$f":"データ一覧!R687","v":"-"},null,null,null,null,{"$f":"データ一覧!R688","v":0},null,null,null,{"$f":"データ一覧!R689","v":60},null,null,null,null,null,{"$f":"データ一覧!R690","v":11},null,null,null,{"$f":"データ一覧!R691","v":6},null,null,null,{"$f":"データ一覧!R692","v":38},null,null,null,{"$f":"データ一覧!R693","v":210}]
["体",{"$f":"+LEFT(データ一覧!$A$213,1)","v":"2"},"団体経営体",null,null,null,{"$f":"データ一覧!R215","v":22},null,null,"50万円未満",null,null,null,null,{"$f":"データ一覧!R219","v":90},null,null,"0.5 ha ～ 1.0 ha",null,null,null,null,{"$f":"データ一覧!R235","v":61},null,null,null,null,null,null,"建設した住宅",null,null,"消失した住宅",null,null,null,null,null,null,"財産収入",null,null,null,{"$f":"データ一覧!R448","v":120896},null,null,null,null,{"$f":"データ一覧!R462","v":55834},null,null,null,null,"教育費",null,null,null,{"$f":"データ一覧!R476","v":1212957},null,null,null,null,{"$f":"データ一覧!R490","v":958178},null,null,null,null," ２０  そ　　　の　　　他　"]
["数","・",null,"法人経営",null,null,{"$f":"データ一覧!R216","v":11},null,null,"50～300万円",null,null,null,null,{"$f":"データ一覧!R220","v":107},null,null,"1.0 ha ～ 2.0 ha",null,null,null,null,{"$f":"データ一覧!R236","v":82},null,null,null,null,null,null,null,null,null,null,null,null,null,null,null,null,"繰入金",null,null,null,{"$f":"データ一覧!R449","v":503775},null,null,null,null,{"$f":"データ一覧!R463","v":122162},null,null,null,null,"災害復旧費",null,null,null,{"$f":"データ一覧!R477","v":0},null,null,null,null,{"$f":"データ一覧!R491","v":1430}]
["（",{"$f":"+RIGHT(データ一覧!$A$213)","v":"1"},null,null,null,null,null,null,null,"300～500万円",null,null,null,null,{"$f":"データ一覧!R221","v":8},null,null,"2.0 ha ～ 3.0 ha",null,null,null,null,{"$f":"データ一覧!R237","v":40},null,null,null,{"$f":"データ一覧!R321","v":4182},null,"戸",{"$f":"データ一覧!R322","v":21},null,"戸",{"$f":"データ一覧!R323","v":32},null,"戸",null,{"$f":"データ一覧!R324","v":4171},null,"戸","地方債",null,null,null,{"$f":"データ一覧!R450","v":680400},null,null,null,null,{"$f":"データ一覧!R464","v":804200},null,null,null,null,"公債費",null,null,null,{"$f":"データ一覧!R478","v":692212},null,null,null,null,{"$f":"データ一覧!R492","v":748356},null,null,null,null,null,null,null,null,null,"越前加賀海海岸国定公園（夫婦岩、坊主岩）、夜叉ケ池、不動ヶ滝、武周ヶ池、"]
["総",null,null,null,null,null,null,null,null,"500～1,000万円",null,null,null,null,{"$f":"データ一覧!R222","v":9},null,null,"3.0 ha ～ 5.0 ha",null,null,null,null,{"$f":"データ一覧!R238","v":30},null,null,null,null,null,null,null,null,null,null,null,null,null,null,null,null,"その他",null,null,null,{"$f":"データ一覧!R451","v":585937},null,null,null,null,{"$f":"データ一覧!R465","v":755422},null,null,null,null,"その他",null,null,null,{"$f":"データ一覧!R479","v":14298},null,null,null,null,{"$f":"データ一覧!R493","v":0},null,null,null,null,"　名所・旧跡",null,null,null,null,"花はす公園、妙泰寺、慈眼寺、杣山城跡、湯尾峠、木ノ芽峠、栃ノ木峠、山中峠、"]
["数",null,null,null,null,null,null,null,null,"1,000万円以上",null,null,null,null,{"$f":"データ一覧!R223","v":17},null,null,"5.0 ha以上",null,null,null,null,{"$f":"データ一覧!R239","v":614},null,null,null,null,null,null,null,null,null,null,null,null,null,null,null,null,null,null,null,null,null,null,null,null,null,null,null,null,null,null,null,null,null,null,null,null,null,null,null,null,null,null,null,null,"  文化財等",null,null,null,null,"馬借街道、今庄宿､板取宿、旧京藤家住宅、伊藤氏庭園、旧北陸線トンネル群、"]
["）",null,"15歳以上の常雇い数",null,null,null,null,null,null,"農業に60日以上従事した世帯員、役員・構成員\n（経営主を含む）の平均年齢",null,null,null,null,null,null,null,null,null,null,null,null,null,null,null,"  ９  議　 員　・　職 　員",null,null,null,null,null,null,null,null,null,null,null,null,null," １４  文　　　　　　化",null,null,null,null,null,null,null,null,null," ( ",{"$f":"データ一覧!$A$500","v":"3.3.31"},null,null,null,"ただし図書館・公民館・児童館",null,null,null,null,null,null,null,{"$f":"データ一覧!$A$494","v":"3.4.1"},null,null,null,null,null,null,null,null,null,"ｱｶﾀﾝ砂防堰提群､北前船主の館右近家、中村家住宅、今庄羽根曽踊、上野の盆踊り､"]
["と",null,null,null,null,null,null,null,null,null,null,null,null,null,null,null,null,null,null,null,null,null,null,null,null,null,null,null,null,null,null,null,null,null,null,null,null,null,null,null,null,null,null,null,null,null,null,null,null,null,null,null,null,null,null,"　宗教法人数 ",null,null,null,null,null,null,{"$f":"データ一覧!$A$502","v":"2.12.31"},null,null,null,"）",null,null,null,null,null,"八坂神社の獅子舞、糠どっさり"]
["就",null,null,null,null,null,null,null,null,"農業に60日以上従事",null,null,null,null,null,null,null,"農業に150日以上従事",null,null,null,null,null,null,null," 市 町 村 議 会",null,null,"有権者数",null,{"$f":"データ一覧!$A$328","v":"3.9.1"},null,"市 町 村 議 会",null,null,"  職      員      数",null,null,null,null,null,null,null,null,"図書館",null,null,null,null,null,"公　民　館",null,null,null,null,null,null,null,null,null,null," 社会教育学級講座",null,null,null,null,null,"　　特産物",null,null,null,null,"花はす、越前がに、水仙、へしこ、青梅、つるし柿、梅肉、蕎麦、地酒"]
["業",null,"区　分",null,null,null,"人",null,null,"区　分",null,null,null,null,"人",null,null,"区　分",null,null,null,null,"人",null,null," 議  員  定  数",null,null,"    男",null,"    女",null,"選 挙 投 票 率",null,null," 総     数",null,"一般行政職",null,"公    共",null,null,null," 館  数",null,null," 図書数",null,null," 本  館",null,null," 分  館",null,null," 公  園",null,null," 児童館",null,null,"学級講座数",null,null,"受講者数",null,null," 　年中行事",null,null,null,null,"今庄そばまつり（5月）、河野うめまつり(6月)、はすまつり(7月～8月)、"]
["状",null,"総数",null,null,null,{"$f":"データ一覧!R230","v":58},null,null,"総数",null,null,null,null,{"$f":"データ一覧!R224","v":67.3},null,null,"総数",null,null,null,null,{"$f":"データ一覧!R227","v":65.8},null,null,null,null,"人",null,"人",null,"人",null,null,"　％",null,"人",null,"人","施 設 数",null,null,null,null,{"$f":"データ一覧!R494","v":3},null,{"$f":"データ一覧!R495","v":118784},null,null,null,{"$f":"データ一覧!R496","v":3},null,{"$f":"データ一覧!R497","v":7},null,null,{"$f":"データ一覧!R498","v":0},null,null,{"$f":"データ一覧!R499","v":4},null,null,{"$f":"データ一覧!R500","v":0},null,null,{"$f":"データ一覧!R501","v":0},null,null,null,null,null,null,null,"花はす早朝マラソン（7月）、河野夏まつり（7月）、街道浪漫今庄宿(9月)、"]
["況",null,"男",null,null,null,{"$f":"データ一覧!R231","v":29},null,null,"男",null,null,null,null,{"$f":"データ一覧!R225","v":65.8},null,null,"男",null,null,null,null,{"$f":"データ一覧!R228","v":64.099999999999994},null,null,null,{"$f":"データ一覧!R325","v":14},null,{"$f":"データ一覧!R328","v":4157},null,{"$f":"データ一覧!R329","v":4547},null,{"$f":"データ一覧!R327","v":79.709999999999994},null,null,{"$f":"データ一覧!R330","v":210},null,{"$f":"データ一覧!R331","v":115},null,"宗    教",null,null,null," 仏教系",null,null,"ｷﾘｽﾄ教系",null,null,"神道諸派",null,null,"公会堂・市民会館",null,null,null,null,null," テレビ",null,null,"衛星放送契約数",null,null,null,null,null,null,null,null,null,null,"南越前町ふれあい産業物産ﾌｪｱ(9月)、灯りゃんせ(10月)、"]
[null,null,"女",null,null,null,{"$f":"データ一覧!R232","v":29},null,null,"女",null,null,null,null,{"$f":"データ一覧!R226","v":71},null,null,"女",null,null,null,null,{"$f":"データ一覧!R229","v":70.599999999999994},null,null,null,null,null,null,null,null,null,{"$f":"データ一覧!R326","v":"30.4.22"},null,null,null,null,null,null,"法 人 数",null,null,null,{"$f":"データ一覧!R502","v":71},null,null,{"$f":"データ一覧!R503","v":0},null,null,{"$f":"データ一覧!R504","v":60},null,null,{"$f":"データ一覧!R505","v":1},null,null,null,null,null,"      等",null,null,{"$f":"データ一覧!R506","v":1929},null,null,null,null,null,null,null,null,null,null,"新そば収穫感謝祭(11月)、水仙まつり・荒波ﾌｪｽﾀ(12月)"]

{"sheet":"越前町","index":17,"n_rows":93,"n_cols":103,"rows_kept":93,"cut":false,"hidden":false,"merged":[[84,22,84,24],[85,6,85,8],[86,2,88,8],[86,9,87,24],[88,9,88,16],[88,17,88,24],[89,2,89,5],[89,9,89,13],[89,17,89,21],[90,2,90,5],[90,9,90,13],[90,17,90,21],[91,2,91,5],[91,9,91,13],[91,17,91,21],[92,2,92,5],[92,9,92,13],[92,14,92,16],[92,17,92,21],[85,9,85,13],[85,14,85,16],[85,22,85,24],[92,6,92,8],[92,22,92,24],[89,6,89,8],[89,14,89,16],[89,22,89,24],[90,6,90,8],[90,14,90,16],[90,22,90,24],[91,6,91,8],[91,14,91,16],[77,2,78,5],[77,6,78,8],[77,9,78,13],[77,14,78,16],[77,17,78,21],[77,22,78,24],[79,2,79,5],[79,6,79,8],[79,9,79,13],[79,14,79,16],[79,17,79,21],[79,22,79,24],[80,6,80,8],[80,9,80,13],[80,14,80,16],[80,17,80,21],[80,22,80,24],[81,6,81,8],[81,9,81,13],[81,14,81,16],[82,6,82,8],[82,9,82,13],[82,14,82,16],[83,6,83,8],[83,9,83,13],[83,14,83,16],[84,6,84,8],[84,9,84,13],[84,14,84,16],[35,5,35,7],[22,40,22,46],[20,49,20,51],[31,18,31,19],[31,14,31,16],[31,20,31,21],[34,14,34,16],[71,13,71,15],[30,49,30,51],[29,49,29,51],[48,10,48,12],[48,13,48,15],[42,22,42,24],[41,13,41,15],[41,16,41,18],[42,49,42,51],[40,19,40,21],[47,13,47,15],[39,49,39,51],[39,40,39,46],[40,2,40,3],[34,20,34,21],[42,4,42,6],[42,7,42,9],[47,0,47,1],[41,40,41,46],[17,25,17,27],[18,25,18,27],[30,8,30,10],[26,73,26,76],[27,27,27,28],[27,40,27,46],[27,49,27,51],[25,31,26,32],[25,53,25,56],[25,29,26,30],[25,33,26,34],[26,40,26,46],[26,49,26,51],[30,11,30,13],[30,14,30,16],[29,60,29,64],[44,19,44,24],[20,25,20,28],[41,10,41,12],[41,22,41,24],[40,7,40,9],[34,29,34,30],[47,16,47,18],[47,19,47,21],[32,5,32,7],[34,5,34,7],[33,5,33,7],[33,8,33,10],[34,8,34,10],[40,10,40,12],[40,13,40,15],[41,7,41,9],[48,19,48,21],[29,20,29,21],[29,22,29,24],[34,18,34,19],[27,29,27,30],[32,8,32,10],[33,22,33,24],[29,14,29,16],[29,18,29,19],[30,18,30,19],[31,22,31,24],[29,11,29,13],[48,7,48,9],[27,5,27,7],[31,11,31,13],[44,25,44,28],[32,20,32,21],[33,18,33,19],[34,11,34,13],[32,18,32,19],[89,32,89,34],[55,31,55,34],[80,25,81,28],[26,81,26,84],[27,73,27,76],[27,77,27,80],[27,81,27,84],[27,0,27,4],[26,27,26,28],[27,25,27,26],[27,60,27,64],[28,53,28,56],[26,22,26,24],[28,40,28,46],[28,49,28,51],[27,22,27,24],[30,20,30,21],[30,22,30,24],[30,5,30,7],[33,20,33,21],[42,16,42,18],[35,8,35,10],[35,11,35,13],[38,40,38,46],[37,40,37,46],[40,75,41,77],[26,77,26,80],[48,0,48,1],[29,5,29,7],[31,5,31,7],[31,8,31,10],[29,8,29,10],[27,99,27,102],[31,95,31,98],[24,81,24,84],[31,91,31,94],[31,68,31,72],[66,92,66,96],[31,81,31,84],[36,75,36,77],[35,75,35,77],[42,85,42,91],[40,93,40,95],[39,85,39,91],[42,79,42,82],[40,79,41,82],[27,91,27,94],[29,91,29,94],[35,93,35,95],[49,95,49,98],[47,91,47,94],[28,68,28,72],[47,68,47,75],[38,75,38,77],[43,83,44,102],[63,94,63,96],[65,88,65,91],[51,80,51,82],[39,75,39,77],[40,67,41,73],[39,97,39,100],[39,93,39,95],[24,99,24,102],[25,81,25,84],[47,95,47,98],[90,72,92,102],[28,73,28,76],[28,77,28,80],[28,81,28,84],[28,86,28,90],[29,86,29,90],[30,68,30,72],[30,73,30,76],[30,77,30,80],[30,81,30,84],[88,67,88,71],[52,77,52,79],[50,77,50,79],[48,62,48,65],[48,87,48,90],[52,80,52,82],[56,91,56,94],[56,87,56,90],[60,85,60,90],[65,78,65,81],[63,99,63,101],[62,99,62,101],[62,87,62,89],[62,93,62,95],[63,89,63,91],[30,95,30,98],[38,60,38,64],[45,84,45,89],[49,80,49,82],[49,83,49,86],[51,77,51,79],[49,62,49,66],[50,55,50,57],[32,73,32,76],[32,77,32,80],[17,100,17,101],[19,95,19,98],[19,99,19,102],[73,48,73,52],[17,59,17,65],[21,95,21,98],[20,60,20,64],[25,95,25,98],[20,91,20,94],[24,95,24,98],[25,99,25,102],[30,99,30,102],[29,99,29,102],[28,99,28,102],[23,99,23,102],[26,99,26,102],[47,99,47,102],[46,99,46,102],[45,92,45,101],[45,77,45,82],[46,95,46,98],[46,69,46,74],[52,99,52,102],[52,95,52,98],[53,99,53,102],[53,83,53,86],[52,87,52,90],[52,91,52,94],[26,53,26,56],[25,37,26,38],[25,40,25,46],[27,37,27,38],[30,60,30,64],[19,53,19,56],[21,60,21,64],[55,68,55,75],[20,99,20,102],[73,25,73,28],[72,32,72,33],[73,29,73,30],[71,32,71,33],[72,25,72,28],[73,32,73,33],[71,25,71,28],[29,95,29,98],[23,81,23,84],[21,99,21,102],[22,99,22,102],[36,60,36,64],[37,53,37,56],[35,98,35,101],[36,97,36,100],[35,53,35,56],[43,67,44,82],[48,99,48,102],[49,54,49,57],[23,40,23,46],[23,49,23,51],[23,53,23,56],[24,60,24,64],[48,56,48,59],[53,77,53,79],[49,58,49,61],[51,83,51,86],[50,95,50,98],[23,25,23,28],[27,33,27,34],[27,35,27,36],[24,35,24,36],[25,25,25,26],[30,40,30,46],[32,95,32,98],[31,53,31,56],[34,53,34,56],[35,80,35,83],[35,68,35,72],[26,91,26,94],[24,53,24,56],[25,27,25,28],[24,40,24,46],[24,49,24,51],[23,29,23,31],[29,53,29,56],[31,60,31,64],[31,49,31,51],[31,40,31,46],[32,81,32,84],[25,49,25,51],[26,86,26,90],[27,86,27,90],[33,40,33,46],[33,53,33,56],[31,73,31,76],[31,77,31,80],[37,49,37,51],[32,40,32,46],[35,86,35,90],[33,67,34,80],[88,32,88,34],[88,28,88,29],[81,67,82,102],[70,48,70,52],[71,35,71,37],[71,39,71,42],[73,35,73,37],[70,97,70,99],[72,57,72,61],[70,79,70,81],[70,57,70,61],[72,53,72,56],[88,30,88,31],[68,57,68,61],[73,77,73,83],[73,86,73,92],[46,32,46,35],[53,95,53,98],[55,51,55,53],[56,68,56,75],[52,68,52,75],[53,80,53,82],[57,51,57,54],[50,99,50,102],[49,99,49,102],[49,77,49,79],[32,91,32,94],[33,83,34,96],[32,60,32,64],[34,60,34,64],[35,14,35,16],[35,18,35,19],[35,20,35,21],[38,97,38,100],[37,85,37,91],[37,79,37,82],[36,85,36,91],[36,49,36,51],[38,67,38,73],[34,22,34,24],[35,49,35,51],[32,53,32,56],[33,60,33,64],[32,68,32,72],[37,93,37,95],[37,75,37,77],[38,79,38,82],[38,85,38,91],[36,79,36,82],[35,29,35,30],[35,36,35,37],[34,40,34,46],[26,68,26,72],[20,95,20,98],[22,95,22,98],[27,95,27,98],[26,95,26,98],[28,95,28,98],[31,99,31,102],[50,50,50,53],[50,47,50,49],[29,73,29,76],[29,77,29,80],[29,81,29,84],[30,86,30,90],[27,53,27,56],[28,91,28,94],[28,60,28,64],[30,91,30,94],[22,81,22,84],[22,73,22,76],[25,60,25,64],[48,95,48,98],[50,83,50,86],[48,83,48,86],[27,68,27,72],[25,91,25,94],[30,53,30,56],[32,49,32,51],[33,49,33,51],[35,60,35,64],[36,53,36,56],[37,60,37,64],[32,99,32,102],[42,97,42,100],[47,83,47,86],[47,87,47,90],[14,82,15,95],[23,60,23,64],[22,91,22,94],[23,77,23,80],[22,60,22,64],[22,86,22,90],[26,60,26,64],[24,37,24,38],[24,91,24,94],[23,95,23,98],[24,68,24,72],[24,73,24,76],[23,68,23,72],[23,73,23,76],[22,68,22,72],[24,77,24,80],[25,73,25,76],[17,91,17,94],[17,82,17,83],[17,86,17,89],[17,53,17,57],[17,40,17,46],[19,77,19,80],[17,36,17,38],[21,35,21,38],[23,86,23,90],[25,77,25,80],[40,60,40,64],[34,36,34,37],[25,86,25,90],[24,86,24,90],[22,49,22,51],[22,53,22,56],[24,0,25,24],[20,16,20,18],[20,21,20,23],[23,11,23,13],[23,16,23,18],[22,7,22,8],[20,11,20,13],[20,53,20,56],[23,21,23,23],[17,68,17,71],[17,73,17,76],[20,40,20,46],[21,49,21,51],[21,53,21,56],[17,48,17,52],[24,29,24,30],[24,31,24,32],[24,33,24,34],[22,77,22,80],[19,91,19,94],[19,40,19,46],[19,49,19,51],[20,86,20,90],[21,77,21,80],[19,60,19,64],[21,86,21,90],[23,91,23,94],[22,25,22,28],[23,32,23,34],[23,35,23,38],[20,29,20,31],[20,32,20,34],[20,35,20,38],[18,28,18,30],[18,35,18,38],[19,81,19,84],[22,29,22,31],[22,32,22,34],[22,35,22,38],[0,0,0,9],[1,0,3,9],[5,0,5,9],[16,74,16,95],[14,25,15,25],[14,26,15,28],[16,32,16,33],[15,29,15,30],[15,32,15,33],[14,67,15,81],[6,0,8,9],[19,73,19,76],[21,73,21,76],[20,73,20,76],[20,77,20,80],[20,81,20,84],[18,31,18,34],[16,36,16,37],[17,32,17,34],[19,25,19,28],[19,29,19,31],[19,32,19,34],[19,35,19,38],[21,25,21,28],[21,29,21,31],[21,32,21,34],[21,40,21,46],[21,81,21,84],[21,91,21,94],[15,35,15,37],[19,3,19,5],[14,0,15,24],[44,0,45,1],[42,10,42,12],[42,13,42,15],[42,19,42,21],[46,0,46,1],[47,10,47,12],[45,25,45,28],[41,93,41,95],[37,97,37,100],[38,93,38,95],[38,53,38,56],[39,79,39,82],[39,67,39,73],[39,53,39,56],[39,60,39,64],[41,19,41,21],[41,85,41,91],[41,53,41,56],[41,60,41,64],[44,29,44,30],[40,49,40,51],[45,32,45,35],[40,97,40,100],[41,97,41,100],[47,7,47,9],[40,53,40,56],[44,32,44,35],[42,53,42,56],[41,36,41,37],[38,49,38,51],[40,16,40,18],[42,32,42,35],[49,46,49,49],[48,68,48,75],[42,75,42,77],[48,80,48,82],[45,57,45,61],[48,77,48,79],[37,67,37,73],[36,67,36,73],[36,93,36,95],[49,87,49,90],[48,91,48,94],[50,91,50,94],[49,91,49,94],[49,68,49,75],[42,93,42,95],[43,53,43,56],[42,60,42,64],[42,67,42,73],[43,60,43,64],[50,87,50,90],[50,80,50,82],[50,63,50,66],[41,49,41,51],[47,77,47,79],[47,80,47,82],[43,49,43,51],[43,40,43,46],[50,59,50,61],[50,68,50,75],[40,85,40,91],[36,40,36,46],[48,50,48,53],[54,43,54,46],[54,39,54,42],[60,97,60,102],[57,67,58,102],[54,77,54,79],[54,59,54,66],[54,80,54,82],[55,59,55,62],[55,55,55,57],[57,31,57,33],[59,13,59,15],[57,61,57,63],[57,19,57,21],[51,99,51,102],[51,91,51,94],[51,87,51,90],[51,95,51,98],[53,68,53,75],[51,68,51,75],[59,43,59,56],[60,43,60,47],[60,48,60,52],[60,53,60,56],[53,87,53,90],[52,83,52,86],[53,91,53,94],[54,99,54,102],[55,80,55,82],[55,99,55,102],[55,95,55,98],[55,87,55,90],[55,16,55,18],[57,13,57,15],[57,16,57,18],[58,13,58,15],[59,16,59,18],[58,19,58,21],[61,59,61,62],[60,36,60,37],[61,36,61,37],[60,29,60,30],[57,39,57,42],[60,39,60,42],[61,19,61,21],[61,16,61,18],[55,91,55,94],[56,83,56,86],[55,77,55,79],[56,77,56,79],[56,80,56,82],[55,22,55,24],[61,68,61,71],[60,91,60,96],[56,99,56,102],[57,55,57,57],[59,59,59,62],[56,48,56,53],[57,22,57,24],[61,43,61,47],[61,48,61,52],[61,53,61,56],[62,81,62,83],[63,74,63,76],[62,68,62,71],[62,75,62,77],[64,68,64,71],[65,68,65,71],[62,22,62,24],[55,19,55,21],[54,95,54,98],[55,13,55,15],[54,68,54,75],[58,48,58,50],[54,87,54,90],[54,83,54,86],[56,95,56,98],[54,91,54,94],[57,43,57,46],[63,84,63,86],[57,35,57,37],[55,63,55,65],[57,47,57,50],[58,58,58,60],[61,80,61,83],[54,55,54,58],[54,51,54,54],[58,44,58,46],[55,47,55,49],[56,39,56,42],[55,83,55,86],[67,39,67,42],[70,100,70,102],[70,91,70,93],[70,94,70,96],[65,53,65,56],[65,57,65,63],[66,39,66,66],[67,43,67,47],[67,82,67,84],[65,43,65,49],[68,48,68,52],[62,29,62,30],[70,32,70,33],[68,29,68,30],[70,72,70,75],[70,77,70,78],[70,83,70,84],[68,76,68,78],[67,88,67,90],[68,82,68,84],[70,88,70,90],[70,85,70,87],[65,98,65,101],[65,93,65,96],[68,32,68,33],[74,77,74,83],[67,97,67,102],[68,91,68,93],[68,94,68,96],[68,100,68,102],[65,73,65,76],[68,85,68,87],[65,83,65,86],[66,76,66,90],[68,79,68,81],[68,72,68,75],[68,88,68,90],[76,96,76,99],[77,82,77,86],[77,87,77,90],[77,62,77,66],[76,78,76,81],[76,57,76,61],[77,57,77,61],[79,101,79,102],[67,57,67,61],[73,62,73,66],[73,95,73,101],[67,10,67,12],[67,13,67,15],[67,16,67,18],[64,16,64,18],[66,10,66,12],[66,13,66,15],[64,22,64,24],[65,22,65,24],[66,22,66,24],[67,19,67,21],[69,16,69,18],[74,68,74,74],[71,57,71,61],[71,83,72,102],[71,67,72,82],[72,62,72,66],[71,62,71,66],[68,53,68,56],[70,53,70,56],[70,62,70,66],[65,39,65,42],[79,53,79,56],[78,95,78,98],[65,10,65,12],[72,10,72,12],[74,0,75,24],[79,39,79,42],[79,48,79,52],[80,78,80,80],[80,96,80,98],[80,82,80,86],[80,73,80,75],[80,62,80,66],[80,68,80,70],[80,92,80,94],[79,97,79,98],[78,77,78,81],[78,43,78,47],[79,62,79,66],[79,57,79,61],[74,87,74,91],[74,96,74,100],[80,100,80,102],[78,62,78,66],[78,82,78,86],[78,87,78,90],[78,67,78,71],[80,88,80,90],[78,72,78,76],[75,57,75,61],[75,62,75,66],[76,69,76,72],[77,77,77,81],[78,99,78,102],[78,91,78,94],[77,91,77,94],[76,62,76,66],[76,87,76,90],[81,39,81,42],[83,57,83,61],[89,39,89,42],[88,44,88,47],[91,26,91,27],[91,28,91,29],[91,30,91,31],[91,49,91,51],[91,52,91,57],[74,29,74,30],[75,25,75,28],[71,29,71,30],[71,53,71,56],[83,39,83,42],[83,43,83,47],[83,48,83,52],[83,36,83,37],[72,48,72,52],[74,39,74,42],[74,32,74,33],[73,57,73,61],[73,53,73,56],[74,53,74,56],[82,57,82,61],[76,35,76,37],[76,32,76,33],[74,57,74,61],[76,48,76,52],[81,43,81,47],[81,48,81,52],[77,43,77,47],[77,48,77,52],[74,43,74,47],[81,62,81,66],[92,32,92,34],[91,32,91,34],[92,61,92,66],[92,39,92,42],[92,43,92,45],[92,46,92,48],[92,49,92,51],[91,61,91,66],[91,43,91,45],[91,46,91,48],[91,39,91,42],[92,52,92,57],[91,35,91,36],[91,37,91,38],[75,39,75,42],[78,48,78,52],[78,53,78,56],[78,57,78,61],[79,43,79,47],[77,53,77,56],[76,43,76,47],[90,58,90,60],[81,32,81,34],[82,48,82,52],[82,53,82,56],[80,43,80,47],[82,43,82,47],[80,48,80,52],[80,53,80,56],[80,57,80,61],[70,22,70,24],[61,22,61,24],[90,46,90,48],[90,39,90,42],[88,50,88,53],[90,50,90,51],[90,61,90,63],[83,62,83,66],[90,64,90,66],[84,39,84,42],[84,43,84,47],[84,48,84,52],[84,53,84,56],[83,53,83,56],[66,19,66,21],[74,48,74,52],[90,44,90,45],[89,61,89,63],[84,57,84,61],[84,62,84,66],[88,61,88,66],[81,53,81,56],[81,57,81,61],[90,52,90,54],[90,55,90,57],[71,43,71,47],[69,35,69,37],[82,62,82,66],[75,53,75,56],[73,39,73,42],[75,48,75,52],[74,62,74,66],[76,53,76,56],[57,7,57,9],[59,7,59,9],[62,10,62,12],[60,10,60,12],[64,7,64,9],[57,0,57,6],[65,7,65,9],[57,10,57,12],[62,7,62,9],[61,0,61,6],[60,0,60,6],[59,0,59,6],[61,7,61,9],[59,10,59,12],[63,7,63,9],[68,0,68,6],[58,0,58,6],[67,7,67,9],[58,10,58,12],[71,48,71,52],[68,25,68,28],[63,10,63,12],[58,7,58,9],[66,7,66,9],[68,7,68,9],[68,10,68,12],[64,10,64,12],[61,10,61,12],[69,10,69,12],[69,13,69,15],[63,13,63,15],[56,7,56,9],[56,10,56,12],[56,22,56,24],[56,16,56,18],[56,19,56,21],[32,22,32,24],[40,4,40,6],[41,4,41,6],[49,50,49,53],[40,40,40,46],[42,40,42,46],[40,22,40,24],[40,36,40,37],[46,25,46,28],[36,29,36,30],[40,29,40,30],[47,22,47,24],[35,22,35,24],[48,22,48,24],[48,16,48,18],[50,0,51,24],[55,0,55,6],[55,7,55,9],[33,14,33,16],[33,11,33,13],[34,49,34,51],[32,11,32,13],[32,14,32,16],[45,29,45,30],[51,36,51,38],[54,47,54,50],[55,10,55,12],[50,33,50,38],[46,29,46,30],[66,32,66,34],[61,39,61,42],[58,39,58,42],[55,25,55,30],[51,33,51,35],[44,36,44,37],[42,36,42,37],[50,29,50,32],[51,29,51,32],[46,36,46,37],[24,27,24,28],[25,35,26,36],[45,36,45,37],[53,25,53,27],[57,25,57,29],[27,31,27,32],[36,36,36,37],[54,25,54,32],[26,25,26,26],[53,29,53,31],[53,33,53,34],[51,25,51,28],[50,25,50,28],[49,39,49,45],[40,32,40,35],[41,29,41,30],[41,32,41,35],[35,40,35,46],[29,40,29,46],[61,63,61,66],[69,22,69,24],[59,22,59,24],[60,22,60,24],[53,36,53,37],[67,79,67,81],[68,62,68,66],[67,48,67,52],[67,53,67,56],[67,67,70,71],[67,62,67,66],[69,39,69,66],[68,39,68,42],[68,43,68,47],[91,22,91,24],[73,0,73,6],[70,0,70,6],[67,0,67,6],[66,0,66,6],[58,64,58,66],[58,55,58,57]],"merged_total":1107,"flags":["merged_cut"]}
[{"$f":"+データ一覧!S2","v":"にゅうぐん"}]
[{"$f":"+データ一覧!S5","v":"丹生郡"}]
[null,null,null,null,null,null,null,null,null,null,null,null,null,null,null,null,null,null,null,null,null,null,null,null,null,null,null,null,null,null,null,null,null,null,null,null,null,null,null," 【位置および地勢】 越前町は、福井県嶺北地方の西端に位置し、 "]
[null,null,null,null,null,null,null,null,null,null,null,null,null,null,null,null,null,null,null,null,null,null,null,null,null,"【町章とそのいわれ】　越前町のイニシャル『Ｅ』をモチーフに、 ",null,null,null,null,null,null,null,null,null,null,null,null,null,null,"東西17.9km、南北17.3km、面積153.15k㎡で、西は日本海に面し、",null,null,null,null,null,null,null,null,null,null,null,null,null,null,null,null,null,null,null,null,null,null,null,null,null,null,null,null,null,"所在地",null,null,null,null,null,null,null,"〒916-0192"]
[null,null,null,null,null,null,null,null,null,null,null,null,null,null,null,null,null,null,null,null,null,null,null,null,null,"                   ",null,null,null,"「生き生きとした町民の姿」と「人と技 海土里(みどり)",null,null,null,null,null,null,null,null,null,null,"東は鯖江市、南は越前市、南越前町、北は福井市に接している。",null,null,null,null,null,null,null,null,null,null,null,null,null,null,null,null,null,null,null,null,null,null,null,null,null,null,null,null,null,null,null,null,null,null,null,null,null,"丹生郡越前町西田中第１３号５番地１"]
[{"$f":"+データ一覧!S3","v":"えちぜんちょう"},null,null,null,null,null,null,null,null,null,null,null,null,null,null,null,null,null,null,null,null,null,null,null,null,"                    ",null,null,null,"織りなす快適なまち」をイメージし、緑は自然豊かな里や",null,null,null,null,null,null,null,null,null,null,"地勢的には、その大半が丹生山地に属し、全体的に標高は高く、"]
[{"$f":"データ一覧!S6","v":"越前町"},null,null,null,null,null,null,null,null,null,null,null,null,null,null,null,null,null,null,null,null,null,null,null,null,"                   ",null,null,null,"山を、青は幸豊かな海を表現している。",null,null,null,null,null,null,null,null,null,null,"沿岸の南部にかけて500m級の山々が連なっている。",null,null,null,null,null,null,null,null,null,null,null,null,null,null,null,null,null,null,null,null,null,null,null,null,null,null,null,null,null,"電話番号",null,null,null,null,null,null,null,"(０７７８）３４－１２３４"]
[null,null,null,null,null,null,null,null,null,null,null,null,null,null,null,null,null,null,null,null,null,null,null,null,null,"                    ",null,null,null,"全体で「未来に向かって発展する越前町」を力強く",null,null,null,null,null,null,null,null,null,null,"このため、林野率は74.4%と高く、東部に広がる越前平野を除けば、",null,null,null,null,null,null,null,null,null,null,null,null,null,null,null,null,null,null,null,null,null,null,null,null,null,null,null,null,null,"FAX番号",null,null,null,null,null,null,null,"　　〃　　 ３４－１２３６"]
[null,null,null,null,null,null,null,null,null,null,null,null,null,null,null,null,null,null,null,null,null,null,null,null,null,null,null,0,null,"シンボライズしている。",null,null,null,null,null,null,null,null,null,null,"中央部の織田盆地や宮崎盆地などに小規模な平地を残すのみで、"]
[null,null,null,null,null,null,null,null,null,null,null,null,null,null,null,null,null,null,null,null,null,null,null,null,null,null,null,0,null,null,null,null,null,null,null,null,null,null,null,null,"耕地面積は少なくなっている。また、沿岸部の山を分水嶺として、",null,null,null,null,null,null,null,null,null,null,null,null,null,null,null,null,null,null,null,null,null,null,null,null,null,null,null,null,null,"最寄駅および距離",null,null,null,null,null,null,null,"福鉄バス鯖浦線・福浦線越前町役場前　下車０ｍ"]
[null,null,null,null,null,null,null,null,null,null,null,null,null,null,null,null,null,null,null,null,null,null,null,null,null,null,null,0,null,null,null,null,null,null,null,null,null,null,null,null,"東側は大半が天王川流域で、沿岸部は梅浦川など複数の小河川の流域と"]
[null,null,null,null,null,null,null,null,null,null,null,null,null,null,null,null,null,null,null,null,null,null,null,null,null,null,null,null,null,null,null,null,null,null,null,null,null,null,null,null,"なっている。天王川流域では、山地の間を縫うように小規模な谷や"]
[null,null,null,null,null,null,null,null,null,null,null,null,null,null,null,null,null,null,null,null,null,null,null,null,null,"【町が掲げる標語】人と技　海土里　織りなす　快適なまち",null,null,null,null,null,null,null,null,null,null,null,null,null,null,"盆地、河川が入り組んでいる。",null,null,null,null,null,null,null,null,null,null,null,null,null,null,null,null,null,null,null,null,null,null,null,null,null,null,null,null,null,"ホームページ",null,null,null,null,null,null,null,"http://www.town.echizen.fukui.jp/"]
[]
["  １  土            　　地",null,null,null,null,null,null,null,null,null,null,null,null,null,null,null,null,null,null,null,null,null,null,null,null,{"$f":"データ一覧!$A$240","v":"2年"},"産米収穫量",null,null,"　 収　穫　量",null,null," 　作 付 面 積",null,null,"   10a当たり収量",null,null,null,null,null,null,null,null,null,null,null,null,null,null,null,null,null,null,null,null,null,null,null,null,null,null,null,null,null,null,null," １５  労　　　　　　　働",null,null,null,null,null,null,null,null,null,null,null,null,null,null,"27.10.1"]
[null,null,null,null,null,null,null,null,null,null,null,null,null,null,null,null,null,null,null,null,null,null,null,null,null,null,null,null,null,{"$f":"データ一覧!$S$240","v":4050},null,"t",{"$f":"データ一覧!$S$241","v":795},null,"ha",{"$f":"データ一覧!S242","v":509},null,null,"kg"," １０  工　　　　　　業 ",null,null,null,null,null,null,null,null,null,null,null,null,null,{"$f":"データ一覧!$A$332","v":"2.6.1（令和元年実績）"}]
["   総          面           積",null,null,null,null,null,null,null,null,null," 固 定 資 産 概 要 調 書 に よ る 地 目 別 面 積",null,null,null,null,null,null,null,null,null,null,null,null,null,null,null,null,null,"   総　　　数",null,null,null,"うち　　田",null,null,null,"うち　　畑",null,null,null,null,null,null,null,null,null,null,null,null,null,null,null,null,null,null,null,null,null,null,null,null,null,null,null,null,null,null,null,null,null,null,null,null,null,"産業別就業者数   "]
[null,null,{"$f":"データ一覧!$A$7","v":"3.10.1"},null,null,null,null,null,null,null,null,null,null,null,null,null,{"$f":"データ一覧!$A$9","v":"3.1.1"},null,null,null,null,null,null,null,null," 耕  地  面  積",null,null,null,"       ha",null,null,"ha ",null,null,null,"ha ",null,null,"      ","産業分類",null,null,null,null,null,null,null,"事業所数",null,null,null,null,"従業者数",null,null,null,null,null,"年間製造品出荷額等",null,null,null,null,null,null,null,null,"区  分",null,null,null,null,"総    数",null,null,null,null,"男",null,null,null,"女",null,null,"  ","区  分",null,null,null,null,"総    数",null,null,null,null,"男",null,null,null,"女"]
[null,null,null,null,null,null,"㎢",null,null,null,"   総       数",null,null,null,null,"  う ち     田",null,null,null,null,"  う ち     畑",null,null,null,null,{"$f":"データ一覧!A243","v":"2.7.15"},null,null,{"$f":"データ一覧!$S$243","v":1410},null,null,{"$f":"データ一覧!$S$244","v":1240},null,null,null,{"$f":"データ一覧!$S$245","v":168},null,null,null,null,null,null,null,null,null,null,null,null,"　　   ",null,null,"事業所",null,"　　　　　　　 人",null,null,"人",null,"　　　　　　　　　　　　　　万円",null,null,null,null,null,null,"万円",null,null,null,null,null,null,null,"      人",null,null,null,null,null," 人",null,null,null," 人",null,null,null,null,null,null,null,"      人",null,null,null,"      人",null,null,null,"      人"]
[null,null,null,{"$f":"データ一覧!S7","v":153.15},null,null,null,null,null,null,null,null,null,null,"ha",null,null,null,null,"ha",null,null,null,null,"ha","農 業 生 産 物",null,null,null,"作 付 面 積",null,null,"収 穫 量",null,null,"10a当たり収量",null,null,null,"     ","総数",null,null,null,null,null,null,null,null,{"$f":"データ一覧!S332","v":51},null,null,null,{"$f":"+データ一覧!S357","v":1746},null,null,null,null,null,null,{"$f":"データ一覧!S382","v":4582543},null,null,null,null,null,null," 総　　　数",null,null,null,null,null,{"$f":"BZ20+CD20","v":11129},null,null,null,{"$f":"データ一覧!S507","v":6073},null,null,null,{"$f":"データ一覧!S532","v":5056}]
[null,null,null,null,null,null,null,null,null,null,null,{"$f":"データ一覧!S9","v":10414.299999999999},null,null,null,null,{"$f":"データ一覧!S10","v":1375},null,null,null,null,{"$f":"データ一覧!S11","v":300.60000000000002},null,null,null,{"$f":"データ一覧!$A$246","v":"2年中"},null,null,null,"ha",null,null,"t",null,null,"kg",null,null,null,"     食料品","食料品",null,null,null,null,null,null,null,null,{"$f":"データ一覧!S333","v":7},null,null,null,{"$f":"+データ一覧!S358","v":89},null,null,null,null,null,null,{"$f":"データ一覧!S383","v":79336},null,null,null,null,null,null,null,null,null,null,null,null,null,null,null,null,null,null,null,null,null,null,null,null,null,"卸売業,小売業",null,null,null,null,{"$f":"CR21+CV21","v":1449},null,null,null,{"$f":"データ一覧!S520","v":673},null,null,null,{"$f":"データ一覧!S545","v":776}]
["  町 ･ 丁 ･ 大 字",null,null,null,null,null,null,null,null,null,"  う ち  宅 地",null,null,null,null,"  う ち  山 林",null,null,null,null,"  う ち  原 野",null,null,null,null,"水　　　　　稲",null,null,null,{"$f":"データ一覧!S246","v":795},null,null,{"$f":"データ一覧!S247","v":4050},null,null,{"$f":"データ一覧!S248","v":509},null,null,null,"     飲料・飼料","飲料・飼料",null,null,null,null,null,null,null,null,{"$f":"データ一覧!S334","v":1},null,null,null,{"$f":"+データ一覧!S359","v":24},null,null,null,null,null,null,{"$f":"データ一覧!S384","v":"x"},null,null,null,null,null,null," 第１次産業",null,null,null,null,null,{"$f":"BZ22+CD22","v":785},null,null,null,{"$f":"データ一覧!S508","v":600},null,null,null,{"$f":"データ一覧!S533","v":185},null,null,null,null,"金融業,保険業",null,null,null,null,{"$f":"CR22+CV22","v":209},null,null,null,{"$f":"データ一覧!S521","v":70},null,null,null,{"$f":"データ一覧!S546","v":139}]
["  区    画    数",null,null,null,null,null,null,{"$f":"データ一覧!S8","v":99},null,null,null,null,null,null,"ha",null,null,null,null,"ha",null,null,null,null,"ha","六　条　大　麦",null,null,null,{"$f":"データ一覧!S249","v":111},null,null,{"$f":"データ一覧!S250","v":229},null,null,{"$f":"データ一覧!S251","v":206},null,null,null,"     繊維","繊維",null,null,null,null,null,null,null,null,{"$f":"データ一覧!S335","v":12},null,null,null,{"$f":"+データ一覧!S360","v":155},null,null,null,null,null,null,{"$f":"データ一覧!S385","v":288626},null,null,null,null,null,null,"  ","農業",null,null,null,null,{"$f":"BZ23+CD23","v":464},null,null,null,{"$f":"データ一覧!S509","v":298},null,null,null,{"$f":"データ一覧!S534","v":166},null,null,null,"  ","不動産業",null,null,null,null,54,null,null,null,{"$f":"データ一覧!S522","v":31},null,null,null,{"$f":"データ一覧!S547","v":23}]
[{"$f":"データ一覧!$A$8","v":"2.4.1"},null,null,null,null,null,null,null,null,null,null,{"$f":"データ一覧!S12","v":491.9},null,null,null,null,{"$f":"データ一覧!S13","v":4561.3999999999996},null,null,null,null,{"$f":"データ一覧!S14","v":81.7},null,null,null,"大　　      豆",null,null,null,{"$f":"データ一覧!S252","v":29},null,null,{"$f":"データ一覧!S253","v":26},null,null,{"$f":"データ一覧!S254","v":90},null,null,null,"     衣服","木材",null,null,null,null,null,null,null,null,{"$f":"データ一覧!S336","v":4},null,null,null,{"$f":"+データ一覧!S361","v":71},null,null,null,null,null,null,{"$f":"データ一覧!S386","v":82983},null,null,null,null,null,null,"  ","林業",null,null,null,null,27,null,null,null,{"$f":"データ一覧!S510","v":23},null,null,null,{"$f":"データ一覧!S535","v":4},null,null,null,"  ","学術研究",null,null,null,null,209,null,null,null,{"$f":"データ一覧!S523","v":140},null,null,null,{"$f":"データ一覧!S548","v":69}]
["  ２  世　帯　数　と　人　口",null,null,null,null,null,null,null,null,null,null,null,null,null,null,null,null,null,null,null,null,null,null,null,null,null,null,"  区　分",null," 乳 用 牛",null," 肉 用 牛",null,"豚",null,"採卵鶏",null,"ブロイラー",null,"     木材","家具",null,null,null,null,null,null,null,null,{"$f":"データ一覧!S337","v":2},null,null,null,{"$f":"+データ一覧!S362","v":38},null,null,null,null,null,null,{"$f":"データ一覧!S387","v":"x"},null,null,null,null,null,null,"  ","漁業",null,null,null,null,294,null,null,null,{"$f":"データ一覧!S511","v":279},null,null,null,{"$f":"データ一覧!S536","v":15},null,null,null,"  ","宿泊業,飲食ｻｰﾋﾞｽ",null,null,null,null,595,null,null,null,{"$f":"データ一覧!S524","v":193},null,null,null,{"$f":"データ一覧!S549","v":402}]
[null,null,null,null,null,null,null,null,null,null,null,null,null,null,null,null,null,null,null,null,null,null,null,null,null,"畜　産",null," 飼養農家",null,{"$f":"データ一覧!$S$255","v":0},null,{"$f":"データ一覧!$S$257","v":0},null,{"$f":"データ一覧!$S$259","v":"-"},null,{"$f":"データ一覧!$S$261","v":"x"},null,{"$f":"データ一覧!$S$263","v":0},null,"     家具","パルプ・紙",null,null,null,null,null,null,null,null,{"$f":"データ一覧!S338","v":0},null,null,null,{"$f":"+データ一覧!S363","v":0},null,null,null,null,null,null,{"$f":"データ一覧!S388","v":0},null,null,null,null,null,null," 第２次産業",null,null,null,null,null,3984,null,null,null,{"$f":"データ一覧!S512","v":2654},null,null,null,{"$f":"データ一覧!S537","v":1330},null,null,null,"  ","生活関連ｻｰﾋﾞｽ業",null,null,null,null,298,null,null,null,{"$f":"データ一覧!S525","v":109},null,null,null,{"$f":"データ一覧!S550","v":189}]
[null,null,null,null,null,null,null,null,"        人　　　　　　　　　　口",null,null,null,null,null,null,null,null,null,null,null,"１世帯当",null,"人    口",null,null,{"$f":"データ一覧!$A$255","v":"3.3.31"},null,"（戸）",null,null,null,null,null,null,null,null,null,null,null,"     パルプ・紙","印刷",null,null,null,null,null,null,null,null,{"$f":"データ一覧!S339","v":1},null,null,null,{"$f":"+データ一覧!S364","v":26},null,null,null,null,null,null,{"$f":"データ一覧!S389","v":"x"},null,null,null,null,null,null,null,"鉱業，採石業",null,null,null,null,4,null,null,null,{"$f":"データ一覧!S513","v":3},null,null,null,{"$f":"データ一覧!S538","v":1},null,null,null,"  ","教育,学習支援業",null,null,null,null,416,null,null,null,{"$f":"データ一覧!S526","v":174},null,null,null,{"$f":"データ一覧!S551","v":242}]
[" 区　　　　分",null,null,null,null,"世帯数",null,null," 総   数",null,null,"    男",null,null,"    女",null,null,"  男／女",null,null,"たり人員",null,"密    度",null,null,null,null," 頭 羽",null,{"$f":"データ一覧!$S$256","v":0},null,{"$f":"データ一覧!$S$258","v":0},null,{"$f":"データ一覧!$S$260","v":0},null,{"$f":"データ一覧!$S$262","v":150},null,{"$f":"データ一覧!$S$264","v":0},null,"     出版・印刷","化学",null,null,null,null,null,null,null,null,{"$f":"データ一覧!S340","v":0},null,null,null,{"$f":"+データ一覧!S365","v":0},null,null,null,null,null,null,{"$f":"データ一覧!S390","v":0},null,null,null,null,null,null,"  ","建設業",null,null,null,null,914,null,null,null,{"$f":"データ一覧!S514","v":789},null,null,null,{"$f":"データ一覧!S539","v":125},null,null,null,null,"医療，福祉",null,null,null,null,1489,null,null,null,{"$f":"データ一覧!S527","v":290},null,null,null,{"$f":"データ一覧!S552","v":1199}]
[null,null,null,null,null,"    世 帯",null,null,"       人",null,null,"       人",null,null,"       人",null,null,null,"　　％",null,"    人",null,"    人/㎢",null,null,null,null,null,null,null,null,null,null,null,null,null,null,null,null,"     化学","石油・石炭",null,null,null,null,null,null,null,null,{"$f":"データ一覧!S341","v":0},null,null,null,{"$f":"+データ一覧!S366","v":0},null,null,null,null,null,null,{"$f":"データ一覧!S391","v":0},null,null,null,null,null,null,null,"製造業",null,null,null,null,3066,null,null,null,{"$f":"データ一覧!S515","v":1862},null,null,null,{"$f":"データ一覧!S540","v":1204},null,null,null,null,"複合サービス事業",null,null,null,null,189,null,null,null,{"$f":"データ一覧!S528","v":117},null,null,null,{"$f":"データ一覧!S553","v":72}]
[{"$f":"データ一覧!$A$22","v":" 2.10.1"},null,null,null,null,{"$f":"データ一覧!S22","v":6223},null,null,{"$f":"+L30+O30","v":25448},null,null,{"$f":"データ一覧!S24","v":12249},null,null,{"$f":"データ一覧!S25","v":13199},null,null,null,{"$f":"+L30/O30*100","v":92.80248503674521},null,{"$f":"データ一覧!S27","v":4.09},null,{"$f":"データ一覧!S21","v":0},null,null,"  ５  林               業",null,null,null,null,null,null,null,null,null,null,null,null,null,"     石油・石炭","プラスチック",null,null,null,null,null,null,null,null,{"$f":"データ一覧!S342","v":7},null,null,null,{"$f":"+データ一覧!S367","v":143},null,null,null,null,null,null,{"$f":"データ一覧!S392","v":328905},null,null,null,null,null,null," 第３次産業",null,null,null,null,null,6263,null,null,null,{"$f":"データ一覧!S516","v":2768},null,null,null,{"$f":"データ一覧!S541","v":3495},null,null,null,null,"サービス業",null,null,null,null,507,null,null,null,{"$f":"データ一覧!S529","v":328},null,null,null,{"$f":"データ一覧!S554","v":179}]
[{"$f":"データ一覧!$A$29","v":" 7.10.1"},null,null,null,null,{"$f":"データ一覧!S29","v":6379},null,null,{"$f":"+L31+O31","v":25158},null,null,{"$f":"データ一覧!S31","v":12060},null,null,{"$f":"データ一覧!S32","v":13098},null,null,null,92.075125973431057,null,{"$f":"データ一覧!S34","v":3.94},null,{"$f":"データ一覧!S28","v":0},null,null,null,null,null,null,null,null,null,null,null,null,null,null,null,null,"     プラスチック","ゴム",null,null,null,null,null,null,null,null,{"$f":"データ一覧!S343","v":0},null,null,null,{"$f":"+データ一覧!S368","v":0},null,null,null,null,null,null,{"$f":"データ一覧!S393","v":0},null,null,null,null,null,null,null,"電気･ｶﾞｽ･水道業",null,null,null,null,29,null,null,null,{"$f":"データ一覧!S517","v":27},null,null,null,{"$f":"データ一覧!S542","v":2},null,null,null,null,"公務",null,null,null,null,351,null,null,null,{"$f":"データ一覧!S530","v":239},null,null,null,{"$f":"データ一覧!S555","v":112}]
[{"$f":"データ一覧!$A$36","v":"12.10.1"},null,null,null,null,{"$f":"データ一覧!S36","v":6619},null,null,{"$f":"+L32+O32","v":25017},null,null,{"$f":"データ一覧!S38","v":11973},null,null,{"$f":"データ一覧!S39","v":13044},null,null,null,91.789328426862923,null,{"$f":"データ一覧!S41","v":3.78},null,{"$f":"データ一覧!S35","v":0},null,null,"    　森　　　林　　　総　　　面　　　積   ",null,null,null,null,null,null,null,{"$f":"データ一覧!$A$265","v":"3.3.31"},null,null,null,null,null,"     ゴム","皮革",null,null,null,null,null,null,null,null,{"$f":"データ一覧!S344","v":0},null,null,null,{"$f":"+データ一覧!S369","v":0},null,null,null,null,null,null,{"$f":"データ一覧!S394","v":0},null,null,null,null,null,null,null,"情報通信業",null,null,null,null,99,null,null,null,{"$f":"データ一覧!S518","v":71},null,null,null,{"$f":"データ一覧!S543","v":28},null,null,null," 分類不能の産業",null,null,null,null,null,97,null,null,null,{"$f":"データ一覧!S531","v":51},null,null,null,{"$f":"データ一覧!S556","v":46}]
[{"$f":"+データ一覧!$A$43","v":"17.10.1"},null,null,null,null,{"$f":"データ一覧!S43","v":6670},null,null,{"$f":"+L33+O33","v":23995},null,null,{"$f":"データ一覧!S45","v":11447},null,null,{"$f":"データ一覧!S46","v":12548},null,null,null,91.225693337583678,null,{"$f":"データ一覧!S48","v":3.6},null,{"$f":"データ一覧!S49","v":156.9},null,null,"　　　森　　　　　　　林　　　　　　　の　　　　　　　構　　　　　　　成",null,null,null,null,null,null,null,null,null,null,null,null,null,"     皮革","窯業・土石",null,null,null,null,null,null,null,null,{"$f":"データ一覧!S345","v":3},null,null,null,{"$f":"+データ一覧!S370","v":61},null,null,null,null,null,null,{"$f":"データ一覧!S395","v":85404},null,null,null,null,null,null,"  ","運輸業,郵便業",null,null,null,null,{"$f":"BZ33+CD33","v":369},null,null,null,{"$f":"データ一覧!S519","v":306},null,null,null,{"$f":"データ一覧!S544","v":63}]
[{"$f":"+データ一覧!$A$50","v":"22.10.1"},null,null,null,null,{"$f":"+データ一覧!S50","v":6728},null,null,{"$f":"+L34+O34","v":23160},null,null,{"$f":"+データ一覧!S52","v":11036},null,null,{"$f":"+データ一覧!S53","v":12124},null,null,null,91.026064005278783,null,{"$f":"+データ一覧!S55","v":3.44},null,{"$f":"+データ一覧!S56","v":151.4},null,null,null,null,null,null,null,"       ha",null,null,null,null,null,null,"       ha",null,"     窯業・土石","鉄鋼",null,null,null,null,null,null,null,null,{"$f":"データ一覧!S346","v":0},null,null,null,{"$f":"+データ一覧!S371","v":0},null,null,null,null,null,null,{"$f":"データ一覧!S396","v":0},null,null,null,null,null,null," １６  社　 会 　福　 祉",null,null,null,null,null,null,null,null,null,null,null,null,null,null,null,{"$f":"データ一覧!$A$557","v":"3.4.1"}]
[{"$f":"データ一覧!$A$57","v":"27.10.1"},null,null,null,null,{"$f":"データ一覧!S57","v":6560},null,null,{"$f":"データ一覧!S58","v":21538},null,null,{"$f":"データ一覧!S59","v":10333},null,null,{"$f":"データ一覧!S60","v":11205},null,null,null,92.2177599286033,null,{"$f":"データ一覧!S62","v":3.2832317073170731},null,{"$f":"データ一覧!S63","v":140.6},null,null,"  総　　　　　   数",null,null,null,{"$f":"データ一覧!S265","v":11385.1},null,null," 天然林       針葉樹",null,null,null,{"$f":"データ一覧!S268","v":146.86000000000001},null,null,"     鉄鋼","非鉄金属",null,null,null,null,null,null,null,null,{"$f":"データ一覧!S347","v":2},null,null,null,{"$f":"+データ一覧!S372","v":63},null,null,null,null,null,null,{"$f":"データ一覧!S397","v":"x"}]
["令　2.10.1（国調）",null,null,null,null,{"$f":"データ一覧!S64","v":6581},null,null,{"$f":"データ一覧!S65","v":20118},null,null,{"$f":"データ一覧!S66","v":9725},null,null,{"$f":"データ一覧!S67","v":10393},null,null,null,{"$f":"+L36/O36*100","v":93.572596940248246},null,{"$f":"データ一覧!S72","v":3.03},null,{"$f":"データ一覧!S73","v":128.99118511263467},null,null,"  人工林     針葉樹",null,null,null,{"$f":"データ一覧!S266","v":6043.55},null,null," 天然林       広葉樹",null,null,null,{"$f":"データ一覧!S269","v":4913.05},null,null,"     非鉄金属","金属",null,null,null,null,null,null,null,null,{"$f":"データ一覧!S348","v":3},null,null,null,{"$f":"+データ一覧!S373","v":99},null,null,null,null,null,null,{"$f":"データ一覧!S398","v":254136},null,null,null,null,null,null,"    ","区分",null,null,null,null,null,null,"施設数",null,null,null,null,"収容定員",null,null,null,null,null,"区分",null,null,null,null,null,null,"施設数",null,null,null,null,"収容定員"]
["年",null,"  区",null," 0歳",null,null,"15歳",null,null,"25歳",null,null,"35歳",null,null,"45歳",null,null,"55歳",null,null,"65歳",null,null,"  人工林     広葉樹",null,null,null,{"$f":"データ一覧!S267","v":30.74},null,null," 竹               林",null,null,null,{"$f":"データ一覧!S270","v":161},null,null,"     金属","はん用機械",null,null,null,null,null,null,null,null,{"$f":"データ一覧!S349","v":1},null,null,null,{"$f":"+データ一覧!S374","v":83},null,null,null,null,null,null,{"$f":"データ一覧!S399","v":"x"},null,null,null,null,null,null,"生活保護施設",null,null,null,null,null,null,null,{"$f":"データ一覧!S557","v":0},null,null,null,{"$f":"データ一覧!S570","v":0},null,null,null,"人",null,"指定障害者支援施設",null,null,null,null,null,null,null,{"$f":"データ一覧!S563","v":2},null,null,null,{"$f":"データ一覧!S576","v":185},null,null,null,"人"]
["齢","令",null,null,null,"～",null,null,"～",null,null,"～",null,null,"～",null,null,"～",null,null,"～",null,null,null,null,null,null,null,null,null,null,null,null,null,null,null,null,null,null,"     一般機械","生産用機械",null,null,null,null,null,null,null,null,{"$f":"データ一覧!S350","v":1},null,null,null,{"$f":"+データ一覧!S375","v":28},null,null,null,null,null,null,{"$f":"データ一覧!S400","v":"x"},null,null,null,null,null,null,"地域福祉施設",null,null,null,null,null,null,null,{"$f":"データ一覧!S558","v":1},null,null,null,{"$f":"データ一覧!S571","v":0},null,null,null,null,null,"指定相談支援事業所",null,null,null,null,null,null,null,{"$f":"データ一覧!S564","v":1},null,null,null,{"$f":"データ一覧!S577","v":0}]
["階",{"$f":"+LEFT(データ一覧!$A$83,1)","v":"3"},"  分",null,null,null,"14歳",null,null,"24歳",null,null,"34歳",null,null,"44歳",null,null,"54歳",null,null,"64歳",null,null,"以上","    林     野     の     構     成",null,null,null,null,null,null,"保     有     形     態     別",null,null,null,null,null,null,"     電気機械","業務用機械",null,null,null,null,null,null,null,null,{"$f":"データ一覧!S351","v":"-"},null,null,null,{"$f":"+データ一覧!S376","v":0},null,null,null,null,null,null,{"$f":"データ一覧!S401","v":0},null,null,null,null,null,null,"老人福祉施設",null,null,null,null,null,null,null,{"$f":"データ一覧!S559","v":5},null,null,null,{"$f":"データ一覧!S572","v":208},null,null,null,null,null,"児童福祉施設",null,null,null,null,null,null,null,{"$f":"データ一覧!S565","v":22},null,null,null,{"$f":"データ一覧!S578","v":918}]
["級","・",null,null,null,null,"人",null,null,"人",null,"    人",null,null,"    人",null,null,"    人",null,null,"    人",null,null,"    人",null,null,null,null,null,null,null,"ha",null,null,null,null,null,"       ha",null,null,"電子・デバイス",null,null,null,null,null,null,null,null,{"$f":"データ一覧!S352","v":1},null,null,null,{"$f":"+データ一覧!S377","v":669},null,null,null,null,null,null,{"$f":"データ一覧!S402","v":"x"},null,null,null,null,null,null,"介護保険施設",null,null,null,null,null,null,null,{"$f":"データ一覧!S560","v":29},null,null,null,{"$f":"データ一覧!S573","v":692},null,null,null,null,null,"母子福祉施設",null,null,null,null,null,null,null,{"$f":"データ一覧!S566","v":0},null,null,null,{"$f":"データ一覧!S579","v":0}]
["別",{"$f":"+MID(データ一覧!$A$83,3,2)","v":"10"},"総 数",null,{"$f":"+E42+E43","v":2268},null,null,{"$f":"+H42+H43","v":1598},null,null,{"$f":"+K42+K43","v":1483},null,null,{"$f":"+N42+N43","v":2046},null,null,{"$f":"+Q42+Q43","v":2584},null,null,{"$f":"+T42+T43","v":2585},null,null,{"$f":"+W42+W43","v":7172},null,null," 無立木地   伐採跡地",null,null,null,{"$f":"データ一覧!S271","v":2.58},null,null,"国   　　　 　 有",null,null,null,{"$f":"データ一覧!S273","v":16.89},null,null,null,"電気機械",null,null,null,null,null,null,null,null,{"$f":"データ一覧!S353","v":1},null,null,null,{"$f":"+データ一覧!S378","v":133},null,null,null,null,null,null,{"$f":"データ一覧!S403","v":"x"},null,null,null,null,null,null,"障害者自立支援法施行前からの身体障害者福祉施設",null,null,null,null,null,null,null,{"$f":"データ一覧!S561","v":0},null,null,null,{"$f":"データ一覧!S574","v":0},null,null,null,null,null,"婦人保護施設",null,null,null,null,null,null,null,{"$f":"データ一覧!S567","v":0},null,null,null,{"$f":"データ一覧!S580","v":0}]
["人","・","  男",null,{"$f":"データ一覧!S83","v":1147},null,null,{"$f":"データ一覧!S84","v":823},null,null,{"$f":"データ一覧!S85","v":811},null,null,{"$f":"データ一覧!S86","v":1055},null,null,{"$f":"データ一覧!S87","v":1315},null,null,{"$f":"データ一覧!S88","v":1263},null,null,{"$f":"データ一覧!S89","v":3128},null,null," 無立木地   未立木地",null,null,null,{"$f":"データ一覧!S272","v":87.32},null,null,"公       　　  有",null,null,null,{"$f":"データ一覧!S274","v":1666.03},null,null,"     輸送機械","情報通信機械",null,null,null,null,null,null,null,null,{"$f":"データ一覧!S354","v":0},null,null,null,{"$f":"+データ一覧!S379","v":0},null,null,null,null,null,null,{"$f":"データ一覧!S404","v":0},null,null,null,null,null,null,null,null,null,null,null,null,null,null,null,null,null,null,null,null,null,null,null,null,"その他の社会福祉施設",null,null,null,null,null,null,null,{"$f":"データ一覧!S568+データ一覧!S569","v":0},null,null,null,{"$f":"データ一覧!S581+データ一覧!S582","v":0}]
["口",{"$f":"+RIGHT(データ一覧!$A$83,1)","v":"1"},"  女",null,{"$f":"データ一覧!S91","v":1121},null,null,{"$f":"データ一覧!S92","v":775},null,null,{"$f":"データ一覧!S93","v":672},null,null,{"$f":"データ一覧!S94","v":991},null,null,{"$f":"データ一覧!S95","v":1269},null,null,{"$f":"データ一覧!S96","v":1322},null,null,{"$f":"データ一覧!S97","v":4044},null,null,null,null,null,null,null,null,null,"私          　 有",null,null,null,{"$f":"データ一覧!S275","v":9702.18},null,null,"     精密機械","輸送機械",null,null,null,null,null,null,null,null,{"$f":"データ一覧!S355","v":"-"},null,null,null,{"$f":"+データ一覧!S380","v":0},null,null,null,null,null,null,{"$f":"データ一覧!S405","v":0},null,null,null,null,null,null,"障害福祉サービス事業所",null,null,null,null,null,null,null,{"$f":"データ一覧!S562","v":11},null,null,null,{"$f":"データ一覧!S575","v":62}]
[null,null,null,null,null,null,null,null,null,null,null,null,null,null,null,null,null,null,null,null,null,null,null,null,null,"            林     産     物     生     産     量 ",null,null,null,null,null,null,null,null,null,{"$f":"データ一覧!$A$276","v":"2年中"},null,null,null,"     その他","その他",null,null,null,null,null,null,null,null,{"$f":"データ一覧!S356","v":5},null,null,null,{"$f":"+データ一覧!S381","v":64},null,null,null,null,null,null,{"$f":"データ一覧!S406","v":82854},null,null,null,null,null,null," １７  教　　　　　　　育",null,null,null,null,null,null,null,null,null,null,null,null,null,null,null,{"$f":"データ一覧!$A$583","v":"3.5.1"}]
["人口動態",null,null,null,null,null,null,"   自　然　動　態",null,null,null,null,null,"   社  会  動  態",null,null,null,null,null,{"$f":"データ一覧!$A78","v":"2.1.1～3.12.31"},null,null,null,null,null,"生椎茸",null,null,null,{"$f":"データ一覧!S276","v":4644},null,"㎏","乾椎茸",null,null,null,{"$f":"データ一覧!S277","v":1240},null,"㎏"]
[null,null,"   区       分",null,null,null,null," 出   生",null,null," 死   亡",null,null," 転   入",null,null," 転   出",null,null," 婚   姻",null,null," 離   婚",null,null,"えのきだけ",null,null,null,{"$f":"データ一覧!S279","v":"-"},null,"㎏","なめこ",null,null,null,{"$f":"データ一覧!S278","v":10},null,"㎏","    ","工　業　用　水　量",null,null,null,null,null,"（従業者30人以上の事業所）",null,null,null,null,null,null,null,null,null,null,{"$f":"データ一覧!S407","v":900},null,null,null,null,"㎥／日",null,null,null,null,null,null,null,null,null,null,null,null,null,null,"学校数（校）",null,null,null,null,null,null,"教員数（人）",null,null,null,null,null,null,null,"学生・生徒・児童数（人）"]
[{"$f":"LEFT(データ一覧!$A74,6)","v":"2.10.1"},null,null,null,null,null,null,"       人",null,null,"       人",null,null,"       人",null,null,"       人",null,null,null,"    件",null,null,"    件",null,"ひらたけ",null,null,null,{"$f":"+データ一覧!S280","v":20},null,"㎏","まいたけ",null,null,null,{"$f":"+データ一覧!S281","v":"-"},null,"㎏",null,null,null,null,null,null,null,null,null,null,null,null,null,null,null,null,null,null,null,null,null,null,null,null,null,null,null,null,null,"　","区分",null,null,null,null,null,null,null," 本 校",null,null," 分 校",null,null," 本   務",null,null,null," 兼   務",null,null,null," 総   数",null,null,null,"男",null,null,null,"女"]
["～",null," 実          数",null,null,null,null,{"$f":"データ一覧!S74","v":52},null,null,{"$f":"データ一覧!S75","v":175},null,null,{"$f":"データ一覧!S76","v":197},null,null,{"$f":"データ一覧!S77","v":269},null,null,{"$f":"データ一覧!S78","v":77},null,null,{"$f":"データ一覧!S79","v":33},null,null,null,null,null,null,null,null,null,null,null,null,null,null,null,null," １１ 　上　・　下　水　道",null,null,null,null,null,null,null,null,null,null,null,null,null,null,null,null,null,null,null,null,null,null,null,null,null,null,null,null,"小学校",null,null,null,null,null,null,null,null,{"$f":"データ一覧!S584","v":8},null,null,{"$f":"データ一覧!S585","v":0},null,null,{"$f":"データ一覧!S586","v":108},null,null,null,{"$f":"データ一覧!S587","v":15},null,null,null,{"$f":"データ一覧!S588","v":988},null,null,null,{"$f":"データ一覧!S589","v":498},null,null,null,{"$f":"データ一覧!S590","v":490}]
[{"$f":"RIGHT(データ一覧!$A76,6)","v":"3.9.30"},null,"比率(対1,000人)",null,null,null,null,{"$f":"+H48/I35*1000","v":2.4143374500882162},null,null,{"$f":"+K48/I35*1000","v":8.1251741108738038},null,null,"- ",null,null,"- ",null,null,{"$f":"+T48/I35*1000","v":3.5750766087844741},null,null,{"$f":"+W48/I35*1000","v":1.5321756894790601},null,null,"  ６  漁               業",null,null,null,null,null,null,null,null,null,null,null,null,null,null,null,null,null,null,null,null,null,null,null,null,null,null,null,null,null,null,null,null,null,null,null,null,null,null,null,null,null,"  ","中学校",null,null,null,null,null,null,null,null,{"$f":"データ一覧!S592","v":4},null,null,{"$f":"データ一覧!S593","v":0},null,null,{"$f":"データ一覧!S594","v":66},null,null,null,{"$f":"データ一覧!S595","v":10},null,null,null,{"$f":"データ一覧!S596","v":588},null,null,null,{"$f":"データ一覧!S597","v":284},null,null,null,{"$f":"データ一覧!S598","v":304}]
[null,null,null,null,null,null,null,null,null,null,null,null,null,null,null,null,null,null,null,null,null,null,null,null,null,null,null,null,null,null,null,null,null,null,null,null,null,null,null,"水 道 供 給 人 口",null,null,null,null,null,null,"上 水 道",null,null,null,"簡易水道",null,null,null,"専用水道",null,null,null,"飲料水供給施設",null,null,null,"下水道処理人口",null,null,null,null,"  ","高等学校",null,null,null,null,null,null,null,null,{"$f":"データ一覧!S600","v":1},null,null,{"$f":"データ一覧!S601","v":0},null,null,{"$f":"データ一覧!S602","v":32},null,null,null,{"$f":"データ一覧!S603","v":14},null,null,null,{"$f":"データ一覧!S604","v":333},null,null,null,{"$f":"データ一覧!S605","v":185},null,null,null,{"$f":"データ一覧!S606","v":148}]
["  ３  事　　業　　所（民　　営）    （平 28.6.1）",null,null,null,null,null,null,null,null,null,null,null,null,null,null,null,null,null,null,null,null,null,null,null,null,"漁船隻数・トン数",null,null,null,{"$f":"データ一覧!$A$282","v":"2.12.31"},null,null,null,"動　力　船",null,null,null,null,null,{"$f":"データ一覧!$A$408","v":"3.3.31"},null,null,null,null,null,"人",null,{"$f":"データ一覧!S408","v":9803},null,null,{"$f":"データ一覧!S409","v":10992},null,null,null,null,{"$f":"データ一覧!S410","v":0},null,null,null,{"$f":"データ一覧!S411","v":18},null,null,null,{"$f":"データ一覧!S412","v":13902},null,null,null,"  ","大学・短期大学",null,null,null,null,null,null,null,null,{"$f":"データ一覧!S607","v":0},null,null,{"$f":"データ一覧!S608","v":0},null,null,{"$f":"データ一覧!S609","v":0},null,null,null,{"$f":"データ一覧!S610","v":0},null,null,null,{"$f":"データ一覧!S611","v":0},null,null,null,{"$f":"データ一覧!S612","v":0},null,null,null,{"$f":"データ一覧!S613","v":0}]
[null,null,null,null,null,null,null,null,null,null,null,null,null,null,null,null,null,null,null,null,null,null,null,null,null,"無動力船隻数",null,null,null,"船外機付漁船隻数",null,null,null,"隻　数",null,null,"総 ト ン 数",null,null,null,null,null,null,null,null,null,null,null,null,null,null,null,null,null,null,null,null,null,null,null,null,null,null,null,null,null,null,"  ","高等専門学校",null,null,null,null,null,null,null,null,{"$f":"データ一覧!S614","v":0},null,null,{"$f":"データ一覧!S615","v":0},null,null,{"$f":"データ一覧!S616","v":0},null,null,null,{"$f":"データ一覧!S617","v":0},null,null,null,{"$f":"データ一覧!S618","v":0},null,null,null,{"$f":"データ一覧!S619","v":0},null,null,null,{"$f":"データ一覧!S620","v":0}]
[null,null,null,null,null,null,null,"    総　　　　　数",null,null,null,null,null,"    民　　　　　営",null,null,null,null,null,"  国 ･ 地方公共団体",null,null,null,null,null,null,null,null,"隻",null,null,null,"隻",null,null,"隻",null,null,"t"," １２  交   通　・　通   信",null,null,null,null,null,null,null,null,null,null,null,null,null,null,null,null,null,null,null,null,null,null,null,null,null,null,null,"  ","特別支援学校",null,null,null,null,null,null,null,null,{"$f":"+データ一覧!S622","v":0},null,null,{"$f":"+データ一覧!S623","v":0},null,null,{"$f":"+データ一覧!S624","v":0},null,null,null,{"$f":"+データ一覧!S625","v":0},null,null,null,{"$f":"+データ一覧!S626","v":0},null,null,null,{"$f":"+データ一覧!S627","v":0},null,null,null,{"$f":"+データ一覧!S628","v":0}]
["  　区　　　　　　分",null,null,null,null,null,null," 事業所数",null,null," 従業者数",null,null," 事業所数",null,null," 従業者数",null,null," 事業所数",null,null," 従業者数",null,null,{"$f":"データ一覧!$S$282","v":0},null,null,null,{"$f":"データ一覧!$S$283","v":136},null,null,null,{"$f":"データ一覧!S284","v":161},null,null,{"$f":"データ一覧!S285","v":1629.5100000000002},null,null,null,null,null,null,null,null,null,null,null,null,null,null,null,null,null,null,null,null,null,null,null,null,null,null,null,null,null,null,"  ","幼稚園",null,null,null,null,null,null,null,null,{"$f":"データ一覧!S630","v":0},null,null,{"$f":"データ一覧!S631","v":0},null,null,{"$f":"データ一覧!S632","v":0},null,null,null,{"$f":"データ一覧!S633","v":0},null,null,null,{"$f":"データ一覧!S634","v":0},null,null,null,{"$f":"データ一覧!S635","v":0},null,null,null,{"$f":"データ一覧!S636","v":0}]
[null,null,null,null,null,null,null,null,null,null,"       人",null,null,null,null,null,"       人",null,null,null,null,null,"       人",null,null,"  男女別就業者数",null,null,null,null,null,null,null,{"$f":"データ一覧!$A$286","v":"30.11.1"},null,null,null,null,null,"道     路",null,null,null,"実 延 長",null,null,null,"国     道",null,null,null,"県     道",null,null,null,"市町道",null,null,null," 鉄 道 営 業 キ ロ 数",null,null,null,null,null,null,null,"  ","幼保連携認定こども園",null,null,null,null,null,null,null,null,{"$f":"データ一覧!S638","v":3},null,null,{"$f":"データ一覧!S639","v":0},null,null,{"$f":"データ一覧!S640","v":41},null,null,null,{"$f":"データ一覧!S641","v":1},null,null,null,{"$f":"データ一覧!S642","v":170},null,null,null,{"$f":"データ一覧!S643","v":97},null,null,null,{"$f":"データ一覧!S644","v":73}]
["総数",null,null,null,null,null,null,{"$f":"データ一覧!S99","v":"…"},null,null,{"$f":"データ一覧!S156","v":"…"},null,null,{"$f":"データ一覧!S100","v":1076},null,null,{"$f":"データ一覧!S157","v":6957},null,null,{"$f":"データ一覧!S101","v":"…"},null,null,{"$f":"データ一覧!S158","v":"…"},null,null,"総　　数",null,null,null,null,null,"男",null,null,null,"女",null,null,null,{"$f":"データ一覧!$A$413","v":"2.4.1"},null,null,null,{"$f":"データ一覧!S413","v":475.15799999999996},null,null,"㎞",{"$f":"データ一覧!S414","v":45.1},null,null,"㎞",{"$f":"データ一覧!S415","v":73.099999999999994},null,null,"㎞",{"$f":"データ一覧!S416","v":356.95799999999997},null,null,"km",{"$f":"データ一覧!$A$417","v":"3.4.1"},null,null,null,{"$f":"データ一覧!S417","v":0},null,null,"㎞","  ","各種学校",null,null,null,null,null,null,null,null,{"$f":"データ一覧!S646","v":0},null,null,{"$f":"データ一覧!S647","v":0},null,null,{"$f":"データ一覧!S648","v":0},null,null,null,{"$f":"データ一覧!S649","v":0},null,null,null,{"$f":"データ一覧!S650","v":0},null,null,null,{"$f":"データ一覧!S651","v":0},null,null,null,{"$f":"データ一覧!S652","v":0}]
["農林漁業",null,null,null,null,null,null,{"$f":"データ一覧!S102","v":"…"},null,null,{"$f":"データ一覧!S159","v":"…"},null,null,{"$f":"データ一覧!S103","v":14},null,null,{"$f":"データ一覧!S160","v":175},null,null,{"$f":"データ一覧!S104","v":"…"},null,null,{"$f":"データ一覧!S161","v":"…"},null,null,null,null,null,null,null,"人",null,null,"　　　　人",null,null,null,null,"  人","自動車",null,null,null,null,null,null,null,null,"乗用車",null,null,null,null,null,null,null,null,null,null,null,null,null,null,null,null,null,null,"  ","専修学校",null,null,null,null,null,null,null,null,{"$f":"データ一覧!S654","v":0},null,null,{"$f":"データ一覧!S655","v":0},null,null,{"$f":"データ一覧!S656","v":0},null,null,null,{"$f":"データ一覧!S657","v":0},null,null,null,{"$f":"データ一覧!S658","v":0},null,null,null,{"$f":"データ一覧!S659","v":0},null,null,null,{"$f":"データ一覧!S660","v":0}]
["鉱業",null,null,null,null,null,null,{"$f":"データ一覧!S105","v":"…"},null,null,{"$f":"データ一覧!S162","v":"…"},null,null,{"$f":"データ一覧!S106","v":0},null,null,{"$f":"データ一覧!S163","v":0},null,null,{"$f":"データ一覧!S107","v":"…"},null,null,{"$f":"データ一覧!S164","v":"…"},null,null,{"$f":"AF58+AJ58","v":266},null,null,null,null,null,{"$f":"データ一覧!$S$287","v":258},null,null,null,{"$f":"データ一覧!S288","v":8},null,null,null,"台  数",null,null,null,"貨    物",null,null,null,"普     通",null,null,null,"小     型",null,null,null,"乗  合",null,null,"特  種",null,null,"小型二輪",null,null,"軽自動車",null,null," １８  衛　　　　　　　生"]
["建設業",null,null,null,null,null,null,{"$f":"データ一覧!S108","v":"…"},null,null,{"$f":"データ一覧!S165","v":"…"},null,null,{"$f":"データ一覧!S109","v":173},null,null,{"$f":"データ一覧!S166","v":635},null,null,{"$f":"データ一覧!S110","v":"…"},null,null,{"$f":"データ一覧!S167","v":"…"},null,null,"　　　　海 面 漁 業 漁 獲 量 （属人）",null,null,null,null,null,null,null,{"$f":"データ一覧!$A$289","v":"30年中"},null,null,null,null,null,{"$f":"データ一覧!$A$418","v":"3.3.31"},null,null,null,null,{"$f":"データ一覧!S418","v":369},null,null,null,{"$f":"データ一覧!S420","v":1913},null,null,null,{"$f":"データ一覧!S421","v":2015},null,null,{"$f":"データ一覧!S419","v":22},null,null,{"$f":"データ一覧!S422","v":145},null,null,{"$f":"データ一覧!S423","v":152},null,null,{"$f":"データ一覧!S424","v":4580}]
["製造業",null,null,null,null,null,null,{"$f":"データ一覧!S111","v":"…"},null,null,{"$f":"データ一覧!S168","v":"…"},null,null,{"$f":"データ一覧!S112","v":203},null,null,{"$f":"データ一覧!S169","v":2224},null,null,{"$f":"データ一覧!S113","v":"…"},null,null,{"$f":"データ一覧!S170","v":"…"},null,null,null,null,null,null,null,"       ","ｔ",null,null,null,null,null,null,"t",null,null,"     ",null,"郵　便　局　数",null,null,null,null,null,null,null,null,null,null,null,null,null,{"$f":"+MID(データ一覧!$A$428,3,2)","v":"12"},"令","一般加入",null,null,null,"ＩＮＳネット",null,null,null,null,null,null,null,"医療関係施設",null,null,null,null,null,{"$f":"データ一覧!$A$661","v":"元.10.1"},null,null,null,null,null,null,"および医療関係者数",null,null,null,null,null,null,null,{"$f":"データ一覧!$A$666","v":"30.12.31"}]
["電気・ｶﾞ ｽ・熱供給・水道業",null,null,null,null,null,null,{"$f":"データ一覧!S114","v":"…"},null,null,{"$f":"データ一覧!S171","v":"…"},null,null,{"$f":"データ一覧!S115","v":0},null,null,{"$f":"データ一覧!S172","v":0},null,null,{"$f":"データ一覧!S116","v":"…"},null,null,{"$f":"データ一覧!S173","v":"…"},null,null,"   総　　　　　　数",null,null,null,{"$f":"データ一覧!S289","v":3155},null,null,"   藻　　　　　　類",null,null,null,{"$f":"データ一覧!S292","v":1},null,null,"通  信",null,null,null," 総     数",null,null,null,null," 郵 便 局",null,null,null,null," 簡 易 局",null,null,null,"・",{"$f":"+LEFT(データ一覧!$A$428,1)","v":"2"},"電話数",null,null,null,"加入数",null,null,null,null,null,null,null,null,null,"　","病",null,null,"院",null,"　",null,null,null,null," ","一般診療所",null,null,null,null,null,null,null,null,null,null,null,"歯科診療所"]
["情報通信業",null,null,null,null,null,null,{"$f":"データ一覧!S117","v":"…"},null,null,{"$f":"データ一覧!S174","v":"…"},null,null,{"$f":"データ一覧!S118","v":1},null,null,{"$f":"データ一覧!S175","v":4},null,null,{"$f":"データ一覧!S119","v":"…"},null,null,{"$f":"データ一覧!S176","v":"…"},null,null,"   魚　　　　　　類",null,null,null,{"$f":"データ一覧!S290","v":1901},null,null,"   そ　   の　　 他",null,null,null,{"$f":"データ一覧!S293","v":1133},null,null,{"$f":"データ一覧!$A$428","v":"2.12.31"},null,null,null,{"$f":"データ一覧!S425","v":10},null,null,null,null,{"$f":"データ一覧!S426","v":8},null,null,null,null,{"$f":"データ一覧!S427","v":2},null,null,null,{"$f":"+RIGHT(データ一覧!$A$428,2)","v":"31"},"・",{"$f":"データ一覧!S428","v":1949},null,null,null,{"$f":"データ一覧!S429","v":244},null,null,null," ","医療関係",null,null,null,null,null,null,null,null,null,null,null,"一般病院",null,null,null,null,null,null,null,null,null,null,null,"有",null,null,"床"]
["運輸業、郵便業",null,null,null,null,null,null,{"$f":"データ一覧!S120","v":"…"},null,null,{"$f":"データ一覧!S177","v":"…"},null,null,{"$f":"データ一覧!S121","v":15},null,null,{"$f":"データ一覧!S178","v":94},null,null,{"$f":"データ一覧!S122","v":"…"},null,null,{"$f":"データ一覧!S179","v":"…"},null,null,"   貝　　　　　　類",null,null,null,{"$f":"データ一覧!S291","v":120},null,null,null,null,null,null,null,null,null,null,null,null,null,null,null,null,null,null,null,null,null,null,null,null,null,null,null,null,null,null,null,null,null,null,null,null,null,null,"施設数",null,null,null,null,null,null,{"$f":"データ一覧!S661","v":2},null,null,null,null,null,{"$f":"データ一覧!S662","v":2},null,null,null,null,null,{"$f":"データ一覧!S663","v":10},null,null,null,null,null,{"$f":"データ一覧!S664","v":1},null,null,null,null,null,{"$f":"データ一覧!S665","v":6}]
["卸売業、小売業",null,null,null,null,null,null,{"$f":"データ一覧!S123","v":"…"},null,null,{"$f":"データ一覧!S180","v":"…"},null,null,{"$f":"データ一覧!S124","v":249},null,null,{"$f":"データ一覧!S181","v":1353},null,null,{"$f":"データ一覧!S125","v":"…"},null,null,{"$f":"データ一覧!S182","v":"…"},null,null,null,null,null,null,null,null,null,null,null,null,null,null,null,null," １３  税　　・　　財　　政",null,null,null,null,null,null,null,null,null,null,null,null,null,null,null,null,null,null,null,null,null,null,null,null,null,null,null,null,null,null,null,null,null,null,"医師",null,null,null,null,"歯科医師",null,null,null,null,"薬剤師",null,null,null,null,"保健師",null,null,null,null,"助産師",null,null," ",null,"看護師",null,null," "]
["金融業、保険業",null,null,null,null,null,null,{"$f":"データ一覧!S126","v":"…"},null,null,{"$f":"データ一覧!S183","v":"…"},null,null,{"$f":"データ一覧!S127","v":13},null,null,{"$f":"データ一覧!S184","v":93},null,null,{"$f":"データ一覧!S128","v":"…"},null,null,{"$f":"データ一覧!S185","v":"…"},null,null,"  ７  商        　　　業 ",null,null,null,null,null,null,{"$f":"データ一覧!$A$294","v":"28.6.1(平成27年実績）"},null,null,null,null,null,null,null,null,null,null,null,null,null,null,null,null,null,null,null,null,null,null,null,null,null,null,null,null,null,null,null,null,null,null," ","医療",null,null,null,null,null,null,null,null,"人",null,null,null,null,"人",null,null,null,null,"人",null,null,null,null,"人",null,null,null,null,"人",null,null,null,null,"人"]
["不動産業、物品賃貸業",null,null,null,null,null,null,{"$f":"データ一覧!S129","v":"…"},null,null,{"$f":"データ一覧!S186","v":"…"},null,null,{"$f":"データ一覧!S130","v":10},null,null,{"$f":"データ一覧!S187","v":27},null,null,{"$f":"データ一覧!S131","v":"…"},null,null,{"$f":"データ一覧!S188","v":"…"},null,null,null,null,null,null,null,null,null,null,null,null,null,null,null,null,"           ",null,null,null,"歳入",null,null,null,null,null,null,null,null,"(千円）"," ",null,null,null,"歳出",null,null,null,null,null,null,null,null,"(千円）",null,"関係者",null,null,null,null,{"$f":"データ一覧!S666","v":15},null,null,null,null,{"$f":"データ一覧!S667","v":8},null,null,null,null,{"$f":"データ一覧!S668","v":22},null,null,null,null,{"$f":"データ一覧!S669","v":11},null,null,null,null,{"$f":"データ一覧!S670","v":0},null,null,null,null,{"$f":"データ一覧!S671","v":159}]
["学術研究、専門・技術ｻｰﾋﾞｽ業",null,null,null,null,null,null,{"$f":"データ一覧!S132","v":"…"},null,null,{"$f":"データ一覧!S189","v":"…"},null,null,{"$f":"データ一覧!S133","v":15},null,null,{"$f":"データ一覧!S190","v":36},null,null,{"$f":"データ一覧!S134","v":"…"},null,null,{"$f":"データ一覧!S191","v":"…"},null,null,"  産   業　 分　 類",null,null,null,"  商　 店 　数",null,null," 従　業　者　数",null,null,"年　間　販　売　額",null,null,null,"一人当たり歳入歳出予算決算額",null,null,null,null,null,null,null,null,null,null,null,null,null,null,null,null,null,null,null,null,null,null,null,null,null,null,null,"                   ",null,null,null,null,null,null,null,null,"死因別死亡数　　　　　　    ",null,null,null,null,null,null,null,null,null,null,null,null,null,null,null,{"$f":"データ一覧!$A$672","v":"2年中"},null,null,null,null,null,null,null,null,"      単 位：人"]
["宿泊業、飲食サービス業",null,null,null,null,null,null,{"$f":"データ一覧!S135","v":"…"},null,null,{"$f":"データ一覧!S192","v":"…"},null,null,{"$f":"データ一覧!S136","v":132},null,null,{"$f":"データ一覧!S193","v":687},null,null,{"$f":"データ一覧!S137","v":"…"},null,null,{"$f":"データ一覧!S194","v":"…"},null,null,null,null,null,null,null,"        店",null,null,null,"　人",null,"         百万円",null,null,"区分",null,null,null,{"$f":"データ一覧!$A$438","v":"3年度"},null,null,null,null,{"$f":"データ一覧!$A$452","v":"2年度"},null,null,null,null,"区分",null,null,null,{"$f":"+AR68","v":"3年度"},null,null,null,null,{"$f":"データ一覧!$A$452","v":"2年度"},null,null,null,null," 死     因",null,null,null,null,null,null,null,null,null,null,null,"悪  性",null,null,"高血圧",null,null,null,null,null,"脳血管",null,null,null,null,null," ",null,null,"不慮の事故"]
["生活関連サービス業、娯楽業",null,null,null,null,null,null,{"$f":"データ一覧!S138","v":"…"},null,null,{"$f":"データ一覧!S195","v":"…"},null,null,{"$f":"データ一覧!S139","v":73},null,null,{"$f":"データ一覧!S196","v":160},null,null,{"$f":"データ一覧!S140","v":"…"},null,null,{"$f":"データ一覧!S197","v":"…"},null,null,"総　　　　　　計",null,null,null,{"$f":"データ一覧!S294","v":224},null,null,{"$f":"データ一覧!S303","v":1023},null,null,{"$f":"データ一覧!S312","v":18439},null,null,null,null,null,null,null,{"$f":"データ一覧!S434","v":593524.98101746396},null,null,null,null,{"$f":"データ一覧!S435","v":933471.21685653797},null,null,null,null,null,null,null,null,{"$f":"データ一覧!S436","v":593524.98101746396},null,null,null,null,{"$f":"データ一覧!S437","v":899117.14890613977},null,null,null,null,null,null,null,null,null,"全 死 因",null,null,null,"結 核",null,null,"新生物",null,null,"性疾患",null,null,"心疾患",null,null,"疾  患",null,null,"肺  炎",null,null,"老  衰",null,null,null,null," ","交通事故"]
["教育、学習支援業",null,null,null,null,null,null,{"$f":"データ一覧!S141","v":"…"},null,null,{"$f":"データ一覧!S198","v":"…"},null,null,{"$f":"データ一覧!S142","v":24},null,null,{"$f":"データ一覧!S199","v":45},null,null,{"$f":"データ一覧!S143","v":"…"},null,null,{"$f":"データ一覧!S200","v":"…"},null,null,"卸売業",null,null,null,{"$f":"データ一覧!S295","v":26},null,null,{"$f":"データ一覧!S304","v":126},null,null,{"$f":"データ一覧!S313","v":5470},null,null,null,"項目別歳入歳出予算決算額"]
["医療、福祉",null,null,null,null,null,null,{"$f":"データ一覧!S144","v":"…"},null,null,{"$f":"データ一覧!S201","v":"…"},null,null,{"$f":"データ一覧!S145","v":49},null,null,{"$f":"データ一覧!S202","v":1098},null,null,{"$f":"データ一覧!S146","v":"…"},null,null,{"$f":"データ一覧!S203","v":"…"},null,null,"小売業",null,null,null,{"$f":"データ一覧!S296","v":198},null,null,{"$f":"データ一覧!S305","v":897},null,null,{"$f":"データ一覧!S314","v":12969},null,null,null,"区分",null,null,null,{"$f":"データ一覧!$A$438","v":"3年度"},null,null,null,null,{"$f":"データ一覧!$A$452","v":"2年度"},null,null,null,null,"区分",null,null,null,{"$f":"+AR71","v":"3年度"},null,null,null,null,{"$f":"データ一覧!$A$452","v":"2年度"},null,null,null,null,null,null,null,null,null,{"$f":"データ一覧!S672","v":317},null,null,null,"   －",{"$f":"データ一覧!S673","v":0},null,{"$f":"データ一覧!S674","v":12},null,null,null,{"$f":"データ一覧!S675","v":0},null,{"$f":"データ一覧!S676","v":7},null,null,{"$f":"データ一覧!S677","v":0},null,null,{"$f":"データ一覧!S678","v":15},null,null,{"$f":"データ一覧!S679","v":36},null,null,{"$f":"データ一覧!S680","v":9},null,null,{"$f":"データ一覧!S681","v":4}]
["複合サービス事業",null,null,null,null,null,null,{"$f":"データ一覧!S147","v":"…"},null,null,{"$f":"データ一覧!S204","v":"…"},null,null,{"$f":"データ一覧!S148","v":14},null,null,{"$f":"データ一覧!S205","v":112},null,null,{"$f":"データ一覧!S149","v":"…"},null,null,{"$f":"データ一覧!S206","v":"…"},null,null,"各種商品",null,null,null,{"$f":"データ一覧!S297","v":0},null,null,{"$f":"データ一覧!S306","v":0},null,null,{"$f":"データ一覧!S315","v":0},null,null,null,"総額",null,null,null,{"$f":"SUM(AR73:AV85)","v":11725086},null,null,null,null,{"$f":"SUM(AW73:BA85)","v":18482537},null,null,null,null,"総額",null,null,null,{"$f":"SUM(BF73:BJ85)","v":11725086},null,null,null,null,{"$f":"SUM(BK73:BO85)","v":17836686},null,null,null,null," １９  警　察　・　消　防  ",null,null,null,null,null,null,null,null,null,null,null,null,null,null,null,{"$f":"+データ一覧!$A682","v":"3.4.1"}]
["サービス業",null,null,null,null,null,null,{"$f":"データ一覧!S150","v":"…"},null,null,{"$f":"データ一覧!S207","v":"…"},null,null,{"$f":"データ一覧!S151","v":91},null,null,{"$f":"データ一覧!S208","v":214},null,null,{"$f":"データ一覧!S152","v":"…"},null,null,{"$f":"データ一覧!S209","v":"…"},null,null,"織物・衣服・身の回り品",null,null,null,{"$f":"データ一覧!S298","v":12},null,null,{"$f":"データ一覧!S307","v":20},null,null,{"$f":"データ一覧!S316","v":132},null,null,null,"地方税",null,null,null,{"$f":"データ一覧!S439","v":1963078},null,null,null,null,{"$f":"データ一覧!S453","v":2286713},null,null,null,null,"議会費",null,null,null,{"$f":"データ一覧!S467","v":101890},null,null,null,null,{"$f":"データ一覧!S481","v":92164}]
["公務",null,null,null,null,null,null,{"$f":"データ一覧!S153","v":"…"},null,null,{"$f":"データ一覧!S210","v":"…"},null,null,{"$f":"データ一覧!S154","v":"…"},null,null,{"$f":"データ一覧!S211","v":"…"},null,null,{"$f":"データ一覧!S155","v":"…"},null,null,{"$f":"データ一覧!S212","v":"…"},null,null,"飲食料品",null,null,null,{"$f":"データ一覧!S299","v":76},null,null,{"$f":"データ一覧!S308","v":453},null,null,{"$f":"データ一覧!S317","v":7273},null,null,null,"地方譲与税",null,null,null,{"$f":"データ一覧!S440","v":125239},null,null,null,null,{"$f":"データ一覧!S454","v":129663},null,null,null,null,"総務費",null,null,null,{"$f":"データ一覧!S468","v":1544413},null,null,null,null,{"$f":"データ一覧!S482","v":6482851},null,null,null,null,null,null,null,null,null,null,null,null,null,null,"交番・駐在所",null,null,null,null,null,null,null,null,"刑法犯認知件数",null,null,null,null,null,null,null,null,"交通人身事故発生件数"]
["  ４  農        　　　業 ",null,null,null,null,null,null,null,null,null,null,null,null,null,null,null,null,null,null,null,null,null,null,null,null,"機械器具",null,null,null,{"$f":"データ一覧!S300","v":17},null,null,{"$f":"データ一覧!S309","v":63},null,null,{"$f":"データ一覧!S318","v":762},null,null,null,"各種交付金",null,null,null,{"$f":"データ一覧!S441","v":496200},null,null,null,null,{"$f":"データ一覧!S455","v":466164},null,null,null,null,"民生費",null,null,null,{"$f":"データ一覧!S469","v":3326513},null,null,null,null,{"$f":"データ一覧!S483","v":3466207},null,null,null,null,null,"警察署数",null,null,null,null,null,null,null,null,"検問所数",null,null,null,null,null,null,null,null,null,{"$f":"データ一覧!$A$684","v":"2年中"},null,null,null,null,null,null,null,null,{"$f":"データ一覧!$A$684","v":"2年中"}]
[null,null,null,null,null,null,null,null,null,null,null,null,null,null,null,null,null,null,null,null,null,null,null,null,null,"その他",null,null,null,{"$f":"データ一覧!S301","v":78},null,null,{"$f":"データ一覧!S310","v":338},null,null,{"$f":"データ一覧!S319","v":4710},null,null,null,"地方特例交付金",null,null,null,{"$f":"データ一覧!S442","v":37800},null,null,null,null,{"$f":"データ一覧!S456","v":18167},null,null,null,null,"衛生費",null,null,null,{"$f":"データ一覧!S470","v":1176001},null,null,null,null,{"$f":"データ一覧!S484","v":1080964},null,null,null,null,null,null,null,null,null,null,null,null,null,null,null,null,null,null,null,null,null,null,null,null,null,null,null,null," 件",null,null,null,null,null,null,null,null,"　件"]
[null,null,"農業経営体数",null,null,null,null,null,null,"農産物販売額規模別経営体数",null,null,null,null,null,null,null,"経営耕地面積規模別経営体数",null,null,null,null,null,null,null,"無店舗",null,null,null,{"$f":"データ一覧!S302","v":15},null,null,{"$f":"データ一覧!S311","v":23},null,null,{"$f":"データ一覧!S320","v":92},null,null,null,"地方交付税",null,null,null,{"$f":"データ一覧!S443","v":4900000},null,null,null,null,{"$f":"データ一覧!S457","v":5339737},null,null,null,null,"労働費",null,null,null,{"$f":"データ一覧!S471","v":46718},null,null,null,null,{"$f":"データ一覧!S485","v":45255},null,null,null,null,null,null,{"$f":"データ一覧!S682","v":0},null,null,null,null,null,null,null,null,{"$f":"データ一覧!S683","v":6},null,null,null,null,null,null,null,null,{"$f":"データ一覧!S684","v":46},null,null,null,null,null,null,null,null,{"$f":"データ一覧!S685","v":14}]
["農",null,"区　分",null,null,null,"経営体数\n（経営体）",null,null,"区　分",null,null,null,null,"経営体数\n（経営体）",null,null,"区　分",null,null,null,null,"経営体数\n（経営体）",null,null,null,null,null,null,null,null,null,null,null,null,null,null,null,null,"分担金および負担金",null,null,null,{"$f":"データ一覧!S444","v":25172},null,null,null,null,{"$f":"データ一覧!S458","v":49406},null,null,null,null,"農林水産業費",null,null,null,{"$f":"データ一覧!S472","v":628888},null,null,null,null,{"$f":"データ一覧!S486","v":847197},null,null,null,null,"火災発生件数",null,null,null,null,null,null,null,null,null,"林野焼損",null,null,null,null,"損      害",null,null,null,null,"消 防 自",null,null,null,"その他の",null,null,null," ",null,null,null,null," "]
["業","令",null,null,null,null,null,null,null,null,null,null,null,null,null,null,null,null,null,null,null,null,null,null,null,"  ８  住　　　　　　 　宅",null,null,null,null,null,null,null,null,null,null,null,null,null,"使用料および手数料",null,null,null,{"$f":"データ一覧!S445","v":129161},null,null,null,null,{"$f":"データ一覧!S459","v":117044},null,null,null,null,"商工費",null,null,null,{"$f":"データ一覧!S473","v":746730},null,null,null,null,{"$f":"データ一覧!S487","v":918319},null,null,null,null,{"$f":"+データ一覧!$A$686","v":"2年中"},null,null,null,null,"焼損棟数",null,null,null,null,"面    積",null,null,null,null,"見  積  額",null,null,null,null,"動 車 数",null,null,null,"ﾎﾟﾝﾌﾟ数",null,null,null," 消防吏員",null,null,null," 消防団員"]
["経",{"$f":"+LEFT(データ一覧!$A$213)","v":"2"},"計",null,null,null,{"$f":"データ一覧!S213","v":447},null,null,"総　　　 数",null,null,null,null,{"$f":"データ一覧!S217","v":447},null,null,"総　　　 数",null,null,null,null,{"$f":"データ一覧!S233","v":964},null,null,null,null,null,null,null,null,null,null,null,null,null,null,null,null,"国庫支出金",null,null,null,{"$f":"データ一覧!S446","v":1140368},null,null,null,null,{"$f":"データ一覧!S460","v":4125427},null,null,null,null,"土木費",null,null,null,{"$f":"データ一覧!S474","v":936918},null,null,null,null,{"$f":"データ一覧!S488","v":1373804},null,null,null,null,"         件",null,null,null,null,null,"      棟",null,null,null,null,null,null,"  ａ",null,null,null,"  千円",null,null,"        ",null,null,null,null,null,null,null,null,null,"  人",null,null,null,"  人"]
["営","・","個人経営体",null,null,null,{"$f":"データ一覧!S214","v":426},null,null,"販 売 な し",null,null,null,null,{"$f":"データ一覧!S218","v":28},null,null,"0.5 ha 未満",null,null,null,null,{"$f":"データ一覧!S234","v":47},null,null,{"$f":"+データ一覧!$A$321","v":"令和元年"},null,null,null,null,{"$f":"データ一覧!$A$324","v":"2年"},"中の増減",null,null,null,{"$f":"+データ一覧!$A$324","v":"2年"},null,null,null,"県支出金",null,null,null,{"$f":"データ一覧!S447","v":869377},null,null,null,null,{"$f":"データ一覧!S461","v":1073172},null,null,null,null,"消防費",null,null,null,{"$f":"データ一覧!S475","v":527442},null,null,null,null,{"$f":"データ一覧!S489","v":568484},null,null,null,null,null,{"$f":"データ一覧!S686","v":5},null,null,null,null,{"$f":"データ一覧!S687","v":2},null,null,null,null,{"$f":"データ一覧!S688","v":0},null,null,null,{"$f":"データ一覧!S689","v":15579},null,null,null,null,null,{"$f":"データ一覧!S690","v":25},null,null,null,{"$f":"データ一覧!S691","v":5},null,null,null,{"$f":"データ一覧!S692","v":34},null,null,null,{"$f":"データ一覧!S693","v":356}]
["体",{"$f":"+LEFT(データ一覧!$A$213,1)","v":"2"},"団体経営体",null,null,null,{"$f":"データ一覧!S215","v":21},null,null,"50万円未満",null,null,null,null,{"$f":"データ一覧!S219","v":229},null,null,"0.5 ha ～ 1.0 ha",null,null,null,null,{"$f":"データ一覧!S235","v":122},null,null,null,null,null,null,"建設した住宅",null,null,"消失した住宅",null,null,null,null,null,null,"財産収入",null,null,null,{"$f":"データ一覧!S448","v":79486},null,null,null,null,{"$f":"データ一覧!S462","v":74469},null,null,null,null,"教育費",null,null,null,{"$f":"データ一覧!S476","v":1399418},null,null,null,null,{"$f":"データ一覧!S490","v":1650915},null,null,null,null," ２０  そ　　　の　　　他　"]
["数","・",null,"法人経営",null,null,{"$f":"データ一覧!S216","v":20},null,null,"50～300万円",null,null,null,null,{"$f":"データ一覧!S220","v":152},null,null,"1.0 ha ～ 2.0 ha",null,null,null,null,{"$f":"データ一覧!S236","v":118},null,null,null,null,null,null,null,null,null,null,null,null,null,null,null,null,"繰入金",null,null,null,{"$f":"データ一覧!S449","v":961877},null,null,null,null,{"$f":"データ一覧!S463","v":768967},null,null,null,null,"災害復旧費",null,null,null,{"$f":"データ一覧!S477","v":0},null,null,null,null,{"$f":"データ一覧!S491","v":165278}]
["（",{"$f":"+RIGHT(データ一覧!$A$213)","v":"1"},null,null,null,null,null,null,null,"300～500万円",null,null,null,null,{"$f":"データ一覧!S221","v":8},null,null,"2.0 ha ～ 3.0 ha",null,null,null,null,{"$f":"データ一覧!S237","v":57},null,null,null,{"$f":"データ一覧!S321","v":9634},null,"戸",{"$f":"データ一覧!S322","v":66},null,"戸",{"$f":"データ一覧!S323","v":47},null,"戸",null,{"$f":"データ一覧!S324","v":9653},null,"戸","地方債",null,null,null,{"$f":"データ一覧!S450","v":613300},null,null,null,null,{"$f":"データ一覧!S464","v":2910300},null,null,null,null,"公債費",null,null,null,{"$f":"データ一覧!S478","v":1279855},null,null,null,null,{"$f":"データ一覧!S492","v":1145248},null,null,null,null,null,null,null,null,null,"越前加賀海岸国定公園（呼鳥門、鳥糞岩、玉川洞窟観音）、千枚田水仙園、貧谷の滝、"]
["総",null,null,null,null,null,null,null,null,"500～1,000万円",null,null,null,null,{"$f":"データ一覧!S222","v":9},null,null,"3.0 ha ～ 5.0 ha",null,null,null,null,{"$f":"データ一覧!S238","v":37},null,null,null,null,null,null,null,null,null,null,null,null,null,null,null,null,"その他",null,null,null,{"$f":"データ一覧!S451","v":384028},null,null,null,null,{"$f":"データ一覧!S465","v":1123308},null,null,null,null,"その他",null,null,null,{"$f":"データ一覧!S479","v":10300},null,null,null,null,{"$f":"データ一覧!S493","v":0},null,null,null,null,"　名所・旧跡",null,null,null,null,"越前二の宮劔神社、越前陶芸村、蝉丸の墓、岩本観音、神明ヶ谷須恵器窯跡、古墳公園、"]
["数",null,null,null,null,null,null,null,null,"1,000万円以上",null,null,null,null,{"$f":"データ一覧!S223","v":21},null,null,"5.0 ha以上",null,null,null,null,{"$f":"データ一覧!S239","v":583},null,null,null,null,null,null,null,null,null,null,null,null,null,null,null,null,null,null,null,null,null,null,null,null,null,null,null,null,null,null,null,null,null,null,null,null,null,null,null,null,null,null,null,null,"  文化財等",null,null,null,null,"(朝日山古墳群)、越知山(山岳信仰跡)、劔神社梵鐘(国宝)、大谷寺九重塔(重要文化財)、"]
["）",null,"15歳以上の常雇い数",null,null,null,null,null,null,"農業に60日以上従事した世帯員、役員・構成員\n（経営主を含む）の平均年齢",null,null,null,null,null,null,null,null,null,null,null,null,null,null,null,"  ９  議　 員　・　職 　員",null,null,null,null,null,null,null,null,null,null,null,null,null," １４  文　　　　　　化",null,null,null,null,null,null,null,null,null," ( ",{"$f":"データ一覧!$A$500","v":"3.3.31"},null,null,null,"ただし図書館・公民館・児童館",null,null,null,null,null,null,null,{"$f":"データ一覧!$A$494","v":"3.4.1"},null,null,null,null,null,null,null,null,null,"相木家住宅(重要文化財)、劔神社絹本著色八相涅槃図附紙本墨涅槃講式（断簡）1巻"]
["と",null,null,null,null,null,null,null,null,null,null,null,null,null,null,null,null,null,null,null,null,null,null,null,null,null,null,null,null,null,null,null,null,null,null,null,null,null,null,null,null,null,null,null,null,null,null,null,null,null,null,null,null,null,null,"　宗教法人数 ",null,null,null,null,null,null,{"$f":"データ一覧!$A$502","v":"2.12.31"},null,null,null,"）",null,null,null,null,null,"(重要文化財)、八坂神社木造阿弥陀如来坐像・釈迦如来坐像・菩薩型坐像(重要文化財)"]
["就",null,null,null,null,null,null,null,null,"農業に60日以上従事",null,null,null,null,null,null,null,"農業に150日以上従事",null,null,null,null,null,null,null," 市 町 村 議 会",null,null,"有権者数",null,{"$f":"データ一覧!$A$328","v":"3.9.1"},null,"市 町 村 議 会",null,null,"  職      員      数",null,null,null,null,null,null,null,null,"図書館",null,null,null,null,null,"公　民　館",null,null,null,null,null,null,null,null,null,null," 社会教育学級講座",null,null,null,null,null,"特産物・特産品",null,null,null,null,"越前がに、越前がれい、へしこ、織田の豆腐、織田きゅうり、しいたけ、宮崎たけのこ、"]
["業",null,"区　分",null,null,null,"人",null,null,"区　分",null,null,null,null,"人",null,null,"区　分",null,null,null,null,"人",null,null," 議  員  定  数",null,null,"    男",null,"    女",null,"選 挙 投 票 率",null,null," 総     数",null,"一般行政職",null,"公    共",null,null,null," 館  数",null,null," 図書数",null,null," 本  館",null,null," 分  館",null,null," 公  園",null,null," 児童館",null,null,"学級講座数",null,null,"受講者数",null,null,null,null,null,null,null,"越前まこも、雪ん子餅(タンチョウモチ)、ニューピー(ピーマン)、越前焼、越前水仙"]
["状",null,"総数",null,null,null,{"$f":"データ一覧!S230","v":9},null,null,"総数",null,null,null,null,{"$f":"データ一覧!S224","v":70.2},null,null,"総数",null,null,null,null,{"$f":"データ一覧!S227","v":70},null,null,null,null,"人",null,"人",null,"人",null,null,"　％",null,"人",null,"人","施 設 数",null,null,null,null,{"$f":"データ一覧!S494","v":4},null,{"$f":"データ一覧!S495","v":213105},null,null,null,{"$f":"データ一覧!S496","v":1},null,{"$f":"データ一覧!S497","v":4},null,null,{"$f":"データ一覧!S498","v":15},null,null,{"$f":"データ一覧!S499","v":5},null,null,{"$f":"データ一覧!S500","v":0},null,null,{"$f":"データ一覧!S501","v":0},null,null," 　年中行事",null,null,null,null,"<4月>越前陶芸村しだれ桜まつり <5月>越前陶芸まつり、越知山泰澄登山 <7月>越前金刀比羅神社大祭、越知山まつり、玉川観音祭、越前みなと大花火、あさひまつり <8月>O・TA・I・KO響 <9月>越前さかなまつり、糸生ｴｺｷｬﾝﾄﾞﾙ <10月>秋季例大祭（劔神社）、越前秋季陶芸祭・秋季茶会 <11月>越知山泰澄ｳｫｰｸ、万灯会（大谷寺）、越前かにまつり<12月>水仙・ｶﾆﾌｪｱ <3月>、越前かに感謝祭"]
["況",null,"男",null,null,null,{"$f":"データ一覧!S231","v":8},null,null,"男",null,null,null,null,{"$f":"データ一覧!S225","v":69.3},null,null,"男",null,null,null,null,{"$f":"データ一覧!S228","v":69.599999999999994},null,null,null,{"$f":"データ一覧!S325","v":14},null,{"$f":"データ一覧!S328","v":8549},null,{"$f":"データ一覧!S329","v":9127},null,{"$f":"データ一覧!S327","v":74.36},null,null,{"$f":"データ一覧!S330","v":249},null,{"$f":"データ一覧!S331","v":175},null,"宗    教",null,null,null," 仏教系",null,null,"ｷﾘｽﾄ教系",null,null,"神道諸派",null,null,"公会堂・市民会館",null,null,null,null,null," テレビ",null,null,"衛星放送契約数"]
[null,null,"女",null,null,null,{"$f":"データ一覧!S232","v":1},null,null,"女",null,null,null,null,{"$f":"データ一覧!S226","v":72.2},null,null,"女",null,null,null,null,{"$f":"データ一覧!S229","v":71},null,null,null,null,null,null,null,null,null,{"$f":"データ一覧!S326","v":"3.3.7"},null,null,null,null,null,null,"法 人 数",null,null,null,{"$f":"データ一覧!S502","v":80},null,null,{"$f":"データ一覧!S503","v":0},null,null,{"$f":"データ一覧!S504","v":94},null,null,{"$f":"データ一覧!S505","v":2},null,null,null,null,null,"      等",null,null,{"$f":"データ一覧!S506","v":4464}]

{"sheet":"美浜町","index":18,"n_rows":93,"n_cols":103,"rows_kept":93,"cut":false,"hidden":false,"merged":[[90,2,90,5],[90,9,90,13],[90,17,90,21],[91,2,91,5],[91,9,91,13],[91,17,91,21],[92,2,92,5],[92,9,92,13],[92,14,92,16],[92,17,92,21],[66,92,66,96],[83,6,83,8],[83,9,83,13],[83,14,83,16],[84,6,84,8],[84,9,84,13],[84,14,84,16],[84,22,84,24],[85,6,85,8],[85,9,85,13],[85,14,85,16],[85,22,85,24],[81,22,81,24],[86,2,88,8],[86,9,87,24],[88,9,88,16],[88,17,88,24],[89,2,89,5],[89,9,89,13],[89,17,89,21],[79,2,79,5],[79,6,79,8],[82,6,82,8],[82,9,82,13],[82,14,82,16],[17,25,17,27],[18,25,18,27],[41,4,41,6],[26,22,26,24],[26,25,26,26],[26,27,26,28],[72,16,72,18],[72,22,72,24],[66,0,66,6],[72,0,72,6],[66,7,66,9],[68,7,68,9],[68,10,68,12],[57,7,57,9],[65,7,65,9],[56,7,56,9],[55,7,55,9],[62,19,62,21],[64,16,64,18],[55,16,55,18],[29,20,29,21],[40,13,40,15],[34,14,34,16],[47,7,47,9],[47,16,47,18],[47,19,47,21],[30,22,30,24],[31,22,31,24],[42,22,42,24],[28,81,28,84],[28,86,28,90],[29,73,29,76],[29,77,29,80],[29,81,29,84],[29,86,29,90],[40,2,40,3],[30,68,30,72],[30,73,30,76],[30,77,30,80],[30,81,30,84],[30,86,30,90],[31,68,31,72],[31,73,31,76],[31,77,31,80],[31,81,31,84],[35,22,35,24],[35,5,35,7],[35,8,35,10],[35,11,35,13],[35,14,35,16],[35,18,35,19],[35,20,35,21],[40,16,40,18],[40,4,40,6],[30,5,30,7],[30,8,30,10],[30,11,30,13],[29,22,29,24],[32,40,32,46],[31,40,31,46],[30,40,30,46],[19,73,19,76],[23,68,23,72],[23,73,23,76],[24,68,24,72],[26,68,26,72],[20,73,20,76],[20,77,20,80],[20,81,20,84],[20,86,20,90],[21,73,21,76],[21,77,21,80],[21,81,21,84],[21,86,21,90],[24,77,24,80],[24,81,24,84],[24,86,24,90],[25,73,25,76],[25,77,25,80],[25,81,25,84],[25,86,25,90],[26,73,26,76],[26,77,26,80],[26,81,26,84],[26,86,26,90],[20,32,20,34],[22,40,22,46],[22,49,22,51],[22,53,22,56],[22,60,22,64],[30,95,30,98],[30,91,30,94],[54,25,54,32],[73,22,73,24],[73,29,73,30],[73,25,73,28],[62,29,62,30],[60,29,60,30],[55,25,55,30],[55,31,55,34],[61,29,61,30],[55,22,55,24],[55,35,55,38],[53,25,53,27],[53,29,53,31],[53,33,53,34],[40,36,40,37],[36,29,36,30],[36,36,36,37],[51,25,51,28],[50,33,50,38],[68,48,68,52],[68,53,68,56],[68,57,68,61],[68,62,68,66],[65,53,65,56],[27,68,27,72],[81,67,82,102],[70,32,70,33],[75,35,75,37],[70,48,70,52],[71,62,71,66],[72,53,72,56],[71,53,71,56],[73,62,73,66],[51,33,51,35],[28,91,28,94],[28,99,28,102],[76,29,76,30],[50,0,51,24],[48,10,48,12],[71,57,71,61],[71,43,71,47],[71,0,71,6],[69,35,69,37],[50,25,50,28],[62,0,62,6],[61,59,61,62],[65,0,65,6],[60,0,60,6],[79,9,79,13],[79,14,79,16],[79,17,79,21],[79,22,79,24],[80,6,80,8],[80,9,80,13],[80,14,80,16],[80,17,80,21],[80,22,80,24],[27,99,27,102],[20,91,20,94],[21,99,21,102],[26,99,26,102],[24,95,24,98],[25,95,25,98],[21,95,21,98],[29,91,29,94],[29,95,29,98],[29,99,29,102],[26,91,26,94],[25,91,25,94],[27,95,27,98],[27,91,27,94],[22,99,22,102],[26,95,26,98],[40,29,40,30],[28,95,28,98],[24,33,24,34],[27,77,27,80],[20,35,20,38],[22,35,22,38],[20,60,20,64],[22,29,22,31],[22,32,22,34],[23,29,23,31],[23,32,23,34],[25,31,26,32],[29,53,29,56],[25,99,25,102],[24,99,24,102],[25,40,25,46],[55,63,55,65],[57,16,57,18],[66,22,66,24],[57,58,57,60],[59,19,59,21],[58,19,58,21],[57,19,57,21],[56,19,56,21],[66,10,66,12],[57,10,57,12],[58,13,58,15],[59,22,59,24],[69,0,69,6],[71,22,71,24],[65,57,65,63],[66,39,66,66],[20,11,20,13],[20,16,20,18],[20,21,20,23],[69,19,69,21],[66,19,66,21],[61,16,61,18],[61,22,61,24],[63,16,63,18],[23,53,23,56],[23,60,23,64],[24,37,24,38],[24,29,24,30],[24,31,24,32],[24,35,24,36],[25,29,26,30],[25,37,26,38],[20,95,20,98],[20,99,20,102],[20,25,20,28],[19,81,19,84],[17,91,17,94],[70,43,70,47],[21,53,21,56],[21,60,21,64],[20,40,20,46],[20,49,20,51],[20,53,20,56],[21,32,21,34],[21,91,21,94],[21,35,21,38],[22,95,22,98],[23,91,23,94],[23,95,23,98],[22,77,22,80],[22,81,22,84],[22,86,22,90],[23,77,23,80],[61,36,61,37],[68,32,68,33],[70,62,70,66],[24,73,24,76],[23,99,23,102],[21,29,21,31],[23,35,23,38],[23,81,23,84],[23,86,23,90],[23,40,23,46],[23,49,23,51],[0,0,0,9],[1,0,3,9],[5,0,5,9],[14,25,15,25],[19,3,19,5],[29,5,29,7],[31,5,31,7],[31,8,31,10],[29,8,29,10],[41,16,41,18],[42,13,42,15],[47,13,47,15],[56,0,56,6],[56,16,56,18],[22,7,22,8],[42,4,42,6],[42,7,42,9],[44,0,45,1],[42,16,42,18],[22,25,22,28],[18,28,18,30],[19,25,19,28],[19,29,19,31],[20,29,20,31],[23,11,23,13],[23,16,23,18],[23,21,23,23],[23,25,23,28],[24,27,24,28],[25,25,25,26],[25,27,25,28],[48,7,48,9],[16,32,16,33],[16,36,16,37],[17,82,17,83],[17,100,17,101],[19,40,19,46],[19,49,19,51],[19,53,19,56],[19,60,19,64],[19,91,19,94],[19,95,19,98],[14,26,15,28],[15,29,15,30],[14,0,15,24],[16,74,16,95],[17,59,17,65],[6,0,8,9],[17,40,17,46],[17,48,17,52],[17,53,17,57],[15,32,15,33],[19,32,19,34],[15,35,15,37],[19,99,19,102],[17,86,17,89],[19,77,19,80],[19,35,19,38],[17,32,17,34],[17,36,17,38],[18,31,18,34],[18,35,18,38],[17,68,17,71],[17,73,17,76],[21,49,21,51],[25,35,26,36],[25,60,25,64],[24,91,24,94],[27,60,27,64],[26,40,26,46],[26,49,26,51],[26,53,26,56],[24,40,24,46],[24,49,24,51],[24,0,25,24],[24,53,24,56],[24,60,24,64],[27,33,27,34],[27,37,27,38],[27,25,27,26],[27,27,27,28],[27,29,27,30],[27,35,27,36],[25,49,25,51],[25,53,25,56],[27,0,27,4],[27,5,27,7],[27,22,27,24],[27,31,27,32],[27,73,27,76],[21,25,21,28],[21,40,21,46],[25,33,26,34],[26,60,26,64],[22,68,22,72],[22,73,22,76],[29,40,29,46],[28,49,28,51],[27,49,27,51],[27,53,27,56],[41,19,41,21],[30,14,30,16],[32,53,32,56],[31,14,31,16],[41,22,41,24],[28,40,28,46],[31,11,31,13],[35,29,35,30],[30,18,30,19],[30,20,30,21],[31,18,31,19],[31,20,31,21],[30,53,30,56],[38,40,38,46],[32,49,32,51],[36,40,36,46],[33,40,33,46],[34,18,34,19],[31,49,31,51],[31,53,31,56],[38,53,38,56],[38,49,38,51],[30,49,30,51],[42,36,42,37],[44,19,44,24],[42,19,42,21],[44,32,44,35],[44,25,44,28],[44,29,44,30],[39,53,39,56],[27,81,27,84],[27,86,27,90],[28,68,28,72],[29,18,29,19],[28,53,28,56],[40,22,40,24],[40,19,40,21],[29,60,29,64],[29,49,29,51],[29,11,29,13],[29,14,29,16],[42,10,42,12],[40,10,40,12],[34,8,34,10],[34,11,34,13],[41,10,41,12],[41,13,41,15],[40,60,40,64],[41,60,41,64],[42,79,42,82],[42,60,42,64],[42,75,42,77],[28,60,28,64],[27,40,27,46],[34,36,34,37],[49,46,49,49],[48,22,48,24],[46,0,46,1],[47,0,47,1],[48,16,48,18],[48,19,48,21],[48,13,48,15],[48,0,48,1],[32,5,32,7],[32,8,32,10],[32,11,32,13],[32,14,32,16],[32,18,32,19],[32,20,32,21],[32,22,32,24],[34,40,34,46],[45,25,45,28],[45,29,45,30],[46,25,46,28],[46,29,46,30],[45,32,45,35],[46,32,46,35],[45,36,45,37],[39,49,39,51],[39,40,39,46],[34,29,34,30],[44,36,44,37],[42,32,42,35],[47,22,47,24],[41,7,41,9],[47,10,47,12],[40,7,40,9],[36,79,36,82],[38,60,38,64],[38,75,38,77],[38,79,38,82],[38,67,38,73],[36,85,36,91],[32,60,32,64],[38,97,38,100],[35,80,35,83],[35,86,35,90],[36,97,36,100],[36,75,36,77],[34,49,34,51],[34,20,34,21],[34,22,34,24],[35,36,35,37],[31,60,31,64],[30,60,30,64],[31,91,31,94],[31,95,31,98],[31,99,31,102],[35,93,35,95],[33,67,34,80],[34,53,34,56],[34,60,34,64],[35,49,35,51],[35,60,35,64],[32,99,32,102],[32,95,32,98],[32,91,32,94],[33,83,34,96],[33,53,33,56],[33,60,33,64],[35,68,35,72],[32,73,32,76],[43,53,43,56],[43,60,43,64],[43,67,44,82],[43,83,44,102],[47,99,47,102],[40,53,40,56],[42,53,42,56],[48,77,48,79],[48,95,48,98],[40,40,40,46],[42,85,42,91],[48,99,48,102],[30,99,30,102],[35,75,35,77],[33,5,33,7],[33,8,33,10],[33,11,33,13],[33,14,33,16],[37,67,37,73],[37,49,37,51],[35,53,35,56],[35,40,35,46],[34,5,34,7],[37,40,37,46],[33,18,33,19],[33,20,33,21],[33,22,33,24],[37,60,37,64],[36,49,36,51],[36,53,36,56],[36,60,36,64],[33,49,33,51],[55,77,55,79],[55,80,55,82],[55,83,55,86],[55,99,55,102],[54,77,54,79],[54,83,54,86],[54,87,54,90],[54,91,54,94],[52,95,52,98],[53,80,53,82],[54,95,54,98],[53,99,53,102],[53,83,53,86],[51,83,51,86],[52,68,52,75],[52,77,52,79],[55,95,55,98],[53,87,53,90],[53,95,53,98],[54,68,54,75],[54,80,54,82],[55,87,55,90],[53,68,53,75],[53,77,53,79],[55,91,55,94],[53,91,53,94],[52,99,52,102],[54,99,54,102],[55,68,55,75],[69,13,69,15],[69,16,69,18],[60,19,60,21],[71,35,71,37],[58,39,58,42],[63,89,63,91],[65,73,65,76],[65,22,65,24],[57,67,58,102],[63,74,63,76],[65,39,65,42],[61,63,61,66],[57,35,57,37],[61,68,61,71],[62,93,62,95],[62,68,62,71],[71,29,71,30],[57,61,57,63],[62,99,62,101],[63,22,63,24],[62,87,62,89],[62,81,62,83],[62,75,62,77],[67,13,67,15],[67,16,67,18],[67,19,67,21],[70,13,70,15],[70,16,70,18],[67,48,67,52],[67,53,67,56],[68,82,68,84],[68,85,68,87],[56,99,56,102],[56,68,56,75],[56,77,56,79],[56,80,56,82],[56,83,56,86],[72,57,72,61],[72,48,72,52],[72,13,72,15],[72,43,72,47],[70,19,70,21],[72,25,72,28],[72,29,72,30],[71,39,71,42],[68,25,68,28],[69,25,69,28],[59,59,59,62],[60,85,60,90],[60,91,60,96],[60,36,60,37],[57,22,57,24],[58,22,58,24],[60,22,60,24],[58,52,58,54],[57,47,57,50],[57,51,57,54],[71,19,71,21],[71,48,71,52],[65,93,65,96],[56,95,56,98],[68,94,68,96],[67,97,67,102],[70,100,70,102],[68,29,68,30],[70,25,70,28],[70,35,70,37],[67,43,67,47],[68,91,68,93],[68,88,68,90],[70,57,70,61],[70,53,70,56],[66,76,66,90],[67,88,67,90],[70,85,70,87],[67,67,70,71],[68,72,68,75],[68,76,68,78],[68,79,68,81],[70,83,70,84],[68,100,68,102],[67,82,67,84],[67,79,67,81],[69,32,69,33],[80,100,80,102],[78,99,78,102],[80,92,80,94],[80,96,80,98],[78,91,78,94],[77,82,77,86],[77,87,77,90],[77,77,77,81],[73,43,73,47],[73,39,73,42],[75,57,75,61],[70,97,70,99],[80,78,80,80],[80,82,80,86],[78,82,78,86],[78,87,78,90],[80,68,80,70],[80,73,80,75],[80,88,80,90],[77,91,77,94],[78,67,78,71],[79,97,79,98],[78,72,78,76],[78,77,78,81],[77,43,77,47],[77,48,77,52],[77,53,77,56],[70,94,70,96],[74,68,74,74],[72,62,72,66],[74,57,74,61],[74,62,74,66],[73,57,73,61],[70,72,70,75],[70,77,70,78],[71,67,72,82],[75,43,75,47],[75,62,75,66],[76,62,76,66],[76,39,76,42],[75,48,75,52],[74,87,74,91],[76,87,76,90],[76,69,76,72],[76,57,76,61],[72,39,72,42],[70,79,70,81],[76,43,76,47],[76,48,76,52],[73,48,73,52],[73,53,73,56],[75,53,75,56],[63,99,63,101],[64,19,64,21],[64,22,64,24],[63,84,63,86],[55,19,55,21],[79,101,79,102],[79,39,79,42],[79,43,79,47],[79,48,79,52],[79,53,79,56],[79,57,79,61],[79,62,79,66],[78,95,78,98],[77,57,77,61],[77,62,77,66],[78,62,78,66],[71,83,72,102],[67,57,67,61],[67,62,67,66],[73,77,73,83],[73,86,73,92],[73,95,73,101],[74,77,74,83],[73,32,73,33],[73,35,73,37],[76,35,76,37],[76,96,76,99],[74,96,74,100],[76,78,76,81],[70,88,70,90],[76,53,76,56],[70,91,70,93],[72,10,72,12],[71,10,71,12],[70,10,70,12],[62,10,62,12],[60,10,60,12],[59,10,59,12],[69,10,69,12],[58,10,58,12],[65,10,65,12],[64,10,64,12],[65,43,65,49],[61,13,61,15],[61,10,61,12],[68,39,68,42],[68,43,68,47],[56,39,56,42],[57,39,57,42],[60,39,60,42],[57,25,57,29],[57,31,57,33],[68,16,68,18],[63,19,63,21],[67,39,67,42],[67,22,67,24],[68,35,68,37],[72,19,72,21],[72,35,72,37],[71,32,71,33],[68,19,68,21],[66,16,66,18],[66,35,66,38],[71,16,71,18],[90,50,90,51],[91,46,91,48],[91,49,91,51],[70,39,70,42],[69,29,69,30],[70,29,70,30],[83,26,83,27],[83,32,83,33],[77,39,77,42],[75,39,75,42],[72,32,72,33],[83,39,83,42],[74,29,74,30],[82,53,82,56],[82,48,82,52],[84,48,84,52],[84,53,84,56],[83,53,83,56],[84,39,84,42],[84,43,84,47],[82,43,82,47],[83,43,83,47],[90,52,90,54],[81,53,81,56],[78,53,78,56],[69,39,69,66],[78,57,78,61],[80,57,80,61],[80,62,80,66],[78,39,78,42],[78,43,78,47],[78,48,78,52],[92,52,92,57],[92,61,92,66],[92,39,92,42],[92,43,92,45],[92,46,92,48],[92,49,92,51],[91,26,91,27],[91,28,91,29],[91,30,91,31],[91,32,91,34],[91,52,91,57],[91,43,91,45],[89,39,89,42],[83,36,83,37],[89,32,89,34],[84,57,84,61],[91,61,91,66],[90,46,90,48],[90,64,90,66],[90,61,90,63],[89,61,89,63],[88,44,88,47],[84,62,84,66],[88,61,88,66],[88,50,88,53],[91,35,91,36],[91,37,91,38],[91,39,91,42],[90,58,90,60],[90,55,90,57],[88,32,88,34],[83,48,83,52],[80,35,81,38],[80,39,80,42],[80,43,80,47],[80,48,80,52],[80,53,80,56],[81,48,81,52],[73,0,73,6],[74,43,74,47],[74,53,74,56],[74,35,74,37],[74,39,74,42],[74,32,74,33],[74,48,74,52],[76,2,76,8],[76,9,76,16],[76,17,76,24],[77,2,78,5],[77,6,78,8],[77,9,78,13],[77,14,78,16],[77,17,78,21],[77,22,78,24],[81,6,81,8],[81,9,81,13],[81,14,81,16],[67,7,67,9],[69,22,69,24],[70,7,70,9],[67,10,67,12],[58,0,58,6],[57,0,57,6],[60,13,60,15],[59,13,59,15],[61,0,61,6],[65,19,65,21],[68,13,68,15],[62,16,62,18],[62,13,62,15],[56,10,56,12],[57,13,57,15],[55,13,55,15],[63,7,63,9],[59,16,59,18],[58,16,58,18],[60,16,60,18],[66,13,66,15],[70,0,70,6],[68,0,68,6],[67,0,67,6],[63,0,63,6],[64,0,64,6],[55,0,55,6],[62,22,62,24],[61,19,61,21],[56,13,56,15],[56,22,56,24],[70,22,70,24],[39,97,39,100],[40,97,40,100],[41,97,41,100],[42,97,42,100],[46,69,46,74],[46,95,46,98],[42,93,42,95],[42,67,42,73],[45,92,45,101],[45,84,45,89],[46,99,46,102],[47,68,47,75],[47,77,47,79],[47,80,47,82],[55,10,55,12],[69,7,69,9],[61,39,61,42],[60,97,60,102],[60,59,60,62],[60,63,60,66],[57,43,57,46],[61,80,61,83],[65,98,65,101],[56,87,56,90],[56,91,56,94],[65,78,65,81],[64,68,64,71],[65,68,65,71],[63,94,63,96],[65,83,65,86],[65,88,65,91],[46,36,46,37],[14,67,15,81],[14,82,15,95],[39,93,39,95],[38,93,38,95],[52,87,52,90],[52,91,52,94],[40,93,40,95],[50,80,50,82],[51,68,51,75],[49,80,49,82],[35,98,35,101],[36,67,36,73],[48,87,48,90],[48,91,48,94],[50,91,50,94],[50,87,50,90],[49,87,49,90],[51,91,51,94],[49,99,49,102],[50,99,50,102],[45,77,45,82],[50,77,50,79],[49,77,49,79],[49,68,49,75],[36,93,36,95],[37,75,37,77],[37,79,37,82],[37,85,37,91],[37,97,37,100],[37,93,37,95],[47,83,47,86],[47,87,47,90],[40,85,40,91],[41,85,41,91],[49,95,49,98],[49,83,49,86],[52,80,52,82],[50,83,50,86],[51,77,51,79],[49,39,49,45],[50,47,50,49],[41,36,41,37],[51,36,51,38],[51,29,51,32],[48,68,48,75],[48,80,48,82],[50,68,50,75],[48,83,48,86],[41,40,41,46],[42,40,42,46],[40,49,40,51],[41,49,41,51],[42,49,42,51],[51,95,51,98],[50,95,50,98],[50,59,50,61],[50,63,50,66],[45,57,45,61],[41,93,41,95],[48,50,48,53],[48,56,48,59],[43,40,43,46],[43,49,43,51],[48,62,48,65],[22,91,22,94],[41,29,41,30],[41,32,41,35],[40,32,40,35],[28,73,28,76],[28,77,28,80],[32,68,32,72],[54,55,54,58],[55,59,55,62],[32,77,32,80],[32,81,32,84],[56,48,56,53],[54,59,54,66],[51,80,51,82],[55,43,55,45],[55,55,55,57],[39,60,39,64],[39,67,39,73],[39,79,39,82],[39,75,39,77]],"merged_total":1108,"flags":["merged_cut"]}
[{"$f":"+データ一覧!T2","v":"みかたぐん"}]
[{"$f":"+データ一覧!T5","v":"三方郡"},null,null,null,null,null,null,null,null,null,null,null,null,null,null,null,null,null,null,null,null,null,null,null,null,null,null,null,null,null,null,null,null,null,null,null,null,null,null,0]
[null,null,null,null,null,null,null,null,null,null,null,null,null,null,null,null,null,null,null,null,null,null,null,null,null,null,null,null,null,null,null,null,null,null,null,null,null,null,null,0]
[null,null,null,null,null,null,null,null,null,null,null,null,null,null,null,null,null,null,null,null,null,null,null,null,null,null,null,"【町章とそのいわれ】町名「ミハマ」をカタカナで表現し、本町の",null,null,null,null,null,null,null,null,null,null,null,"【位置および地勢】美浜町は福井県の南西部に位置し、東は敦賀市、西は若狭町、",null,null,null,null,null,null,null,null,null,null,null,null,null,null,null,null,null,null,null,null,null,null,null,null,null,null,null,null,null,null,"所在地",null,null,null,null,null,null,null,"〒919-1192"]
[null,null,null,null,null,null,null,null,null,null,null,null,null,null,null,null,null,null,null,null,null,null,null,null,null,null,null,"                  豊かな海岸線を図案化したものである。構図は",null,null,null,null,null,null,null,null,null,null,null,"　南は滋賀県に接し、北は日本海に面する。 中央部には、源を滋賀県境に発する",null,null,null,null,null,null,null,null,null,null,null,null,null,null,null,null,null,null,null,null,null,null,null,null,null,null,null,null,null,null,null,null,null,null,null,null,null,null,"三方郡美浜町郷市第２５号２５番地"]
[{"$f":"+データ一覧!T3","v":"みはまちょう"},null,null,null,null,null,null,null,null,null,null,null,null,null,null,null,null,null,null,null,null,null,null,null,null,null,null,"                  円からなり、美浜町の円満な将来への発展を",null,null,null,null,null,null,null,null,null,null,null,"  延長約12㎞の耳川が縦貫し、日本海へ注ぐ。交通ではＪＲ小浜線並びに国道27号が"]
[{"$f":"データ一覧!T6","v":"美浜町"},null,null,null,null,null,null,null,null,null,null,null,null,null,null,null,null,null,null,null,null,null,null,null,null,null,null,"                  意味する。",null,null,null,null,null,null,null,null,null,null,null,"  横断し、産業経済の動脈となっている。",null,null,null,null,null,null,null,null,null,null,null,null,null,null,null,null,null,null,null,null,null,null,null,null,null,null,null,null,null,null,"電話番号",null,null,null,null,null,null,null," （０７７０）３２－１１１１"]
[null,null,null,null,null,null,null,null,null,null,null,null,null,null,null,null,null,null,null,null,null,null,null,null,null,null,null,0,null,null,null,null,null,null,null,null,null,null,null,"　また、南に標高900ｍ前後の山地を控え、北は若狭湾国定公園である若狭湾に接し、",null,null,null,null,null,null,null,null,null,null,null,null,null,null,null,null,null,null,null,null,null,null,null,null,null,null,null,null,null,null,"FAX番号",null,null,null,null,null,null,null,"      〃     ３２－１１１５"]
[null,null,null,null,null,null,null,null,null,null,null,null,null,null,null,null,null,null,null,null,null,null,null,null,null,null,null,0,null,null,null,null,null,null,null,null,null,null,null,"　東の敦賀半島には日本の水浴場八十八選にも選ばれた水晶浜、西は名勝三方五湖"]
[null,null,null,null,null,null,null,null,null,null,null,null,null,null,null,null,null,null,null,null,null,null,null,null,null,null,null,0,null,null,null,null,null,null,null,null,null,null,null,"　で知られる久々子湖、日向湖があり、海・山・川・湖の変化に富んだ自然景観に恵まれている。",null,null,null,null,null,null,null,null,null,null,null,null,null,null,null,null,null,null,null,null,null,null,null,null,null,null,null,null,null,null,"最寄駅および距離",null,null,null,null,null,null,null,"ＪＲ小浜線美浜駅  下車５５０ｍ"]
[null,null,null,null,null,null,null,null,null,null,null,null,null,null,null,null,null,null,null,null,null,null,null,null,null,null,null,0,null,null,null,null,null,null,null,null,null,null,null,0]
[]
[null,null,null,null,null,null,null,null,null,null,null,null,null,null,null,null,null,null,null,null,null,null,null,null,null,null,null,"【町が掲げる標語】おいしい自然　ハートフル美浜",null,null,null,null,null,null,null,null,null,null,null,null,null,null,null,null,null,null,null,null,null,null,null,null,null,null,null,null,null,null,null,null,null,null,null,null,null,null,null,null,null,null,"ホームページ",null,null,null,null,null,null,null,"https://www.town.fukui-mihama.lg.jp/"]
[]
["  １  土            　　地",null,null,null,null,null,null,null,null,null,null,null,null,null,null,null,null,null,null,null,null,null,null,null,null,{"$f":"データ一覧!$A$240","v":"2年"},"産米収穫量",null,null,"　 収　穫　量",null,null," 　作 付 面 積",null,null,"   10a当たり収量",null,null,null,null,null,null,null,null,null,null,null,null,null,null,null,null,null,null,null,null,null,null,null,null,null,null,null,null,null,null,null," １５  労　　　　　　　働",null,null,null,null,null,null,null,null,null,null,null,null,null,null,"27.10.1"]
[null,null,null,null,null,null,null,null,null,null,null,null,null,null,null,null,null,null,null,null,null,null,null,null,null,null,null,null,null,{"$f":"データ一覧!$T$240","v":2380},null,"t",{"$f":"データ一覧!$T$241","v":488},null,"ha",{"$f":"データ一覧!T242","v":488},null,null,"kg"," １０  工　　　　　　業 ",null,null,null,null,null,null,null,null,null,null,null,null,null,{"$f":"データ一覧!$A$332","v":"2.6.1（令和元年実績）"}]
["   総          面           積",null,null,null,null,null,null,null,null,null," 固 定 資 産 概 要 調 書 に よ る 地 目 別 面 積",null,null,null,null,null,null,null,null,null,null,null,null,null,null,null,null,null,"   総　　　数",null,null,null,"うち　　田",null,null,null,"うち　　畑",null,null,null,null,null,null,null,null,null,null,null,null,null,null,null,null,null,null,null,null,null,null,null,null,null,null,null,null,null,null,null,null,null,null,null,null,null,"産業別就業者数   "]
[null,null,{"$f":"データ一覧!$A$7","v":"3.10.1"},null,null,null,null,null,null,null,null,null,null,null,null,null,{"$f":"データ一覧!$A$9","v":"3.1.1"},null,null,null,null,null,null,null,null," 耕  地  面  積",null,null,null,"       ha",null,null,"ha ",null,null,null,"ha ",null,null,"      ","産業分類",null,null,null,null,null,null,null,"事業所数",null,null,null,null,"従業者数",null,null,null,null,null,"年間製造品出荷額等",null,null,null,null,null,null,null,null,"区  分",null,null,null,null,"総    数",null,null,null,null,"男",null,null,null,"女",null,null,"  ","区  分",null,null,null,null,"総    数",null,null,null,null,"男",null,null,null,"女"]
[null,null,null,null,null,null,"㎢",null,null,null,"   総       数",null,null,null,null,"  う ち     田",null,null,null,null,"  う ち     畑",null,null,null,null,{"$f":"データ一覧!A243","v":"2.7.15"},null,null,{"$f":"データ一覧!$T$243","v":838},null,null,{"$f":"データ一覧!$T$244","v":772},null,null,null,{"$f":"データ一覧!$T$245","v":66},null,null,null,null,null,null,null,null,null,null,null,null,"　　   ",null,null,"事業所",null,"　　　　　　　 人",null,null,"人",null,"　　　　　　　　　　　　　　万円",null,null,null,null,null,null,"万円",null,null,null,null,null,null,null,"      人",null,null,null,null,null," 人",null,null,null," 人",null,null,null,null,null,null,null,"      人",null,null,null,"      人",null,null,null,"      人"]
[null,null,null,{"$f":"データ一覧!T7","v":152.35},null,null,null,null,null,null,null,null,null,null,"ha",null,null,null,null,"ha",null,null,null,null,"ha","農 業 生 産 物",null,null,null,"作 付 面 積",null,null,"収 穫 量",null,null,"10a当たり収量",null,null,null,"     ","総数",null,null,null,null,null,null,null,null,{"$f":"データ一覧!T332","v":15},null,null,null,{"$f":"+データ一覧!T357","v":255},null,null,null,null,null,null,{"$f":"データ一覧!T382","v":457761},null,null,null,null,null,null," 総　　　数",null,null,null,null,null,{"$f":"BZ20+CD20","v":5286},null,null,null,{"$f":"データ一覧!T507","v":3199},null,null,null,{"$f":"データ一覧!T532","v":2087}]
[null,null,null,null,null,null,null,null,null,null,null,{"$f":"データ一覧!T9","v":15235},null,null,null,null,{"$f":"データ一覧!T10","v":926.1},null,null,null,null,{"$f":"データ一覧!T11","v":122.9},null,null,null,{"$f":"データ一覧!$A$246","v":"2年中"},null,null,null,"ha",null,null,"t",null,null,"kg",null,null,null,"     食料品","食料品",null,null,null,null,null,null,null,null,{"$f":"データ一覧!T333","v":3},null,null,null,{"$f":"+データ一覧!T358","v":12},null,null,null,null,null,null,{"$f":"データ一覧!T383","v":4367},null,null,null,null,null,null,null,null,null,null,null,null,null,null,null,null,null,null,null,null,null,null,null,null,null,"卸売業,小売業",null,null,null,null,{"$f":"CR21+CV21","v":630},null,null,null,{"$f":"データ一覧!T520","v":288},null,null,null,{"$f":"データ一覧!T545","v":342}]
["  町 ･ 丁 ･ 大 字",null,null,null,null,null,null,null,null,null,"  う ち  宅 地",null,null,null,null,"  う ち  山 林",null,null,null,null,"  う ち  原 野",null,null,null,null,"水　　　　　稲",null,null,null,{"$f":"データ一覧!T246","v":488},null,null,{"$f":"データ一覧!T247","v":2380},null,null,{"$f":"データ一覧!T248","v":488},null,null,null,"     飲料・飼料","飲料・飼料",null,null,null,null,null,null,null,null,{"$f":"データ一覧!T334","v":1},null,null,null,{"$f":"+データ一覧!T359","v":14},null,null,null,null,null,null,{"$f":"データ一覧!T384","v":"x"},null,null,null,null,null,null," 第１次産業",null,null,null,null,null,{"$f":"BZ22+CD22","v":370},null,null,null,{"$f":"データ一覧!T508","v":265},null,null,null,{"$f":"データ一覧!T533","v":105},null,null,null,null,"金融業,保険業",null,null,null,null,{"$f":"CR22+CV22","v":61},null,null,null,{"$f":"データ一覧!T521","v":20},null,null,null,{"$f":"データ一覧!T546","v":41}]
["  区    画    数",null,null,null,null,null,null,{"$f":"データ一覧!T8","v":31},null,null,null,null,null,null,"ha",null,null,null,null,"ha",null,null,null,null,"ha","六　条　大　麦",null,null,null,{"$f":"データ一覧!T249","v":15},null,null,{"$f":"データ一覧!T250","v":36},null,null,{"$f":"データ一覧!T251","v":240},null,null,null,"     繊維","繊維",null,null,null,null,null,null,null,null,{"$f":"データ一覧!T335","v":1},null,null,null,{"$f":"+データ一覧!T360","v":6},null,null,null,null,null,null,{"$f":"データ一覧!T385","v":"x"},null,null,null,null,null,null,"  ","農業",null,null,null,null,{"$f":"BZ23+CD23","v":258},null,null,null,{"$f":"データ一覧!T509","v":166},null,null,null,{"$f":"データ一覧!T534","v":92},null,null,null,"  ","不動産業",null,null,null,null,22,null,null,null,{"$f":"データ一覧!T522","v":9},null,null,null,{"$f":"データ一覧!T547","v":13}]
[{"$f":"データ一覧!$A$8","v":"2.4.1"},null,null,null,null,null,null,null,null,null,null,{"$f":"データ一覧!T12","v":282.5},null,null,null,null,{"$f":"データ一覧!T13","v":4179.3999999999996},null,null,null,null,{"$f":"データ一覧!T14","v":86},null,null,null,"大　　      豆",null,null,null,{"$f":"データ一覧!T252","v":5},null,null,{"$f":"データ一覧!T253","v":3},null,null,{"$f":"データ一覧!T254","v":55},null,null,null,"     衣服","木材",null,null,null,null,null,null,null,null,{"$f":"データ一覧!T336","v":0},null,null,null,{"$f":"+データ一覧!T361","v":0},null,null,null,null,null,null,{"$f":"データ一覧!T386","v":0},null,null,null,null,null,null,"  ","林業",null,null,null,null,4,null,null,null,{"$f":"データ一覧!T510","v":3},null,null,null,{"$f":"データ一覧!T535","v":1},null,null,null,"  ","学術研究",null,null,null,null,223,null,null,null,{"$f":"データ一覧!T523","v":175},null,null,null,{"$f":"データ一覧!T548","v":48}]
["  ２  世　帯　数　と　人　口",null,null,null,null,null,null,null,null,null,null,null,null,null,null,null,null,null,null,null,null,null,null,null,null,null,null,"  区　分",null," 乳 用 牛",null," 肉 用 牛",null,"豚",null,"採卵鶏",null,"ブロイラー",null,"     木材","家具",null,null,null,null,null,null,null,null,{"$f":"データ一覧!T337","v":2},null,null,null,{"$f":"+データ一覧!T362","v":35},null,null,null,null,null,null,{"$f":"データ一覧!T387","v":"x"},null,null,null,null,null,null,"  ","漁業",null,null,null,null,108,null,null,null,{"$f":"データ一覧!T511","v":96},null,null,null,{"$f":"データ一覧!T536","v":12},null,null,null,"  ","宿泊業,飲食ｻｰﾋﾞｽ",null,null,null,null,385,null,null,null,{"$f":"データ一覧!T524","v":111},null,null,null,{"$f":"データ一覧!T549","v":274}]
[null,null,null,null,null,null,null,null,null,null,null,null,null,null,null,null,null,null,null,null,null,null,null,null,null,"畜　産",null," 飼養農家",null,{"$f":"データ一覧!$T$255","v":"x"},null,{"$f":"データ一覧!$T$257","v":4},null,{"$f":"データ一覧!$T$259","v":"-"},null,{"$f":"データ一覧!$T$261","v":0},null,{"$f":"データ一覧!$T$263","v":0},null,"     家具","パルプ・紙",null,null,null,null,null,null,null,null,{"$f":"データ一覧!T338","v":0},null,null,null,{"$f":"+データ一覧!T363","v":0},null,null,null,null,null,null,{"$f":"データ一覧!T388","v":0},null,null,null,null,null,null," 第２次産業",null,null,null,null,null,1161,null,null,null,{"$f":"データ一覧!T512","v":847},null,null,null,{"$f":"データ一覧!T537","v":314},null,null,null,"  ","生活関連ｻｰﾋﾞｽ業",null,null,null,null,157,null,null,null,{"$f":"データ一覧!T525","v":60},null,null,null,{"$f":"データ一覧!T550","v":97}]
[null,null,null,null,null,null,null,null,"        人　　　　　　　　　　口",null,null,null,null,null,null,null,null,null,null,null,"１世帯当",null,"人    口",null,null,{"$f":"データ一覧!$A$255","v":"3.3.31"},null,"（戸）",null,null,null,null,null,null,null,null,null,null,null,"     パルプ・紙","印刷",null,null,null,null,null,null,null,null,{"$f":"データ一覧!T339","v":0},null,null,null,{"$f":"+データ一覧!T364","v":0},null,null,null,null,null,null,{"$f":"データ一覧!T389","v":0},null,null,null,null,null,null,null,"鉱業，採石業",null,null,null,null,1,null,null,null,{"$f":"データ一覧!T513","v":1},null,null,null,{"$f":"データ一覧!T538","v":0},null,null,null,"  ","教育,学習支援業",null,null,null,null,209,null,null,null,{"$f":"データ一覧!T526","v":77},null,null,null,{"$f":"データ一覧!T551","v":132}]
[" 区　　　　分",null,null,null,null,"世帯数",null,null," 総   数",null,null,"    男",null,null,"    女",null,null,"  男／女",null,null,"たり人員",null,"密    度",null,null,null,null," 頭 羽",null,{"$f":"データ一覧!$T$256","v":56},null,{"$f":"データ一覧!$T$258","v":173},null,{"$f":"データ一覧!$T$260","v":0},null,{"$f":"データ一覧!$T$262","v":0},null,{"$f":"データ一覧!$T$264","v":0},null,"     出版・印刷","化学",null,null,null,null,null,null,null,null,{"$f":"データ一覧!T340","v":0},null,null,null,{"$f":"+データ一覧!T365","v":0},null,null,null,null,null,null,{"$f":"データ一覧!T390","v":0},null,null,null,null,null,null,"  ","建設業",null,null,null,null,634,null,null,null,{"$f":"データ一覧!T514","v":539},null,null,null,{"$f":"データ一覧!T539","v":95},null,null,null,null,"医療，福祉",null,null,null,null,512,null,null,null,{"$f":"データ一覧!T527","v":72},null,null,null,{"$f":"データ一覧!T552","v":440}]
[null,null,null,null,null,"    世 帯",null,null,"       人",null,null,"       人",null,null,"       人",null,null,null,"　　％",null,"    人",null,"    人/㎢",null,null,null,null,null,null,null,null,null,null,null,null,null,null,null,null,"     化学","石油・石炭",null,null,null,null,null,null,null,null,{"$f":"データ一覧!T341","v":0},null,null,null,{"$f":"+データ一覧!T366","v":0},null,null,null,null,null,null,{"$f":"データ一覧!T391","v":0},null,null,null,null,null,null,null,"製造業",null,null,null,null,526,null,null,null,{"$f":"データ一覧!T515","v":307},null,null,null,{"$f":"データ一覧!T540","v":219},null,null,null,null,"複合サービス事業",null,null,null,null,87,null,null,null,{"$f":"データ一覧!T528","v":60},null,null,null,{"$f":"データ一覧!T553","v":27}]
[{"$f":"データ一覧!$A$22","v":" 2.10.1"},null,null,null,null,{"$f":"データ一覧!T22","v":4019},null,null,{"$f":"+L30+O30","v":13222},null,null,{"$f":"データ一覧!T24","v":6672},null,null,{"$f":"データ一覧!T25","v":6550},null,null,null,{"$f":"+L30/O30*100","v":101.86259541984732},null,{"$f":"データ一覧!T27","v":3.29},null,{"$f":"データ一覧!T28","v":86.9},null,null,"  ５  林               業",null,null,null,null,null,null,null,null,null,null,null,null,null,"     石油・石炭","プラスチック",null,null,null,null,null,null,null,null,{"$f":"データ一覧!T342","v":1},null,null,null,{"$f":"+データ一覧!T367","v":39},null,null,null,null,null,null,{"$f":"データ一覧!T392","v":"x"},null,null,null,null,null,null," 第３次産業",null,null,null,null,null,3750,null,null,null,{"$f":"データ一覧!T516","v":2085},null,null,null,{"$f":"データ一覧!T541","v":1665},null,null,null,null,"サービス業",null,null,null,null,398,null,null,null,{"$f":"データ一覧!T529","v":263},null,null,null,{"$f":"データ一覧!T554","v":135}]
[{"$f":"データ一覧!$A$29","v":" 7.10.1"},null,null,null,null,{"$f":"データ一覧!T29","v":3687},null,null,{"$f":"+L31+O31","v":12362},null,null,{"$f":"データ一覧!T31","v":6087},null,null,{"$f":"データ一覧!T32","v":6275},null,null,null,97.003984063745023,null,{"$f":"データ一覧!T34","v":3.35},null,{"$f":"データ一覧!T35","v":81.2},null,null,null,null,null,null,null,null,null,null,null,null,null,null,null,null,"     プラスチック","ゴム",null,null,null,null,null,null,null,null,{"$f":"データ一覧!T343","v":0},null,null,null,{"$f":"+データ一覧!T368","v":0},null,null,null,null,null,null,{"$f":"データ一覧!T393","v":0},null,null,null,null,null,null,null,"電気･ｶﾞｽ･水道業",null,null,null,null,654,null,null,null,{"$f":"データ一覧!T517","v":638},null,null,null,{"$f":"データ一覧!T542","v":16},null,null,null,null,"公務",null,null,null,null,205,null,null,null,{"$f":"データ一覧!T530","v":141},null,null,null,{"$f":"データ一覧!T555","v":64}]
[{"$f":"データ一覧!$A$36","v":"12.10.1"},null,null,null,null,{"$f":"データ一覧!T36","v":3713},null,null,{"$f":"+L32+O32","v":11630},null,null,{"$f":"データ一覧!T38","v":5672},null,null,{"$f":"データ一覧!T39","v":5958},null,null,null,95.19973145350788,null,{"$f":"データ一覧!T41","v":3.13},null,{"$f":"データ一覧!T42","v":76.400000000000006},null,null,"    　森　　　林　　　総　　　面　　　積   ",null,null,null,null,null,null,null,{"$f":"データ一覧!$A$265","v":"3.3.31"},null,null,null,null,null,"     ゴム","皮革",null,null,null,null,null,null,null,null,{"$f":"データ一覧!T344","v":1},null,null,null,{"$f":"+データ一覧!T369","v":51},null,null,null,null,null,null,{"$f":"データ一覧!T394","v":"x"},null,null,null,null,null,null,null,"情報通信業",null,null,null,null,{"$f":"BZ32+CD32","v":42},null,null,null,{"$f":"データ一覧!T518","v":24},null,null,null,{"$f":"データ一覧!T543","v":18},null,null,null," 分類不能の産業",null,null,null,null,null,5,null,null,null,{"$f":"データ一覧!T531","v":2},null,null,null,{"$f":"データ一覧!T556","v":3}]
[{"$f":"+データ一覧!$A$43","v":"17.10.1"},null,null,null,null,{"$f":"データ一覧!T43","v":3760},null,null,{"$f":"+L33+O33","v":11023},null,null,{"$f":"データ一覧!T45","v":5364},null,null,{"$f":"データ一覧!T46","v":5659},null,null,null,94.787064852447429,null,{"$f":"データ一覧!T48","v":2.93},null,{"$f":"データ一覧!T49","v":72.400000000000006},null,null,"　　　森　　　　　　　林　　　　　　　の　　　　　　　構　　　　　　　成",null,null,null,null,null,null,null,null,null,null,null,null,null,"     皮革","窯業・土石",null,null,null,null,null,null,null,null,{"$f":"データ一覧!T345","v":2},null,null,null,{"$f":"+データ一覧!T370","v":49},null,null,null,null,null,null,{"$f":"データ一覧!T395","v":"x"},null,null,null,null,null,null,"  ","運輸業,郵便業",null,null,null,null,{"$f":"BZ33+CD33","v":165},null,null,null,{"$f":"データ一覧!T519","v":147},null,null,null,{"$f":"データ一覧!T544","v":18}]
[{"$f":"+データ一覧!$A$50","v":"22.10.1"},null,null,null,null,{"$f":"+データ一覧!T50","v":3879},null,null,{"$f":"+L34+O34","v":10563},null,null,{"$f":"データ一覧!T52","v":5292},null,null,{"$f":"データ一覧!T53","v":5271},null,null,null,100.39840637450199,null,{"$f":"データ一覧!T55","v":2.72},null,{"$f":"+データ一覧!T56","v":69.3},null,null,null,null,null,null,null,"       ha",null,null,null,null,null,null,"       ha",null,"     窯業・土石","鉄鋼",null,null,null,null,null,null,null,null,{"$f":"データ一覧!T346","v":0},null,null,null,{"$f":"+データ一覧!T371","v":0},null,null,null,null,null,null,{"$f":"データ一覧!T396","v":0},null,null,null,null,null,null," １６  社　 会 　福　 祉",null,null,null,null,null,null,null,null,null,null,null,null,null,null,null,{"$f":"データ一覧!$A$557","v":"3.4.1"}]
[{"$f":"データ一覧!$A$57","v":"27.10.1"},null,null,null,null,{"$f":"データ一覧!T57","v":3899},null,null,{"$f":"データ一覧!T58","v":9914},null,null,{"$f":"データ一覧!T59","v":4988},null,null,{"$f":"データ一覧!T60","v":4926},null,null,null,101.25862768980917,null,{"$f":"データ一覧!T62","v":2.5427032572454475},null,{"$f":"データ一覧!T63","v":65.099999999999994},null,null,"  総　　　　　   数",null,null,null,{"$f":"データ一覧!T265","v":12575.460000000001},null,null," 天然林       針葉樹",null,null,null,{"$f":"データ一覧!T268","v":858.03},null,null,"     鉄鋼","非鉄金属",null,null,null,null,null,null,null,null,{"$f":"データ一覧!T347","v":0},null,null,null,{"$f":"+データ一覧!T372","v":0},null,null,null,null,null,null,{"$f":"データ一覧!T397","v":0}]
["令　2.10.1（国調）",null,null,null,null,{"$f":"データ一覧!T64","v":3745},null,null,{"$f":"データ一覧!T65","v":9179},null,null,{"$f":"データ一覧!T66","v":4610},null,null,{"$f":"データ一覧!T67","v":4569},null,null,null,{"$f":"+L36/O36*100","v":100.89735171810024},null,{"$f":"データ一覧!T72","v":2.42},null,{"$f":"データ一覧!T73","v":59.061371841155236},null,null,"  人工林     針葉樹",null,null,null,{"$f":"データ一覧!T266","v":2622.39},null,null," 天然林       広葉樹",null,null,null,{"$f":"データ一覧!T269","v":8596.8700000000008},null,null,"     非鉄金属","金属",null,null,null,null,null,null,null,null,{"$f":"データ一覧!T348","v":1},null,null,null,{"$f":"+データ一覧!T373","v":12},null,null,null,null,null,null,{"$f":"データ一覧!T398","v":"x"},null,null,null,null,null,null,"    ","区分",null,null,null,null,null,null,"施設数",null,null,null,null,"収容定員",null,null,null,null,null,"区分",null,null,null,null,null,null,"施設数",null,null,null,null,"収容定員"]
["年",null,"  区",null," 0歳",null,null,"15歳",null,null,"25歳",null,null,"35歳",null,null,"45歳",null,null,"55歳",null,null,"65歳",null,null,"  人工林     広葉樹",null,null,null,{"$f":"データ一覧!T267","v":3.69},null,null," 竹               林",null,null,null,{"$f":"データ一覧!T270","v":27.740000000000002},null,null,"     金属","はん用機械",null,null,null,null,null,null,null,null,{"$f":"データ一覧!T349","v":0},null,null,null,{"$f":"+データ一覧!T374","v":0},null,null,null,null,null,null,{"$f":"データ一覧!T399","v":0},null,null,null,null,null,null,"生活保護施設",null,null,null,null,null,null,null,{"$f":"データ一覧!T557","v":0},null,null,null,{"$f":"データ一覧!T570","v":0},null,null,null,"人",null,"指定障害者支援施設",null,null,null,null,null,null,null,{"$f":"データ一覧!T563","v":0},null,null,null,{"$f":"データ一覧!T576","v":0},null,null,null,"人"]
["齢","令",null,null,null,"～",null,null,"～",null,null,"～",null,null,"～",null,null,"～",null,null,"～",null,null,null,null,null,null,null,null,null,null,null,null,null,null,null,null,null,null,"     一般機械","生産用機械",null,null,null,null,null,null,null,null,{"$f":"データ一覧!T350","v":0},null,null,null,{"$f":"+データ一覧!T375","v":0},null,null,null,null,null,null,{"$f":"データ一覧!T400","v":0},null,null,null,null,null,null,"地域福祉施設",null,null,null,null,null,null,null,{"$f":"データ一覧!T558","v":0},null,null,null,{"$f":"データ一覧!T571","v":0},null,null,null,null,null,"指定相談支援事業所",null,null,null,null,null,null,null,{"$f":"データ一覧!T564","v":0},null,null,null,{"$f":"データ一覧!T577","v":0}]
["階",{"$f":"+LEFT(データ一覧!$A$83,1)","v":"3"},"  分",null,null,null,"14歳",null,null,"24歳",null,null,"34歳",null,null,"44歳",null,null,"54歳",null,null,"64歳",null,null,"以上","    林     野     の     構     成",null,null,null,null,null,null,"保     有     形     態     別",null,null,null,null,null,null,"     電気機械","業務用機械",null,null,null,null,null,null,null,null,{"$f":"データ一覧!T351","v":0},null,null,null,{"$f":"+データ一覧!T376","v":0},null,null,null,null,null,null,{"$f":"データ一覧!T401","v":0},null,null,null,null,null,null,"老人福祉施設",null,null,null,null,null,null,null,{"$f":"データ一覧!T559","v":1},null,null,null,{"$f":"データ一覧!T572","v":0},null,null,null,null,null,"児童福祉施設",null,null,null,null,null,null,null,{"$f":"データ一覧!T565","v":7},null,null,null,{"$f":"データ一覧!T578","v":330}]
["級","・",null,null,null,null,"人",null,null,"人",null,"    人",null,null,"    人",null,null,"    人",null,null,"    人",null,null,"    人",null,null,null,null,null,null,null,"ha",null,null,null,null,null,"       ha",null,null,"電子・デバイス",null,null,null,null,null,null,null,null,{"$f":"データ一覧!T352","v":0},null,null,null,{"$f":"+データ一覧!T377","v":0},null,null,null,null,null,null,{"$f":"データ一覧!T402","v":0},null,null,null,null,null,null,"介護保険施設",null,null,null,null,null,null,null,{"$f":"データ一覧!T560","v":15},null,null,null,{"$f":"データ一覧!T573","v":269},null,null,null,null,null,"母子福祉施設",null,null,null,null,null,null,null,{"$f":"データ一覧!T566","v":0},null,null,null,{"$f":"データ一覧!T579","v":0}]
["別",{"$f":"+MID(データ一覧!$A$83,3,2)","v":"10"},"総 数",null,{"$f":"+E42+E43","v":944},null,null,{"$f":"+H42+H43","v":606},null,null,{"$f":"+K42+K43","v":878},null,null,{"$f":"+N42+N43","v":930},null,null,{"$f":"+Q42+Q43","v":1071},null,null,{"$f":"+T42+T43","v":1211},null,null,{"$f":"+W42+W43","v":3286},null,null," 無立木地   伐採跡地",null,null,null,{"$f":"データ一覧!T271","v":0.37},null,null,"国   　　　 　 有",null,null,null,{"$f":"データ一覧!T273","v":6.6},null,null,null,"電気機械",null,null,null,null,null,null,null,null,{"$f":"データ一覧!T353","v":2},null,null,null,{"$f":"+データ一覧!T378","v":30},null,null,null,null,null,null,{"$f":"データ一覧!T403","v":"x"},null,null,null,null,null,null,"障害者自立支援法施行前からの身体障害者福祉施設",null,null,null,null,null,null,null,{"$f":"データ一覧!T561","v":0},null,null,null,{"$f":"データ一覧!T574","v":0},null,null,null,null,null,"婦人保護施設",null,null,null,null,null,null,null,{"$f":"データ一覧!T567","v":0},null,null,null,{"$f":"データ一覧!T580","v":0}]
["人","・","  男",null,{"$f":"データ一覧!T83","v":509},null,null,{"$f":"データ一覧!T84","v":312},null,null,{"$f":"データ一覧!T85","v":500},null,null,{"$f":"データ一覧!T86","v":504},null,null,{"$f":"データ一覧!T87","v":600},null,null,{"$f":"データ一覧!T88","v":643},null,null,{"$f":"データ一覧!T89","v":1409},null,null," 無立木地   未立木地",null,null,null,{"$f":"データ一覧!T272","v":466.37},null,null,"公       　　  有",null,null,null,{"$f":"データ一覧!T274","v":1040.1500000000001},null,null,"     輸送機械","情報通信機械",null,null,null,null,null,null,null,null,{"$f":"データ一覧!T354","v":0},null,null,null,{"$f":"+データ一覧!T379","v":0},null,null,null,null,null,null,{"$f":"データ一覧!T404","v":0},null,null,null,null,null,null,null,null,null,null,null,null,null,null,null,null,null,null,null,null,null,null,null,null,"その他の社会福祉施設",null,null,null,null,null,null,null,{"$f":"データ一覧!T568+データ一覧!T569","v":2},null,null,null,{"$f":"データ一覧!T581+データ一覧!T582","v":0}]
["口",{"$f":"+RIGHT(データ一覧!$A$83,1)","v":"1"},"  女",null,{"$f":"データ一覧!T91","v":435},null,null,{"$f":"データ一覧!T92","v":294},null,null,{"$f":"データ一覧!T93","v":378},null,null,{"$f":"データ一覧!T94","v":426},null,null,{"$f":"データ一覧!T95","v":471},null,null,{"$f":"データ一覧!T96","v":568},null,null,{"$f":"データ一覧!T97","v":1877},null,null,null,null,null,null,null,null,null,"私          　 有",null,null,null,{"$f":"データ一覧!T275","v":11528.710000000001},null,null,"     精密機械","輸送機械",null,null,null,null,null,null,null,null,{"$f":"データ一覧!T355","v":0},null,null,null,{"$f":"+データ一覧!T380","v":0},null,null,null,null,null,null,{"$f":"データ一覧!T405","v":0},null,null,null,null,null,null,"障害福祉サービス事業所",null,null,null,null,null,null,null,{"$f":"データ一覧!T562","v":8},null,null,null,{"$f":"データ一覧!T575","v":107}]
[null,null,null,null,null,null,null,null,null,null,null,null,null,null,null,null,null,null,null,null,null,null,null,null,null,"            林     産     物     生     産     量 ",null,null,null,null,null,null,null,null,null,{"$f":"データ一覧!$A$276","v":"2年中"},null,null,null,"     その他","その他",null,null,null,null,null,null,null,null,{"$f":"データ一覧!T356","v":1},null,null,null,{"$f":"+データ一覧!T381","v":7},null,null,null,null,null,null,{"$f":"データ一覧!T406","v":"x"},null,null,null,null,null,null," １７  教　　　　　　　育",null,null,null,null,null,null,null,null,null,null,null,null,null,null,null,{"$f":"データ一覧!$A$583","v":"3.5.1"}]
["人口動態",null,null,null,null,null,null,"   自　然　動　態",null,null,null,null,null,"   社  会  動  態",null,null,null,null,null,{"$f":"データ一覧!$A78","v":"2.1.1～3.12.31"},null,null,null,null,null,"生椎茸",null,null,null,{"$f":"データ一覧!T276","v":5},null,"㎏","乾椎茸",null,null,null,{"$f":"データ一覧!T277","v":"-"},null,"㎏"]
[null,null,"   区       分",null,null,null,null," 出   生",null,null," 死   亡",null,null," 転   入",null,null," 転   出",null,null," 婚   姻",null,null," 離   婚",null,null,"えのきだけ",null,null,null,{"$f":"データ一覧!T279","v":"-"},null,"㎏","なめこ",null,null,null,{"$f":"データ一覧!T278","v":3},null,"㎏","    ","工　業　用　水　量",null,null,null,null,null,"（従業者30人以上の事業所）",null,null,null,null,null,null,null,null,null,null,{"$f":"データ一覧!T407","v":34},null,null,null,null,"㎥／日",null,null,null,null,null,null,null,null,null,null,null,null,null,null,"学校数（校）",null,null,null,null,null,null,"教員数（人）",null,null,null,null,null,null,null,"学生・生徒・児童数（人）"]
[{"$f":"LEFT(データ一覧!$A74,6)","v":"2.10.1"},null,null,null,null,null,null,"       人",null,null,"       人",null,null,"       人",null,null,"       人",null,null,null,"    件",null,null,"    件",null,"ひらたけ",null,null,null,{"$f":"+データ一覧!T280","v":"-"},null,"㎏","まいたけ",null,null,null,{"$f":"+データ一覧!T281","v":"-"},null,"㎏",null,null,null,null,null,null,null,null,null,null,null,null,null,null,null,null,null,null,null,null,null,null,null,null,null,null,null,null,null,"　","区分",null,null,null,null,null,null,null," 本 校",null,null," 分 校",null,null," 本   務",null,null,null," 兼   務",null,null,null," 総   数",null,null,null,"男",null,null,null,"女"]
["～",null," 実          数",null,null,null,null,{"$f":"データ一覧!T74","v":29},null,null,{"$f":"データ一覧!T75","v":77},null,null,{"$f":"データ一覧!T76","v":123},null,null,{"$f":"データ一覧!T77","v":167},null,null,{"$f":"データ一覧!T78","v":35},null,null,{"$f":"データ一覧!T79","v":10},null,null,null,null,null,null,null,null,null,null,null,null,null,null,null,null," １１ 　上　・　下　水　道",null,null,null,null,null,null,null,null,null,null,null,null,null,null,null,null,null,null,null,null,null,null,null,null,null,null,null,null,"小学校",null,null,null,null,null,null,null,null,{"$f":"データ一覧!T584","v":3},null,null,{"$f":"データ一覧!T585","v":0},null,null,{"$f":"データ一覧!T586","v":41},null,null,null,{"$f":"データ一覧!T587","v":5},null,null,null,{"$f":"データ一覧!T588","v":376},null,null,null,{"$f":"データ一覧!T589","v":198},null,null,null,{"$f":"データ一覧!T590","v":178}]
[{"$f":"RIGHT(データ一覧!$A76,6)","v":"3.9.30"},null,"比率(対1,000人)",null,null,null,null,{"$f":"+H48/I35*1000","v":2.9251563445632436},null,null,{"$f":"+K48/I35*1000","v":7.7667944321161988},null,null,"- ",null,null,"- ",null,null,{"$f":"+T48/I35*1000","v":3.5303611055073634},null,null,{"$f":"+W48/I35*1000","v":1.0086746015735324},null,null,"  ６  漁               業",null,null,null,null,null,null,null,null,null,null,null,null,null,null,null,null,null,null,null,null,null,null,null,null,null,null,null,null,null,null,null,null,null,null,null,null,null,null,null,null,null,"  ","中学校",null,null,null,null,null,null,null,null,{"$f":"データ一覧!T592","v":1},null,null,{"$f":"データ一覧!T593","v":0},null,null,{"$f":"データ一覧!T594","v":25},null,null,null,{"$f":"データ一覧!T595","v":1},null,null,null,{"$f":"データ一覧!T596","v":209},null,null,null,{"$f":"データ一覧!T597","v":104},null,null,null,{"$f":"データ一覧!T598","v":105}]
[null,null,null,null,null,null,null,null,null,null,null,null,null,null,null,null,null,null,null,null,null,null,null,null,null,null,null,null,null,null,null,null,null,null,null,null,null,null,null,"水 道 供 給 人 口",null,null,null,null,null,null,"上 水 道",null,null,null,"簡易水道",null,null,null,"専用水道",null,null,null,"飲料水供給施設",null,null,null,"下水道処理人口",null,null,null,null,"  ","高等学校",null,null,null,null,null,null,null,null,{"$f":"データ一覧!T600","v":0},null,null,{"$f":"データ一覧!T601","v":0},null,null,{"$f":"データ一覧!T602","v":0},null,null,null,{"$f":"データ一覧!T603","v":0},null,null,null,{"$f":"データ一覧!T604","v":0},null,null,null,{"$f":"データ一覧!T605","v":0},null,null,null,{"$f":"データ一覧!T606","v":0}]
["  ３  事　　業　　所（民　　営）    （平 28.6.1）",null,null,null,null,null,null,null,null,null,null,null,null,null,null,null,null,null,null,null,null,null,null,null,null,"漁船隻数・トン数",null,null,null,{"$f":"データ一覧!$A$282","v":"2.12.31"},null,null,null,"動　力　船",null,null,null,null,null,{"$f":"データ一覧!$A$408","v":"3.3.31"},null,null,null,null,null,"人",null,{"$f":"データ一覧!T408","v":6119},null,null,{"$f":"データ一覧!T409","v":2631},null,null,null,null,{"$f":"データ一覧!T410","v":340},null,null,null,{"$f":"データ一覧!T411","v":64},null,null,null,{"$f":"データ一覧!T412","v":5616},null,null,null,"  ","大学・短期大学",null,null,null,null,null,null,null,null,{"$f":"データ一覧!T607","v":0},null,null,{"$f":"データ一覧!T608","v":0},null,null,{"$f":"データ一覧!T609","v":0},null,null,null,{"$f":"データ一覧!T610","v":0},null,null,null,{"$f":"データ一覧!T611","v":0},null,null,null,{"$f":"データ一覧!T612","v":0},null,null,null,{"$f":"データ一覧!T613","v":0}]
[null,null,null,null,null,null,null,null,null,null,null,null,null,null,null,null,null,null,null,null,null,null,null,null,null,"無動力船隻数",null,null,null,"船外機付漁船隻数",null,null,null,"隻　数",null,null,"総 ト ン 数",null,null,null,null,null,null,null,null,null,null,null,null,null,null,null,null,null,null,null,null,null,null,null,null,null,null,null,null,null,null,"  ","高等専門学校",null,null,null,null,null,null,null,null,{"$f":"データ一覧!T614","v":0},null,null,{"$f":"データ一覧!T615","v":0},null,null,{"$f":"データ一覧!T616","v":0},null,null,null,{"$f":"データ一覧!T617","v":0},null,null,null,{"$f":"データ一覧!T618","v":0},null,null,null,{"$f":"データ一覧!T619","v":0},null,null,null,{"$f":"データ一覧!T620","v":0}]
[null,null,null,null,null,null,null,"    総　　　　　数",null,null,null,null,null,"    民　　　　　営",null,null,null,null,null,"  国 ･ 地方公共団体",null,null,null,null,null,null,null,null,"隻",null,null,null,"隻",null,null,"隻",null,null,"t"," １２  交   通　・　通   信",null,null,null,null,null,null,null,null,null,null,null,null,null,null,null,null,null,null,null,null,null,null,null,null,null,null,null,"  ","特別支援学校",null,null,null,null,null,null,null,null,{"$f":"+データ一覧!T622","v":1},null,null,{"$f":"+データ一覧!T623","v":0},null,null,{"$f":"+データ一覧!T624","v":87},null,null,null,{"$f":"+データ一覧!T625","v":4},null,null,null,{"$f":"+データ一覧!T626","v":126},null,null,null,{"$f":"+データ一覧!T627","v":76},null,null,null,{"$f":"+データ一覧!T628","v":50}]
["  　区　　　　　　分",null,null,null,null,null,null," 事業所数",null,null," 従業者数",null,null," 事業所数",null,null," 従業者数",null,null," 事業所数",null,null," 従業者数",null,null,{"$f":"データ一覧!$T$282","v":0},null,null,null,{"$f":"データ一覧!$T$283","v":107},null,null,null,{"$f":"データ一覧!T284","v":180},null,null,{"$f":"データ一覧!T285","v":789.56999999999994},null,null,null,null,null,null,null,null,null,null,null,null,null,null,null,null,null,null,null,null,null,null,null,null,null,null,null,null,null,null,"  ","幼稚園",null,null,null,null,null,null,null,null,{"$f":"データ一覧!T630","v":0},null,null,{"$f":"データ一覧!T631","v":0},null,null,{"$f":"データ一覧!T632","v":0},null,null,null,{"$f":"データ一覧!T633","v":0},null,null,null,{"$f":"データ一覧!T634","v":0},null,null,null,{"$f":"データ一覧!T635","v":0},null,null,null,{"$f":"データ一覧!T636","v":0}]
[null,null,null,null,null,null,null,null,null,null,"       人",null,null,null,null,null,"       人",null,null,null,null,null,"       人",null,null,"  男女別就業者数",null,null,null,null,null,null,null,{"$f":"データ一覧!$A$286","v":"30.11.1"},null,null,null,null,null,"道     路",null,null,null,"実 延 長",null,null,null,"国     道",null,null,null,"県     道",null,null,null,"市町道",null,null,null," 鉄 道 営 業 キ ロ 数",null,null,null,null,null,null,null,"  ","幼保連携認定こども園",null,null,null,null,null,null,null,null,{"$f":"データ一覧!T638","v":0},null,null,{"$f":"データ一覧!T639","v":0},null,null,{"$f":"データ一覧!T640","v":0},null,null,null,{"$f":"データ一覧!T641","v":0},null,null,null,{"$f":"データ一覧!T642","v":0},null,null,null,{"$f":"データ一覧!T643","v":0},null,null,null,{"$f":"データ一覧!T644","v":0}]
["総数",null,null,null,null,null,null,{"$f":"データ一覧!T99","v":"…"},null,null,{"$f":"データ一覧!T156","v":"…"},null,null,{"$f":"データ一覧!T100","v":571},null,null,{"$f":"データ一覧!T157","v":5012},null,null,{"$f":"データ一覧!T101","v":"…"},null,null,{"$f":"データ一覧!T158","v":"…"},null,null,"総　　数",null,null,null,null,null,"男",null,null,null,"女",null,null,null,{"$f":"データ一覧!$A$413","v":"2.4.1"},null,null,null,{"$f":"データ一覧!T413","v":208.4},null,null,"㎞",{"$f":"データ一覧!T414","v":0},null,null,"㎞",{"$f":"データ一覧!T415","v":39.6},null,null,"㎞",{"$f":"データ一覧!T416","v":168.8},null,null,"km",{"$f":"データ一覧!$A$417","v":"3.4.1"},null,null,null,{"$f":"データ一覧!T417","v":11.394},null,null,"㎞","  ","各種学校",null,null,null,null,null,null,null,null,{"$f":"データ一覧!T646","v":0},null,null,{"$f":"データ一覧!T647","v":0},null,null,{"$f":"データ一覧!T648","v":0},null,null,null,{"$f":"データ一覧!T649","v":0},null,null,null,{"$f":"データ一覧!T650","v":0},null,null,null,{"$f":"データ一覧!T651","v":0},null,null,null,{"$f":"データ一覧!T652","v":0}]
["農林漁業",null,null,null,null,null,null,{"$f":"データ一覧!T102","v":"…"},null,null,{"$f":"データ一覧!T159","v":"…"},null,null,{"$f":"データ一覧!T103","v":16},null,null,{"$f":"データ一覧!T160","v":120},null,null,{"$f":"データ一覧!T104","v":"…"},null,null,{"$f":"データ一覧!T161","v":"…"},null,null,null,null,null,null,null,"人",null,null,"　　　　人",null,null,null,null,"  人","自動車",null,null,null,null,null,null,null,null,"乗用車",null,null,null,null,null,null,null,null,null,null,null,null,null,null,null,null,null,null,"  ","専修学校",null,null,null,null,null,null,null,null,{"$f":"データ一覧!T654","v":1},null,null,{"$f":"データ一覧!T655","v":0},null,null,{"$f":"データ一覧!T656","v":11},null,null,null,{"$f":"データ一覧!T657","v":29},null,null,null,{"$f":"データ一覧!T658","v":71},null,null,null,{"$f":"データ一覧!T659","v":37},null,null,null,{"$f":"データ一覧!T660","v":34}]
["鉱業",null,null,null,null,null,null,{"$f":"データ一覧!T105","v":"…"},null,null,{"$f":"データ一覧!T162","v":"…"},null,null,{"$f":"データ一覧!T106","v":0},null,null,{"$f":"データ一覧!T163","v":0},null,null,{"$f":"データ一覧!T107","v":"…"},null,null,{"$f":"データ一覧!T164","v":"…"},null,null,{"$f":"AF58+AJ58","v":123},null,null,null,null,null,{"$f":"データ一覧!$T$287","v":119},null,null,null,{"$f":"データ一覧!T288","v":4},null,null,null,"台  数",null,null,null,"貨    物",null,null,null,"普     通",null,null,null,"小     型",null,null,null,"乗  合",null,null,"特  種",null,null,"小型二輪",null,null,"軽自動車",null,null," １８  衛　　　　　　　生"]
["建設業",null,null,null,null,null,null,{"$f":"データ一覧!T108","v":"…"},null,null,{"$f":"データ一覧!T165","v":"…"},null,null,{"$f":"データ一覧!T109","v":94},null,null,{"$f":"データ一覧!T166","v":1036},null,null,{"$f":"データ一覧!T110","v":"…"},null,null,{"$f":"データ一覧!T167","v":"…"},null,null,"　　　　海 面 漁 業 漁 獲 量 （属人）",null,null,null,null,null,null,null,{"$f":"データ一覧!$A$289","v":"30年中"},null,null,null,null,null,{"$f":"データ一覧!$A$418","v":"3.3.31"},null,null,null,null,{"$f":"データ一覧!T418","v":412},null,null,null,{"$f":"データ一覧!T420","v":1654},null,null,null,{"$f":"データ一覧!T421","v":1661},null,null,{"$f":"データ一覧!T419","v":46},null,null,{"$f":"データ一覧!T422","v":238},null,null,{"$f":"データ一覧!T423","v":114},null,null,{"$f":"データ一覧!T424","v":4527}]
["製造業",null,null,null,null,null,null,{"$f":"データ一覧!T111","v":"…"},null,null,{"$f":"データ一覧!T168","v":"…"},null,null,{"$f":"データ一覧!T112","v":32},null,null,{"$f":"データ一覧!T169","v":289},null,null,{"$f":"データ一覧!T113","v":"…"},null,null,{"$f":"データ一覧!T170","v":"…"},null,null,null,null,null,null,null,"       ","ｔ",null,null,null,null,null,null,"t",null,null,"     ",null,"郵　便　局　数",null,null,null,null,null,null,null,null,null,null,null,null,null,{"$f":"+MID(データ一覧!$A$428,3,2)","v":"12"},"令","一般加入",null,null,null,"ＩＮＳネット",null,null,null,null,null,null,null,"医療関係施設",null,null,null,null,null,{"$f":"データ一覧!$A$661","v":"元.10.1"},null,null,null,null,null,null,"および医療関係者数",null,null,null,null,null,null,null,{"$f":"データ一覧!$A$666","v":"30.12.31"}]
["電気・ｶﾞ ｽ・熱供給・水道業",null,null,null,null,null,null,{"$f":"データ一覧!T114","v":"…"},null,null,{"$f":"データ一覧!T171","v":"…"},null,null,{"$f":"データ一覧!T115","v":7},null,null,{"$f":"データ一覧!T172","v":1014},null,null,{"$f":"データ一覧!T116","v":"…"},null,null,{"$f":"データ一覧!T173","v":"…"},null,null,"   総　　　　　　数",null,null,null,{"$f":"データ一覧!T289","v":1409},null,null,"   藻　　　　　　類",null,null,null,{"$f":"データ一覧!T292","v":18},null,null,"通  信",null,null,null," 総     数",null,null,null,null," 郵 便 局",null,null,null,null," 簡 易 局",null,null,null,"・",{"$f":"+LEFT(データ一覧!$A$428,1)","v":"2"},"電話数",null,null,null,"加入数",null,null,null,null,null,null,null,null,null,"　","病",null,null,"院",null,"　",null,null,null,null," ","一般診療所",null,null,null,null,null,null,null,null,null,null,null,"歯科診療所"]
["情報通信業",null,null,null,null,null,null,{"$f":"データ一覧!T117","v":"…"},null,null,{"$f":"データ一覧!T174","v":"…"},null,null,{"$f":"データ一覧!T118","v":3},null,null,{"$f":"データ一覧!T175","v":24},null,null,{"$f":"データ一覧!T119","v":"…"},null,null,{"$f":"データ一覧!T176","v":"…"},null,null,"   魚　　　　　　類",null,null,null,{"$f":"データ一覧!T290","v":1278},null,null,"   そ　   の　　 他",null,null,null,{"$f":"データ一覧!T293","v":92},null,null,{"$f":"データ一覧!$A$428","v":"2.12.31"},null,null,null,{"$f":"データ一覧!T425","v":5},null,null,null,null,{"$f":"データ一覧!T426","v":4},null,null,null,null,{"$f":"データ一覧!T427","v":1},null,null,null,{"$f":"+RIGHT(データ一覧!$A$428,2)","v":"31"},"・",{"$f":"データ一覧!T428","v":2313},null,null,null,{"$f":"データ一覧!T429","v":322},null,null,null," ","医療関係",null,null,null,null,null,null,null,null,null,null,null,"一般病院",null,null,null,null,null,null,null,null,null,null,null,"有",null,null,"床"]
["運輸業、郵便業",null,null,null,null,null,null,{"$f":"データ一覧!T120","v":"…"},null,null,{"$f":"データ一覧!T177","v":"…"},null,null,{"$f":"データ一覧!T121","v":11},null,null,{"$f":"データ一覧!T178","v":107},null,null,{"$f":"データ一覧!T122","v":"…"},null,null,{"$f":"データ一覧!T179","v":"…"},null,null,"   貝　　　　　　類",null,null,null,{"$f":"データ一覧!T291","v":21},null,null,null,null,null,null,null,null,null,null,null,null,null,null,null,null,null,null,null,null,null,null,null,null,null,null,null,null,null,null,null,null,null,null,null,null,null,null,"施設数",null,null,null,null,null,null,{"$f":"データ一覧!T661","v":0},null,null,null,null,null,{"$f":"データ一覧!T662","v":0},null,null,null,null,null,{"$f":"データ一覧!T663","v":10},null,null,null,null,null,{"$f":"データ一覧!T664","v":0},null,null,null,null,null,{"$f":"データ一覧!T665","v":3}]
["卸売業、小売業",null,null,null,null,null,null,{"$f":"データ一覧!T123","v":"…"},null,null,{"$f":"データ一覧!T180","v":"…"},null,null,{"$f":"データ一覧!T124","v":118},null,null,{"$f":"データ一覧!T181","v":552},null,null,{"$f":"データ一覧!T125","v":"…"},null,null,{"$f":"データ一覧!T182","v":"…"},null,null,null,null,null,null,null,null,null,null,null,null,null,null,null,null," １３  税　　・　　財　　政",null,null,null,null,null,null,null,null,null,null,null,null,null,null,null,null,null,null,null,null,null,null,null,null,null,null,null,null,null,null,null,null,null,null,"医師",null,null,null,null,"歯科医師",null,null,null,null,"薬剤師",null,null,null,null,"保健師",null,null,null,null,"助産師",null,null," ",null,"看護師",null,null," "]
["金融業、保険業",null,null,null,null,null,null,{"$f":"データ一覧!T126","v":"…"},null,null,{"$f":"データ一覧!T183","v":"…"},null,null,{"$f":"データ一覧!T127","v":7},null,null,{"$f":"データ一覧!T184","v":41},null,null,{"$f":"データ一覧!T128","v":"…"},null,null,{"$f":"データ一覧!T185","v":"…"},null,null,"  ７  商        　　　業 ",null,null,null,null,null,null,{"$f":"データ一覧!$A$294","v":"28.6.1(平成27年実績）"},null,null,null,null,null,null,null,null,null,null,null,null,null,null,null,null,null,null,"19年度の予算は、6月補正肉付後予算額",null,null,null,null,null,null,null,null,null,null,null,null,null,null,null," ","医療",null,null,null,null,null,null,null,null,"人",null,null,null,null,"人",null,null,null,null,"人",null,null,null,null,"人",null,null,null,null,"人",null,null,null,null,"人"]
["不動産業、物品賃貸業",null,null,null,null,null,null,{"$f":"データ一覧!T129","v":"…"},null,null,{"$f":"データ一覧!T186","v":"…"},null,null,{"$f":"データ一覧!T130","v":8},null,null,{"$f":"データ一覧!T187","v":29},null,null,{"$f":"データ一覧!T131","v":"…"},null,null,{"$f":"データ一覧!T188","v":"…"},null,null,null,null,null,null,null,null,null,null,null,null,null,null,null,null,"           ",null,null,null,"歳入",null,null,null,null,null,null,null,null,"(千円）"," ",null,null,null,"歳出",null,null,null,null,null,null,null,null,"(千円）",null,"関係者",null,null,null,null,{"$f":"データ一覧!T666","v":6},null,null,null,null,{"$f":"データ一覧!T667","v":3},null,null,null,null,{"$f":"データ一覧!T668","v":2},null,null,null,null,{"$f":"データ一覧!T669","v":9},null,null,null,null,{"$f":"データ一覧!T670","v":0},null,null,null,null,{"$f":"データ一覧!T671","v":46}]
["学術研究、専門・技術ｻｰﾋﾞｽ業",null,null,null,null,null,null,{"$f":"データ一覧!T132","v":"…"},null,null,{"$f":"データ一覧!T189","v":"…"},null,null,{"$f":"データ一覧!T133","v":21},null,null,{"$f":"データ一覧!T190","v":171},null,null,{"$f":"データ一覧!T134","v":"…"},null,null,{"$f":"データ一覧!T191","v":"…"},null,null,"  産   業　 分　 類",null,null,null,"  商　 店 　数",null,null," 従　業　者　数",null,null,"年　間　販　売　額",null,null,null,"一人当たり歳入歳出予算決算額",null,null,null,null,null,null,null,null,null,null,null,null,null,null,null,null,null,null,null,null,null,null,null,null,null,null,null,"                   ",null,null,null,null,null,null,null,null,"死因別死亡数　　　　　　    ",null,null,null,null,null,null,null,null,null,null,null,null,null,null,null,{"$f":"データ一覧!$A$672","v":"2年中"},null,null,null,null,null,null,null,null,"      単 位：人"]
["宿泊業、飲食サービス業",null,null,null,null,null,null,{"$f":"データ一覧!T135","v":"…"},null,null,{"$f":"データ一覧!T192","v":"…"},null,null,{"$f":"データ一覧!T136","v":100},null,null,{"$f":"データ一覧!T193","v":429},null,null,{"$f":"データ一覧!T137","v":"…"},null,null,{"$f":"データ一覧!T194","v":"…"},null,null,null,null,null,null,null,"        店",null,null,null,"　人",null,"         百万円",null,null,"区分",null,null,null,{"$f":"データ一覧!$A$438","v":"3年度"},null,null,null,null,{"$f":"データ一覧!$A$452","v":"2年度"},null,null,null,null,"区分",null,null,null,{"$f":"+AR68","v":"3年度"},null,null,null,null,{"$f":"データ一覧!$A$452","v":"2年度"},null,null,null,null," 死     因",null,null,null,null,null,null,null,null,null,null,null,"悪  性",null,null,"高血圧",null,null,null,null,null,"脳血管",null,null,null,null,null," ",null,null,"不慮の事故"]
["生活関連サービス業、娯楽業",null,null,null,null,null,null,{"$f":"データ一覧!T138","v":"…"},null,null,{"$f":"データ一覧!T195","v":"…"},null,null,{"$f":"データ一覧!T139","v":41},null,null,{"$f":"データ一覧!T196","v":117},null,null,{"$f":"データ一覧!T140","v":"…"},null,null,{"$f":"データ一覧!T197","v":"…"},null,null,"総　　　　　　計",null,null,null,{"$f":"データ一覧!T294","v":105},null,null,{"$f":"データ一覧!T303","v":456},null,null,{"$f":"データ一覧!T312","v":8204},null,null,null,null,null,null,null,{"$f":"データ一覧!T434","v":986500.77795065567},null,null,null,null,{"$f":"データ一覧!T435","v":1293294.8871688652},null,null,null,null,null,null,null,null,{"$f":"データ一覧!T436","v":986500.77795065567},null,null,null,null,{"$f":"データ一覧!T437","v":1212519.2412514989},null,null,null,null,null,null,null,null,null,"全 死 因",null,null,null,"結 核",null,null,"新生物",null,null,"性疾患",null,null,"心疾患",null,null,"疾  患",null,null,"肺  炎",null,null,"老  衰",null,null,null,null," ","交通事故"]
["教育、学習支援業",null,null,null,null,null,null,{"$f":"データ一覧!T141","v":"…"},null,null,{"$f":"データ一覧!T198","v":"…"},null,null,{"$f":"データ一覧!T142","v":10},null,null,{"$f":"データ一覧!T199","v":83},null,null,{"$f":"データ一覧!T143","v":"…"},null,null,{"$f":"データ一覧!T200","v":"…"},null,null,"卸売業",null,null,null,{"$f":"データ一覧!T295","v":15},null,null,{"$f":"データ一覧!T304","v":64},null,null,{"$f":"データ一覧!T313","v":3448},null,null,null,"項目別歳入歳出予算決算額"]
["医療、福祉",null,null,null,null,null,null,{"$f":"データ一覧!T144","v":"…"},null,null,{"$f":"データ一覧!T201","v":"…"},null,null,{"$f":"データ一覧!T145","v":32},null,null,{"$f":"データ一覧!T202","v":334},null,null,{"$f":"データ一覧!T146","v":"…"},null,null,{"$f":"データ一覧!T203","v":"…"},null,null,"小売業",null,null,null,{"$f":"データ一覧!T296","v":90},null,null,{"$f":"データ一覧!T305","v":392},null,null,{"$f":"データ一覧!T314","v":4755},null,null,null,"区分",null,null,null,{"$f":"データ一覧!$A$438","v":"3年度"},null,null,null,null,{"$f":"データ一覧!$A$452","v":"2年度"},null,null,null,null,"区分",null,null,null,{"$f":"+AR71","v":"3年度"},null,null,null,null,{"$f":"データ一覧!$A$452","v":"2年度"},null,null,null,null,null,null,null,null,null,{"$f":"データ一覧!T672","v":142},null,null,null,"   －",{"$f":"データ一覧!T673","v":0},null,{"$f":"データ一覧!T674","v":9},null,null,null,{"$f":"データ一覧!T675","v":2},null,{"$f":"データ一覧!T676","v":0},null,null,{"$f":"データ一覧!T677","v":0},null,null,{"$f":"データ一覧!T678","v":10},null,null,{"$f":"データ一覧!T679","v":12},null,null,{"$f":"データ一覧!T680","v":4},null,null,{"$f":"データ一覧!T681","v":1}]
["複合サービス事業",null,null,null,null,null,null,{"$f":"データ一覧!T147","v":"…"},null,null,{"$f":"データ一覧!T204","v":"…"},null,null,{"$f":"データ一覧!T148","v":8},null,null,{"$f":"データ一覧!T205","v":78},null,null,{"$f":"データ一覧!T149","v":"…"},null,null,{"$f":"データ一覧!T206","v":"…"},null,null,"各種商品",null,null,null,{"$f":"データ一覧!T297","v":1},null,null,{"$f":"データ一覧!T306","v":4},null,null,{"$f":"データ一覧!T315","v":"x"},null,null,null,"総額",null,null,null,{"$f":"SUM(AR73:AV85)","v":8876534},null,null,null,null,{"$f":"SUM(AW73:BA85)","v":11844516},null,null,null,null,"総額",null,null,null,{"$f":"SUM(BF73:BJ85)","v":8876534},null,null,null,null,{"$f":"SUM(BK73:BO85)","v":11122439},null,null,null,null," １９  警　察　・　消　防  ",null,null,null,null,null,null,null,null,null,null,null,null,null,null,null,{"$f":"+データ一覧!$A682","v":"3.4.1"}]
["サービス業",null,null,null,null,null,null,{"$f":"データ一覧!T150","v":"…"},null,null,{"$f":"データ一覧!T207","v":"…"},null,null,{"$f":"データ一覧!T151","v":63},null,null,{"$f":"データ一覧!T208","v":588},null,null,{"$f":"データ一覧!T152","v":"…"},null,null,{"$f":"データ一覧!T209","v":"…"},null,null,"織物・衣服・身の回り品",null,null,null,{"$f":"データ一覧!T298","v":5},null,null,{"$f":"データ一覧!T307","v":8},null,null,{"$f":"データ一覧!T316","v":24},null,null,null,"地方税",null,null,null,{"$f":"データ一覧!T439","v":3777486},null,null,null,null,{"$f":"データ一覧!T453","v":2795054},null,null,null,null,"議会費",null,null,null,{"$f":"データ一覧!T467","v":97079},null,null,null,null,{"$f":"データ一覧!T481","v":91707}]
["公務",null,null,null,null,null,null,{"$f":"データ一覧!T153","v":"…"},null,null,{"$f":"データ一覧!T210","v":"…"},null,null,{"$f":"データ一覧!T154","v":"…"},null,null,{"$f":"データ一覧!T211","v":"…"},null,null,{"$f":"データ一覧!T155","v":"…"},null,null,{"$f":"データ一覧!T212","v":"…"},null,null,"飲食料品",null,null,null,{"$f":"データ一覧!T299","v":33},null,null,{"$f":"データ一覧!T308","v":138},null,null,{"$f":"データ一覧!T317","v":1310},null,null,null,"地方譲与税",null,null,null,{"$f":"データ一覧!T440","v":60100},null,null,null,null,{"$f":"データ一覧!T454","v":60433},null,null,null,null,"総務費",null,null,null,{"$f":"データ一覧!T468","v":2019904},null,null,null,null,{"$f":"データ一覧!T482","v":3137910},null,null,null,null,null,null,null,null,null,null,null,null,null,null,"交番・駐在所",null,null,null,null,null,null,null,null,"刑法犯認知件数",null,null,null,null,null,null,null,null,"交通人身事故発生件数"]
["  ４  農        　　　業 ",null,null,null,null,null,null,null,null,null,null,null,null,null,null,null,null,null,null,null,null,null,null,null,null,"機械器具",null,null,null,{"$f":"データ一覧!T300","v":11},null,null,{"$f":"データ一覧!T309","v":70},null,null,{"$f":"データ一覧!T318","v":926},null,null,null,"各種交付金",null,null,null,{"$f":"データ一覧!T441","v":259000},null,null,null,null,{"$f":"データ一覧!T455","v":230435},null,null,null,null,"民生費",null,null,null,{"$f":"データ一覧!T469","v":1577065},null,null,null,null,{"$f":"データ一覧!T483","v":1587370},null,null,null,null,null,"警察署数",null,null,null,null,null,null,null,null,"検問所数",null,null,null,null,null,null,null,null,null,{"$f":"データ一覧!$A$684","v":"2年中"},null,null,null,null,null,null,null,null,{"$f":"データ一覧!$A$684","v":"2年中"}]
[null,null,null,null,null,null,null,null,null,null,null,null,null,null,null,null,null,null,null,null,null,null,null,null,null,"その他",null,null,null,{"$f":"データ一覧!T301","v":38},null,null,{"$f":"データ一覧!T310","v":159},null,null,{"$f":"データ一覧!T319","v":2091},null,null,null,"地方特例交付金",null,null,null,{"$f":"データ一覧!T442","v":7000},null,null,null,null,{"$f":"データ一覧!T456","v":9397},null,null,null,null,"衛生費",null,null,null,{"$f":"データ一覧!T470","v":1430381},null,null,null,null,{"$f":"データ一覧!T484","v":949184},null,null,null,null,null,null,null,null,null,null,null,null,null,null,null,null,null,null,null,null,null,null,null,null,null,null,null,null," 件",null,null,null,null,null,null,null,null,"　件"]
[null,null,"農業経営体数",null,null,null,null,null,null,"農産物販売額規模別経営体数",null,null,null,null,null,null,null,"経営耕地面積規模別経営体数",null,null,null,null,null,null,null,"無店舗",null,null,null,{"$f":"データ一覧!T302","v":2},null,null,{"$f":"データ一覧!T311","v":13},null,null,{"$f":"データ一覧!T320","v":"x"},null,null,null,"地方交付税",null,null,null,{"$f":"データ一覧!T443","v":160000},null,null,null,null,{"$f":"データ一覧!T457","v":1046709},null,null,null,null,"労働費",null,null,null,{"$f":"データ一覧!T471","v":35440},null,null,null,null,{"$f":"データ一覧!T485","v":35574},null,null,null,null,null,null,{"$f":"データ一覧!T682","v":0},null,null,null,null,null,null,null,null,{"$f":"データ一覧!T683","v":3},null,null,null,null,null,null,null,null,{"$f":"データ一覧!T684","v":27},null,null,null,null,null,null,null,null,{"$f":"データ一覧!T685","v":15}]
["農",null,"区　分",null,null,null,"経営体数\n（経営体）",null,null,"区　分",null,null,null,null,"経営体数\n（経営体）",null,null,"区　分",null,null,null,null,"経営体数\n（経営体）",null,null,null,null,null,null,null,null,null,null,null,null,null,null,null,null,"分担金および負担金",null,null,null,{"$f":"データ一覧!T444","v":37407},null,null,null,null,{"$f":"データ一覧!T458","v":55051},null,null,null,null,"農林水産業費",null,null,null,{"$f":"データ一覧!T472","v":679472},null,null,null,null,{"$f":"データ一覧!T486","v":865639},null,null,null,null,"火災発生件数",null,null,null,null,null,null,null,null,null,"林野焼損",null,null,null,null,"損      害",null,null,null,null,"消 防 自",null,null,null,"その他の",null,null,null," ",null,null,null,null," "]
["業","令",null,null,null,null,null,null,null,null,null,null,null,null,null,null,null,null,null,null,null,null,null,null,null,"  ８  住　　　　　　 　宅",null,null,null,null,null,null,null,null,null,null,null,null,null,"使用料および手数料",null,null,null,{"$f":"データ一覧!T445","v":187318},null,null,null,null,{"$f":"データ一覧!T459","v":183972},null,null,null,null,"商工費",null,null,null,{"$f":"データ一覧!T473","v":509097},null,null,null,null,{"$f":"データ一覧!T487","v":326318},null,null,null,null,{"$f":"+データ一覧!$A$686","v":"2年中"},null,null,null,null,"焼損棟数",null,null,null,null,"面    積",null,null,null,null,"見  積  額",null,null,null,null,"動 車 数",null,null,null,"ﾎﾟﾝﾌﾟ数",null,null,null," 消防吏員",null,null,null," 消防団員"]
["経",{"$f":"+LEFT(データ一覧!$A$213)","v":"2"},"計",null,null,null,{"$f":"データ一覧!T213","v":213},null,null,"総　　　 数",null,null,null,null,{"$f":"データ一覧!T217","v":213},null,null,"総　　　 数",null,null,null,null,{"$f":"データ一覧!T233","v":530},null,null,null,null,null,null,null,null,null,null,null,null,null,null,null,null,"国庫支出金",null,null,null,{"$f":"データ一覧!T446","v":1228058},null,null,null,null,{"$f":"データ一覧!T460","v":3309313},null,null,null,null,"土木費",null,null,null,{"$f":"データ一覧!T474","v":729335},null,null,null,null,{"$f":"データ一覧!T488","v":1993088},null,null,null,null,"         件",null,null,null,null,null,"      棟",null,null,null,null,null,null,"  ａ",null,null,null,"  千円",null,null,"        ",null,null,null,null,null,null,null,null,null,"  人",null,null,null,"  人"]
["営","・","個人経営体",null,null,null,{"$f":"データ一覧!T214","v":197},null,null,"販 売 な し",null,null,null,null,{"$f":"データ一覧!T218","v":35},null,null,"0.5 ha 未満",null,null,null,null,{"$f":"データ一覧!T234","v":25},null,null,{"$f":"+データ一覧!$A$321","v":"令和元年"},null,null,null,null,{"$f":"データ一覧!$A$324","v":"2年"},"中の増減",null,null,null,{"$f":"+データ一覧!$A$324","v":"2年"},null,null,null,"県支出金",null,null,null,{"$f":"データ一覧!T447","v":1224330},null,null,null,null,{"$f":"データ一覧!T461","v":1367680},null,null,null,null,"消防費",null,null,null,{"$f":"データ一覧!T475","v":300480},null,null,null,null,{"$f":"データ一覧!T489","v":746874},null,null,null,null,null,{"$f":"データ一覧!T686","v":8},null,null,null,null,{"$f":"データ一覧!T687","v":6},null,null,null,null,{"$f":"データ一覧!T688","v":0},null,null,null,{"$f":"データ一覧!T689","v":2048},null,null,null,null,null,{"$f":"データ一覧!T690","v":9},null,null,null,{"$f":"データ一覧!T691","v":14},null,null,null,{"$f":"データ一覧!T692","v":20},null,null,null,{"$f":"データ一覧!T693","v":229}]
["体",{"$f":"+LEFT(データ一覧!$A$213,1)","v":"2"},"団体経営体",null,null,null,{"$f":"データ一覧!T215","v":16},null,null,"50万円未満",null,null,null,null,{"$f":"データ一覧!T219","v":96},null,null,"0.5 ha ～ 1.0 ha",null,null,null,null,{"$f":"データ一覧!T235","v":49},null,null,null,null,null,null,"建設した住宅",null,null,"消失した住宅",null,null,null,null,null,null,"財産収入",null,null,null,{"$f":"データ一覧!T448","v":8010},null,null,null,null,{"$f":"データ一覧!T462","v":49168},null,null,null,null,"教育費",null,null,null,{"$f":"データ一覧!T476","v":1039616},null,null,null,null,{"$f":"データ一覧!T490","v":981875},null,null,null,null," ２０  そ　　　の　　　他　"]
["数","・",null,"法人経営",null,null,{"$f":"データ一覧!T216","v":12},null,null,"50～300万円",null,null,null,null,{"$f":"データ一覧!T220","v":51},null,null,"1.0 ha ～ 2.0 ha",null,null,null,null,{"$f":"データ一覧!T236","v":46},null,null,null,null,null,null,null,null,null,null,null,null,null,null,null,null,"繰入金",null,null,null,{"$f":"データ一覧!T449","v":529865},null,null,null,null,{"$f":"データ一覧!T463","v":338576},null,null,null,null,"災害復旧費",null,null,null,{"$f":"データ一覧!T477","v":0},null,null,null,null,{"$f":"データ一覧!T491","v":0}]
["（",{"$f":"+RIGHT(データ一覧!$A$213)","v":"1"},null,null,null,null,null,null,null,"300～500万円",null,null,null,null,{"$f":"データ一覧!T221","v":9},null,null,"2.0 ha ～ 3.0 ha",null,null,null,null,{"$f":"データ一覧!T237","v":27},null,null,null,{"$f":"データ一覧!T321","v":4608},null,"戸",{"$f":"データ一覧!T322","v":57},null,"戸",{"$f":"データ一覧!T323","v":38},null,"戸",null,{"$f":"データ一覧!T324","v":4627},null,"戸","地方債",null,null,null,{"$f":"データ一覧!T450","v":314300},null,null,null,null,{"$f":"データ一覧!T464","v":1179378},null,null,null,null,"公債費",null,null,null,{"$f":"データ一覧!T478","v":438665},null,null,null,null,{"$f":"データ一覧!T492","v":406900},null,null,null,null,null,null,null,null,null,"若狭湾国定公園(三方五湖・レインボーライン・水晶浜海水浴場、エネルギー環境教育体験館きいぱす、健康楽膳拠点施設こるぱ)、屏風ヶ滝（新庄）、秀吉朱印状（金山）、一石六体仏（宮代）、九重塔（竹波）、獅子塚古墳（郷市）、阿弥陀如来像（早瀬）、若狭国吉城歴史資料館（佐柿）、歴史文化館（河原市）"]
["総",null,null,null,null,null,null,null,null,"500～1,000万円",null,null,null,null,{"$f":"データ一覧!T222","v":7},null,null,"3.0 ha ～ 5.0 ha",null,null,null,null,{"$f":"データ一覧!T238","v":29},null,null,null,null,null,null,null,null,null,null,null,null,null,null,null,null,"その他",null,null,null,{"$f":"データ一覧!T451","v":1083660},null,null,null,null,{"$f":"データ一覧!T465","v":1219350},null,null,null,null,"その他",null,null,null,{"$f":"データ一覧!T479","v":20000},null,null,null,null,{"$f":"データ一覧!T493","v":0},null,null,null,null,"　名所・旧跡"]
["数",null,null,null,null,null,null,null,null,"1,000万円以上",null,null,null,null,{"$f":"データ一覧!T223","v":15},null,null,"5.0 ha以上",null,null,null,null,{"$f":"データ一覧!T239","v":354},null,null,null,null,null,null,null,null,null,null,null,null,null,null,null,null,null,null,null,null,null,null,null,null,null,null,null,null,null,null,null,null,null,null,null,null,null,null,null,null,null,null,null,null,"  文化財等"]
["）",null,"15歳以上の常雇い数",null,null,null,null,null,null,"農業に60日以上従事した世帯員、役員・構成員\n（経営主を含む）の平均年齢",null,null,null,null,null,null,null,null,null,null,null,null,null,null,null,"  ９  議　 員　・　職 　員",null,null,null,null,null,null,null,null,null,null,null,null,null," １４  文　　　　　　化",null,null,null,null,null,null,null,null,null," ( ",{"$f":"データ一覧!$A$500","v":"3.3.31"},null,null,null,"ただし図書館・公民館・児童館",null,null,null,null,null,null,null,{"$f":"データ一覧!$A$494","v":"3.4.1"}]
["と",null,null,null,null,null,null,null,null,null,null,null,null,null,null,null,null,null,null,null,null,null,null,null,null,null,null,null,null,null,null,null,null,null,null,null,null,null,null,null,null,null,null,null,null,null,null,null,null,null,null,null,null,null,null,"　宗教法人数 ",null,null,null,null,null,null,{"$f":"データ一覧!$A$502","v":"2.12.31"},null,null,null,"）","　　特産物",null,null,null,null,"美浜のへしこ、寒ブリ（ひるが響）、フグ、美浜熟成魚、塩熟ぶり、コシヒカリ、地酒、さつまいも、シジミ、ワカメ、ウニ"]
["就",null,null,null,null,null,null,null,null,"農業に60日以上従事",null,null,null,null,null,null,null,"農業に150日以上従事",null,null,null,null,null,null,null," 市 町 村 議 会",null,null,"有権者数",null,{"$f":"データ一覧!$A$328","v":"3.9.1"},null,"市 町 村 議 会",null,null,"  職      員      数",null,null,null,null,null,null,null,null,"図書館",null,null,null,null,null,"公　民　館",null,null,null,null,null,null,null,null,null,null," 社会教育学級講座"]
["業",null,"区　分",null,null,null,"人",null,null,"区　分",null,null,null,null,"人",null,null,"区　分",null,null,null,null,"人",null,null," 議  員  定  数",null,null,"    男",null,"    女",null,"選 挙 投 票 率",null,null," 総     数",null,"一般行政職",null,"公    共",null,null,null," 館  数",null,null," 図書数",null,null," 本  館",null,null," 分  館",null,null," 公  園",null,null," 児童館",null,null,"学級講座数",null,null,"受講者数",null,null," 　年中行事",null,null,null,null,"弓打ち講（１月）、日向水中綱引（1月）、早瀬子供歌舞伎（5月）、美浜・五木ひろしふるさとマラソン（5月）、彌美神社例大祭(5月)、織田神社例祭(5月)、弁天祭（7月）、水無月祭（7月）、夏フェスタ美浜（8月）、精霊船送り（8月）､八朔祭（9月）、町民レガッタ（10月）、みはまナビフェス(11月)"]
["状",null,"総数",null,null,null,{"$f":"データ一覧!T230","v":18},null,null,"総数",null,null,null,null,{"$f":"データ一覧!T224","v":67.3},null,null,"総数",null,null,null,null,{"$f":"データ一覧!T227","v":66.599999999999994},null,null,null,null,"人",null,"人",null,"人",null,null,"　％",null,"人",null,"人","施 設 数",null,null,null,null,{"$f":"データ一覧!T494","v":1},null,{"$f":"データ一覧!T495","v":73765},null,null,null,{"$f":"データ一覧!T496","v":4},null,{"$f":"データ一覧!T497","v":3},null,null,{"$f":"データ一覧!T498","v":2},null,null,{"$f":"データ一覧!T499","v":1},null,null,{"$f":"データ一覧!T500","v":229},null,null,{"$f":"データ一覧!T501","v":3448}]
["況",null,"男",null,null,null,{"$f":"データ一覧!T231","v":3},null,null,"男",null,null,null,null,{"$f":"データ一覧!T225","v":66.3},null,null,"男",null,null,null,null,{"$f":"データ一覧!T228","v":66.3},null,null,null,{"$f":"データ一覧!T325","v":14},null,{"$f":"データ一覧!T328","v":3852},null,{"$f":"データ一覧!T329","v":4060},null,{"$f":"データ一覧!T327","v":"無投票"},null,null,{"$f":"データ一覧!T330","v":180},null,{"$f":"データ一覧!T331","v":113},null,"宗    教",null,null,null," 仏教系",null,null,"ｷﾘｽﾄ教系",null,null,"神道諸派",null,null,"公会堂・市民会館",null,null,null,null,null," テレビ",null,null,"衛星放送契約数"]
[null,null,"女",null,null,null,{"$f":"データ一覧!T232","v":15},null,null,"女",null,null,null,null,{"$f":"データ一覧!T226","v":69.5},null,null,"女",null,null,null,null,{"$f":"データ一覧!T229","v":67.2},null,null,null,null,null,null,null,null,null,{"$f":"データ一覧!T326","v":"30.3.4"},null,null,null,null,null,null,"法 人 数",null,null,null,{"$f":"データ一覧!T502","v":35},null,null,{"$f":"データ一覧!T503","v":1},null,null,{"$f":"データ一覧!T504","v":40},null,null,{"$f":"データ一覧!T505","v":0},null,null,null,null,null,"      等",null,null,{"$f":"データ一覧!T506","v":2608}]

{"sheet":"高浜町","index":19,"n_rows":93,"n_cols":103,"rows_kept":93,"cut":false,"hidden":false,"merged":[[90,2,90,5],[90,9,90,13],[90,17,90,21],[71,53,71,56],[73,43,73,47],[72,57,72,61],[73,57,73,61],[71,62,71,66],[73,35,73,37],[72,16,72,18],[73,13,73,15],[73,16,73,18],[71,19,71,21],[72,43,72,47],[72,48,72,52],[72,39,72,42],[73,48,73,52],[84,6,84,8],[84,9,84,13],[84,14,84,16],[84,22,84,24],[85,6,85,8],[85,9,85,13],[85,14,85,16],[85,22,85,24],[86,2,88,8],[86,9,87,24],[88,9,88,16],[88,17,88,24],[89,2,89,5],[89,9,89,13],[89,17,89,21],[82,9,82,13],[82,14,82,16],[81,22,81,24],[82,22,82,24],[69,35,69,37],[57,39,57,42],[60,39,60,42],[17,25,17,27],[18,25,18,27],[74,43,74,47],[74,48,74,52],[74,68,74,74],[71,67,72,82],[74,57,74,61],[35,14,35,16],[35,18,35,19],[35,20,35,21],[35,22,35,24],[31,81,31,84],[33,83,34,96],[33,60,33,64],[30,40,30,46],[31,68,31,72],[50,0,51,24],[55,13,55,15],[51,33,51,35],[27,60,27,64],[30,95,30,98],[28,91,28,94],[28,68,28,72],[28,73,28,76],[31,77,31,80],[64,0,64,6],[50,25,50,28],[46,0,46,1],[47,0,47,1],[47,13,47,15],[47,7,47,9],[47,10,47,12],[42,13,42,15],[42,4,42,6],[57,22,57,24],[73,7,73,9],[73,19,73,21],[72,13,72,15],[27,68,27,72],[48,0,48,1],[48,16,48,18],[48,7,48,9],[48,10,48,12],[48,13,48,15],[54,55,54,58],[44,0,45,1],[42,10,42,12],[31,22,31,24],[36,36,36,37],[27,5,27,7],[30,5,30,7],[29,60,29,64],[29,20,29,21],[29,8,29,10],[29,11,29,13],[33,20,33,21],[33,22,33,24],[73,95,73,101],[68,57,68,61],[68,62,68,66],[69,39,69,66],[65,43,65,49],[65,53,65,56],[65,57,65,63],[66,39,66,66],[67,43,67,47],[67,48,67,52],[67,53,67,56],[68,79,68,81],[68,82,68,84],[68,100,68,102],[52,68,52,75],[52,95,52,98],[71,39,71,42],[58,39,58,42],[58,44,58,46],[54,47,54,50],[54,51,54,54],[57,55,57,57],[71,48,71,52],[68,94,68,96],[57,43,57,46],[57,51,57,54],[58,52,58,54],[63,99,63,101],[62,99,62,101],[70,72,70,75],[73,39,73,42],[73,77,73,83],[29,99,29,102],[30,91,30,94],[26,99,26,102],[25,99,25,102],[22,86,22,90],[17,86,17,89],[19,73,19,76],[19,77,19,80],[19,81,19,84],[20,73,20,76],[20,77,20,80],[20,81,20,84],[20,86,20,90],[24,73,24,76],[24,77,24,80],[24,81,24,84],[24,86,24,90],[21,73,21,76],[21,77,21,80],[21,81,21,84],[21,86,21,90],[22,77,22,80],[22,81,22,84],[23,77,23,80],[23,81,23,84],[23,86,23,90],[26,86,26,90],[27,99,27,102],[27,95,27,98],[26,95,26,98],[26,77,26,80],[26,81,26,84],[44,19,44,24],[42,16,42,18],[35,68,35,72],[37,67,37,73],[67,62,67,66],[50,29,50,32],[50,33,50,38],[66,76,66,90],[70,53,70,56],[70,48,70,52],[67,39,67,42],[42,7,42,9],[47,16,47,18],[47,19,47,21],[40,75,41,77],[40,79,41,82],[38,79,38,82],[50,50,50,53],[50,47,50,49],[48,50,48,53],[49,80,49,82],[48,87,48,90],[49,46,49,49],[48,56,48,59],[49,87,49,90],[55,22,55,24],[56,22,56,24],[55,51,55,53],[56,19,56,21],[55,55,55,57],[73,86,73,92],[51,36,51,38],[55,31,55,34],[50,80,50,82],[50,83,50,86],[51,83,51,86],[56,83,56,86],[56,99,56,102],[63,74,63,76],[64,68,64,71],[61,80,61,83],[57,61,57,63],[55,77,55,79],[55,80,55,82],[56,87,56,90],[56,91,56,94],[56,95,56,98],[55,83,55,86],[55,87,55,90],[51,95,51,98],[50,87,50,90],[50,95,50,98],[51,99,51,102],[51,87,51,90],[51,91,51,94],[62,93,62,95],[62,68,62,71],[62,75,62,77],[63,94,63,96],[62,87,62,89],[62,81,62,83],[50,91,50,94],[71,0,71,6],[60,19,60,21],[60,36,60,37],[56,48,56,53],[61,29,61,30],[69,25,69,28],[68,35,68,37],[51,25,51,28],[55,25,55,30],[68,76,68,78],[49,39,49,45],[50,55,50,57],[50,63,50,66],[51,77,51,79],[48,19,48,21],[49,83,49,86],[65,68,65,71],[58,48,58,50],[57,67,58,102],[61,36,61,37],[54,39,54,42],[54,25,54,32],[68,22,68,24],[70,43,70,47],[70,29,70,30],[55,7,55,9],[58,0,58,6],[59,0,59,6],[50,99,50,102],[57,64,57,66],[54,80,54,82],[52,99,52,102],[29,53,29,56],[34,14,34,16],[42,19,42,21],[41,36,41,37],[48,22,48,24],[41,10,41,12],[34,5,34,7],[41,4,41,6],[31,11,31,13],[29,14,29,16],[35,5,35,7],[35,8,35,10],[32,8,32,10],[30,81,30,84],[30,86,30,90],[30,8,30,10],[32,14,32,16],[31,18,31,19],[31,20,31,21],[30,18,30,19],[40,16,40,18],[30,20,30,21],[30,22,30,24],[29,18,29,19],[40,13,40,15],[48,83,48,86],[41,40,41,46],[41,29,41,30],[45,84,45,89],[30,49,30,51],[31,60,31,64],[47,22,47,24],[40,10,40,12],[41,13,41,15],[23,40,23,46],[24,33,24,34],[23,11,23,13],[28,40,28,46],[27,40,27,46],[23,21,23,23],[23,35,23,38],[25,27,25,28],[34,18,34,19],[33,8,33,10],[33,11,33,13],[40,7,40,9],[24,27,24,28],[24,29,24,30],[27,22,27,24],[29,22,29,24],[29,40,29,46],[41,7,41,9],[34,8,34,10],[40,32,40,35],[33,18,33,19],[34,40,34,46],[29,5,29,7],[32,11,32,13],[33,14,33,16],[33,5,33,7],[31,40,31,46],[24,35,24,36],[41,16,41,18],[0,0,0,9],[1,0,3,9],[5,0,5,9],[19,3,19,5],[6,0,8,9],[15,29,15,30],[15,32,15,33],[22,7,22,8],[24,31,24,32],[23,29,23,31],[23,32,23,34],[23,25,23,28],[36,29,36,30],[24,0,25,24],[27,0,27,4],[30,14,30,16],[31,14,31,16],[30,11,30,13],[32,5,32,7],[35,11,35,13],[23,16,23,18],[34,11,34,13],[40,2,40,3],[40,4,40,6],[32,22,32,24],[31,5,31,7],[31,8,31,10],[26,22,26,24],[17,40,17,46],[22,40,22,46],[20,25,20,28],[14,25,15,25],[14,26,15,28],[19,29,19,31],[19,32,19,34],[17,32,17,34],[14,0,15,24],[18,28,18,30],[16,32,16,33],[19,25,19,28],[21,25,21,28],[21,29,21,31],[21,32,21,34],[21,35,21,38],[22,29,22,31],[20,40,20,46],[22,25,22,28],[20,32,20,34],[20,11,20,13],[20,16,20,18],[20,21,20,23],[21,40,21,46],[18,31,18,34],[20,29,20,31],[19,35,19,38],[22,32,22,34],[22,35,22,38],[20,35,20,38],[15,35,15,37],[21,99,21,102],[22,95,22,98],[21,91,21,94],[22,91,22,94],[22,99,22,102],[17,100,17,101],[19,49,19,51],[19,53,19,56],[19,60,19,64],[20,99,20,102],[20,49,20,51],[19,91,19,94],[19,99,19,102],[20,53,20,56],[20,91,20,94],[20,60,20,64],[19,95,19,98],[20,95,20,98],[17,53,17,57],[22,68,22,72],[17,48,17,52],[17,36,17,38],[18,35,18,38],[23,91,23,94],[23,95,23,98],[23,99,23,102],[24,99,24,102],[23,68,23,72],[23,73,23,76],[24,49,24,51],[24,53,24,56],[24,68,24,72],[24,91,24,94],[25,49,25,51],[25,53,25,56],[34,53,34,56],[35,53,35,56],[35,60,35,64],[30,60,30,64],[32,60,32,64],[24,95,24,98],[25,91,25,94],[24,60,24,64],[23,49,23,51],[26,91,26,94],[25,95,25,98],[32,95,32,98],[28,95,28,98],[29,91,29,94],[29,95,29,98],[35,93,35,95],[28,99,28,102],[32,99,32,102],[31,99,31,102],[31,73,31,76],[27,86,27,90],[29,81,29,84],[29,86,29,90],[29,77,29,80],[28,81,28,84],[28,86,28,90],[29,73,29,76],[26,73,26,76],[26,25,26,26],[26,27,26,28],[27,29,27,30],[25,29,26,30],[25,25,25,26],[27,25,27,26],[27,27,27,28],[27,37,27,38],[27,31,27,32],[27,33,27,34],[25,31,26,32],[25,33,26,34],[27,53,27,56],[28,77,28,80],[25,73,25,76],[25,77,25,80],[25,86,25,90],[25,81,25,84],[26,68,26,72],[25,40,25,46],[28,49,28,51],[27,49,27,51],[28,53,28,56],[28,60,28,64],[34,29,34,30],[37,40,37,46],[35,29,35,30],[35,36,35,37],[36,79,36,82],[36,75,36,77],[32,68,32,72],[32,73,32,76],[32,77,32,80],[32,81,32,84],[32,18,32,19],[32,20,32,21],[34,22,34,24],[34,20,34,21],[35,98,35,101],[36,97,36,100],[35,40,35,46],[36,40,36,46],[32,49,32,51],[27,81,27,84],[31,95,31,98],[30,73,30,76],[30,77,30,80],[42,40,42,46],[42,36,42,37],[40,19,40,21],[38,40,38,46],[41,19,41,21],[42,22,42,24],[40,97,40,100],[38,53,38,56],[39,53,39,56],[39,97,39,100],[38,97,38,100],[42,75,42,77],[42,67,42,73],[41,97,41,100],[42,97,42,100],[41,93,41,95],[41,85,41,91],[40,67,41,73],[41,53,41,56],[41,22,41,24],[40,40,40,46],[40,60,40,64],[31,91,31,94],[30,68,30,72],[32,53,32,56],[37,97,37,100],[37,93,37,95],[33,40,33,46],[30,99,30,102],[36,93,36,95],[41,32,41,35],[40,29,40,30],[40,22,40,24],[38,49,38,51],[40,93,40,95],[38,93,38,95],[39,67,39,73],[38,67,38,73],[43,83,44,102],[43,40,43,46],[49,68,49,75],[48,91,48,94],[48,62,48,65],[49,50,49,53],[47,95,47,98],[47,99,47,102],[45,25,45,28],[42,53,42,56],[44,36,44,37],[46,69,46,74],[46,32,46,35],[46,29,46,30],[42,49,42,51],[46,25,46,28],[42,32,42,35],[43,60,43,64],[44,29,44,30],[45,29,45,30],[43,67,44,82],[46,99,46,102],[45,57,45,61],[42,60,42,64],[49,54,49,57],[49,62,49,66],[48,68,48,75],[45,36,45,37],[48,77,48,79],[45,92,45,101],[48,95,48,98],[48,99,48,102],[49,91,49,94],[49,99,49,102],[45,77,45,82],[48,80,48,82],[54,99,54,102],[54,91,54,94],[54,95,54,98],[53,99,53,102],[47,80,47,82],[47,83,47,86],[47,87,47,90],[49,77,49,79],[52,91,52,94],[42,93,42,95],[54,87,54,90],[49,95,49,98],[53,95,53,98],[68,91,68,93],[55,59,55,62],[56,77,56,79],[65,98,65,101],[55,91,55,94],[60,97,60,102],[60,59,60,62],[61,59,61,62],[61,68,61,71],[63,84,63,86],[63,89,63,91],[60,91,60,96],[60,85,60,90],[55,68,55,75],[58,55,58,57],[58,64,58,66],[59,43,59,56],[60,43,60,47],[60,48,60,52],[60,53,60,56],[57,58,57,60],[59,59,59,62],[66,92,66,96],[55,63,55,65],[56,68,56,75],[56,80,56,82],[55,43,55,45],[55,99,55,102],[55,95,55,98],[57,10,57,12],[57,19,57,21],[61,19,61,21],[55,0,55,6],[57,0,57,6],[56,0,56,6],[57,7,57,9],[56,7,56,9],[55,10,55,12],[56,10,56,12],[55,16,55,18],[58,10,58,12],[58,13,58,15],[55,19,55,21],[58,19,58,21],[57,13,57,15],[56,13,56,15],[57,16,57,18],[56,16,56,18],[61,0,61,6],[59,16,59,18],[60,16,60,18],[59,19,59,21],[58,7,58,9],[61,16,61,18],[72,62,72,66],[73,62,73,66],[67,19,67,21],[71,7,71,9],[70,7,70,9],[60,63,60,66],[70,57,70,61],[71,25,71,28],[71,57,71,61],[66,35,66,38],[68,39,68,42],[68,43,68,47],[68,48,68,52],[68,53,68,56],[70,39,70,42],[64,13,64,15],[64,16,64,18],[65,39,65,42],[65,22,65,24],[64,19,64,21],[65,16,65,18],[70,35,70,37],[62,19,62,21],[62,13,62,15],[71,43,71,47],[71,16,71,18],[71,13,71,15],[73,22,73,24],[70,13,70,15],[72,7,72,9],[72,25,72,28],[73,10,73,12],[70,62,70,66],[68,13,68,15],[68,16,68,18],[68,19,68,21],[66,13,66,15],[66,16,66,18],[61,39,61,42],[66,32,66,34],[68,32,68,33],[67,16,67,18],[69,13,69,15],[69,16,69,18],[61,43,61,47],[61,48,61,52],[61,53,61,56],[63,16,63,18],[63,19,63,21],[66,19,66,21],[66,22,66,24],[67,22,67,24],[63,22,63,24],[61,13,61,15],[67,57,67,61],[61,63,61,66],[61,22,61,24],[77,82,77,86],[75,62,75,66],[76,69,76,72],[76,29,76,30],[76,35,76,37],[75,32,75,33],[76,39,76,42],[76,43,76,47],[76,25,76,28],[69,29,69,30],[74,62,74,66],[70,94,70,96],[70,83,70,84],[70,79,70,81],[71,83,72,102],[70,77,70,78],[67,67,70,71],[70,97,70,99],[70,85,70,87],[70,101,70,102],[70,88,70,90],[70,91,70,93],[68,72,68,75],[67,88,67,90],[68,88,68,90],[68,85,68,87],[67,79,67,81],[67,82,67,84],[67,97,67,102],[74,77,74,83],[74,87,74,91],[74,96,74,100],[80,73,80,75],[80,39,80,42],[77,39,77,42],[76,48,76,52],[78,67,78,71],[80,68,80,70],[80,53,80,56],[75,25,75,28],[75,29,75,30],[76,57,76,61],[75,53,75,56],[75,43,75,47],[75,35,75,37],[75,39,75,42],[76,32,76,33],[77,57,77,61],[77,62,77,66],[81,67,82,102],[76,78,76,81],[79,101,79,102],[79,39,79,42],[79,43,79,47],[79,48,79,52],[79,53,79,56],[79,97,79,98],[78,82,78,86],[78,87,78,90],[80,100,80,102],[78,72,78,76],[78,77,78,81],[80,92,80,94],[80,96,80,98],[78,91,78,94],[78,95,78,98],[80,78,80,80],[77,91,77,94],[76,87,76,90],[80,88,80,90],[78,99,78,102],[78,39,78,42],[78,43,78,47],[78,48,78,52],[78,53,78,56],[78,57,78,61],[78,62,78,66],[77,87,77,90],[77,77,77,81],[76,96,76,99],[80,82,80,86],[89,61,89,63],[88,32,88,34],[88,44,88,47],[83,62,83,66],[84,39,84,42],[84,43,84,47],[84,48,84,52],[83,39,83,42],[83,32,83,33],[83,36,83,37],[83,43,83,47],[83,48,83,52],[83,53,83,56],[82,43,82,47],[82,53,82,56],[80,35,81,38],[70,32,70,33],[72,35,72,37],[71,35,71,37],[75,57,75,61],[81,62,81,66],[81,32,81,34],[81,39,81,42],[81,43,81,47],[80,43,80,47],[80,48,80,52],[81,48,81,52],[74,32,74,33],[74,35,74,37],[74,39,74,42],[74,53,74,56],[77,43,77,47],[92,39,92,42],[92,43,92,45],[92,46,92,48],[92,49,92,51],[91,61,91,66],[65,10,65,12],[65,13,65,15],[67,13,67,15],[69,10,69,12],[70,25,70,28],[91,26,91,27],[91,28,91,29],[91,30,91,31],[91,32,91,34],[91,52,91,57],[91,35,91,36],[91,37,91,38],[91,39,91,42],[90,52,90,54],[90,55,90,57],[90,39,90,42],[90,44,90,45],[90,49,90,51],[91,43,91,45],[91,46,91,48],[91,49,91,51],[90,46,90,48],[81,29,81,31],[74,0,75,24],[73,0,73,6],[69,0,69,6],[67,7,67,9],[53,91,53,94],[54,68,54,75],[54,77,54,79],[50,59,50,61],[50,68,50,75],[50,77,50,79],[51,68,51,75],[53,68,53,75],[53,77,53,79],[47,68,47,75],[47,77,47,79],[52,87,52,90],[52,83,52,86],[51,80,51,82],[54,83,54,86],[53,83,53,86],[53,87,53,90],[53,80,53,82],[54,59,54,66],[49,58,49,61],[47,91,47,94],[52,80,52,82],[52,77,52,79],[46,95,46,98],[43,49,43,51],[43,53,43,56],[39,93,39,95],[40,53,40,56],[39,79,39,82],[41,60,41,64],[34,49,34,51],[37,79,37,82],[37,60,37,64],[36,60,36,64],[36,49,36,51],[35,49,35,51],[37,49,37,51],[39,49,39,51],[37,53,37,56],[36,85,36,91],[42,85,42,91],[42,79,42,82],[35,75,35,77],[35,80,35,83],[35,86,35,90],[33,67,34,80],[37,75,37,77],[36,67,36,73],[37,85,37,91],[38,85,38,91],[39,85,39,91],[40,85,40,91],[39,75,39,77],[38,75,38,77],[39,60,39,64],[23,53,23,56],[30,53,30,56],[33,49,33,51],[33,53,33,56],[32,40,32,46],[23,60,23,64],[14,67,15,81],[16,74,16,95],[17,59,17,65],[14,82,15,95],[17,91,17,94],[17,68,17,71],[17,73,17,76],[17,82,17,83],[22,49,22,51],[22,53,22,56],[22,60,22,64],[22,73,22,76],[21,49,21,51],[21,53,21,56],[21,60,21,64],[21,95,21,98],[32,91,32,94],[31,49,31,51],[31,53,31,56],[25,60,25,64],[24,40,24,46],[26,53,26,56],[29,49,29,51],[27,91,27,94],[27,73,27,76],[27,77,27,80],[53,29,53,31],[53,33,53,34],[71,29,71,30],[57,35,57,37],[72,29,72,30],[73,25,73,28],[77,53,77,56],[76,53,76,56],[44,32,44,35],[45,32,45,35],[53,25,53,27],[53,36,53,37],[57,25,57,29],[57,31,57,33],[51,29,51,32],[73,29,73,30],[73,32,73,33],[71,32,71,33],[72,32,72,33],[44,25,44,28],[60,29,60,30],[73,53,73,56],[72,53,72,56],[68,25,68,28],[69,32,69,33],[55,47,55,49],[57,47,57,50],[56,39,56,42],[55,35,55,38],[24,37,24,38],[26,60,26,64],[54,43,54,46],[55,39,55,42],[90,61,90,63],[88,50,88,53],[58,58,58,60],[58,61,58,63],[84,53,84,56],[84,62,84,66],[75,48,75,52],[88,61,88,66],[84,57,84,61],[81,53,81,56],[76,62,76,66],[82,39,82,42],[16,36,16,37],[25,37,26,38],[46,36,46,37],[19,40,19,46],[41,49,41,51],[40,49,40,51],[40,36,40,37],[25,35,26,36],[27,35,27,36],[39,40,39,46],[34,36,34,37],[34,60,34,64],[36,53,36,56],[26,40,26,46],[26,49,26,51],[38,60,38,64],[92,32,92,34],[65,73,65,76],[65,78,65,81],[65,83,65,86],[68,0,68,6],[67,0,67,6],[66,0,66,6],[82,57,82,61],[82,48,82,52],[92,61,92,66],[65,88,65,91],[65,93,65,96],[90,64,90,66],[90,58,90,60],[82,62,82,66],[80,62,80,66],[80,57,80,61],[79,57,79,61],[79,62,79,66],[81,57,81,61],[92,52,92,57],[83,57,83,61],[72,0,72,6]],"merged_total":1105,"flags":["merged_cut"]}
[{"$f":"+データ一覧!U2","v":"おおいぐん"}]
[{"$f":"+データ一覧!U5","v":"大飯郡"}]
[]
[null,null,null,null,null,null,null,null,null,null,null,null,null,null,null,null,null,null,null,null,null,null,null,null,null,null,"　　【町章とそのいわれ】昭和３８年に町民から募集し、３９年に制定。",null,null,null,null,null,null,null,null,null,null,null,null,"【位置および地勢】高浜町は福井県の西の玄関口に位置し、南東はおおい町西",null,null,null,null,null,null,null,null,null,null,null,null,null,null,null,null,null,null,null,null,null,null,null,null,null,null,null,null,null,null,"所在地",null,null,null,null,null,null,null,"〒919-2292"]
[null,null,null,null,null,null,null,null,null,null,null,null,null,null,null,null,null,null,null,null,null,null,null,null,null,null,null,"                 輪部は高浜町の高とハマの文字を図案化した",null,null,null,null,null,null,null,null,null,null,null,"　は京都府と境する。南西の飯盛山脈を背にして北は日本海に面する。",null,null,null,null,null,null,null,null,null,null,null,null,null,null,null,null,null,null,null,null,null,null,null,null,null,null,null,null,null,null,null,null,null,null,null,null,null,null,"大飯郡高浜町宮崎第８６号２３番地２"]
[{"$f":"+データ一覧!U3","v":"たかはまちょう"},null,null,null,null,null,null,null,null,null,null,null,null,null,null,null,null,null,null,null,null,null,null,null,null,null,null,"                もので、中の輪は風光明媚な若狭湾国定公園の",null,null,null,null,null,null,null,null,null,null,null,"  リアス式海岸の特徴を示す内浦地区には原子力発電所があり、一方、和田地区から"]
[{"$f":"データ一覧!U6","v":"高浜町"},null,null,null,null,null,null,null,null,null,null,null,null,null,null,null,null,null,null,null,null,null,null,null,null,null,null,"                 中心なる高浜町を象徴する明鏡洞を表している。",null,null,null,null,null,null,null,null,null,null,null,"  高浜地区を経て青郷地区に至る８㎞は広い白砂の海岸と松林など変化に富み、",null,null,null,null,null,null,null,null,null,null,null,null,null,null,null,null,null,null,null,null,null,null,null,null,null,null,null,null,null,null,"電話番号",null,null,null,null,null,null,null,"（０７７０）７２－１１１１"]
[null,null,null,null,null,null,null,null,null,null,null,null,null,null,null,null,null,null,null,null,null,null,null,null,null,null,null,"                 上部の錐角は永遠の希望と限りなき前進を示し、",null,null,null,null,null,null,null,null,null,null,null,"  ことに夏は関西・中京方面よりの海水浴客でにぎわう。",null,null,null,null,null,null,null,null,null,null,null,null,null,null,null,null,null,null,null,null,null,null,null,null,null,null,null,null,null,null,"FAX番号",null,null,null,null,null,null,null,"     〃     ７２－４０００"]
[null,null,null,null,null,null,null,null,null,null,null,null,null,null,null,null,null,null,null,null,null,null,null,null,null,null,null,"                 周囲の錐角は明鏡洞を中心に観光都市として",null,null,null,null,null,null,null,null,null,null,null,"  町の西部にある青葉山は標高 693ｍで、その雄姿は一名若狭富士と呼ばれている。"]
[null,null,null,null,null,null,null,null,null,null,null,null,null,null,null,null,null,null,null,null,null,null,null,null,null,null,null,"  　　           伸びゆくタカハマの未来像をシンボライズした",null,null,null,null,null,null,null,null,null,null,null,"  町の約70％は山林で、日本海に注ぐ河川の流域に耕地が広がっている。",null,null,null,null,null,null,null,null,null,null,null,null,null,null,null,null,null,null,null,null,null,null,null,null,null,null,null,null,null,null,"最寄駅および距離",null,null,null,null,null,null,null,"ＪＲ小浜線若狭高浜駅  下車２３０ｍ"]
[null,null,null,null,null,null,null,null,null,null,null,null,null,null,null,null,null,null,null,null,null,null,null,null,null,null,null,"                 ものである。"]
[]
[null,null,null,null,null,null,null,null,null,null,null,null,null,null,null,null,null,null,null,null,null,null,null,null,null,null,"　【町が掲げる標語】くるむ　つなぐ　かがやく～ 自然とともにある暮らし　若狭たかはま～",null,null,null,null,null,null,null,null,null,null,null,null,null,null,null,null,null,null,null,null,null,null,null,null,null,null,null,null,null,null,null,null,null,null,null,null,null,null,null,null,null,null,null,"ホームページ",null,null,null,null,null,null,null,"http://www.town.takahama.fukui.jp/"]
[]
["  １  土            　　地",null,null,null,null,null,null,null,null,null,null,null,null,null,null,null,null,null,null,null,null,null,null,null,null,{"$f":"データ一覧!$A$240","v":"2年"},"産米収穫量",null,null,"　 収　穫　量",null,null," 　作 付 面 積",null,null,"   10a当たり収量",null,null,null,null,null,null,null,null,null,null,null,null,null,null,null,null,null,null,null,null,null,null,null,null,null,null,null,null,null,null,null," １５  労　　　　　　　働",null,null,null,null,null,null,null,null,null,null,null,null,null,null,"27.10.1"]
[null,null,null,null,null,null,null,null,null,null,null,null,null,null,null,null,null,null,null,null,null,null,null,null,null,null,null,null,null,{"$f":"データ一覧!$U$240","v":962},null,"t",{"$f":"データ一覧!$U$241","v":200},null,"ha",{"$f":"データ一覧!U242","v":481},null,null,"kg"," １０  工　　　　　　業 ",null,null,null,null,null,null,null,null,null,null,null,null,null,{"$f":"データ一覧!$A$332","v":"2.6.1（令和元年実績）"}]
["   総          面           積",null,null,null,null,null,null,null,null,null," 固 定 資 産 概 要 調 書 に よ る 地 目 別 面 積",null,null,null,null,null,null,null,null,null,null,null,null,null,null,null,null,null,"   総　　　数",null,null,null,"うち　　田",null,null,null,"うち　　畑",null,null,null,null,null,null,null,null,null,null,null,null,null,null,null,null,null,null,null,null,null,null,null,null,null,null,null,null,null,null,null,null,null,null,null,null,null,"産業別就業者数   "]
[null,null,{"$f":"データ一覧!$A$7","v":"3.10.1"},null,null,null,null,null,null,null,null,null,null,null,null,null,{"$f":"データ一覧!$A$9","v":"3.1.1"},null,null,null,null,null,null,null,null," 耕  地  面  積",null,null,null,"       ha",null,null,"ha ",null,null,null,"ha ",null,null,"      ","産業分類",null,null,null,null,null,null,null,"事業所数",null,null,null,null,"従業者数",null,null,null,null,null,"年間製造品出荷額等",null,null,null,null,null,null,null,null,"区  分",null,null,null,null,"総    数",null,null,null,null,"男",null,null,null,"女",null,null,"  ","区  分",null,null,null,null,"総    数",null,null,null,null,"男",null,null,null,"女"]
[null,null,null,null,null,null,"㎢",null,null,null,"   総       数",null,null,null,null,"  う ち     田",null,null,null,null,"  う ち     畑",null,null,null,null,{"$f":"データ一覧!A243","v":"2.7.15"},null,null,{"$f":"データ一覧!$U$243","v":443},null,null,{"$f":"データ一覧!$U$244","v":357},null,null,null,{"$f":"データ一覧!$U$245","v":86},null,null,null,null,null,null,null,null,null,null,null,null,"　　   ",null,null,"事業所",null,"　　　　　　　 人",null,null,"人",null,"　　　　　　　　　　　　　　万円",null,null,null,null,null,null,"万円",null,null,null,null,null,null,null,"      人",null,null,null,null,null," 人",null,null,null," 人",null,null,null,null,null,null,null,"      人",null,null,null,"      人",null,null,null,"      人"]
[null,null,null,{"$f":"データ一覧!U7","v":72.400000000000006},null,null,null,null,null,null,null,null,null,null,"ha",null,null,null,null,"ha",null,null,null,null,"ha","農 業 生 産 物",null,null,null,"作 付 面 積",null,null,"収 穫 量",null,null,"10a当たり収量",null,null,null,"     ","総数",null,null,null,null,null,null,null,null,{"$f":"データ一覧!U332","v":8},null,null,null,{"$f":"+データ一覧!U357","v":198},null,null,null,null,null,null,{"$f":"データ一覧!U382","v":466059},null,null,null,null,null,null," 総　　　数",null,null,null,null,null,{"$f":"BZ20+CD20","v":5791},null,null,null,{"$f":"データ一覧!U507","v":3493},null,null,null,{"$f":"データ一覧!U532","v":2298}]
[null,null,null,null,null,null,null,null,null,null,null,{"$f":"データ一覧!U9","v":7240},null,null,null,null,{"$f":"データ一覧!U10","v":481.1},null,null,null,null,{"$f":"データ一覧!U11","v":174.9},null,null,null,{"$f":"データ一覧!$A$246","v":"2年中"},null,null,null,"ha",null,null,"t",null,null,"kg",null,null,null,"     食料品","食料品",null,null,null,null,null,null,null,null,{"$f":"データ一覧!U333","v":1},null,null,null,{"$f":"+データ一覧!U358","v":5},null,null,null,null,null,null,{"$f":"データ一覧!U383","v":"x"},null,null,null,null,null,null,null,null,null,null,null,null,null,null,null,null,null,null,null,null,null,null,null,null,null,"卸売業,小売業",null,null,null,null,{"$f":"CR21+CV21","v":583},null,null,null,{"$f":"データ一覧!U520","v":241},null,null,null,{"$f":"データ一覧!U545","v":342}]
["  町 ･ 丁 ･ 大 字",null,null,null,null,null,null,null,null,null,"  う ち  宅 地",null,null,null,null,"  う ち  山 林",null,null,null,null,"  う ち  原 野",null,null,null,null,"水　　　　　稲",null,null,null,{"$f":"データ一覧!U246","v":200},null,null,{"$f":"データ一覧!U247","v":962},null,null,{"$f":"データ一覧!U248","v":481},null,null,null,"     飲料・飼料","飲料・飼料",null,null,null,null,null,null,null,null,{"$f":"データ一覧!U334","v":0},null,null,null,{"$f":"+データ一覧!U359","v":0},null,null,null,null,null,null,{"$f":"データ一覧!U384","v":0},null,null,null,null,null,null," 第１次産業",null,null,null,null,null,{"$f":"BZ22+CD22","v":439},null,null,null,{"$f":"データ一覧!U508","v":242},null,null,null,{"$f":"データ一覧!U533","v":197},null,null,null,null,"金融業,保険業",null,null,null,null,{"$f":"CR22+CV22","v":51},null,null,null,{"$f":"データ一覧!U521","v":23},null,null,null,{"$f":"データ一覧!U546","v":28}]
["  区    画    数",null,null,null,null,null,null,{"$f":"データ一覧!U8","v":54},null,null,null,null,null,null,"ha",null,null,null,null,"ha",null,null,null,null,"ha","六　条　大　麦",null,null,null,{"$f":"データ一覧!U249","v":"x"},null,null,{"$f":"データ一覧!U250","v":"x"},null,null,{"$f":"データ一覧!U251","v":"x"},null,null,null,"     繊維","繊維",null,null,null,null,null,null,null,null,{"$f":"データ一覧!U335","v":1},null,null,null,{"$f":"+データ一覧!U360","v":29},null,null,null,null,null,null,{"$f":"データ一覧!U385","v":"x"},null,null,null,null,null,null,"  ","農業",null,null,null,null,{"$f":"BZ23+CD23","v":362},null,null,null,{"$f":"データ一覧!U509","v":182},null,null,null,{"$f":"データ一覧!U534","v":180},null,null,null,"  ","不動産業",null,null,null,null,{"$f":"CR23+CV23","v":37},null,null,null,{"$f":"データ一覧!U522","v":23},null,null,null,{"$f":"データ一覧!U547","v":14}]
[{"$f":"データ一覧!$A$8","v":"2.4.1"},null,null,null,null,null,null,null,null,null,null,{"$f":"データ一覧!U12","v":319.10000000000002},null,null,null,null,{"$f":"データ一覧!U13","v":2197.1999999999998},null,null,null,null,{"$f":"データ一覧!U14","v":119.7},null,null,null,"大　　      豆",null,null,null,{"$f":"データ一覧!U252","v":1},null,null,{"$f":"データ一覧!U253","v":1},null,null,{"$f":"データ一覧!U254","v":53},null,null,null,"     衣服","木材",null,null,null,null,null,null,null,null,{"$f":"データ一覧!U336","v":1},null,null,null,{"$f":"+データ一覧!U361","v":20},null,null,null,null,null,null,{"$f":"データ一覧!U386","v":"x"},null,null,null,null,null,null,"  ","林業",null,null,null,null,6,null,null,null,{"$f":"データ一覧!U510","v":4},null,null,null,{"$f":"データ一覧!U535","v":2},null,null,null,"  ","学術研究",null,null,null,null,170,null,null,null,{"$f":"データ一覧!U523","v":138},null,null,null,{"$f":"データ一覧!U548","v":32}]
["  ２  世　帯　数　と　人　口",null,null,null,null,null,null,null,null,null,null,null,null,null,null,null,null,null,null,null,null,null,null,null,null,null,null,"  区　分",null," 乳 用 牛",null," 肉 用 牛",null,"豚",null,"採卵鶏",null,"ブロイラー",null,"     木材","家具",null,null,null,null,null,null,null,null,{"$f":"データ一覧!U337","v":2},null,null,null,{"$f":"+データ一覧!U362","v":103},null,null,null,null,null,null,{"$f":"データ一覧!U387","v":"x"},null,null,null,null,null,null,"  ","漁業",null,null,null,null,71,null,null,null,{"$f":"データ一覧!U511","v":56},null,null,null,{"$f":"データ一覧!U536","v":15},null,null,null,"  ","宿泊業,飲食ｻｰﾋﾞｽ",null,null,null,null,459,null,null,null,{"$f":"データ一覧!U524","v":145},null,null,null,{"$f":"データ一覧!U549","v":314}]
[null,null,null,null,null,null,null,null,null,null,null,null,null,null,null,null,null,null,null,null,null,null,null,null,null,"畜　産",null," 飼養農家",null,{"$f":"データ一覧!$U$255","v":0},null,{"$f":"データ一覧!$U$257","v":0},null,{"$f":"データ一覧!$U$259","v":"-"},null,{"$f":"データ一覧!$U$261","v":0},null,{"$f":"データ一覧!$U$263","v":0},null,"     家具","パルプ・紙",null,null,null,null,null,null,null,null,{"$f":"データ一覧!U338","v":0},null,null,null,{"$f":"+データ一覧!U363","v":0},null,null,null,null,null,null,{"$f":"データ一覧!U388","v":0},null,null,null,null,null,null," 第２次産業",null,null,null,null,null,1529,null,null,null,{"$f":"データ一覧!U512","v":1223},null,null,null,{"$f":"データ一覧!U537","v":306},null,null,null,"  ","生活関連ｻｰﾋﾞｽ業",null,null,null,null,142,null,null,null,{"$f":"データ一覧!U525","v":64},null,null,null,{"$f":"データ一覧!U550","v":78}]
[null,null,null,null,null,null,null,null,"        人　　　　　　　　　　口",null,null,null,null,null,null,null,null,null,null,null,"１世帯当",null,"人    口",null,null,{"$f":"データ一覧!$A$255","v":"3.3.31"},null,"（戸）",null,null,null,null,null,null,null,null,null,null,null,"     パルプ・紙","印刷",null,null,null,null,null,null,null,null,{"$f":"データ一覧!U339","v":1},null,null,null,{"$f":"+データ一覧!U364","v":6},null,null,null,null,null,null,{"$f":"データ一覧!U389","v":"x"},null,null,null,null,null,null,null,"鉱業，採石業",null,null,null,null,0,null,null,null,{"$f":"データ一覧!U513","v":0},null,null,null,{"$f":"データ一覧!U538","v":0},null,null,null,"  ","教育,学習支援業",null,null,null,null,191,null,null,null,{"$f":"データ一覧!U526","v":87},null,null,null,{"$f":"データ一覧!U551","v":104}]
[" 区　　　　分",null,null,null,null,"世帯数",null,null," 総   数",null,null,"    男",null,null,"    女",null,null,"  男／女",null,null,"たり人員",null,"密    度",null,null,null,null," 頭 羽",null,{"$f":"データ一覧!$U$256","v":0},null,{"$f":"データ一覧!$U$258","v":0},null,{"$f":"データ一覧!$U$260","v":0},null,{"$f":"データ一覧!$U$262","v":0},null,{"$f":"データ一覧!$U$264","v":0},null,"     出版・印刷","化学",null,null,null,null,null,null,null,null,{"$f":"データ一覧!U340","v":0},null,null,null,{"$f":"+データ一覧!U365","v":0},null,null,null,null,null,null,{"$f":"データ一覧!U390","v":0},null,null,null,null,null,null,"  ","建設業",null,null,null,null,1002,null,null,null,{"$f":"データ一覧!U514","v":876},null,null,null,{"$f":"データ一覧!U539","v":126},null,null,null,null,"医療，福祉",null,null,null,null,662,null,null,null,{"$f":"データ一覧!U527","v":126},null,null,null,{"$f":"データ一覧!U552","v":536}]
[null,null,null,null,null,"    世 帯",null,null,"       人",null,null,"       人",null,null,"       人",null,null,null,"　　％",null,"    人",null,"    人/㎢",null,null,null,null,null,null,null,null,null,null,null,null,null,null,null,null,"     化学","石油・石炭",null,null,null,null,null,null,null,null,{"$f":"データ一覧!U341","v":0},null,null,null,{"$f":"+データ一覧!U366","v":0},null,null,null,null,null,null,{"$f":"データ一覧!U391","v":0},null,null,null,null,null,null,null,"製造業",null,null,null,null,527,null,null,null,{"$f":"データ一覧!U515","v":347},null,null,null,{"$f":"データ一覧!U540","v":180},null,null,null,null,"複合サービス事業",null,null,null,null,87,null,null,null,{"$f":"データ一覧!U528","v":57},null,null,null,{"$f":"データ一覧!U553","v":30}]
[{"$f":"データ一覧!$A$22","v":" 2.10.1"},null,null,null,null,{"$f":"データ一覧!U22","v":3822},null,null,{"$f":"+L30+O30","v":12425},null,null,{"$f":"データ一覧!U24","v":6250},null,null,{"$f":"データ一覧!U25","v":6175},null,null,null,{"$f":"+L30/O30*100","v":101.21457489878543},null,{"$f":"データ一覧!U27","v":3.25},null,{"$f":"データ一覧!U28","v":172.6},null,null,"  ５  林               業",null,null,null,null,null,null,null,null,null,null,null,null,null,"     石油・石炭","プラスチック",null,null,null,null,null,null,null,null,{"$f":"データ一覧!U342","v":0},null,null,null,{"$f":"+データ一覧!U367","v":0},null,null,null,null,null,null,{"$f":"データ一覧!U392","v":0},null,null,null,null,null,null," 第３次産業",null,null,null,null,null,3774,null,null,null,{"$f":"データ一覧!U516","v":2003},null,null,null,{"$f":"データ一覧!U541","v":1771},null,null,null,null,"サービス業",null,null,null,null,499,null,null,null,{"$f":"データ一覧!U529","v":326},null,null,null,{"$f":"データ一覧!U554","v":173}]
[{"$f":"データ一覧!$A$29","v":" 7.10.1"},null,null,null,null,{"$f":"データ一覧!U29","v":3816},null,null,{"$f":"+L31+O31","v":12201},null,null,{"$f":"データ一覧!U31","v":6086},null,null,{"$f":"データ一覧!U32","v":6115},null,null,null,99.52575633687654,null,{"$f":"データ一覧!U34","v":3.2},null,{"$f":"データ一覧!U35","v":169.4},null,null,null,null,null,null,null,null,null,null,null,null,null,null,null,null,"     プラスチック","ゴム",null,null,null,null,null,null,null,null,{"$f":"データ一覧!U343","v":0},null,null,null,{"$f":"+データ一覧!U368","v":0},null,null,null,null,null,null,{"$f":"データ一覧!U393","v":0},null,null,null,null,null,null,null,"電気･ｶﾞｽ･水道業",null,null,null,null,487,null,null,null,{"$f":"データ一覧!U517","v":464},null,null,null,{"$f":"データ一覧!U542","v":23},null,null,null,null,"公務",null,null,null,null,237,null,null,null,{"$f":"データ一覧!U530","v":183},null,null,null,{"$f":"データ一覧!U555","v":54}]
[{"$f":"データ一覧!$A$36","v":"12.10.1"},null,null,null,null,{"$f":"データ一覧!U36","v":4015},null,null,{"$f":"+L32+O32","v":12119},null,null,{"$f":"データ一覧!U38","v":6076},null,null,{"$f":"データ一覧!U39","v":6043},null,null,null,100.54608638093663,null,{"$f":"データ一覧!U41","v":3.02},null,{"$f":"データ一覧!U42","v":168.2},null,null,"    　森　　　林　　　総　　　面　　　積   ",null,null,null,null,null,null,null,{"$f":"データ一覧!$A$265","v":"3.3.31"},null,null,null,null,null,"     ゴム","皮革",null,null,null,null,null,null,null,null,{"$f":"データ一覧!U344","v":0},null,null,null,{"$f":"+データ一覧!U369","v":0},null,null,null,null,null,null,{"$f":"データ一覧!U394","v":0},null,null,null,null,null,null,null,"情報通信業",null,null,null,null,31,null,null,null,{"$f":"データ一覧!U518","v":9},null,null,null,{"$f":"データ一覧!U543","v":22},null,null,null," 分類不能の産業",null,null,null,null,null,49,null,null,null,{"$f":"データ一覧!U531","v":25},null,null,null,{"$f":"データ一覧!U556","v":24}]
[{"$f":"+データ一覧!$A$43","v":"17.10.1"},null,null,null,null,{"$f":"データ一覧!U43","v":4014},null,null,{"$f":"+L33+O33","v":11630},null,null,{"$f":"データ一覧!U45","v":5729},null,null,{"$f":"データ一覧!U46","v":5901},null,null,null,97.085239789866122,null,{"$f":"データ一覧!U48","v":2.9},null,{"$f":"データ一覧!U49","v":161.30000000000001},null,null,"　　　森　　　　　　　林　　　　　　　の　　　　　　　構　　　　　　　成",null,null,null,null,null,null,null,null,null,null,null,null,null,"     皮革","窯業・土石",null,null,null,null,null,null,null,null,{"$f":"データ一覧!U345","v":1},null,null,null,{"$f":"+データ一覧!U370","v":29},null,null,null,null,null,null,{"$f":"データ一覧!U395","v":"x"},null,null,null,null,null,null,"  ","運輸業,郵便業",null,null,null,null,{"$f":"BZ33+CD33","v":138},null,null,null,{"$f":"データ一覧!U519","v":117},null,null,null,{"$f":"データ一覧!U544","v":21}]
[{"$f":"+データ一覧!$A$50","v":"22.10.1"},null,null,null,null,{"$f":"データ一覧!U50","v":4044},null,null,{"$f":"+L34+O34","v":11062},null,null,{"$f":"データ一覧!U52","v":5521},null,null,{"$f":"データ一覧!U53","v":5541},null,null,null,99.639054322324498,null,{"$f":"+データ一覧!U55","v":2.74},null,{"$f":"データ一覧!U56","v":153.30000000000001},null,null,null,null,null,null,null,"       ha",null,null,null,null,null,null,"       ha",null,"     窯業・土石","鉄鋼",null,null,null,null,null,null,null,null,{"$f":"データ一覧!U346","v":0},null,null,null,{"$f":"+データ一覧!U371","v":0},null,null,null,null,null,null,{"$f":"データ一覧!U396","v":0},null,null,null,null,null,null," １６  社　 会 　福　 祉",null,null,null,null,null,null,null,null,null,null,null,null,null,null,null,{"$f":"データ一覧!$A$557","v":"3.4.1"}]
[{"$f":"データ一覧!$A$57","v":"27.10.1"},null,null,null,null,{"$f":"データ一覧!U57","v":4191},null,null,{"$f":"データ一覧!U58","v":10596},null,null,{"$f":"データ一覧!U59","v":5417},null,null,{"$f":"データ一覧!U60","v":5179},null,null,null,104.59548175323421,null,{"$f":"データ一覧!U62","v":2.5282748747315678},null,{"$f":"データ一覧!U63","v":146.4},null,null,"  総　　　　　   数",null,null,null,{"$f":"データ一覧!U265","v":5336.68},null,null," 天然林       針葉樹",null,null,null,{"$f":"データ一覧!U268","v":348.43},null,null,"     鉄鋼","非鉄金属",null,null,null,null,null,null,null,null,{"$f":"データ一覧!U347","v":0},null,null,null,{"$f":"+データ一覧!U372","v":0},null,null,null,null,null,null,{"$f":"データ一覧!U397","v":0}]
["令　2.10.1（国調）",null,null,null,null,{"$f":"データ一覧!V64","v":3165},null,null,{"$f":"データ一覧!V65","v":7910},null,null,{"$f":"データ一覧!V66","v":3968},null,null,{"$f":"データ一覧!V67","v":3942},null,null,null,{"$f":"+L36/O36*100","v":100.6595636732623},null,{"$f":"データ一覧!U72","v":2.2799999999999998},null,{"$f":"データ一覧!U73","v":140.53867403314916},null,null,"  人工林     針葉樹",null,null,null,{"$f":"データ一覧!U266","v":2341.2200000000003},null,null," 天然林       広葉樹",null,null,null,{"$f":"データ一覧!U269","v":2190.5},null,null,"     非鉄金属","金属",null,null,null,null,null,null,null,null,{"$f":"データ一覧!U348","v":0},null,null,null,{"$f":"+データ一覧!U373","v":0},null,null,null,null,null,null,{"$f":"データ一覧!U398","v":0},null,null,null,null,null,null,"    ","区分",null,null,null,null,null,null,"施設数",null,null,null,null,"収容定員",null,null,null,null,null,"区分",null,null,null,null,null,null,"施設数",null,null,null,null,"収容定員"]
["年",null,"  区",null," 0歳",null,null,"15歳",null,null,"25歳",null,null,"35歳",null,null,"45歳",null,null,"55歳",null,null,"65歳",null,null,"  人工林     広葉樹",null,null,null,{"$f":"データ一覧!U267","v":2.5},null,null," 竹               林",null,null,null,{"$f":"データ一覧!U270","v":248.91},null,null,"     金属","はん用機械",null,null,null,null,null,null,null,null,{"$f":"データ一覧!U349","v":0},null,null,null,{"$f":"+データ一覧!U374","v":0},null,null,null,null,null,null,{"$f":"データ一覧!U399","v":0},null,null,null,null,null,null,"生活保護施設",null,null,null,null,null,null,null,{"$f":"データ一覧!U557","v":0},null,null,null,{"$f":"データ一覧!U570","v":0},null,null,null,"人",null,"指定障害者支援施設",null,null,null,null,null,null,null,{"$f":"データ一覧!U563","v":0},null,null,null,{"$f":"データ一覧!U576","v":0},null,null,null,"人"]
["齢","令",null,null,null,"～",null,null,"～",null,null,"～",null,null,"～",null,null,"～",null,null,"～",null,null,null,null,null,null,null,null,null,null,null,null,null,null,null,null,null,null,"     一般機械","生産用機械",null,null,null,null,null,null,null,null,{"$f":"データ一覧!U350","v":0},null,null,null,{"$f":"+データ一覧!U375","v":0},null,null,null,null,null,null,{"$f":"データ一覧!U400","v":0},null,null,null,null,null,null,"地域福祉施設",null,null,null,null,null,null,null,{"$f":"データ一覧!U558","v":0},null,null,null,{"$f":"データ一覧!U571","v":0},null,null,null,null,null,"指定相談支援事業所",null,null,null,null,null,null,null,{"$f":"データ一覧!U564","v":0},null,null,null,{"$f":"データ一覧!U577","v":0}]
["階",{"$f":"+LEFT(データ一覧!$A$83,1)","v":"3"},"  分",null,null,null,"14歳",null,null,"24歳",null,null,"34歳",null,null,"44歳",null,null,"54歳",null,null,"64歳",null,null,"以上","    林     野     の     構     成",null,null,null,null,null,null,"保     有     形     態     別",null,null,null,null,null,null,"     電気機械","業務用機械",null,null,null,null,null,null,null,null,{"$f":"データ一覧!U351","v":0},null,null,null,{"$f":"+データ一覧!U376","v":0},null,null,null,null,null,null,{"$f":"データ一覧!U401","v":0},null,null,null,null,null,null,"老人福祉施設",null,null,null,null,null,null,null,{"$f":"データ一覧!U559","v":5},null,null,null,{"$f":"データ一覧!U572","v":54},null,null,null,null,null,"児童福祉施設",null,null,null,null,null,null,null,{"$f":"データ一覧!U565","v":11},null,null,null,{"$f":"データ一覧!U578","v":430}]
["級","・",null,null,null,null,"人",null,null,"人",null,"    人",null,null,"    人",null,null,"    人",null,null,"    人",null,null,"    人",null,null,null,null,null,null,null,"ha",null,null,null,null,null,"       ha",null,null,"電子・デバイス",null,null,null,null,null,null,null,null,{"$f":"データ一覧!U352","v":0},null,null,null,{"$f":"+データ一覧!U377","v":0},null,null,null,null,null,null,{"$f":"データ一覧!U402","v":0},null,null,null,null,null,null,"介護保険施設",null,null,null,null,null,null,null,{"$f":"データ一覧!U560","v":17},null,null,null,{"$f":"データ一覧!U573","v":310},null,null,null,null,null,"母子福祉施設",null,null,null,null,null,null,null,{"$f":"データ一覧!U566","v":0},null,null,null,{"$f":"データ一覧!U579","v":0}]
["別",{"$f":"+MID(データ一覧!$A$83,3,2)","v":"10"},"総 数",null,{"$f":"+E42+E43","v":1184},null,null,{"$f":"+H42+H43","v":741},null,null,{"$f":"+K42+K43","v":894},null,null,{"$f":"+N42+N43","v":1102},null,null,{"$f":"+Q42+Q43","v":1442},null,null,{"$f":"+T42+T43","v":1267},null,null,{"$f":"+W42+W43","v":3276},null,null," 無立木地   伐採跡地",null,null,null,{"$f":"データ一覧!U271","v":9.14},null,null,"国   　　　 　 有",null,null,null,{"$f":"データ一覧!U273","v":7.7},null,null,null,"電気機械",null,null,null,null,null,null,null,null,{"$f":"データ一覧!U353","v":0},null,null,null,{"$f":"+データ一覧!U378","v":0},null,null,null,null,null,null,{"$f":"データ一覧!U403","v":0},null,null,null,null,null,null,"障害者自立支援法施行前からの身体障害者福祉施設",null,null,null,null,null,null,null,{"$f":"データ一覧!U561","v":0},null,null,null,{"$f":"データ一覧!U574","v":0},null,null,null,null,null,"婦人保護施設",null,null,null,null,null,null,null,{"$f":"データ一覧!U567","v":0},null,null,null,{"$f":"データ一覧!U580","v":0}]
["人","・","  男",null,{"$f":"データ一覧!U83","v":608},null,null,{"$f":"データ一覧!U84","v":434},null,null,{"$f":"データ一覧!U85","v":539},null,null,{"$f":"データ一覧!U86","v":599},null,null,{"$f":"データ一覧!U87","v":778},null,null,{"$f":"データ一覧!U88","v":683},null,null,{"$f":"データ一覧!U89","v":1463},null,null," 無立木地   未立木地",null,null,null,{"$f":"データ一覧!U272","v":195.98000000000002},null,null,"公       　　  有",null,null,null,{"$f":"データ一覧!U274","v":428.30999999999995},null,null,"     輸送機械","情報通信機械",null,null,null,null,null,null,null,null,{"$f":"データ一覧!U354","v":0},null,null,null,{"$f":"+データ一覧!U379","v":0},null,null,null,null,null,null,{"$f":"データ一覧!U404","v":0},null,null,null,null,null,null,null,null,null,null,null,null,null,null,null,null,null,null,null,null,null,null,null,null,"その他の社会福祉施設",null,null,null,null,null,null,null,{"$f":"データ一覧!U568+データ一覧!U569","v":1},null,null,null,{"$f":"データ一覧!U581+データ一覧!U582","v":0}]
["口",{"$f":"+RIGHT(データ一覧!$A$83,1)","v":"1"},"  女",null,{"$f":"データ一覧!U91","v":576},null,null,{"$f":"データ一覧!U92","v":307},null,null,{"$f":"データ一覧!U93","v":355},null,null,{"$f":"データ一覧!U94","v":503},null,null,{"$f":"データ一覧!U95","v":664},null,null,{"$f":"データ一覧!U96","v":584},null,null,{"$f":"データ一覧!U97","v":1813},null,null,null,null,null,null,null,null,null,"私          　 有",null,null,null,{"$f":"データ一覧!U275","v":4900.67},null,null,"     精密機械","輸送機械",null,null,null,null,null,null,null,null,{"$f":"データ一覧!U355","v":1},null,null,null,{"$f":"+データ一覧!U380","v":6},null,null,null,null,null,null,{"$f":"データ一覧!U405","v":"x"},null,null,null,null,null,null,"障害福祉サービス事業所",null,null,null,null,null,null,null,{"$f":"データ一覧!U562","v":3},null,null,null,{"$f":"データ一覧!U575","v":0}]
[null,null,null,null,null,null,null,null,null,null,null,null,null,null,null,null,null,null,null,null,null,null,null,null,null,"            林     産     物     生     産     量 ",null,null,null,null,null,null,null,null,null,{"$f":"データ一覧!$A$276","v":"2年中"},null,null,null,"     その他","その他",null,null,null,null,null,null,null,null,{"$f":"データ一覧!U356","v":0},null,null,null,{"$f":"+データ一覧!U381","v":0},null,null,null,null,null,null,{"$f":"データ一覧!U406","v":0},null,null,null,null,null,null," １７  教　　　　　　　育",null,null,null,null,null,null,null,null,null,null,null,null,null,null,null,{"$f":"データ一覧!$A$583","v":"3.5.1"}]
["人口動態",null,null,null,null,null,null,"   自　然　動　態",null,null,null,null,null,"   社  会  動  態",null,null,null,null,null,{"$f":"データ一覧!$A78","v":"2.1.1～3.12.31"},null,null,null,null,null,"生椎茸",null,null,null,{"$f":"データ一覧!U276","v":"-"},null,"㎏","乾椎茸",null,null,null,{"$f":"データ一覧!U277","v":"-"},null,"㎏"]
[null,null,"   区       分",null,null,null,null," 出   生",null,null," 死   亡",null,null," 転   入",null,null," 転   出",null,null," 婚   姻",null,null," 離   婚",null,null,"えのきだけ",null,null,null,{"$f":"データ一覧!U279","v":"-"},null,"㎏","なめこ",null,null,null,{"$f":"データ一覧!U278","v":"-"},null,"㎏","    ","工　業　用　水　量",null,null,null,null,null,"（従業者30人以上の事業所）",null,null,null,null,null,null,null,null,null,null,{"$f":"データ一覧!U407","v":"x"},null,null,null,null,"㎥／日",null,null,null,null,null,null,null,null,null,null,null,null,null,null,"学校数（校）",null,null,null,null,null,null,"教員数（人）",null,null,null,null,null,null,null,"学生・生徒・児童数（人）"]
[{"$f":"LEFT(データ一覧!$A74,6)","v":"2.10.1"},null,null,null,null,null,null,"       人",null,null,"       人",null,null,"       人",null,null,"       人",null,null,null,"    件",null,null,"    件",null,"ひらたけ",null,null,null,{"$f":"+データ一覧!U280","v":"-"},null,"㎏","まいたけ",null,null,null,{"$f":"+データ一覧!U281","v":"-"},null,"㎏",null,null,null,null,null,null,null,null,null,null,null,null,null,null,null,null,null,null,null,null,null,null,null,null,null,null,null,null,null,"　","区分",null,null,null,null,null,null,null," 本 校",null,null," 分 校",null,null," 本   務",null,null,null," 兼   務",null,null,null," 総   数",null,null,null,"男",null,null,null,"女"]
["～",null," 実          数",null,null,null,null,{"$f":"データ一覧!U74","v":37},null,null,{"$f":"データ一覧!U75","v":67},null,null,{"$f":"データ一覧!U76","v":149},null,null,{"$f":"データ一覧!U77","v":194},null,null,{"$f":"データ一覧!U78","v":33},null,null,{"$f":"データ一覧!U79","v":15},null,null,null,null,null,null,null,null,null,null,null,null,null,null,null,null," １１ 　上　・　下　水　道",null,null,null,null,null,null,null,null,null,null,null,null,null,null,null,null,null,null,null,null,null,null,null,null,null,null,null,null,"小学校",null,null,null,null,null,null,null,null,{"$f":"データ一覧!U584","v":4},null,null,{"$f":"データ一覧!U585","v":1},null,null,{"$f":"データ一覧!U586","v":49},null,null,null,{"$f":"データ一覧!U587","v":11},null,null,null,{"$f":"データ一覧!U588","v":481},null,null,null,{"$f":"データ一覧!U589","v":254},null,null,null,{"$f":"データ一覧!U590","v":227}]
[{"$f":"RIGHT(データ一覧!$A76,6)","v":"3.9.30"},null,"比率(対1,000人)",null,null,null,null,{"$f":"+H48/I35*1000","v":3.4918837297093241},null,null,{"$f":"+K48/I35*1000","v":6.3231408078520195},null,null,"- ",null,null,"- ",null,null,{"$f":"+T48/I35*1000","v":3.1143827859569653},null,null,{"$f":"+W48/I35*1000","v":1.4156285390713477},null,null,"  ６  漁               業",null,null,null,null,null,null,null,null,null,null,null,null,null,null,null,null,null,null,null,null,null,null,null,null,null,null,null,null,null,null,null,null,null,null,null,null,null,null,null,null,null,"  ","中学校",null,null,null,null,null,null,null,null,{"$f":"データ一覧!U592","v":2},null,null,{"$f":"データ一覧!U593","v":0},null,null,{"$f":"データ一覧!U594","v":33},null,null,null,{"$f":"データ一覧!U595","v":7},null,null,null,{"$f":"データ一覧!U596","v":270},null,null,null,{"$f":"データ一覧!U597","v":133},null,null,null,{"$f":"データ一覧!U598","v":137}]
[null,null,null,null,null,null,null,null,null,null,null,null,null,null,null,null,null,null,null,null,null,null,null,null,null,null,null,null,null,null,null,null,null,null,null,null,null,null,null,"水 道 供 給 人 口",null,null,null,null,null,null,"上 水 道",null,null,null,"簡易水道",null,null,null,"専用水道",null,null,null,"飲料水供給施設",null,null,null,"下水道処理人口",null,null,null,null,"  ","高等学校",null,null,null,null,null,null,null,null,{"$f":"データ一覧!U600","v":0},null,null,{"$f":"データ一覧!U601","v":0},null,null,{"$f":"データ一覧!U602","v":0},null,null,null,{"$f":"データ一覧!U603","v":0},null,null,null,{"$f":"データ一覧!U604","v":0},null,null,null,{"$f":"データ一覧!U605","v":0},null,null,null,{"$f":"データ一覧!U606","v":0}]
["  ３  事　　業　　所（民　　営）    （平 28.6.1）",null,null,null,null,null,null,null,null,null,null,null,null,null,null,null,null,null,null,null,null,null,null,null,null,"漁船隻数・トン数",null,null,null,{"$f":"データ一覧!$A$282","v":"2.12.31"},null,null,null,"動　力　船",null,null,null,null,null,{"$f":"データ一覧!$A$408","v":"3.3.31"},null,null,null,null,null,"人",null,{"$f":"データ一覧!U408","v":9695},null,null,{"$f":"データ一覧!U409","v":319},null,null,null,null,{"$f":"データ一覧!U410","v":0},null,null,null,{"$f":"データ一覧!U411","v":113},null,null,null,{"$f":"データ一覧!U412","v":8092},null,null,null,"  ","大学・短期大学",null,null,null,null,null,null,null,null,{"$f":"データ一覧!U607","v":0},null,null,{"$f":"データ一覧!U608","v":0},null,null,{"$f":"データ一覧!U609","v":0},null,null,null,{"$f":"データ一覧!U610","v":0},null,null,null,{"$f":"データ一覧!U611","v":0},null,null,null,{"$f":"データ一覧!U612","v":0},null,null,null,{"$f":"データ一覧!U613","v":0}]
[null,null,null,null,null,null,null,null,null,null,null,null,null,null,null,null,null,null,null,null,null,null,null,null,null,"無動力船隻数",null,null,null,"船外機付漁船隻数",null,null,null,"隻　数",null,null,"総 ト ン 数",null,null,null,null,null,null,null,null,null,null,null,null,null,null,null,null,null,null,null,null,null,null,null,null,null,null,null,null,null,null,"  ","高等専門学校",null,null,null,null,null,null,null,null,{"$f":"データ一覧!U614","v":0},null,null,{"$f":"データ一覧!U615","v":0},null,null,{"$f":"データ一覧!U616","v":0},null,null,null,{"$f":"データ一覧!U617","v":0},null,null,null,{"$f":"データ一覧!U618","v":0},null,null,null,{"$f":"データ一覧!U619","v":0},null,null,null,{"$f":"データ一覧!U620","v":0}]
[null,null,null,null,null,null,null,"    総　　　　　数",null,null,null,null,null,"    民　　　　　営",null,null,null,null,null,"  国 ･ 地方公共団体",null,null,null,null,null,null,null,null,"隻",null,null,null,"隻",null,null,"隻",null,null,"t"," １２  交   通　・　通   信",null,null,null,null,null,null,null,null,null,null,null,null,null,null,null,null,null,null,null,null,null,null,null,null,null,null,null,"  ","特別支援学校",null,null,null,null,null,null,null,null,{"$f":"+データ一覧!U622","v":0},null,null,{"$f":"+データ一覧!U623","v":0},null,null,{"$f":"+データ一覧!U624","v":0},null,null,null,{"$f":"+データ一覧!U625","v":0},null,null,null,{"$f":"+データ一覧!U626","v":0},null,null,null,{"$f":"+データ一覧!U627","v":0},null,null,null,{"$f":"+データ一覧!U628","v":0}]
["  　区　　　　　　分",null,null,null,null,null,null," 事業所数",null,null," 従業者数",null,null," 事業所数",null,null," 従業者数",null,null," 事業所数",null,null," 従業者数",null,null,{"$f":"データ一覧!$U$282","v":17},null,null,null,{"$f":"データ一覧!$U$283","v":72},null,null,null,{"$f":"データ一覧!U284","v":103},null,null,{"$f":"データ一覧!U285","v":333.87},null,null,null,null,null,null,null,null,null,null,null,null,null,null,null,null,null,null,null,null,null,null,null,null,null,null,null,null,null,null,"  ","幼稚園",null,null,null,null,null,null,null,null,{"$f":"データ一覧!U630","v":0},null,null,{"$f":"データ一覧!U631","v":0},null,null,{"$f":"データ一覧!U632","v":0},null,null,null,{"$f":"データ一覧!U633","v":0},null,null,null,{"$f":"データ一覧!U634","v":0},null,null,null,{"$f":"データ一覧!U635","v":0},null,null,null,{"$f":"データ一覧!U636","v":0}]
[null,null,null,null,null,null,null,null,null,null,"       人",null,null,null,null,null,"       人",null,null,null,null,null,"       人",null,null,"  男女別就業者数",null,null,null,null,null,null,null,{"$f":"データ一覧!$A$286","v":"30.11.1"},null,null,null,null,null,"道     路",null,null,null,"実 延 長",null,null,null,"国     道",null,null,null,"県     道",null,null,null,"市町道",null,null,null," 鉄 道 営 業 キ ロ 数",null,null,null,null,null,null,null,"  ","幼保連携認定こども園",null,null,null,null,null,null,null,null,{"$f":"データ一覧!U638","v":1},null,null,{"$f":"データ一覧!U639","v":0},null,null,{"$f":"データ一覧!U640","v":12},null,null,null,{"$f":"データ一覧!U641","v":0},null,null,null,{"$f":"データ一覧!U642","v":41},null,null,null,{"$f":"データ一覧!U643","v":14},null,null,null,{"$f":"データ一覧!U644","v":27}]
["総数",null,null,null,null,null,null,{"$f":"データ一覧!U99","v":"…"},null,null,{"$f":"データ一覧!U156","v":"…"},null,null,{"$f":"データ一覧!U100","v":567},null,null,{"$f":"データ一覧!U157","v":4826},null,null,{"$f":"データ一覧!U101","v":"…"},null,null,{"$f":"データ一覧!U158","v":"…"},null,null,"総　　数",null,null,null,null,null,"男",null,null,null,"女",null,null,null,{"$f":"データ一覧!$A$413","v":"2.4.1"},null,null,null,{"$f":"データ一覧!U413","v":207.50700000000001},null,null,"㎞",{"$f":"データ一覧!U414","v":0},null,null,"㎞",{"$f":"データ一覧!U415","v":36.299999999999997},null,null,"㎞",{"$f":"データ一覧!U416","v":171.20700000000002},null,null,"km",{"$f":"データ一覧!$A$417","v":"3.4.1"},null,null,null,{"$f":"データ一覧!U417","v":13.275},null,null,"㎞","  ","各種学校",null,null,null,null,null,null,null,null,{"$f":"データ一覧!U646","v":0},null,null,{"$f":"データ一覧!U647","v":0},null,null,{"$f":"データ一覧!U648","v":0},null,null,null,{"$f":"データ一覧!U649","v":0},null,null,null,{"$f":"データ一覧!U650","v":0},null,null,null,{"$f":"データ一覧!U651","v":0},null,null,null,{"$f":"データ一覧!U652","v":0}]
["農林漁業",null,null,null,null,null,null,{"$f":"データ一覧!U102","v":"…"},null,null,{"$f":"データ一覧!U159","v":"…"},null,null,{"$f":"データ一覧!U103","v":5},null,null,{"$f":"データ一覧!U160","v":94},null,null,{"$f":"データ一覧!U104","v":"…"},null,null,{"$f":"データ一覧!U161","v":"…"},null,null,null,null,null,null,null,"人",null,null,"　　　　人",null,null,null,null,"  人","自動車",null,null,null,null,null,null,null,null,"乗用車",null,null,null,null,null,null,null,null,null,null,null,null,null,null,null,null,null,null,"  ","専修学校",null,null,null,null,null,null,null,null,{"$f":"データ一覧!U654","v":0},null,null,{"$f":"データ一覧!U655","v":0},null,null,{"$f":"データ一覧!U656","v":0},null,null,null,{"$f":"データ一覧!U657","v":0},null,null,null,{"$f":"データ一覧!U658","v":0},null,null,null,{"$f":"データ一覧!U659","v":0},null,null,null,{"$f":"データ一覧!U660","v":0}]
["鉱業",null,null,null,null,null,null,{"$f":"データ一覧!U105","v":"…"},null,null,{"$f":"データ一覧!U162","v":"…"},null,null,{"$f":"データ一覧!U106","v":0},null,null,{"$f":"データ一覧!U163","v":0},null,null,{"$f":"データ一覧!U107","v":"…"},null,null,{"$f":"データ一覧!U164","v":"…"},null,null,{"$f":"AF58+AJ58","v":82},null,null,null,null,null,{"$f":"データ一覧!$U$287","v":75},null,null,null,{"$f":"データ一覧!U288","v":7},null,null,null,"台  数",null,null,null,"貨    物",null,null,null,"普     通",null,null,null,"小     型",null,null,null,"乗  合",null,null,"特  種",null,null,"小型二輪",null,null,"軽自動車",null,null," １８  衛　　　　　　　生"]
["建設業",null,null,null,null,null,null,{"$f":"データ一覧!U108","v":"…"},null,null,{"$f":"データ一覧!U165","v":"…"},null,null,{"$f":"データ一覧!U109","v":96},null,null,{"$f":"データ一覧!U166","v":1200},null,null,{"$f":"データ一覧!U110","v":"…"},null,null,{"$f":"データ一覧!U167","v":"…"},null,null,"　　　　海 面 漁 業 漁 獲 量 （属人）",null,null,null,null,null,null,null,{"$f":"データ一覧!$A$289","v":"30年中"},null,null,null,null,null,{"$f":"データ一覧!$A$418","v":"3.3.31"},null,null,null,null,{"$f":"データ一覧!U418","v":489},null,null,null,{"$f":"データ一覧!U420","v":1690},null,null,null,{"$f":"データ一覧!U421","v":1744},null,null,{"$f":"データ一覧!U419","v":39},null,null,{"$f":"データ一覧!U422","v":186},null,null,{"$f":"データ一覧!U423","v":144},null,null,{"$f":"データ一覧!U424","v":4103}]
["製造業",null,null,null,null,null,null,{"$f":"データ一覧!U111","v":"…"},null,null,{"$f":"データ一覧!U168","v":"…"},null,null,{"$f":"データ一覧!U112","v":28},null,null,{"$f":"データ一覧!U169","v":358},null,null,{"$f":"データ一覧!U113","v":"…"},null,null,{"$f":"データ一覧!U170","v":"…"},null,null,null,null,null,null,null,"       ","ｔ",null,null,null,null,null,null,"t",null,null,"     ",null,"郵　便　局　数",null,null,null,null,null,null,null,null,null,null,null,null,null,{"$f":"+MID(データ一覧!$A$428,3,2)","v":"12"},"令","一般加入",null,null,null,"ＩＮＳネット",null,null,null,null,null,null,null,"医療関係施設",null,null,null,null,null,{"$f":"データ一覧!$A$661","v":"元.10.1"},null,null,null,null,null,null,"および医療関係者数",null,null,null,null,null,null,null,{"$f":"データ一覧!$A$666","v":"30.12.31"}]
["電気・ｶﾞ ｽ・熱供給・水道業",null,null,null,null,null,null,{"$f":"データ一覧!U114","v":"…"},null,null,{"$f":"データ一覧!U171","v":"…"},null,null,{"$f":"データ一覧!U115","v":1},null,null,{"$f":"データ一覧!U172","v":491},null,null,{"$f":"データ一覧!U116","v":"…"},null,null,{"$f":"データ一覧!U173","v":"…"},null,null,"   総　　　　　　数",null,null,null,{"$f":"データ一覧!U289","v":681},null,null,"   藻　　　　　　類",null,null,null,{"$f":"データ一覧!U292","v":0},null,null,"通  信",null,null,null," 総     数",null,null,null,null," 郵 便 局",null,null,null,null," 簡 易 局",null,null,null,"・",{"$f":"+LEFT(データ一覧!$A$428,1)","v":"2"},"電話数",null,null,null,"加入数",null,null,null,null,null,null,null,null,null,"　","病",null,null,"院",null,"　",null,null,null,null," ","一般診療所",null,null,null,null,null,null,null,null,null,null,null,"歯科診療所"]
["情報通信業",null,null,null,null,null,null,{"$f":"データ一覧!U117","v":"…"},null,null,{"$f":"データ一覧!U174","v":"…"},null,null,{"$f":"データ一覧!U118","v":1},null,null,{"$f":"データ一覧!U175","v":0},null,null,{"$f":"データ一覧!U119","v":"…"},null,null,{"$f":"データ一覧!U176","v":"…"},null,null,"   魚　　　　　　類",null,null,null,{"$f":"データ一覧!U290","v":588},null,null,"   そ　   の　　 他",null,null,null,{"$f":"データ一覧!U293","v":84},null,null,{"$f":"データ一覧!$A$428","v":"2.12.31"},null,null,null,{"$f":"データ一覧!U425","v":6},null,null,null,null,{"$f":"データ一覧!U426","v":4},null,null,null,null,{"$f":"データ一覧!U427","v":2},null,null,null,{"$f":"+RIGHT(データ一覧!$A$428,2)","v":"31"},"・",{"$f":"データ一覧!U428","v":1455},null,null,null,{"$f":"データ一覧!U429","v":319},null,null,null," ","医療関係",null,null,null,null,null,null,null,null,null,null,null,"一般病院",null,null,null,null,null,null,null,null,null,null,null,"有",null,null,"床"]
["運輸業、郵便業",null,null,null,null,null,null,{"$f":"データ一覧!U120","v":"…"},null,null,{"$f":"データ一覧!U177","v":"…"},null,null,{"$f":"データ一覧!U121","v":10},null,null,{"$f":"データ一覧!U178","v":103},null,null,{"$f":"データ一覧!U122","v":"…"},null,null,{"$f":"データ一覧!U179","v":"…"},null,null,"   貝　　　　　　類",null,null,null,{"$f":"データ一覧!U291","v":9},null,null,null,null,null,null,null,null,null,null,null,null,null,null,null,null,null,null,null,null,null,null,null,null,null,null,null,null,null,null,null,null,null,null,null,null,null,null,"施設数",null,null,null,null,null,null,{"$f":"データ一覧!U661","v":1},null,null,null,null,null,{"$f":"データ一覧!U662","v":1},null,null,null,null,null,{"$f":"データ一覧!U663","v":7},null,null,null,null,null,{"$f":"データ一覧!U664","v":0},null,null,null,null,null,{"$f":"データ一覧!U665","v":2}]
["卸売業、小売業",null,null,null,null,null,null,{"$f":"データ一覧!U123","v":"…"},null,null,{"$f":"データ一覧!U180","v":"…"},null,null,{"$f":"データ一覧!U124","v":102},null,null,{"$f":"データ一覧!U181","v":561},null,null,{"$f":"データ一覧!U125","v":"…"},null,null,{"$f":"データ一覧!U182","v":"…"},null,null,null,null,null,null,null,null,null,null,null,null,null,null,null,null," １３  税　　・　　財　　政",null,null,null,null,null,null,null,null,null,null,null,null,null,null,null,null,null,null,null,null,null,null,null,null,null,null,null,null,null,null,null,null,null,null,"医師",null,null,null,null,"歯科医師",null,null,null,null,"薬剤師",null,null,null,null,"保健師",null,null,null,null,"助産師",null,null," ",null,"看護師",null,null," "]
["金融業、保険業",null,null,null,null,null,null,{"$f":"データ一覧!U126","v":"…"},null,null,{"$f":"データ一覧!U183","v":"…"},null,null,{"$f":"データ一覧!U127","v":5},null,null,{"$f":"データ一覧!U184","v":48},null,null,{"$f":"データ一覧!U128","v":"…"},null,null,{"$f":"データ一覧!U185","v":"…"},null,null,"  ７  商        　　　業 ",null,null,null,null,null,null,{"$f":"データ一覧!$A$294","v":"28.6.1(平成27年実績）"},null,null,null,null,null,null,null,null,null,null,null,null,null,null,null,null,null,null,null,null,null,null,null,null,null,null,null,null,null,null,null,null,null,null," ","医療",null,null,null,null,null,null,null,null,"人",null,null,null,null,"人",null,null,null,null,"人",null,null,null,null,"人",null,null,null,null,"人",null,null,null,null,"人"]
["不動産業、物品賃貸業",null,null,null,null,null,null,{"$f":"データ一覧!U129","v":"…"},null,null,{"$f":"データ一覧!U186","v":"…"},null,null,{"$f":"データ一覧!U130","v":11},null,null,{"$f":"データ一覧!U187","v":17},null,null,{"$f":"データ一覧!U131","v":"…"},null,null,{"$f":"データ一覧!U188","v":"…"},null,null,null,null,null,null,null,null,null,null,null,null,null,null,null,null,"           ",null,null,null,"歳入",null,null,null,null,null,null,null,null,"(千円）"," ",null,null,null,"歳出",null,null,null,null,null,null,null,null,"(千円）",null,"関係者",null,null,null,null,{"$f":"データ一覧!U666","v":13},null,null,null,null,{"$f":"データ一覧!U667","v":3},null,null,null,null,{"$f":"データ一覧!U668","v":14},null,null,null,null,{"$f":"データ一覧!U669","v":11},null,null,null,null,{"$f":"データ一覧!U670","v":2},null,null,null,null,{"$f":"データ一覧!U671","v":124}]
["学術研究、専門・技術ｻｰﾋﾞｽ業",null,null,null,null,null,null,{"$f":"データ一覧!U132","v":"…"},null,null,{"$f":"データ一覧!U189","v":"…"},null,null,{"$f":"データ一覧!U133","v":14},null,null,{"$f":"データ一覧!U190","v":72},null,null,{"$f":"データ一覧!U134","v":"…"},null,null,{"$f":"データ一覧!U191","v":"…"},null,null,"  産   業　 分　 類",null,null,null,"  商　 店 　数",null,null," 従　業　者　数",null,null,"年　間　販　売　額",null,null,null,"一人当たり歳入歳出予算決算額",null,null,null,null,null,null,null,null,null,null,null,null,null,null,null,null,null,null,null,null,null,null,null,null,null,null,null,"                   ",null,null,null,null,null,null,null,null,"死因別死亡数　　　　　    ",null,null,null,null,null,null,null,null,null,null,null,null,null,null,null,{"$f":"データ一覧!$A$672","v":"2年中"},null,null,null,null,null,null,null,null,"      単 位：人"]
["宿泊業、飲食サービス業",null,null,null,null,null,null,{"$f":"データ一覧!U135","v":"…"},null,null,{"$f":"データ一覧!U192","v":"…"},null,null,{"$f":"データ一覧!U136","v":152},null,null,{"$f":"データ一覧!U193","v":656},null,null,{"$f":"データ一覧!U137","v":"…"},null,null,{"$f":"データ一覧!U194","v":"…"},null,null,null,null,null,null,null,"        店",null,null,null,"　人",null,"         百万円",null,null,"区分",null,null,null,{"$f":"データ一覧!$A$438","v":"3年度"},null,null,null,null,{"$f":"データ一覧!$A$452","v":"2年度"},null,null,null,null,"区分",null,null,null,{"$f":"+AR68","v":"3年度"},null,null,null,null,{"$f":"データ一覧!$A$452","v":"2年度"},null,null,null,null," 死     因",null,null,null,null,null,null,null,null,null,null,null,"悪  性",null,null,"高血圧",null,null,null,null,null,"脳血管",null,null,null,null,null," ",null,null,"不慮の事故"]
["生活関連サービス業、娯楽業",null,null,null,null,null,null,{"$f":"データ一覧!U138","v":"…"},null,null,{"$f":"データ一覧!U195","v":"…"},null,null,{"$f":"データ一覧!U139","v":48},null,null,{"$f":"データ一覧!U196","v":152},null,null,{"$f":"データ一覧!U140","v":"…"},null,null,{"$f":"データ一覧!U197","v":"…"},null,null,"総　　　　　　計",null,null,null,{"$f":"データ一覧!U294","v":85},null,null,{"$f":"データ一覧!U303","v":414},null,null,{"$f":"データ一覧!U312","v":8330},null,null,null,null,null,null,null,{"$f":"データ一覧!U434","v":1192464.57002457},null,null,null,null,{"$f":"データ一覧!U435","v":1291752.0301049713},null,null,null,null,null,null,null,null,{"$f":"データ一覧!U436","v":1192464.57002457},null,null,null,null,{"$f":"データ一覧!U437","v":1226611.111111111},null,null,null,null,null,null,null,null,null,"全 死 因",null,null,null,"結 核",null,null,"新生物",null,null,"性疾患",null,null,"心疾患",null,null,"疾  患",null,null,"肺  炎",null,null,"老  衰",null,null,null,null," ","交通事故"]
["教育、学習支援業",null,null,null,null,null,null,{"$f":"データ一覧!U141","v":"…"},null,null,{"$f":"データ一覧!U198","v":"…"},null,null,{"$f":"データ一覧!U142","v":15},null,null,{"$f":"データ一覧!U199","v":54},null,null,{"$f":"データ一覧!U143","v":"…"},null,null,{"$f":"データ一覧!U200","v":"…"},null,null,"卸売業",null,null,null,{"$f":"データ一覧!U295","v":10},null,null,{"$f":"データ一覧!U304","v":44},null,null,{"$f":"データ一覧!U313","v":1221},null,null,null,"項目別歳入歳出予算決算額"]
["医療、福祉",null,null,null,null,null,null,{"$f":"データ一覧!U144","v":"…"},null,null,{"$f":"データ一覧!U201","v":"…"},null,null,{"$f":"データ一覧!U145","v":17},null,null,{"$f":"データ一覧!U202","v":324},null,null,{"$f":"データ一覧!U146","v":"…"},null,null,{"$f":"データ一覧!U203","v":"…"},null,null,"小売業",null,null,null,{"$f":"データ一覧!U296","v":75},null,null,{"$f":"データ一覧!U305","v":370},null,null,{"$f":"データ一覧!U314","v":7110},null,null,null,"区分",null,null,null,{"$f":"データ一覧!$A$438","v":"3年度"},null,null,null,null,{"$f":"データ一覧!$A$452","v":"2年度"},null,null,null,null,"区分",null,null,null,{"$f":"+AR71","v":"3年度"},null,null,null,null,{"$f":"データ一覧!$A$452","v":"2年度"},null,null,null,null,null,null,null,null,null,{"$f":"データ一覧!U672","v":128},null,null,null,"   －",{"$f":"データ一覧!U673","v":1},null,{"$f":"データ一覧!U674","v":5},null,null,null,{"$f":"データ一覧!U675","v":0},null,{"$f":"データ一覧!U676","v":2},null,null,{"$f":"データ一覧!U677","v":1},null,null,{"$f":"データ一覧!U678","v":2},null,null,{"$f":"データ一覧!U679","v":15},null,null,{"$f":"データ一覧!U680","v":1},null,null,null,{"$f":"データ一覧!U681","v":0}]
["複合サービス事業",null,null,null,null,null,null,{"$f":"データ一覧!U147","v":"…"},null,null,{"$f":"データ一覧!U204","v":"…"},null,null,{"$f":"データ一覧!U148","v":12},null,null,{"$f":"データ一覧!U205","v":96},null,null,{"$f":"データ一覧!U149","v":"…"},null,null,{"$f":"データ一覧!U206","v":"…"},null,null,"各種商品",null,null,null,{"$f":"データ一覧!U297","v":0},null,null,{"$f":"データ一覧!U306","v":0},null,null,{"$f":"データ一覧!U315","v":0},null,null,null,"総額",null,null,null,{"$f":"SUM(AR73:AV85)","v":12133327},null,null,null,null,{"$f":"SUM(AW73:BA85)","v":13017851},null,null,null,null,"総額",null,null,null,{"$f":"SUM(BF73:BJ85)","v":12133327},null,null,null,null,{"$f":"SUM(BK73:BO85)","v":12386319},null,null,null,null," １９  警　察　・　消　防  ",null,null,null,null,null,null,null,null,null,null,null,null,null,null,null,{"$f":"+データ一覧!$A682","v":"3.4.1"}]
["サービス業",null,null,null,null,null,null,{"$f":"データ一覧!U150","v":"…"},null,null,{"$f":"データ一覧!U207","v":"…"},null,null,{"$f":"データ一覧!U151","v":50},null,null,{"$f":"データ一覧!U208","v":600},null,null,{"$f":"データ一覧!U152","v":"…"},null,null,{"$f":"データ一覧!U209","v":"…"},null,null,"織物・衣服・身の回り品",null,null,null,{"$f":"データ一覧!U298","v":4},null,null,{"$f":"データ一覧!U307","v":8},null,null,{"$f":"データ一覧!U316","v":33},null,null,null,"地方税",null,null,null,{"$f":"データ一覧!U439","v":4685380},null,null,null,null,{"$f":"データ一覧!U453","v":3969756},null,null,null,null,"議会費",null,null,null,{"$f":"データ一覧!U467","v":100533},null,null,null,null,{"$f":"データ一覧!U481","v":94495}]
["公務",null,null,null,null,null,null,{"$f":"データ一覧!U153","v":"…"},null,null,{"$f":"データ一覧!U210","v":"…"},null,null,{"$f":"データ一覧!U154","v":"…"},null,null,{"$f":"データ一覧!U211","v":"…"},null,null,{"$f":"データ一覧!U155","v":"…"},null,null,{"$f":"データ一覧!U212","v":"…"},null,null,"飲食料品",null,null,null,{"$f":"データ一覧!U299","v":30},null,null,{"$f":"データ一覧!U308","v":187},null,null,{"$f":"データ一覧!U317","v":3248},null,null,null,"地方譲与税",null,null,null,{"$f":"データ一覧!U440","v":53097},null,null,null,null,{"$f":"データ一覧!U454","v":55133},null,null,null,null,"総務費",null,null,null,{"$f":"データ一覧!U468","v":1940115},null,null,null,null,{"$f":"データ一覧!U482","v":3235653},null,null,null,null,null,null,null,null,null,null,null,null,null,null,"交番・駐在所",null,null,null,null,null,null,null,null,"刑法犯認知件数",null,null,null,null,null,null,null,null,"交通人身事故発生件数"]
["  ４  農        　　　業 ",null,null,null,null,null,null,null,null,null,null,null,null,null,null,null,null,null,null,null,null,null,null,null,null,"機械器具",null,null,null,{"$f":"データ一覧!U300","v":12},null,null,{"$f":"データ一覧!U309","v":37},null,null,{"$f":"データ一覧!U318","v":429},null,null,null,"各種交付金",null,null,null,{"$f":"データ一覧!U441","v":272043},null,null,null,null,{"$f":"データ一覧!U455","v":243113},null,null,null,null,"民生費",null,null,null,{"$f":"データ一覧!U469","v":3374285},null,null,null,null,{"$f":"データ一覧!U483","v":1783556},null,null,null,null,null,"警察署数",null,null,null,null,null,null,null,null,"検問所数",null,null,null,null,null,null,null,null,null,{"$f":"データ一覧!$A$684","v":"2年中"},null,null,null,null,null,null,null,null,{"$f":"データ一覧!$A$684","v":"2年中"}]
[null,null,null,null,null,null,null,null,null,null,null,null,null,null,null,null,null,null,null,null,null,null,null,null,null,"その他",null,null,null,{"$f":"データ一覧!U301","v":29},null,null,{"$f":"データ一覧!U310","v":138},null,null,{"$f":"データ一覧!U319","v":3399},null,null,null,"地方特例交付金",null,null,null,{"$f":"データ一覧!U442","v":7500},null,null,null,null,{"$f":"データ一覧!U456","v":9487},null,null,null,null,"衛生費",null,null,null,{"$f":"データ一覧!U470","v":835506},null,null,null,null,{"$f":"データ一覧!U484","v":759782},null,null,null,null,null,null,null,null,null,null,null,null,null,null,null,null,null,null,null,null,null,null,null,null,null,null,null,null," 件",null,null,null,null,null,null,null,null,"　件"]
[null,null,"農業経営体数",null,null,null,null,null,null,"農産物販売額規模別経営体数",null,null,null,null,null,null,null,"経営耕地面積規模別経営体数",null,null,null,null,null,null,null,"無店舗",null,null,null,{"$f":"データ一覧!U302","v":0},null,null,{"$f":"データ一覧!U311","v":0},null,null,{"$f":"データ一覧!U320","v":0},null,null,null,"地方交付税",null,null,null,{"$f":"データ一覧!U443","v":50000},null,null,null,null,{"$f":"データ一覧!U457","v":105298},null,null,null,null,"労働費",null,null,null,{"$f":"データ一覧!U471","v":40339},null,null,null,null,{"$f":"データ一覧!U485","v":43199},null,null,null,null,null,null,{"$f":"データ一覧!U682","v":0},null,null,null,null,null,null,null,null,{"$f":"データ一覧!U683","v":3},null,null,null,null,null,null,null,null,{"$f":"データ一覧!U684","v":16},null,null,null,null,null,null,null,null,{"$f":"データ一覧!U685","v":7}]
["農",null,"区　分",null,null,null,"経営体数\n（経営体）",null,null,"区　分",null,null,null,null,"経営体数\n（経営体）",null,null,"区　分",null,null,null,null,"経営体数\n（経営体）",null,null,null,null,null,null,null,null,null,null,null,null,null,null,null,null,"分担金および負担金",null,null,null,{"$f":"データ一覧!U444","v":57826},null,null,null,null,{"$f":"データ一覧!U458","v":31222},null,null,null,null,"農林水産業費",null,null,null,{"$f":"データ一覧!U472","v":1410526},null,null,null,null,{"$f":"データ一覧!U486","v":2238021},null,null,null,null,"火災発生件数",null,null,null,null,null,null,null,null,null,"林野焼損",null,null,null,null,"損      害",null,null,null,null,"消 防 自",null,null,null,"その他の",null,null,null," ",null,null,null,null," "]
["業","令",null,null,null,null,null,null,null,null,null,null,null,null,null,null,null,null,null,null,null,null,null,null,null,"  ８  住　　　　　　 　宅",null,null,null,null,null,null,null,null,null,null,null,null,null,"使用料および手数料",null,null,null,{"$f":"データ一覧!U445","v":61876},null,null,null,null,{"$f":"データ一覧!U459","v":64731},null,null,null,null,"商工費",null,null,null,{"$f":"データ一覧!U473","v":591438},null,null,null,null,{"$f":"データ一覧!U487","v":516497},null,null,null,null,{"$f":"+データ一覧!$A$686","v":"2年中"},null,null,null,null,"焼損棟数",null,null,null,null,"面    積",null,null,null,null,"見  積  額",null,null,null,null,"動 車 数",null,null,null,"ﾎﾟﾝﾌﾟ数",null,null,null," 消防吏員",null,null,null," 消防団員"]
["経",{"$f":"+LEFT(データ一覧!$A$213)","v":"2"},"計",null,null,null,{"$f":"データ一覧!U213","v":198},null,null,"総　　　 数",null,null,null,null,{"$f":"データ一覧!U217","v":198},null,null,"総　　　 数",null,null,null,null,{"$f":"データ一覧!U233","v":205},null,null,null,null,null,null,null,null,null,null,null,null,null,null,null,null,"国庫支出金",null,null,null,{"$f":"データ一覧!U446","v":2458520},null,null,null,null,{"$f":"データ一覧!U460","v":4083995},null,null,null,null,"土木費",null,null,null,{"$f":"データ一覧!U474","v":2155695},null,null,null,null,{"$f":"データ一覧!U488","v":2226308},null,null,null,null,"         件",null,null,null,null,null,"      棟",null,null,null,null,null,null,"  ａ",null,null,null,"  千円",null,null,"        ",null,null,null,null,null,null,null,null,null,"  人",null,null,null,"  人"]
["営","・","個人経営体",null,null,null,{"$f":"データ一覧!U214","v":194},null,null,"販 売 な し",null,null,null,null,{"$f":"データ一覧!U218","v":21},null,null,"0.5 ha 未満",null,null,null,null,{"$f":"データ一覧!U234","v":26},null,null,{"$f":"+データ一覧!$A$321","v":"令和元年"},null,null,null,null,{"$f":"データ一覧!$A$324","v":"2年"},"中の増減",null,null,null,{"$f":"+データ一覧!$A$324","v":"2年"},null,null,null,"県支出金",null,null,null,{"$f":"データ一覧!U447","v":1938173},null,null,null,null,{"$f":"データ一覧!U461","v":1918102},null,null,null,null,"消防費",null,null,null,{"$f":"データ一覧!U475","v":295658},null,null,null,null,{"$f":"データ一覧!U489","v":425716},null,null,null,null,null,{"$f":"データ一覧!U686","v":3},null,null,null,null,{"$f":"データ一覧!U687","v":3},null,null,null,null,{"$f":"データ一覧!U688","v":0},null,null,null,{"$f":"データ一覧!U689","v":625},null,null,null,null,null,{"$f":"データ一覧!U690","v":3},null,null,null,{"$f":"データ一覧!U691","v":23},null,null,null,{"$f":"データ一覧!U692","v":17},null,null,null,{"$f":"データ一覧!U693","v":148}]
["体",{"$f":"+LEFT(データ一覧!$A$213,1)","v":"2"},"団体経営体",null,null,null,{"$f":"データ一覧!U215","v":4},null,null,"50万円未満",null,null,null,null,{"$f":"データ一覧!U219","v":116},null,null,"0.5 ha ～ 1.0 ha",null,null,null,null,{"$f":"データ一覧!U235","v":60},null,null,null,null,null,null,"建設した住宅",null,null,"消失した住宅",null,null,null,null,null,null,"財産収入",null,null,null,{"$f":"データ一覧!U448","v":40435},null,null,null,null,{"$f":"データ一覧!U462","v":47099},null,null,null,null,"教育費",null,null,null,{"$f":"データ一覧!U476","v":1051671},null,null,null,null,{"$f":"データ一覧!U490","v":789173},null,null,null,null," ２０  そ　　　の　　　他　"]
["数","・",null,"法人経営",null,null,{"$f":"データ一覧!U216","v":4},null,null,"50～300万円",null,null,null,null,{"$f":"データ一覧!U220","v":53},null,null,"1.0 ha ～ 2.0 ha",null,null,null,null,{"$f":"データ一覧!U236","v":41},null,null,null,null,null,null,null,null,null,null,null,null,null,null,null,null,"繰入金",null,null,null,{"$f":"データ一覧!U449","v":1640667},null,null,null,null,{"$f":"データ一覧!U463","v":391320},null,null,null,null,"災害復旧費",null,null,null,{"$f":"データ一覧!U477","v":0},null,null,null,null,{"$f":"データ一覧!U491","v":0}]
["（",{"$f":"+RIGHT(データ一覧!$A$213)","v":"1"},null,null,null,null,null,null,null,"300～500万円",null,null,null,null,{"$f":"データ一覧!U221","v":2},null,null,"2.0 ha ～ 3.0 ha",null,null,null,null,{"$f":"データ一覧!U237","v":19},null,null,null,{"$f":"データ一覧!U321","v":5220},null,"戸",{"$f":"データ一覧!U322","v":58},null,"戸",{"$f":"データ一覧!U323","v":54},null,"戸",null,{"$f":"データ一覧!U324","v":5224},null,"戸","地方債",null,null,null,{"$f":"データ一覧!U450","v":216000},null,null,null,null,{"$f":"データ一覧!U464","v":490500},null,null,null,null,"公債費",null,null,null,{"$f":"データ一覧!U478","v":314078},null,null,null,null,{"$f":"データ一覧!U492","v":271649},null,null,null,null,null,null,null,null,null,"若狭湾国定公園（若狭和田、白浜、鳥居浜、城山、若宮、三松、難波江海水浴場、"]
["総",null,null,null,null,null,null,null,null,"500～1,000万円",null,null,null,null,{"$f":"データ一覧!U222","v":2},null,null,"3.0 ha ～ 5.0 ha",null,null,null,null,{"$f":"データ一覧!U238","v":11},null,null,null,null,null,null,null,null,null,null,null,null,null,null,null,null,"その他",null,null,null,{"$f":"データ一覧!U451","v":651810},null,null,null,null,{"$f":"データ一覧!U465","v":1608095},null,null,null,null,"その他",null,null,null,{"$f":"データ一覧!U479","v":23483},null,null,null,null,{"$f":"データ一覧!U493","v":2270},null,null,null,null,"　名所・旧跡",null,null,null,null,"今戸鼻、高浜八穴（明鏡洞）)、中山寺本堂・木造金剛力士立像、金剛力士像（中山寺）、"]
["数",null,null,null,null,null,null,null,null,"1,000万円以上",null,null,null,null,{"$f":"データ一覧!U223","v":4},null,null,"5.0 ha以上",null,null,null,null,{"$f":"データ一覧!U239","v":48},null,null,null,null,null,null,null,null,null,null,null,null,null,null,null,null,null,null,null,null,null,null,null,null,null,null,null,null,null,null,null,null,null,null,null,null,null,null,null,null,null,null,null,null,"  文化財等",null,null,null,null,"馬頭観音坐像（馬居寺）、杉森神社のオハツキイチョウ（六路谷）、"]
["）",null,"15歳以上の常雇い数",null,null,null,null,null,null,"農業に60日以上従事した世帯員、役員・構成員\n（経営主を含む）の平均年齢",null,null,null,null,null,null,null,null,null,null,null,null,null,null,null,"  ９  議　 員　・　職 　員",null,null,null,null,null,null,null,null,null,null,null,null,null," １４  文　　　　　　化",null,null,null,null,null,null,null,null,null," ( ",{"$f":"データ一覧!$A$500","v":"3.3.31"},null,null,null,"ただし図書館・公民館・児童館",null,null,null,null,null,null,null,{"$f":"データ一覧!$A$494","v":"3.4.1"},null,null,null,null,null,null,null,null,null,"オオキンレイカ群落（青葉山）\t\t\t\t\t\t\t\t\t\t\t\t\t\t\t\t\t\t\t\t\t\t\t\t\t\t\t\t\t\t"]
["と",null,null,null,null,null,null,null,null,null,null,null,null,null,null,null,null,null,null,null,null,null,null,null,null,null,null,null,null,null,null,null,null,null,null,null,null,null,null,null,null,null,null,null,null,null,null,null,null,null,null,null,null,null,null,"　宗教法人数 ",null,null,null,null,null,null,{"$f":"データ一覧!$A$502","v":"2.12.31"},null,null,null,"）","　　特産物",null,null,null,null,"若狭漬、かまぼこ、若狭ふぐ、杜仲茶、五色貝、煮干し、マハタ"]
["就",null,null,null,null,null,null,null,null,"農業に60日以上従事",null,null,null,null,null,null,null,"農業に150日以上従事",null,null,null,null,null,null,null," 市 町 村 議 会",null,null,"有権者数",null,{"$f":"データ一覧!$A$328","v":"3.9.1"},null,"市 町 村 議 会",null,null,"  職      員      数",null,null,null,null,null,null,null,null,"図書館",null,null,null,null,null,"公　民　館",null,null,null,null,null,null,null,null,null,null," 社会教育学級講座",null,null,null,null,null,null,null,null,null,null,"さばへしこ、若狭ぐじ、若狭たかはま鮨、鎌倉ぶどう"]
["業",null,"区　分",null,null,null,"人",null,null,"区　分",null,null,null,null,"人",null,null,"区　分",null,null,null,null,"人",null,null," 議  員  定  数",null,null,"    男",null,"    女",null,"選 挙 投 票 率",null,null," 総     数",null,"一般行政職",null,"公    共",null,null,null," 館  数",null,null," 図書数",null,null," 本  館",null,null," 分  館",null,null," 公  園",null,null," 児童館",null,null,"学級講座数",null,null,"受講者数",null,null," 　年中行事",null,null,null,null,"海水浴場海開き、花火大会、秋祭、若狭たかはま漁火想、産業まつり、"]
["状",null,"総数",null,null,null,{"$f":"データ一覧!U230","v":63},null,null,"総数",null,null,null,null,{"$f":"データ一覧!U224","v":71.7},null,null,"総数",null,null,null,null,{"$f":"データ一覧!U227","v":73.599999999999994},null,null,null,null,"人",null,"人",null,"人",null,null,"　％",null,"人",null,"人","施 設 数",null,null,null,null,{"$f":"データ一覧!U494","v":1},null,{"$f":"データ一覧!U495","v":92837},null,null,{"$f":"データ一覧!U496","v":4},null,null,{"$f":"データ一覧!U497","v":0},null,null,{"$f":"データ一覧!U498","v":1},null,null,{"$f":"データ一覧!U499","v":1},null,null,{"$f":"データ一覧!U500","v":0},null,null,{"$f":"データ一覧!U501","v":0},null,null,null,null,null,null,null,"ビーチラグビー中部大会、はまなすマラソン、ふれあい広場、"]
["況",null,"男",null,null,null,{"$f":"データ一覧!U231","v":37},null,null,"男",null,null,null,null,{"$f":"データ一覧!U225","v":71.2},null,null,"男",null,null,null,null,{"$f":"データ一覧!U228","v":72.7},null,null,null,{"$f":"データ一覧!U325","v":14},null,{"$f":"データ一覧!U328","v":4274},null,{"$f":"データ一覧!U329","v":4192},null,{"$f":"データ一覧!U327","v":71.56},null,null,{"$f":"データ一覧!U330","v":195},null,{"$f":"データ一覧!U331","v":124},null,"宗    教",null,null,null," 仏教系",null,null,"ｷﾘｽﾄ教系",null,null,"神道諸派",null,null,"公会堂・市民会館",null,null,null,null,null," テレビ",null,null,"衛星放送契約数",null,null,null,null,null,null,null,null,null,null,"高浜七年祭（６年に一度。次の開催は令和7年）、若狭高浜ふぐまつり、"]
[null,null,"女",null,null,null,{"$f":"データ一覧!U232","v":26},null,null,"女",null,null,null,null,{"$f":"データ一覧!U226","v":72.400000000000006},null,null,"女",null,null,null,null,{"$f":"データ一覧!U229","v":75.400000000000006},null,null,null,null,null,null,null,null,null,{"$f":"データ一覧!U326","v":"31.4.21"},null,null,null,null,null,null,"法 人 数",null,null,null,{"$f":"データ一覧!U502","v":39},null,null,{"$f":"データ一覧!U503","v":1},null,null,{"$f":"データ一覧!U504","v":26},null,null,{"$f":"データ一覧!U505","v":1},null,null,null,null,null,"      等",null,null,{"$f":"データ一覧!U506","v":1381},null,null,null,null,null,null,null,null,null,null,"和田ｄｅ路地祭、ドコイコ・ナニシヨ・ミニツアー（釈宗演、ひな祭り等）"]

{"sheet":"おおい町","index":20,"n_rows":93,"n_cols":103,"rows_kept":93,"cut":false,"hidden":false,"merged":[[90,17,90,21],[91,2,91,5],[91,9,91,13],[91,17,91,21],[92,2,92,5],[92,9,92,13],[92,14,92,16],[92,17,92,21],[66,92,66,96],[76,9,76,16],[76,17,76,24],[77,2,78,5],[77,6,78,8],[77,9,78,13],[77,14,78,16],[77,17,78,21],[77,22,78,24],[79,2,79,5],[79,6,79,8],[79,9,79,13],[79,14,79,16],[79,17,79,21],[79,22,79,24],[80,6,80,8],[80,9,80,13],[69,35,69,37],[70,94,70,96],[68,94,68,96],[74,53,74,56],[76,78,76,81],[74,39,74,42],[76,57,76,61],[18,28,18,30],[19,25,19,28],[19,29,19,31],[20,49,20,51],[20,53,20,56],[20,25,20,28],[22,40,22,46],[22,49,22,51],[22,25,22,28],[27,60,27,64],[27,49,27,51],[21,29,21,31],[21,32,21,34],[21,35,21,38],[22,32,22,34],[22,35,22,38],[23,29,23,31],[23,32,23,34],[23,35,23,38],[21,40,21,46],[21,49,21,51],[27,33,27,34],[63,74,63,76],[29,40,29,46],[29,60,29,64],[28,40,28,46],[25,99,25,102],[25,37,26,38],[26,25,26,26],[26,27,26,28],[27,25,27,26],[27,27,27,28],[27,35,27,36],[27,37,27,38],[25,35,26,36],[26,40,26,46],[26,49,26,51],[26,53,26,56],[26,60,26,64],[27,40,27,46],[43,40,43,46],[44,32,44,35],[26,95,26,98],[25,73,25,76],[27,73,27,76],[28,81,28,84],[28,86,28,90],[35,29,35,30],[33,49,33,51],[33,53,33,56],[30,73,30,76],[30,77,30,80],[30,81,30,84],[30,68,30,72],[66,0,66,6],[73,13,73,15],[73,16,73,18],[71,32,71,33],[62,19,62,21],[69,16,69,18],[58,13,58,15],[27,53,27,56],[36,36,36,37],[25,77,25,80],[27,91,27,94],[27,95,27,98],[25,95,25,98],[25,86,25,90],[56,39,56,42],[57,39,57,42],[60,39,60,42],[73,77,73,83],[73,86,73,92],[73,95,73,101],[60,36,60,37],[61,29,61,30],[65,43,65,49],[65,53,65,56],[65,57,65,63],[66,39,66,66],[67,43,67,47],[70,91,70,93],[70,77,70,78],[63,84,63,86],[63,89,63,91],[63,99,63,101],[30,11,30,13],[30,14,30,16],[32,14,32,16],[31,5,31,7],[31,8,31,10],[31,11,31,13],[27,22,27,24],[27,29,27,30],[27,31,27,32],[34,18,34,19],[34,5,34,7],[34,8,34,10],[34,11,34,13],[34,14,34,16],[34,20,34,21],[41,22,41,24],[41,10,41,12],[41,32,41,35],[33,11,33,13],[40,22,40,24],[30,5,30,7],[30,8,30,10],[44,0,45,1],[22,29,22,31],[24,29,24,30],[24,31,24,32],[24,33,24,34],[24,35,24,36],[24,37,24,38],[58,0,58,6],[58,10,58,12],[33,5,33,7],[32,18,32,19],[32,20,32,21],[32,8,32,10],[32,11,32,13],[40,32,40,35],[40,4,40,6],[51,29,51,32],[51,33,51,35],[55,25,55,30],[55,35,55,38],[55,31,55,34],[51,36,51,38],[44,29,44,30],[48,13,48,15],[33,14,33,16],[45,32,45,35],[40,16,40,18],[42,16,42,18],[42,22,42,24],[33,18,33,19],[33,20,33,21],[33,8,33,10],[47,7,47,9],[47,10,47,12],[47,13,47,15],[47,16,47,18],[47,19,47,21],[47,22,47,24],[48,19,48,21],[48,22,48,24],[56,0,56,6],[57,7,57,9],[56,22,56,24],[55,0,55,6],[57,13,57,15],[60,29,60,30],[57,10,57,12],[57,0,57,6],[46,0,46,1],[58,7,58,9],[46,29,46,30],[50,0,51,24],[51,25,51,28],[47,0,47,1],[48,0,48,1],[48,7,48,9],[48,10,48,12],[56,19,56,21],[22,7,22,8],[24,0,25,24],[28,49,28,51],[29,49,29,51],[25,25,25,26],[25,31,26,32],[25,27,25,28],[25,33,26,34],[27,77,27,80],[27,81,27,84],[27,86,27,90],[26,68,26,72],[26,73,26,76],[26,77,26,80],[26,81,26,84],[26,86,26,90],[27,68,27,72],[25,81,25,84],[23,25,23,28],[27,0,27,4],[29,86,29,90],[29,73,29,76],[29,77,29,80],[29,81,29,84],[42,4,42,6],[42,7,42,9],[5,0,5,9],[6,0,8,9],[14,25,15,25],[14,26,15,28],[15,29,15,30],[15,32,15,33],[14,0,15,24],[29,5,29,7],[35,5,35,7],[35,8,35,10],[35,11,35,13],[35,14,35,16],[35,18,35,19],[41,13,41,15],[42,10,42,12],[42,13,42,15],[40,7,40,9],[40,10,40,12],[41,19,41,21],[41,16,41,18],[35,20,35,21],[31,14,31,16],[32,5,32,7],[24,27,24,28],[25,29,26,30],[30,18,30,19],[40,19,40,21],[41,4,41,6],[41,7,41,9],[35,22,35,24],[14,67,15,81],[14,82,15,95],[40,13,40,15],[23,11,23,13],[23,16,23,18],[23,21,23,23],[26,22,26,24],[30,95,30,98],[30,91,30,94],[17,91,17,94],[29,8,29,10],[30,20,30,21],[30,22,30,24],[29,22,29,24],[22,73,22,76],[22,77,22,80],[22,81,22,84],[26,91,26,94],[16,74,16,95],[16,32,16,33],[16,36,16,37],[17,32,17,34],[17,36,17,38],[17,68,17,71],[17,73,17,76],[17,82,17,83],[17,86,17,89],[19,81,19,84],[18,25,18,27],[20,73,20,76],[20,77,20,80],[20,81,20,84],[19,99,19,102],[19,73,19,76],[19,77,19,80],[19,91,19,94],[19,32,19,34],[19,35,19,38],[18,31,18,34],[18,35,18,38],[20,40,20,46],[20,29,20,31],[20,32,20,34],[20,35,20,38],[21,25,21,28],[23,40,23,46],[23,49,23,51],[23,53,23,56],[17,100,17,101],[19,40,19,46],[19,49,19,51],[19,53,19,56],[19,60,19,64],[17,40,17,46],[17,48,17,52],[17,53,17,57],[17,59,17,65],[19,95,19,98],[21,99,21,102],[21,95,21,98],[22,99,22,102],[23,60,23,64],[22,95,22,98],[17,25,17,27],[23,99,23,102],[23,91,23,94],[23,95,23,98],[22,91,22,94],[22,68,22,72],[22,86,22,90],[23,68,23,72],[22,53,22,56],[22,60,22,64],[20,91,20,94],[20,95,20,98],[20,99,20,102],[20,60,20,64],[23,73,23,76],[23,77,23,80],[23,81,23,84],[23,86,23,90],[20,86,20,90],[21,73,21,76],[21,77,21,80],[21,81,21,84],[21,86,21,90],[21,91,21,94],[21,53,21,56],[21,60,21,64],[24,99,24,102],[24,40,24,46],[24,49,24,51],[24,53,24,56],[24,60,24,64],[24,86,24,90],[24,91,24,94],[24,95,24,98],[24,68,24,72],[24,73,24,76],[24,77,24,80],[24,81,24,84],[30,40,30,46],[25,91,25,94],[25,40,25,46],[25,49,25,51],[25,53,25,56],[25,60,25,64],[29,91,29,94],[29,95,29,98],[30,49,30,51],[27,99,27,102],[26,99,26,102],[31,95,31,98],[33,67,34,80],[32,60,32,64],[34,60,34,64],[33,40,33,46],[31,68,31,72],[31,73,31,76],[31,77,31,80],[31,81,31,84],[32,22,32,24],[29,53,29,56],[29,11,29,13],[32,99,32,102],[28,60,28,64],[28,91,28,94],[30,53,30,56],[30,60,30,64],[31,53,31,56],[32,68,32,72],[32,73,32,76],[32,77,32,80],[32,81,32,84],[28,95,28,98],[28,99,28,102],[28,53,28,56],[28,68,28,72],[30,99,30,102],[31,99,31,102],[29,99,29,102],[28,73,28,76],[28,77,28,80],[30,86,30,90],[41,40,41,46],[34,49,34,51],[36,29,36,30],[41,29,41,30],[33,83,34,96],[32,91,32,94],[32,95,32,98],[31,91,31,94],[31,18,31,19],[31,20,31,21],[31,22,31,24],[32,49,32,51],[32,53,32,56],[32,40,32,46],[31,40,31,46],[33,60,33,64],[31,49,31,51],[31,60,31,64],[38,49,38,51],[40,40,40,46],[40,49,40,51],[33,22,33,24],[35,36,35,37],[35,40,35,46],[34,22,34,24],[34,53,34,56],[34,36,34,37],[34,29,34,30],[34,40,34,46],[37,40,37,46],[37,49,37,51],[37,53,37,56],[36,40,36,46],[39,40,39,46],[39,49,39,51],[35,49,35,51],[35,53,35,56],[36,49,36,51],[42,75,42,77],[42,79,42,82],[41,85,41,91],[42,85,42,91],[40,67,41,73],[40,79,41,82],[40,53,40,56],[40,75,41,77],[42,32,42,35],[35,93,35,95],[39,53,39,56],[37,79,37,82],[38,67,38,73],[39,93,39,95],[36,79,36,82],[36,85,36,91],[36,93,36,95],[36,75,36,77],[38,85,38,91],[39,85,39,91],[41,93,41,95],[38,93,38,95],[40,85,40,91],[40,93,40,95],[40,60,40,64],[40,36,40,37],[41,36,41,37],[38,40,38,46],[41,49,41,51],[41,53,41,56],[41,60,41,64],[36,53,36,56],[48,16,48,18],[49,68,49,75],[48,56,48,59],[48,62,48,65],[46,99,46,102],[45,84,45,89],[43,67,44,82],[45,92,45,101],[48,68,48,75],[48,77,48,79],[48,80,48,82],[48,83,48,86],[48,91,48,94],[48,95,48,98],[42,97,42,100],[42,67,42,73],[43,83,44,102],[42,60,42,64],[45,57,45,61],[43,60,43,64],[46,69,46,74],[46,95,46,98],[43,53,43,56],[44,25,44,28],[45,25,45,28],[42,49,42,51],[44,36,44,37],[45,29,45,30],[42,40,42,46],[42,93,42,95],[50,99,50,102],[50,91,50,94],[50,87,50,90],[51,95,51,98],[51,99,51,102],[50,83,50,86],[48,99,48,102],[50,55,50,57],[50,77,50,79],[50,80,50,82],[50,68,50,75],[50,63,50,66],[49,58,49,61],[49,99,49,102],[49,77,49,79],[49,80,49,82],[45,36,45,37],[50,95,50,98],[48,50,48,53],[46,36,46,37],[49,91,49,94],[49,95,49,98],[49,39,49,45],[49,46,49,49],[55,68,55,75],[55,77,55,79],[55,91,55,94],[54,59,54,66],[54,55,54,58],[50,47,50,49],[54,68,54,75],[55,43,55,45],[49,50,49,53],[50,50,50,53],[55,59,55,62],[53,33,53,34],[55,7,55,9],[53,25,53,27],[53,29,53,31],[50,25,50,28],[50,29,50,32],[50,33,50,38],[53,68,53,75],[53,77,53,79],[54,80,54,82],[53,36,53,37],[55,16,55,18],[55,22,55,24],[58,39,58,42],[58,52,58,54],[58,22,58,24],[57,22,57,24],[58,58,58,60],[70,0,70,6],[69,0,69,6],[60,16,60,18],[60,7,60,9],[67,0,67,6],[68,0,68,6],[58,55,58,57],[68,7,68,9],[66,19,66,21],[68,48,68,52],[68,53,68,56],[69,25,69,28],[70,35,70,37],[67,57,67,61],[59,19,59,21],[59,16,59,18],[60,0,60,6],[61,0,61,6],[62,0,62,6],[63,0,63,6],[62,29,62,30],[63,22,63,24],[61,19,61,21],[61,22,61,24],[63,13,63,15],[57,31,57,33],[69,32,69,33],[71,39,71,42],[67,16,67,18],[64,16,64,18],[66,22,66,24],[65,22,65,24],[70,25,70,28],[60,97,60,102],[60,85,60,90],[60,91,60,96],[67,97,67,102],[68,100,68,102],[70,85,70,87],[68,76,68,78],[67,82,67,84],[68,57,68,61],[67,48,67,52],[61,63,61,66],[65,68,65,71],[67,39,67,42],[65,39,65,42],[65,93,65,96],[65,73,65,76],[60,22,60,24],[67,62,67,66],[68,39,68,42],[68,35,68,37],[68,43,68,47],[70,100,70,102],[70,79,70,81],[64,68,64,71],[70,83,70,84],[63,94,63,96],[57,67,58,102],[62,93,62,95],[62,75,62,77],[62,81,62,83],[62,99,62,101],[62,87,62,89],[61,68,61,71],[61,80,61,83],[66,76,66,90],[67,67,70,71],[68,72,68,75],[67,79,67,81],[70,57,70,61],[69,39,69,66],[70,43,70,47],[70,39,70,42],[70,53,70,56],[70,72,70,75],[68,85,68,87],[67,88,67,90],[68,88,68,90],[68,79,68,81],[68,82,68,84],[68,91,68,93],[70,62,70,66],[65,88,65,91],[65,98,65,101],[70,88,70,90],[58,64,58,66],[58,61,58,63],[61,59,61,62],[60,63,60,66],[71,35,71,37],[72,22,72,24],[62,68,62,71],[72,35,72,37],[72,29,72,30],[78,67,78,71],[80,73,80,75],[78,53,78,56],[78,57,78,61],[78,87,78,90],[80,96,80,98],[80,68,80,70],[76,96,76,99],[77,87,77,90],[77,48,77,52],[78,48,78,52],[77,91,77,94],[74,62,74,66],[75,62,75,66],[76,62,76,66],[74,57,74,61],[74,77,74,83],[74,87,74,91],[74,96,74,100],[78,72,78,76],[79,53,79,56],[80,88,80,90],[77,77,77,81],[78,95,78,98],[70,97,70,99],[72,57,72,61],[71,48,71,52],[77,43,77,47],[74,43,74,47],[74,29,74,30],[65,78,65,81],[65,83,65,86],[71,62,71,66],[78,82,78,86],[79,48,79,52],[64,0,64,6],[70,22,70,24],[67,22,67,24],[71,16,71,18],[71,25,71,28],[71,0,71,6],[76,2,76,8],[75,29,75,30],[76,29,76,30],[65,7,65,9],[69,10,69,12],[68,10,68,12],[69,29,69,30],[65,16,65,18],[66,16,66,18],[73,62,73,66],[75,48,75,52],[76,48,76,52],[76,53,76,56],[75,57,75,61],[75,53,75,56],[75,43,75,47],[75,39,75,42],[74,68,74,74],[81,67,82,102],[81,62,81,66],[80,100,80,102],[78,99,78,102],[82,57,82,61],[71,67,72,82],[73,48,73,52],[73,53,73,56],[73,57,73,61],[81,57,81,61],[80,78,80,80],[79,57,79,61],[77,62,77,66],[77,57,77,61],[79,101,79,102],[79,62,79,66],[80,57,80,61],[71,53,71,56],[71,83,72,102],[81,48,81,52],[81,53,81,56],[71,57,71,61],[72,48,72,52],[88,32,88,34],[88,61,88,66],[87,72,89,102],[83,48,83,52],[82,62,82,66],[81,39,81,42],[82,39,82,42],[79,39,79,42],[77,39,77,42],[83,32,83,33],[76,32,76,33],[75,32,75,33],[68,16,68,18],[67,13,67,15],[65,13,65,15],[75,35,75,37],[74,32,74,33],[77,53,77,56],[72,53,72,56],[68,22,68,24],[76,43,76,47],[72,39,72,42],[71,43,71,47],[72,62,72,66],[83,57,83,61],[83,72,86,102],[80,92,80,94],[78,77,78,81],[79,97,79,98],[78,91,78,94],[80,82,80,86],[77,82,77,86],[83,26,83,27],[83,36,83,37],[83,39,83,42],[83,29,83,30],[80,35,81,38],[80,25,81,28],[76,69,76,72],[76,35,76,37],[76,87,76,90],[55,10,55,12],[72,13,72,15],[71,13,71,15],[70,13,70,15],[62,13,62,15],[55,13,55,15],[64,19,64,21],[66,32,66,34],[70,29,70,30],[81,29,81,31],[72,32,72,33],[68,32,68,33],[69,19,69,21],[73,25,73,28],[73,32,73,33],[70,19,70,21],[72,19,72,21],[71,29,71,30],[68,29,68,30],[55,19,55,21],[81,43,81,47],[69,22,69,24],[66,10,66,12],[0,0,0,9],[1,0,3,9],[92,39,92,42],[92,43,92,45],[92,46,92,48],[40,29,40,30],[73,10,73,12],[60,10,60,12],[55,39,55,42],[54,47,54,50],[92,49,92,51],[59,22,59,24],[72,7,72,9],[69,7,69,9],[72,10,72,12],[92,32,92,34],[73,7,73,9],[91,32,91,34],[70,7,70,9],[80,48,80,52],[91,39,91,42],[91,37,91,38],[91,26,91,27],[89,32,89,34],[89,39,89,42],[90,39,90,42],[91,30,91,31],[91,28,91,29],[91,35,91,36],[61,13,61,15],[71,10,71,12],[84,39,84,42],[91,43,91,45],[91,46,91,48],[91,49,91,51],[83,53,83,56],[90,52,90,54],[90,55,90,57],[83,43,83,47],[84,48,84,52],[84,53,84,56],[84,57,84,61],[50,59,50,61],[91,52,91,57],[91,61,91,66],[90,58,90,60],[90,61,90,63],[90,64,90,66],[88,50,88,53],[83,62,83,66],[90,44,90,45],[90,46,90,48],[90,50,90,51],[89,61,89,63],[84,62,84,66],[82,43,82,47],[79,43,79,47],[88,44,88,47],[74,48,74,52],[84,43,84,47],[80,62,80,66],[78,62,78,66],[67,53,67,56],[70,48,70,52],[53,99,53,102],[56,77,56,79],[56,80,56,82],[56,83,56,86],[55,99,55,102],[55,83,55,86],[53,80,53,82],[53,83,53,86],[53,87,53,90],[56,91,56,94],[54,91,54,94],[54,77,54,79],[51,91,51,94],[52,87,52,90],[52,91,52,94],[51,77,51,79],[51,80,51,82],[52,95,52,98],[52,99,52,102],[52,80,52,82],[54,99,54,102],[56,99,56,102],[54,95,54,98],[56,95,56,98],[55,87,55,90],[54,83,54,86],[54,87,54,90],[53,91,53,94],[53,95,53,98],[35,98,35,101],[36,97,36,100],[37,85,37,91],[37,97,37,100],[36,67,36,73],[38,60,38,64],[37,93,37,95],[37,60,37,64],[37,67,37,73],[37,75,37,77],[38,75,38,77],[35,68,35,72],[35,75,35,77],[51,83,51,86],[52,83,52,86],[52,68,52,75],[49,83,49,86],[49,87,49,90],[48,87,48,90],[35,80,35,83],[39,79,39,82],[38,79,38,82],[35,60,35,64],[39,60,39,64],[39,67,39,73],[39,75,39,77],[35,86,35,90],[51,68,51,75],[41,97,41,100],[38,97,38,100],[39,97,39,100],[40,97,40,100],[68,62,68,66],[15,35,15,37],[46,32,46,35],[59,43,59,56],[60,43,60,47],[60,48,60,52],[60,53,60,56],[61,43,61,47],[61,48,61,52],[61,53,61,56],[56,48,56,53],[57,61,57,63],[57,64,57,66],[55,55,55,57],[55,47,55,49],[61,39,61,42],[61,36,61,37],[57,55,57,57],[54,25,54,32],[36,60,36,64],[38,53,38,56],[66,35,66,38],[55,63,55,65],[43,49,43,51],[46,25,46,28],[49,54,49,57],[49,62,49,66],[42,53,42,56],[42,36,42,37],[57,25,57,29],[57,35,57,37],[60,59,60,62],[74,25,74,28],[81,22,81,24],[71,19,71,21],[76,25,76,28],[70,10,70,12],[72,16,72,18],[65,19,65,21],[67,19,67,21],[71,7,71,9],[68,19,68,21],[75,25,75,28],[70,32,70,33],[57,58,57,60],[57,43,57,46],[57,47,57,50],[57,51,57,54],[58,48,58,50],[59,59,59,62],[58,44,58,46],[72,43,72,47],[80,14,80,16],[80,17,80,21],[80,22,80,24],[81,32,81,34],[80,39,80,42],[78,39,78,42],[78,43,78,47],[76,39,76,42],[74,35,74,37],[73,39,73,42],[73,43,73,47],[72,25,72,28],[66,13,66,15],[62,7,62,9],[63,10,63,12],[63,16,63,18],[64,10,64,12],[64,13,64,15],[57,16,57,18],[58,19,58,21],[70,16,70,18],[69,13,69,15],[71,22,71,24],[68,13,68,15],[64,22,64,24],[67,10,67,12],[67,7,67,9],[61,16,61,18],[63,19,63,21],[62,16,62,18]],"merged_total":1108,"flags":["merged_cut"]}
[{"$f":"+データ一覧!V2","v":"おおいぐん"}]
[{"$f":"+データ一覧!V5","v":"大飯郡"}]
[]
[null,null,null,null,null,null,null,null,null,null,null,null,null,null,null,null,null,null,null,null,null,null,null,null,null,null,null,"【町章とそのいわれ】 ",null,null,null,"おおい町のイニシャル「Ｏ」をモチーフに",null,null,null,null,null,null,null,null,"【位置および地勢】おおい町は、福井県の南西部に位置し､西は高浜町、京都府",null,null,null,null,null,null,null,null,null,null,null,null,null,null,null,null,null,null,null,null,null,null,null,null,null,null,null,null,null,"所在地",null,null,null,null,null,null,"〒919-2111"]
[null,null,null,null,null,null,null,null,null,null,null,null,null,null,null,null,null,null,null,null,null,null,null,null,null,null,null,null,null,null,null,"デザイン化している。円は和と団結、２つの",null,null,null,null,null,null,null,null,"　綾部市、南は南丹市、東は小浜市、滋賀県高島市に接している。佐分利川沿いから",null,null,null,null,null,null,null,null,null,null,null,null,null,null,null,null,null,null,null,null,null,null,null,null,null,null,null,null,null,null,null,null,null,null,null,null,"大飯郡おおい町本郷第１３６号１番地１"]
[{"$f":"+データ一覧!V3","v":"おおいちょう"},null,null,null,null,null,null,null,null,null,null,null,null,null,null,null,null,null,null,null,null,null,null,null,null,null,null,null,null,null,null,"ブルーウェーブは、旧町村の融合を表し、",null,null,null,null,null,null,null,null,"　海岸部に向かって開けた平野、南川とその支流沿いの平地、大島の小浜湾岸の"]
[{"$f":"データ一覧!V6","v":"おおい町"},null,null,null,null,null,null,null,null,null,null,null,null,null,null,null,null,null,null,null,null,null,null,null,null,null,null,null,null,null,null,"日本海・若狭湾の雄大な風景や清流と緑",null,null,null,null,null,null,null,null,"平地が居住地となっている。",null,null,null,null,null,null,null,null,null,null,null,null,null,null,null,null,null,null,null,null,null,null,null,null,null,null,null,null,null,"電話番号",null,null,null,null,null,null,"（０７７０）７７－１１１１"]
[null,null,null,null,null,null,null,null,null,null,null,null,null,null,null,null,null,null,null,null,null,null,null,null,null,null,null,null,null,null,null,"あふれる大地の恩恵、歴史を背景にやすらぎと",null,null,null,null,null,null,null,null,"西側の京都府との県境に標高８７１ｍの頭巾山（とうきんざん）、南側には",null,null,null,null,null,null,null,null,null,null,null,null,null,null,null,null,null,null,null,null,null,null,null,null,null,null,null,null,null,"FAX番号",null,null,null,null,null,null,"     〃     ７７－１２８９"]
[null,null,null,null,null,null,null,null,null,null,null,null,null,null,null,null,null,null,null,null,null,null,null,null,null,null,null,null,null,null,null,"活力にあふれた未来を創造する「おおい町」の",null,null,null,null,null,null,null,null,"標高８００ｍの八ヶ峰（はちがみね）、東側の京都府・滋賀県との県境には"]
[null,null,null,null,null,null,null,null,null,null,null,null,null,null,null,null,null,null,null,null,null,null,null,null,null,null,null,null,null,null,null,"姿をイメージしています。",null,null,null,null,null,null,null,null,"標高７７６ｍの三国岳（みくにだけ）があり、大島には標高４7８ｍの大山",null,null,null,null,null,null,null,null,null,null,null,null,null,null,null,null,null,null,null,null,null,null,null,null,null,null,null,null,null,"最寄駅および距離",null,null,null,null,null,null,null,"（おおい町役場）　　ＪＲ小浜線若狭本郷駅　下車３００ｍ"]
[null,null,null,null,null,null,null,null,null,null,null,null,null,null,null,null,null,null,null,null,null,null,null,null,null,null,null,null,null,null,null,null,null,null,null,null,null,null,null,null,"（おおやま）がある。",null,null,null,null,null,null,null,null,null,null,null,null,null,null,null,null,null,null,null,null,null,null,null,null,null,null,null,null,null,null,null,null,null,null,null,null,null,"（名田庄総合事務所）路線バス流星名田庄総合事務所　下車"]
[]
[null,null,null,null,null,null,null,null,null,null,null,null,null,null,null,null,null,null,null,null,null,null,null,null,null,null,null,"【町が掲げる標語】輝く笑顔がうみだす希望　情熱よせ合うふるさと“おおい”",null,null,null,null,null,null,null,null,null,null,null,null,null,null,null,null,null,null,null,null,null,null,null,null,null,null,null,null,null,null,null,null,null,null,null,null,null,null,null,null,null,null,"ホームページ",null,null,null,null,null,null,"http://www.town.ohi.fukui.jp/"]
[]
["  １  土            　　地",null,null,null,null,null,null,null,null,null,null,null,null,null,null,null,null,null,null,null,null,null,null,null,null,{"$f":"データ一覧!$A$240","v":"2年"},"産米収穫量",null,null,"　 収　穫　量",null,null," 　作 付 面 積",null,null,"   10a当たり収量",null,null,null,null,null,null,null,null,null,null,null,null,null,null,null,null,null,null,null,null,null,null,null,null,null,null,null,null,null,null,null," １５  労　　　　　　　働",null,null,null,null,null,null,null,null,null,null,null,null,null,null,"27.10.1"]
[null,null,null,null,null,null,null,null,null,null,null,null,null,null,null,null,null,null,null,null,null,null,null,null,null,null,null,null,null,{"$f":"データ一覧!$V$240","v":2050},null,"t",{"$f":"データ一覧!$V$241","v":424},null,"ha",{"$f":"データ一覧!V242","v":483},null,null,"kg"," １０  工　　　　　　業 ",null,null,null,null,null,null,null,null,null,null,null,null,null,{"$f":"データ一覧!$A$332","v":"2.6.1（令和元年実績）"}]
["   総          面           積",null,null,null,null,null,null,null,null,null," 固 定 資 産 概 要 調 書 に よ る 地 目 別 面 積",null,null,null,null,null,null,null,null,null,null,null,null,null,null,null,null,null,"   総　　　数",null,null,null,"うち　　田",null,null,null,"うち　　畑",null,null,null,null,null,null,null,null,null,null,null,null,null,null,null,null,null,null,null,null,null,null,null,null,null,null,null,null,null,null,null,null,null,null,null,null,null,"産業別就業者数   "]
[null,null,{"$f":"データ一覧!$A$7","v":"3.10.1"},null,null,null,null,null,null,null,null,null,null,null,null,null,{"$f":"データ一覧!$A$9","v":"3.1.1"},null,null,null,null,null,null,null,null," 耕  地  面  積",null,null,null,"       ha",null,null,"ha ",null,null,null,"ha ",null,null,"      ","産業分類",null,null,null,null,null,null,null,"事業所数",null,null,null,null,"従業者数",null,null,null,null,null,"年間製造品出荷額等",null,null,null,null,null,null,null,null,"区  分",null,null,null,null,"総    数",null,null,null,null,"男",null,null,null,"女",null,null,"  ","区  分",null,null,null,null,"総    数",null,null,null,null,"男",null,null,null,"女"]
[null,null,null,null,null,null,"㎢",null,null,null,"   総       数",null,null,null,null,"  う ち     田",null,null,null,null,"  う ち     畑",null,null,null,null,{"$f":"データ一覧!A243","v":"2.7.15"},null,null,{"$f":"データ一覧!$V$243","v":746},null,null,{"$f":"データ一覧!$V$244","v":664},null,null,null,{"$f":"データ一覧!$V$245","v":82},null,null,null,null,null,null,null,null,null,null,null,null,"　　   ",null,null,"事業所",null,"　　　　　　　 人",null,null,"人",null,"　　　　　　　　　　　　　　万円",null,null,null,null,null,null,"万円",null,null,null,null,null,null,null,"      人",null,null,null,null,null," 人",null,null,null," 人",null,null,null,null,null,null,null,"      人",null,null,null,"      人",null,null,null,"      人"]
[null,null,null,{"$f":"データ一覧!V7","v":212.19},null,null,null,null,null,null,null,null,null,null,"ha",null,null,null,null,"ha",null,null,null,null,"ha","農 業 生 産 物",null,null,null,"作 付 面 積",null,null,"収 穫 量",null,null,"10a当たり収量",null,null,null,"     ","総数",null,null,null,null,null,null,null,null,{"$f":"データ一覧!V332","v":6},null,null,null,{"$f":"+データ一覧!V357","v":179},null,null,null,null,null,null,{"$f":"データ一覧!V382","v":256206},null,null,null,null,null,null," 総　　　数",null,null,null,null,null,{"$f":"BZ20+CD20","v":4362},null,null,null,{"$f":"データ一覧!V507","v":2629},null,null,null,{"$f":"データ一覧!V532","v":1733}]
[null,null,null,null,null,null,null,null,null,null,null,{"$f":"データ一覧!V9","v":11808.2},null,null,null,null,{"$f":"データ一覧!V10","v":698.4},null,null,null,null,{"$f":"データ一覧!V11","v":140.5},null,null,null,{"$f":"データ一覧!$A$246","v":"2年中"},null,null,null,"ha",null,null,"t",null,null,"kg",null,null,null,"     食料品","食料品",null,null,null,null,null,null,null,null,{"$f":"データ一覧!V333","v":2},null,null,null,{"$f":"+データ一覧!V358","v":23},null,null,null,null,null,null,{"$f":"データ一覧!V383","v":"x"},null,null,null,null,null,null,null,null,null,null,null,null,null,null,null,null,null,null,null,null,null,null,null,null,null,"卸売業,小売業",null,null,null,null,{"$f":"CR21+CV21","v":375},null,null,null,{"$f":"データ一覧!V520","v":169},null,null,null,{"$f":"データ一覧!V545","v":206}]
["  町 ･ 丁 ･ 大 字",null,null,null,null,null,null,null,null,null,"  う ち  宅 地",null,null,null,null,"  う ち  山 林",null,null,null,null,"  う ち  原 野",null,null,null,null,"水　　　　　稲",null,null,null,{"$f":"データ一覧!V246","v":424},null,null,{"$f":"データ一覧!V247","v":2050},null,null,{"$f":"データ一覧!V248","v":483},null,null,null,"     飲料・飼料","飲料・飼料",null,null,null,null,null,null,null,null,{"$f":"データ一覧!V334","v":0},null,null,null,{"$f":"+データ一覧!V359","v":0},null,null,null,null,null,null,{"$f":"データ一覧!V384","v":0},null,null,null,null,null,null," 第１次産業",null,null,null,null,null,{"$f":"BZ22+CD22","v":370},null,null,null,{"$f":"データ一覧!V508","v":249},null,null,null,{"$f":"データ一覧!V533","v":121},null,null,null,null,"金融業,保険業",null,null,null,null,{"$f":"CR22+CV22","v":39},null,null,null,{"$f":"データ一覧!V521","v":17},null,null,null,{"$f":"データ一覧!V546","v":22}]
["  区    画    数",null,null,null,null,null,null,{"$f":"データ一覧!V8","v":48},null,null,null,null,null,null,"ha",null,null,null,null,"ha",null,null,null,null,"ha","六　条　大　麦",null,null,null,{"$f":"データ一覧!V249","v":29},null,null,{"$f":"データ一覧!V250","v":43},null,null,{"$f":"データ一覧!V251","v":148},null,null,null,"     繊維","繊維",null,null,null,null,null,null,null,null,{"$f":"データ一覧!V335","v":3},null,null,null,{"$f":"+データ一覧!V360","v":102},null,null,null,null,null,null,{"$f":"データ一覧!V385","v":139211},null,null,null,null,null,null,"  ","農業",null,null,null,null,{"$f":"BZ23+CD23","v":252},null,null,null,{"$f":"データ一覧!V509","v":147},null,null,null,{"$f":"データ一覧!V534","v":105},null,null,null,"  ","不動産業",null,null,null,null,24,null,null,null,{"$f":"データ一覧!V522","v":16},null,null,null,{"$f":"データ一覧!V547","v":8}]
[{"$f":"データ一覧!$A$8","v":"2.4.1"},null,null,null,null,null,null,null,null,null,null,{"$f":"データ一覧!V12","v":279.60000000000002},null,null,null,null,{"$f":"データ一覧!V13","v":5971.6},null,null,null,null,{"$f":"データ一覧!V14","v":77.7},null,null,null,"大　　      豆",null,null,null,{"$f":"データ一覧!V252","v":2},null,null,{"$f":"データ一覧!V253","v":1},null,null,{"$f":"データ一覧!V254","v":60},null,null,null,"     衣服","木材",null,null,null,null,null,null,null,null,{"$f":"データ一覧!V336","v":0},null,null,null,{"$f":"+データ一覧!V361","v":0},null,null,null,null,null,null,{"$f":"データ一覧!V386","v":0},null,null,null,null,null,null,"  ","林業",null,null,null,null,41,null,null,null,{"$f":"データ一覧!V510","v":36},null,null,null,{"$f":"データ一覧!V535","v":5},null,null,null,"  ","学術研究",null,null,null,null,129,null,null,null,{"$f":"データ一覧!V523","v":102},null,null,null,{"$f":"データ一覧!V548","v":27}]
["  ２  世　帯　数　と　人　口",null,null,null,null,null,null,null,null,null,null,null,null,null,null,null,null,null,null,null,null,null,null,null,null,null,null,"  区　分",null," 乳 用 牛",null," 肉 用 牛",null,"豚",null,"採卵鶏",null,"ブロイラー",null,"     木材","家具",null,null,null,null,null,null,null,null,{"$f":"データ一覧!V337","v":0},null,null,null,{"$f":"+データ一覧!V362","v":0},null,null,null,null,null,null,{"$f":"データ一覧!V387","v":0},null,null,null,null,null,null,"  ","漁業",null,null,null,null,77,null,null,null,{"$f":"データ一覧!V511","v":66},null,null,null,{"$f":"データ一覧!V536","v":11},null,null,null,"  ","宿泊業,飲食ｻｰﾋﾞｽ",null,null,null,null,281,null,null,null,{"$f":"データ一覧!V524","v":80},null,null,null,{"$f":"データ一覧!V549","v":201}]
[null,null,null,null,null,null,null,null,null,null,null,null,null,null,null,null,null,null,null,null,null,null,null,null,null,"畜　産",null," 飼養農家",null,{"$f":"データ一覧!$V$255","v":0},null,{"$f":"データ一覧!$V$257","v":"x"},null,{"$f":"データ一覧!$V$259","v":"-"},null,{"$f":"データ一覧!$V$261","v":"x"},null,{"$f":"データ一覧!$V$263","v":0},null,"     家具","パルプ・紙",null,null,null,null,null,null,null,null,{"$f":"データ一覧!V338","v":0},null,null,null,{"$f":"+データ一覧!V363","v":0},null,null,null,null,null,null,{"$f":"データ一覧!V388","v":0},null,null,null,null,null,null," 第２次産業",null,null,null,null,null,1057,null,null,null,{"$f":"データ一覧!V512","v":761},null,null,null,{"$f":"データ一覧!V537","v":296},null,null,null,"  ","生活関連ｻｰﾋﾞｽ業",null,null,null,null,145,null,null,null,{"$f":"データ一覧!V525","v":73},null,null,null,{"$f":"データ一覧!V550","v":72}]
[null,null,null,null,null,null,null,null,"        人　　　　　　　　　　口",null,null,null,null,null,null,null,null,null,null,null,"１世帯当",null,"人    口",null,null,{"$f":"データ一覧!$A$255","v":"3.3.31"},null,"（戸）",null,null,null,null,null,null,null,null,null,null,null,"     パルプ・紙","印刷",null,null,null,null,null,null,null,null,{"$f":"データ一覧!V339","v":0},null,null,null,{"$f":"+データ一覧!V364","v":0},null,null,null,null,null,null,{"$f":"データ一覧!V389","v":0},null,null,null,null,null,null,null,"鉱業，採石業",null,null,null,null,0,null,null,null,{"$f":"データ一覧!V513","v":0},null,null,null,{"$f":"データ一覧!V538","v":0},null,null,null,"  ","教育,学習支援業",null,null,null,null,183,null,null,null,{"$f":"データ一覧!V526","v":82},null,null,null,{"$f":"データ一覧!V551","v":101}]
[" 区　　　　分",null,null,null,null,"世帯数",null,null," 総   数",null,null,"    男",null,null,"    女",null,null,"  男／女",null,null,"たり人員",null,"密    度",null,null,null,null," 頭 羽",null,{"$f":"データ一覧!$V$256","v":0},null,{"$f":"データ一覧!$V$258","v":38},null,{"$f":"データ一覧!$V$260","v":0},null,{"$f":"データ一覧!$V$262","v":235},null,{"$f":"データ一覧!$V$264","v":0},null,"     出版・印刷","化学",null,null,null,null,null,null,null,null,{"$f":"データ一覧!V340","v":0},null,null,null,{"$f":"+データ一覧!V365","v":0},null,null,null,null,null,null,{"$f":"データ一覧!V390","v":0},null,null,null,null,null,null,"  ","建設業",null,null,null,null,668,null,null,null,{"$f":"データ一覧!V514","v":561},null,null,null,{"$f":"データ一覧!V539","v":107},null,null,null,null,"医療，福祉",null,null,null,null,475,null,null,null,{"$f":"データ一覧!V527","v":94},null,null,null,{"$f":"データ一覧!V552","v":381}]
[null,null,null,null,null,"    世 帯",null,null,"       人",null,null,"       人",null,null,"       人",null,null,null,"　　％",null,"    人",null,"    人/㎢",null,null,null,null,null,null,null,null,null,null,null,null,null,null,null,null,"     化学","石油・石炭",null,null,null,null,null,null,null,null,{"$f":"データ一覧!V341","v":0},null,null,null,{"$f":"+データ一覧!V366","v":0},null,null,null,null,null,null,{"$f":"データ一覧!V391","v":0},null,null,null,null,null,null,null,"製造業",null,null,null,null,389,null,null,null,{"$f":"データ一覧!V515","v":200},null,null,null,{"$f":"データ一覧!V540","v":189},null,null,null,null,"複合サービス事業",null,null,null,null,66,null,null,null,{"$f":"データ一覧!V528","v":41},null,null,null,{"$f":"データ一覧!V553","v":25}]
[{"$f":"データ一覧!$A$22","v":" 2.10.1"},null,null,null,null,{"$f":"データ一覧!V22","v":3775},null,null,{"$f":"+L30+O30","v":10598},null,null,{"$f":"データ一覧!V24","v":5767},null,null,{"$f":"データ一覧!V25","v":4831},null,null,null,{"$f":"+L30/O30*100","v":119.37487062719934},null,{"$f":"データ一覧!V27","v":2.81},null,{"$f":"データ一覧!V21","v":0},null,null,"  ５  林               業",null,null,null,null,null,null,null,null,null,null,null,null,null,"     石油・石炭","プラスチック",null,null,null,null,null,null,null,null,{"$f":"データ一覧!V342","v":0},null,null,null,{"$f":"+データ一覧!V367","v":0},null,null,null,null,null,null,{"$f":"データ一覧!V392","v":0},null,null,null,null,null,null," 第３次産業",null,null,null,null,null,2917,null,null,null,{"$f":"データ一覧!V516","v":1605},null,null,null,{"$f":"データ一覧!V541","v":1312},null,null,null,null,"サービス業",null,null,null,null,385,null,null,null,{"$f":"データ一覧!V529","v":250},null,null,null,{"$f":"データ一覧!V554","v":135}]
[{"$f":"データ一覧!$A$29","v":" 7.10.1"},null,null,null,null,{"$f":"データ一覧!V29","v":3469},null,null,{"$f":"+L31+O31","v":10251},null,null,{"$f":"データ一覧!V31","v":5400},null,null,{"$f":"データ一覧!V32","v":4851},null,null,null,111.31725417439704,null,{"$f":"データ一覧!V34","v":2.96},null,{"$f":"データ一覧!V28","v":0},null,null,null,null,null,null,null,null,null,null,null,null,null,null,null,null,"     プラスチック","ゴム",null,null,null,null,null,null,null,null,{"$f":"データ一覧!V343","v":0},null,null,null,{"$f":"+データ一覧!V368","v":0},null,null,null,null,null,null,{"$f":"データ一覧!V393","v":0},null,null,null,null,null,null,null,"電気･ｶﾞｽ･水道業",null,null,null,null,463,null,null,null,{"$f":"データ一覧!V517","v":441},null,null,null,{"$f":"データ一覧!V542","v":22},null,null,null,null,"公務",null,null,null,null,238,null,null,null,{"$f":"データ一覧!V530","v":165},null,null,null,{"$f":"データ一覧!V555","v":73}]
[{"$f":"データ一覧!$A$36","v":"12.10.1"},null,null,null,null,{"$f":"データ一覧!V36","v":3490},null,null,{"$f":"+L32+O32","v":9983},null,null,{"$f":"データ一覧!V38","v":5192},null,null,{"$f":"データ一覧!V39","v":4791},null,null,null,108.36986015445626,null,{"$f":"データ一覧!V41","v":2.86},null,{"$f":"データ一覧!V35","v":0},null,null,"    　森　　　林　　　総　　　面　　　積   ",null,null,null,null,null,null,null,{"$f":"データ一覧!$A$265","v":"3.3.31"},null,null,null,null,null,"     ゴム","皮革",null,null,null,null,null,null,null,null,{"$f":"データ一覧!V344","v":0},null,null,null,{"$f":"+データ一覧!V369","v":0},null,null,null,null,null,null,{"$f":"データ一覧!V394","v":0},null,null,null,null,null,null,null,"情報通信業",null,null,null,null,24,null,null,null,{"$f":"データ一覧!V518","v":9},null,null,null,{"$f":"データ一覧!V543","v":15},null,null,null," 分類不能の産業",null,null,null,null,null,18,null,null,null,{"$f":"データ一覧!V531","v":14},null,null,null,{"$f":"データ一覧!V556","v":4}]
[{"$f":"+データ一覧!$A$43","v":"17.10.1"},null,null,null,null,{"$f":"データ一覧!V43","v":3258},null,null,{"$f":"+L33+O33","v":9217},null,null,{"$f":"データ一覧!V45","v":4649},null,null,{"$f":"データ一覧!V46","v":4568},null,null,null,101.77320490367777,null,{"$f":"データ一覧!V48","v":2.83},null,{"$f":"データ一覧!V49","v":43.4},null,null,"　　　森　　　　　　　林　　　　　　　の　　　　　　　構　　　　　　　成",null,null,null,null,null,null,null,null,null,null,null,null,null,"     皮革","窯業・土石",null,null,null,null,null,null,null,null,{"$f":"データ一覧!V345","v":0},null,null,null,{"$f":"+データ一覧!V370","v":0},null,null,null,null,null,null,{"$f":"データ一覧!V395","v":0},null,null,null,null,null,null,"  ","運輸業,郵便業",null,null,null,null,{"$f":"BZ33+CD33","v":90},null,null,null,{"$f":"データ一覧!V519","v":66},null,null,null,{"$f":"データ一覧!V544","v":24}]
[{"$f":"+データ一覧!$A$50","v":"22.10.1"},null,null,null,null,{"$f":"データ一覧!V50","v":3144},null,null,{"$f":"+L34+O34","v":8580},null,null,{"$f":"データ一覧!V52","v":4280},null,null,{"$f":"+データ一覧!V53","v":4300},null,null,null,99.534883720930239,null,{"$f":"+データ一覧!V55","v":2.73},null,{"$f":"+データ一覧!V56","v":40.4},null,null,null,null,null,null,null,"       ha",null,null,null,null,null,null,"       ha",null,"     窯業・土石","鉄鋼",null,null,null,null,null,null,null,null,{"$f":"データ一覧!V346","v":0},null,null,null,{"$f":"+データ一覧!V371","v":0},null,null,null,null,null,null,{"$f":"データ一覧!V396","v":0},null,null,null,null,null,null," １６  社　 会 　福　 祉",null,null,null,null,null,null,null,null,null,null,null,null,null,null,null,{"$f":"データ一覧!$A$557","v":"3.4.1"}]
[{"$f":"データ一覧!$A$57","v":"27.10.1"},null,null,null,null,{"$f":"データ一覧!V57","v":3222},null,null,{"$f":"データ一覧!V58","v":8325},null,null,{"$f":"データ一覧!V59","v":4201},null,null,{"$f":"データ一覧!V60","v":4124},null,null,null,101.86711930164888,null,{"$f":"データ一覧!V62","v":2.5837988826815641},null,{"$f":"データ一覧!V63","v":39.200000000000003},null,null,"  総　　　　　   数",null,null,null,{"$f":"データ一覧!V265","v":18703.659999999996},null,null," 天然林       針葉樹",null,null,null,{"$f":"データ一覧!V268","v":610.48},null,null,"     鉄鋼","非鉄金属",null,null,null,null,null,null,null,null,{"$f":"データ一覧!V347","v":0},null,null,null,{"$f":"+データ一覧!V372","v":0},null,null,null,null,null,null,{"$f":"データ一覧!V397","v":0}]
["令　2.10.1（国調）",null,null,null,null,{"$f":"データ一覧!U64","v":4500},null,null,{"$f":"データ一覧!U65","v":10326},null,null,{"$f":"データ一覧!U66","v":5424},null,null,{"$f":"データ一覧!U67","v":4902},null,null,null,{"$f":"+L36/O36*100","v":110.64871481028152},null,{"$f":"データ一覧!V72","v":2.48},null,{"$f":"データ一覧!V73","v":37.155379612611341},null,null,"  人工林     針葉樹",null,null,null,{"$f":"データ一覧!V266","v":9604.48},null,null," 天然林       広葉樹",null,null,null,{"$f":"データ一覧!V269","v":8168.4400000000005},null,null,"     非鉄金属","金属",null,null,null,null,null,null,null,null,{"$f":"データ一覧!V348","v":1},null,null,null,{"$f":"+データ一覧!V373","v":54},null,null,null,null,null,null,{"$f":"データ一覧!V398","v":"x"},null,null,null,null,null,null,"    ","区分",null,null,null,null,null,null,"施設数",null,null,null,null,"収容定員",null,null,null,null,null,"区分",null,null,null,null,null,null,"施設数",null,null,null,null,"収容定員"]
["年",null,"  区",null," 0歳",null,null,"15歳",null,null,"25歳",null,null,"35歳",null,null,"45歳",null,null,"55歳",null,null,"65歳",null,null,"  人工林     広葉樹",null,null,null,{"$f":"データ一覧!V267","v":183.83},null,null," 竹               林",null,null,null,{"$f":"データ一覧!V270","v":63.35},null,null,"     金属","はん用機械",null,null,null,null,null,null,null,null,{"$f":"データ一覧!V349","v":0},null,null,null,{"$f":"+データ一覧!V374","v":0},null,null,null,null,null,null,{"$f":"データ一覧!V399","v":0},null,null,null,null,null,null,"生活保護施設",null,null,null,null,null,null,null,{"$f":"データ一覧!V557","v":0},null,null,null,{"$f":"データ一覧!V570","v":0},null,null,null,"人",null,"指定障害者支援施設",null,null,null,null,null,null,null,{"$f":"データ一覧!V563","v":0},null,null,null,{"$f":"データ一覧!V576","v":0},null,null,null,"人"]
["齢","令",null,null,null,"～",null,null,"～",null,null,"～",null,null,"～",null,null,"～",null,null,"～",null,null,null,null,null,null,null,null,null,null,null,null,null,null,null,null,null,null,"     一般機械","生産用機械",null,null,null,null,null,null,null,null,{"$f":"データ一覧!V350","v":"-"},null,null,null,{"$f":"+データ一覧!V375","v":0},null,null,null,null,null,null,{"$f":"データ一覧!V400","v":0},null,null,null,null,null,null,"地域福祉施設",null,null,null,null,null,null,null,{"$f":"データ一覧!V558","v":0},null,null,null,{"$f":"データ一覧!V571","v":0},null,null,null,null,null,"指定相談支援事業所",null,null,null,null,null,null,null,{"$f":"データ一覧!V564","v":0},null,null,null,{"$f":"データ一覧!V577","v":0}]
["階",{"$f":"+LEFT(データ一覧!$A$83,1)","v":"3"},"  分",null,null,null,"14歳",null,null,"24歳",null,null,"34歳",null,null,"44歳",null,null,"54歳",null,null,"64歳",null,null,"以上","    林     野     の     構     成",null,null,null,null,null,null,"保     有     形     態     別",null,null,null,null,null,null,"     電気機械","業務用機械",null,null,null,null,null,null,null,null,{"$f":"データ一覧!V351","v":0},null,null,null,{"$f":"+データ一覧!V376","v":0},null,null,null,null,null,null,{"$f":"データ一覧!V401","v":0},null,null,null,null,null,null,"老人福祉施設",null,null,null,null,null,null,null,{"$f":"データ一覧!V559","v":2},null,null,null,{"$f":"データ一覧!V572","v":10},null,null,null,null,null,"児童福祉施設",null,null,null,null,null,null,null,{"$f":"データ一覧!V565","v":7},null,null,null,{"$f":"データ一覧!V578","v":390}]
["級","・",null,null,null,null,"人",null,null,"人",null,"    人",null,null,"    人",null,null,"    人",null,null,"    人",null,null,"    人",null,null,null,null,null,null,null,"ha",null,null,null,null,null,"       ha",null,null,"電子・デバイス",null,null,null,null,null,null,null,null,{"$f":"データ一覧!V352","v":0},null,null,null,{"$f":"+データ一覧!V377","v":0},null,null,null,null,null,null,{"$f":"データ一覧!V402","v":0},null,null,null,null,null,null,"介護保険施設",null,null,null,null,null,null,null,{"$f":"データ一覧!V560","v":15},null,null,null,{"$f":"データ一覧!V573","v":306},null,null,null,null,null,"母子福祉施設",null,null,null,null,null,null,null,{"$f":"データ一覧!V566","v":0},null,null,null,{"$f":"データ一覧!V579","v":0}]
["別",{"$f":"+MID(データ一覧!$A$83,3,2)","v":"10"},"総 数",null,{"$f":"+E42+E43","v":1075},null,null,{"$f":"+H42+H43","v":560},null,null,{"$f":"+K42+K43","v":739},null,null,{"$f":"+N42+N43","v":820},null,null,{"$f":"+Q42+Q43","v":1022},null,null,{"$f":"+T42+T43","v":1087},null,null,{"$f":"+W42+W43","v":2548},null,null," 無立木地   伐採跡地",null,null,null,{"$f":"データ一覧!V271","v":0.94},null,null,"国   　　　 　 有",null,null,null,{"$f":"データ一覧!V273","v":1437.81},null,null,null,"電気機械",null,null,null,null,null,null,null,null,{"$f":"データ一覧!V353","v":0},null,null,null,{"$f":"+データ一覧!V378","v":0},null,null,null,null,null,null,{"$f":"データ一覧!V403","v":0},null,null,null,null,null,null,"障害者自立支援法施行前からの身体障害者福祉施設",null,null,null,null,null,null,null,{"$f":"データ一覧!V561","v":0},null,null,null,{"$f":"データ一覧!V574","v":0},null,null,null,null,null,"婦人保護施設",null,null,null,null,null,null,null,{"$f":"データ一覧!V567","v":0},null,null,null,{"$f":"データ一覧!V580","v":0}]
["人","・","  男",null,{"$f":"データ一覧!V83","v":531},null,null,{"$f":"データ一覧!V84","v":295},null,null,{"$f":"データ一覧!V85","v":447},null,null,{"$f":"データ一覧!V86","v":408},null,null,{"$f":"データ一覧!V87","v":554},null,null,{"$f":"データ一覧!V88","v":604},null,null,{"$f":"データ一覧!V89","v":1089},null,null," 無立木地   未立木地",null,null,null,{"$f":"データ一覧!V272","v":72.139999999999986},null,null,"公       　　  有",null,null,null,{"$f":"データ一覧!V274","v":3072.5299999999997},null,null,"     輸送機械","情報通信機械",null,null,null,null,null,null,null,null,{"$f":"データ一覧!V354","v":0},null,null,null,{"$f":"+データ一覧!V379","v":0},null,null,null,null,null,null,{"$f":"データ一覧!V404","v":0},null,null,null,null,null,null,null,null,null,null,null,null,null,null,null,null,null,null,null,null,null,null,null,null,"その他の社会福祉施設",null,null,null,null,null,null,null,{"$f":"データ一覧!V568+データ一覧!V569","v":1},null,null,null,{"$f":"データ一覧!V581+データ一覧!V582","v":0}]
["口",{"$f":"+RIGHT(データ一覧!$A$83,1)","v":"1"},"  女",null,{"$f":"データ一覧!V91","v":544},null,null,{"$f":"データ一覧!V92","v":265},null,null,{"$f":"データ一覧!V93","v":292},null,null,{"$f":"データ一覧!V94","v":412},null,null,{"$f":"データ一覧!V95","v":468},null,null,{"$f":"データ一覧!V96","v":483},null,null,{"$f":"データ一覧!V97","v":1459},null,null,null,null,null,null,null,null,null,"私          　 有",null,null,null,{"$f":"データ一覧!V275","v":14193.320000000002},null,null,"     精密機械","輸送機械",null,null,null,null,null,null,null,null,{"$f":"データ一覧!V355","v":0},null,null,null,{"$f":"+データ一覧!V380","v":0},null,null,null,null,null,null,{"$f":"データ一覧!V405","v":0},null,null,null,null,null,null,"障害福祉サービス事業所",null,null,null,null,null,null,null,{"$f":"データ一覧!V562","v":7},null,null,null,{"$f":"データ一覧!V575","v":54}]
[null,null,null,null,null,null,null,null,null,null,null,null,null,null,null,null,null,null,null,null,null,null,null,null,null,"            林     産     物     生     産     量 ",null,null,null,null,null,null,null,null,null,{"$f":"データ一覧!$A$276","v":"2年中"},null,null,null,"     その他","その他",null,null,null,null,null,null,null,null,{"$f":"データ一覧!V356","v":0},null,null,null,{"$f":"+データ一覧!V381","v":0},null,null,null,null,null,null,{"$f":"データ一覧!V406","v":0},null,null,null,null,null,null," １７  教　　　　　　　育",null,null,null,null,null,null,null,null,null,null,null,null,null,null,null,{"$f":"データ一覧!$A$583","v":"3.5.1"}]
["人口動態",null,null,null,null,null,null,"   自　然　動　態",null,null,null,null,null,"   社  会  動  態",null,null,null,null,null,{"$f":"データ一覧!$A78","v":"2.1.1～3.12.31"},null,null,null,null,null,"生椎茸",null,null,null,{"$f":"データ一覧!V276","v":111865},null,"㎏","乾椎茸",null,null,null,{"$f":"データ一覧!V277","v":30},null,"㎏"]
[null,null,"   区       分",null,null,null,null," 出   生",null,null," 死   亡",null,null," 転   入",null,null," 転   出",null,null," 婚   姻",null,null," 離   婚",null,null,"えのきだけ",null,null,null,{"$f":"データ一覧!V279","v":"-"},null,"㎏","なめこ",null,null,null,{"$f":"データ一覧!V278","v":"-"},null,"㎏","    ","工　業　用　水　量",null,null,null,null,null,"（従業者30人以上の事業所）",null,null,null,null,null,null,null,null,null,null,{"$f":"データ一覧!V407","v":28},null,null,null,null,"㎥／日",null,null,null,null,null,null,null,null,null,null,null,null,null,null,"学校数（校）",null,null,null,null,null,null,"教員数（人）",null,null,null,null,null,null,null,"学生・生徒・児童数（人）"]
[{"$f":"LEFT(データ一覧!$A74,6)","v":"2.10.1"},null,null,null,null,null,null,"       人",null,null,"       人",null,null,"       人",null,null,"       人",null,null,null,"    件",null,null,"    件",null,"ひらたけ",null,null,null,{"$f":"+データ一覧!V280","v":210},null,"㎏","まいたけ",null,null,null,{"$f":"+データ一覧!V281","v":"-"},null,"㎏",null,null,null,null,null,null,null,null,null,null,null,null,null,null,null,null,null,null,null,null,null,null,null,null,null,null,null,null,null,"　","区分",null,null,null,null,null,null,null," 本 校",null,null," 分 校",null,null," 本   務",null,null,null," 兼   務",null,null,null," 総   数",null,null,null,"男",null,null,null,"女"]
["～",null," 実          数",null,null,null,null,{"$f":"データ一覧!V74","v":32},null,null,{"$f":"データ一覧!V75","v":55},null,null,{"$f":"データ一覧!V76","v":117},null,null,{"$f":"データ一覧!V77","v":108},null,null,{"$f":"データ一覧!V78","v":35},null,null,{"$f":"データ一覧!V79","v":8},null,null,null,null,null,null,null,null,null,null,null,null,null,null,null,null," １１ 　上　・　下　水　道",null,null,null,null,null,null,null,null,null,null,null,null,null,null,null,null,null,null,null,null,null,null,null,null,null,null,null,null,"小学校",null,null,null,null,null,null,null,null,{"$f":"データ一覧!V584","v":4},null,null,{"$f":"データ一覧!V585","v":0},null,null,{"$f":"データ一覧!V586","v":55},null,null,null,{"$f":"データ一覧!V587","v":6},null,null,null,{"$f":"データ一覧!V588","v":481},null,null,null,{"$f":"データ一覧!V589","v":246},null,null,null,{"$f":"データ一覧!V590","v":235}]
[{"$f":"RIGHT(データ一覧!$A76,6)","v":"3.9.30"},null,"比率(対1,000人)",null,null,null,null,{"$f":"+H48/I35*1000","v":3.8438438438438438},null,null,{"$f":"+K48/I35*1000","v":6.606606606606606},null,null,"- ",null,null,"- ",null,null,{"$f":"+T48/I35*1000","v":4.2042042042042045},null,null,{"$f":"+W48/I35*1000","v":0.96096096096096095},null,null,"  ６  漁               業",null,null,null,null,null,null,null,null,null,null,null,null,null,null,null,null,null,null,null,null,null,null,null,null,null,null,null,null,null,null,null,null,null,null,null,null,null,null,null,null,null,"  ","中学校",null,null,null,null,null,null,null,null,{"$f":"データ一覧!V592","v":2},null,null,{"$f":"データ一覧!V593","v":0},null,null,{"$f":"データ一覧!V594","v":29},null,null,null,{"$f":"データ一覧!V595","v":2},null,null,null,{"$f":"データ一覧!V596","v":213},null,null,null,{"$f":"データ一覧!V597","v":110},null,null,null,{"$f":"データ一覧!V598","v":103}]
[null,null,null,null,null,null,null,null,null,null,null,null,null,null,null,null,null,null,null,null,null,null,null,null,null,null,null,null,null,null,null,null,null,null,null,null,null,null,null,"水 道 供 給 人 口",null,null,null,null,null,null,"上 水 道",null,null,null,"簡易水道",null,null,null,"専用水道",null,null,null,"飲料水供給施設",null,null,null,"下水道処理人口",null,null,null,null,"  ","高等学校",null,null,null,null,null,null,null,null,{"$f":"データ一覧!V600","v":0},null,null,{"$f":"データ一覧!V601","v":0},null,null,{"$f":"データ一覧!V602","v":0},null,null,null,{"$f":"データ一覧!V603","v":0},null,null,null,{"$f":"データ一覧!V604","v":0},null,null,null,{"$f":"データ一覧!V605","v":0},null,null,null,{"$f":"データ一覧!V606","v":0}]
["  ３  事　　業　　所（民　　営）    （平 28.6.1）",null,null,null,null,null,null,null,null,null,null,null,null,null,null,null,null,null,null,null,null,null,null,null,null,"漁船隻数・トン数",null,null,null,{"$f":"データ一覧!$A$282","v":"2.12.31"},null,null,null,"動　力　船",null,null,null,null,null,{"$f":"データ一覧!$A$408","v":"3.3.31"},null,null,null,null,null,"人",null,{"$f":"データ一覧!V408","v":0},null,null,{"$f":"データ一覧!V409","v":7975},null,null,null,null,{"$f":"データ一覧!V410","v":30},null,null,null,{"$f":"データ一覧!V411","v":88},null,null,null,{"$f":"データ一覧!V412","v":1343},null,null,null,"  ","大学・短期大学",null,null,null,null,null,null,null,null,{"$f":"データ一覧!V607","v":0},null,null,{"$f":"データ一覧!V608","v":0},null,null,{"$f":"データ一覧!V609","v":0},null,null,null,{"$f":"データ一覧!V610","v":0},null,null,null,{"$f":"データ一覧!V611","v":0},null,null,null,{"$f":"データ一覧!V612","v":0},null,null,null,{"$f":"データ一覧!V613","v":0}]
[null,null,null,null,null,null,null,null,null,null,null,null,null,null,null,null,null,null,null,null,null,null,null,null,null,"無動力船隻数",null,null,null,"船外機付漁船隻数",null,null,null,"隻　数",null,null,"総 ト ン 数",null,null,null,null,null,null,null,null,null,null,null,null,null,null,null,null,null,null,null,null,null,null,null,null,null,null,null,null,null,null,"  ","高等専門学校",null,null,null,null,null,null,null,null,{"$f":"データ一覧!V614","v":0},null,null,{"$f":"データ一覧!V615","v":0},null,null,{"$f":"データ一覧!V616","v":0},null,null,null,{"$f":"データ一覧!V617","v":0},null,null,null,{"$f":"データ一覧!V618","v":0},null,null,null,{"$f":"データ一覧!V619","v":0},null,null,null,{"$f":"データ一覧!V620","v":0}]
[null,null,null,null,null,null,null,"    総　　　　　数",null,null,null,null,null,"    民　　　　　営",null,null,null,null,null,"  国 ･ 地方公共団体",null,null,null,null,null,null,null,null,"隻",null,null,null,"隻",null,null,"隻",null,null,"t"," １２  交   通　・　通   信",null,null,null,null,null,null,null,null,null,null,null,null,null,null,null,null,null,null,null,null,null,null,null,null,null,null,null,"  ","特別支援学校",null,null,null,null,null,null,null,null,{"$f":"+データ一覧!V622","v":0},null,null,{"$f":"+データ一覧!V623","v":0},null,null,{"$f":"+データ一覧!V624","v":0},null,null,null,{"$f":"+データ一覧!V625","v":0},null,null,null,{"$f":"+データ一覧!V626","v":0},null,null,null,{"$f":"+データ一覧!V627","v":0},null,null,null,{"$f":"+データ一覧!V628","v":0}]
["  　区　　　　　　分",null,null,null,null,null,null," 事業所数",null,null," 従業者数",null,null," 事業所数",null,null," 従業者数",null,null," 事業所数",null,null," 従業者数",null,null,{"$f":"データ一覧!$V$282","v":1},null,null,null,{"$f":"データ一覧!$V$283","v":37},null,null,null,{"$f":"データ一覧!V284","v":127},null,null,{"$f":"データ一覧!V285","v":557.2299999999999},null,null,null,null,null,null,null,null,null,null,null,null,null,null,null,null,null,null,null,null,null,null,null,null,null,null,null,null,null,null,"  ","幼稚園",null,null,null,null,null,null,null,null,{"$f":"データ一覧!V630","v":0},null,null,{"$f":"データ一覧!V631","v":0},null,null,{"$f":"データ一覧!V632","v":0},null,null,null,{"$f":"データ一覧!V633","v":0},null,null,null,{"$f":"データ一覧!V634","v":0},null,null,null,{"$f":"データ一覧!V635","v":0},null,null,null,{"$f":"データ一覧!V636","v":0}]
[null,null,null,null,null,null,null,null,null,null,"       人",null,null,null,null,null,"       人",null,null,null,null,null,"       人",null,null,"  男女別就業者数",null,null,null,null,null,null,null,{"$f":"データ一覧!$A$286","v":"30.11.1"},null,null,null,null,null,"道     路",null,null,null,"実 延 長",null,null,null,"国     道",null,null,null,"県     道",null,null,null,"市町道",null,null,null," 鉄 道 営 業 キ ロ 数",null,null,null,null,null,null,null,"  ","幼保連携認定こども園",null,null,null,null,null,null,null,null,{"$f":"データ一覧!V638","v":4},null,null,{"$f":"データ一覧!V639","v":0},null,null,{"$f":"データ一覧!V640","v":65},null,null,null,{"$f":"データ一覧!V641","v":3},null,null,null,{"$f":"データ一覧!V642","v":321},null,null,null,{"$f":"データ一覧!V643","v":153},null,null,null,{"$f":"データ一覧!V644","v":168}]
["総数",null,null,null,null,null,null,{"$f":"データ一覧!V99","v":"…"},null,null,{"$f":"データ一覧!V156","v":"…"},null,null,{"$f":"データ一覧!V100","v":478},null,null,{"$f":"データ一覧!V157","v":4277},null,null,{"$f":"データ一覧!V101","v":"…"},null,null,{"$f":"データ一覧!V158","v":"…"},null,null,"総　　数",null,null,null,null,null,"男",null,null,null,"女",null,null,null,{"$f":"データ一覧!$A$413","v":"2.4.1"},null,null,null,{"$f":"データ一覧!V413","v":319.89999999999998},null,null,"㎞",{"$f":"データ一覧!V414","v":19.5},null,null,"㎞",{"$f":"データ一覧!V415","v":70.3},null,null,"㎞",{"$f":"データ一覧!V416","v":230.1},null,null,"km",{"$f":"データ一覧!$A$417","v":"3.4.1"},null,null,null,{"$f":"データ一覧!V417","v":4.0650000000000004},null,null,"㎞","  ","各種学校",null,null,null,null,null,null,null,null,{"$f":"データ一覧!V646","v":0},null,null,{"$f":"データ一覧!V647","v":0},null,null,{"$f":"データ一覧!V648","v":0},null,null,null,{"$f":"データ一覧!V649","v":0},null,null,null,{"$f":"データ一覧!V650","v":0},null,null,null,{"$f":"データ一覧!V651","v":0},null,null,null,{"$f":"データ一覧!V652","v":0}]
["農林漁業",null,null,null,null,null,null,{"$f":"データ一覧!V102","v":"…"},null,null,{"$f":"データ一覧!V159","v":"…"},null,null,{"$f":"データ一覧!V103","v":13},null,null,{"$f":"データ一覧!V160","v":109},null,null,{"$f":"データ一覧!V104","v":"…"},null,null,{"$f":"データ一覧!V161","v":"…"},null,null,null,null,null,null,null,"人",null,null,"　　　　人",null,null,null,null,"  人","自動車",null,null,null,null,null,null,null,null,"乗用車",null,null,null,null,null,null,null,null,null,null,null,null,null,null,null,null,null,null,"  ","専修学校",null,null,null,null,null,null,null,null,{"$f":"データ一覧!V654","v":0},null,null,{"$f":"データ一覧!V655","v":0},null,null,{"$f":"データ一覧!V656","v":0},null,null,null,{"$f":"データ一覧!V657","v":0},null,null,null,{"$f":"データ一覧!V658","v":0},null,null,null,{"$f":"データ一覧!V659","v":0},null,null,null,{"$f":"データ一覧!V660","v":0}]
["鉱業",null,null,null,null,null,null,{"$f":"データ一覧!V105","v":"…"},null,null,{"$f":"データ一覧!V162","v":"…"},null,null,{"$f":"データ一覧!V106","v":0},null,null,{"$f":"データ一覧!V163","v":0},null,null,{"$f":"データ一覧!V107","v":"…"},null,null,{"$f":"データ一覧!V164","v":"…"},null,null,{"$f":"AF58+AJ58","v":132},null,null,null,null,null,{"$f":"データ一覧!$V$287","v":121},null,null,null,{"$f":"データ一覧!V288","v":11},null,null,null,"台  数",null,null,null,"貨    物",null,null,null,"普     通",null,null,null,"小     型",null,null,null,"乗  合",null,null,"特  種",null,null,"小型二輪",null,null,"軽自動車",null,null," １８  衛　　　　　　　生"]
["建設業",null,null,null,null,null,null,{"$f":"データ一覧!V108","v":"…"},null,null,{"$f":"データ一覧!V165","v":"…"},null,null,{"$f":"データ一覧!V109","v":108},null,null,{"$f":"データ一覧!V166","v":1261},null,null,{"$f":"データ一覧!V110","v":"…"},null,null,{"$f":"データ一覧!V167","v":"…"},null,null,"　　　　海 面 漁 業 漁 獲 量 （属人）",null,null,null,null,null,null,null,{"$f":"データ一覧!$A$289","v":"30年中"},null,null,null,null,null,{"$f":"データ一覧!$A$418","v":"3.3.31"},null,null,null,null,{"$f":"データ一覧!V418","v":399},null,null,null,{"$f":"データ一覧!V420","v":1475},null,null,null,{"$f":"データ一覧!V421","v":1559},null,null,{"$f":"データ一覧!V419","v":83},null,null,{"$f":"データ一覧!V422","v":199},null,null,{"$f":"データ一覧!V423","v":106},null,null,{"$f":"データ一覧!V424","v":3615}]
["製造業",null,null,null,null,null,null,{"$f":"データ一覧!V111","v":"…"},null,null,{"$f":"データ一覧!V168","v":"…"},null,null,{"$f":"データ一覧!V112","v":24},null,null,{"$f":"データ一覧!V169","v":293},null,null,{"$f":"データ一覧!V113","v":"…"},null,null,{"$f":"データ一覧!V170","v":"…"},null,null,null,null,null,null,null,"       ","ｔ",null,null,null,null,null,null,"t",null,null,"     ",null,"郵　便　局　数",null,null,null,null,null,null,null,null,null,null,null,null,null,{"$f":"+MID(データ一覧!$A$428,3,2)","v":"12"},"令","一般加入",null,null,null,"ＩＮＳネット",null,null,null,null,null,null,null,"医療関係施設",null,null,null,null,null,{"$f":"データ一覧!$A$661","v":"元.10.1"},null,null,null,null,null,null,"および医療関係者数",null,null,null,null,null,null,null,{"$f":"データ一覧!$A$666","v":"30.12.31"}]
["電気・ｶﾞ ｽ・熱供給・水道業",null,null,null,null,null,null,{"$f":"データ一覧!V114","v":"…"},null,null,{"$f":"データ一覧!V171","v":"…"},null,null,{"$f":"データ一覧!V115","v":2},null,null,{"$f":"データ一覧!V172","v":523},null,null,{"$f":"データ一覧!V116","v":"…"},null,null,{"$f":"データ一覧!V173","v":"…"},null,null,"   総　　　　　　数",null,null,null,{"$f":"データ一覧!V289","v":972},null,null,"   藻　　　　　　類",null,null,null,{"$f":"データ一覧!V292","v":1},null,null,"通  信",null,null,null," 総     数",null,null,null,null," 郵 便 局",null,null,null,null," 簡 易 局",null,null,null,"・",{"$f":"+LEFT(データ一覧!$A$428,1)","v":"2"},"電話数",null,null,null,"加入数",null,null,null,null,null,null,null,null,null,"　","病",null,null,"院",null,"　",null,null,null,null," ","一般診療所",null,null,null,null,null,null,null,null,null,null,null,"歯科診療所"]
["情報通信業",null,null,null,null,null,null,{"$f":"データ一覧!V117","v":"…"},null,null,{"$f":"データ一覧!V174","v":"…"},null,null,{"$f":"データ一覧!V118","v":1},null,null,{"$f":"データ一覧!V175","v":2},null,null,{"$f":"データ一覧!V119","v":"…"},null,null,{"$f":"データ一覧!V176","v":"…"},null,null,"   魚　　　　　　類",null,null,null,{"$f":"データ一覧!V290","v":814},null,null,"   そ　   の　　 他",null,null,null,{"$f":"データ一覧!V293","v":130},null,null,{"$f":"データ一覧!$A$428","v":"2.12.31"},null,null,null,{"$f":"データ一覧!V425","v":5},null,null,null,null,{"$f":"データ一覧!V426","v":5},null,null,null,null,{"$f":"データ一覧!V427","v":0},null,null,null,{"$f":"+RIGHT(データ一覧!$A$428,2)","v":"31"},"・",{"$f":"データ一覧!V428","v":1446},null,null,null,{"$f":"データ一覧!V429","v":286},null,null,null," ","医療関係",null,null,null,null,null,null,null,null,null,null,null,"一般病院",null,null,null,null,null,null,null,null,null,null,null,"有",null,null,"床"]
["運輸業、郵便業",null,null,null,null,null,null,{"$f":"データ一覧!V120","v":"…"},null,null,{"$f":"データ一覧!V177","v":"…"},null,null,{"$f":"データ一覧!V121","v":6},null,null,{"$f":"データ一覧!V178","v":90},null,null,{"$f":"データ一覧!V122","v":"…"},null,null,{"$f":"データ一覧!V179","v":"…"},null,null,"   貝　　　　　　類",null,null,null,{"$f":"データ一覧!V291","v":27},null,null,null,null,null,null,null,null,null,null,null,null,null,null,null,null,null,null,null,null,null,null,null,null,null,null,null,null,null,null,null,null,null,null,null,null,null,null,"施設数",null,null,null,null,null,null,{"$f":"データ一覧!V661","v":0},null,null,null,null,null,{"$f":"データ一覧!V662","v":0},null,null,null,null,null,{"$f":"データ一覧!V663","v":7},null,null,null,null,null,{"$f":"データ一覧!V664","v":1},null,null,null,null,null,{"$f":"データ一覧!V665","v":3}]
["卸売業、小売業",null,null,null,null,null,null,{"$f":"データ一覧!V123","v":"…"},null,null,{"$f":"データ一覧!V180","v":"…"},null,null,{"$f":"データ一覧!V124","v":78},null,null,{"$f":"データ一覧!V181","v":351},null,null,{"$f":"データ一覧!V125","v":"…"},null,null,{"$f":"データ一覧!V182","v":"…"},null,null,null,null,null,null,null,null,null,null,null,null,null,null,null,null," １３  税　　・　　財　　政",null,null,null,null,null,null,null,null,null,null,null,null,null,null,null,null,null,null,null,null,null,null,null,null,null,null,null,null,null,null,null,null,null,null,"医師",null,null,null,null,"歯科医師",null,null,null,null,"薬剤師",null,null,null,null,"保健師",null,null,null,null,"助産師",null,null," ",null,"看護師",null,null," "]
["金融業、保険業",null,null,null,null,null,null,{"$f":"データ一覧!V126","v":"…"},null,null,{"$f":"データ一覧!V183","v":"…"},null,null,{"$f":"データ一覧!V127","v":4},null,null,{"$f":"データ一覧!V184","v":26},null,null,{"$f":"データ一覧!V128","v":"…"},null,null,{"$f":"データ一覧!V185","v":"…"},null,null,"  ７  商        　　　業 ",null,null,null,null,null,null,{"$f":"データ一覧!$A$294","v":"28.6.1(平成27年実績）"},null,null,null,null,null,null,null,null,null,null,null,null,null,null,null,null,null,null,null,null,null,null,null,null,null,null,null,null,null,null,null,null,null,null," ","医療",null,null,null,null,null,null,null,null,"人",null,null,null,null,"人",null,null,null,null,"人",null,null,null,null,"人",null,null,null,null,"人",null,null,null,null,"人"]
["不動産業、物品賃貸業",null,null,null,null,null,null,{"$f":"データ一覧!V129","v":"…"},null,null,{"$f":"データ一覧!V186","v":"…"},null,null,{"$f":"データ一覧!V130","v":6},null,null,{"$f":"データ一覧!V187","v":41},null,null,{"$f":"データ一覧!V131","v":"…"},null,null,{"$f":"データ一覧!V188","v":"…"},null,null,null,null,null,null,null,null,null,null,null,null,null,null,null,null,"           ",null,null,null,"歳入",null,null,null,null,null,null,null,null,"(千円）"," ",null,null,null,"歳出",null,null,null,null,null,null,null,null,"(千円）",null,"関係者",null,null,null,null,{"$f":"データ一覧!V666","v":6},null,null,null,null,{"$f":"データ一覧!V667","v":2},null,null,null,null,{"$f":"データ一覧!V668","v":4},null,null,null,null,{"$f":"データ一覧!V669","v":0},null,null,null,null,{"$f":"データ一覧!V670","v":0},null,null,null,null,{"$f":"データ一覧!V671","v":51}]
["学術研究、専門・技術ｻｰﾋﾞｽ業",null,null,null,null,null,null,{"$f":"データ一覧!V132","v":"…"},null,null,{"$f":"データ一覧!V189","v":"…"},null,null,{"$f":"データ一覧!V133","v":12},null,null,{"$f":"データ一覧!V190","v":246},null,null,{"$f":"データ一覧!V134","v":"…"},null,null,{"$f":"データ一覧!V191","v":"…"},null,null,"  産   業　 分　 類",null,null,null,"  商　 店 　数",null,null," 従　業　者　数",null,null,"年　間　販　売　額",null,null,null,"一人当たり歳入歳出予算決算額",null,null,null,null,null,null,null,null,null,null,null,null,null,null,null,null,null,null,null,null,null,null,null,null,null,null,null,"                   ",null,null,null,null,null,null,null,null,"死因別死亡数　　　　　　    ",null,null,null,null,null,null,null,null,null,null,null,null,null,null,null,{"$f":"データ一覧!$A$672","v":"2年中"},null,null,null,null,null,null,null,null,"      単 位：人"]
["宿泊業、飲食サービス業",null,null,null,null,null,null,{"$f":"データ一覧!V135","v":"…"},null,null,{"$f":"データ一覧!V192","v":"…"},null,null,{"$f":"データ一覧!V136","v":87},null,null,{"$f":"データ一覧!V193","v":335},null,null,{"$f":"データ一覧!V137","v":"…"},null,null,{"$f":"データ一覧!V194","v":"…"},null,null,null,null,null,null,null,"        店",null,null,null,"　人",null,"         百万円",null,null,"区分",null,null,null,{"$f":"データ一覧!$A$438","v":"3年度"},null,null,null,null,{"$f":"データ一覧!$A$452","v":"2年度"},null,null,null,null,"区分",null,null,null,{"$f":"+AR68","v":"3年度"},null,null,null,null,{"$f":"データ一覧!$A$452","v":"2年度"},null,null,null,null," 死     因",null,null,null,null,null,null,null,null,null,null,null,"悪  性",null,null,"高血圧",null,null,null,null,null,"脳血管",null,null,null,null,null," ",null,null,"不慮の事故"]
["生活関連サービス業、娯楽業",null,null,null,null,null,null,{"$f":"データ一覧!V138","v":"…"},null,null,{"$f":"データ一覧!V195","v":"…"},null,null,{"$f":"データ一覧!V139","v":45},null,null,{"$f":"データ一覧!V196","v":140},null,null,{"$f":"データ一覧!V140","v":"…"},null,null,{"$f":"データ一覧!V197","v":"…"},null,null,"総　　　　　　計",null,null,null,{"$f":"データ一覧!V294","v":64},null,null,{"$f":"データ一覧!V303","v":272},null,null,{"$f":"データ一覧!V312","v":4221},null,null,null,null,null,null,null,{"$f":"データ一覧!V434","v":1484398.7823439878},null,null,null,null,{"$f":"データ一覧!V435","v":1480248.3725588385},null,null,null,null,null,null,null,null,{"$f":"データ一覧!V436","v":1484398.7823439878},null,null,null,null,{"$f":"データ一覧!V437","v":1414739.8597896844},null,null,null,null,null,null,null,null,null,"全 死 因",null,null,null,"結 核",null,null,"新生物",null,null,"性疾患",null,null,"心疾患",null,null,"疾  患",null,null,"肺  炎",null,null,"老  衰",null,null,null,null," ","交通事故"]
["教育、学習支援業",null,null,null,null,null,null,{"$f":"データ一覧!V141","v":"…"},null,null,{"$f":"データ一覧!V198","v":"…"},null,null,{"$f":"データ一覧!V142","v":16},null,null,{"$f":"データ一覧!V199","v":85},null,null,{"$f":"データ一覧!V143","v":"…"},null,null,{"$f":"データ一覧!V200","v":"…"},null,null,"卸売業",null,null,null,{"$f":"データ一覧!V295","v":5},null,null,{"$f":"データ一覧!V304","v":20},null,null,{"$f":"データ一覧!V313","v":248},null,null,null,"項目別歳入歳出予算決算額"]
["医療、福祉",null,null,null,null,null,null,{"$f":"データ一覧!V144","v":"…"},null,null,{"$f":"データ一覧!V201","v":"…"},null,null,{"$f":"データ一覧!V145","v":24},null,null,{"$f":"データ一覧!V202","v":294},null,null,{"$f":"データ一覧!V146","v":"…"},null,null,{"$f":"データ一覧!V203","v":"…"},null,null,"小売業",null,null,null,{"$f":"データ一覧!V296","v":59},null,null,{"$f":"データ一覧!V305","v":252},null,null,{"$f":"データ一覧!V314","v":3972},null,null,null,"区分",null,null,null,{"$f":"データ一覧!$A$438","v":"3年度"},null,null,null,null,{"$f":"データ一覧!$A$452","v":"2年度"},null,null,null,null,"区分",null,null,null,{"$f":"+AR71","v":"3年度"},null,null,null,null,{"$f":"データ一覧!$A$452","v":"2年度"},null,null,null,null,null,null,null,null,null,{"$f":"データ一覧!V672","v":80},null,null,null,"   －",{"$f":"データ一覧!V673","v":0},null,{"$f":"データ一覧!V674","v":3},null,null,null,{"$f":"データ一覧!V675","v":0},null,{"$f":"データ一覧!V676","v":1},null,null,{"$f":"データ一覧!V677","v":0},null,null,{"$f":"データ一覧!V678","v":3},null,null,{"$f":"データ一覧!V679","v":10},null,null,{"$f":"データ一覧!V680","v":3},null,null,{"$f":"データ一覧!V681","v":0}]
["複合サービス事業",null,null,null,null,null,null,{"$f":"データ一覧!V147","v":"…"},null,null,{"$f":"データ一覧!V204","v":"…"},null,null,{"$f":"データ一覧!V148","v":6},null,null,{"$f":"データ一覧!V205","v":39},null,null,{"$f":"データ一覧!V149","v":"…"},null,null,{"$f":"データ一覧!V206","v":"…"},null,null,"各種商品",null,null,null,{"$f":"データ一覧!V297","v":0},null,null,{"$f":"データ一覧!V306","v":0},null,null,{"$f":"データ一覧!V315","v":0},null,null,null,"総額",null,null,null,{"$f":"SUM(AR73:AV85)","v":11703000},null,null,null,null,{"$f":"SUM(AW73:BA85)","v":11803032},null,null,null,null,"総額",null,null,null,{"$f":"SUM(BF73:BJ85)","v":11703000},null,null,null,null,{"$f":"SUM(BK73:BO85)","v":11300942},null,null,null,null," １９  警　察　・　消　防  ",null,null,null,null,null,null,null,null,null,null,null,null,null,null,null,{"$f":"+データ一覧!$A682","v":"3.4.1"}]
["サービス業",null,null,null,null,null,null,{"$f":"データ一覧!V150","v":"…"},null,null,{"$f":"データ一覧!V207","v":"…"},null,null,{"$f":"データ一覧!V151","v":46},null,null,{"$f":"データ一覧!V208","v":442},null,null,{"$f":"データ一覧!V152","v":"…"},null,null,{"$f":"データ一覧!V209","v":"…"},null,null,"織物・衣服・身の回り品",null,null,null,{"$f":"データ一覧!V298","v":3},null,null,{"$f":"データ一覧!V307","v":6},null,null,{"$f":"データ一覧!V316","v":"x"},null,null,null,"地方税",null,null,null,{"$f":"データ一覧!V439","v":4142180},null,null,null,null,{"$f":"データ一覧!V453","v":4284881},null,null,null,null,"議会費",null,null,null,{"$f":"データ一覧!V467","v":105746},null,null,null,null,{"$f":"データ一覧!V481","v":95767}]
["公務",null,null,null,null,null,null,{"$f":"データ一覧!V153","v":"…"},null,null,{"$f":"データ一覧!V210","v":"…"},null,null,{"$f":"データ一覧!V154","v":"…"},null,null,{"$f":"データ一覧!V211","v":"…"},null,null,{"$f":"データ一覧!V155","v":"…"},null,null,{"$f":"データ一覧!V212","v":"…"},null,null,"飲食料品",null,null,null,{"$f":"データ一覧!V299","v":18},null,null,{"$f":"データ一覧!V308","v":101},null,null,{"$f":"データ一覧!V317","v":1680},null,null,null,"地方譲与税",null,null,null,{"$f":"データ一覧!V440","v":85200},null,null,null,null,{"$f":"データ一覧!V454","v":84695},null,null,null,null,"総務費",null,null,null,{"$f":"データ一覧!V468","v":2170998},null,null,null,null,{"$f":"データ一覧!V482","v":2753493},null,null,null,null,null,null,null,null,null,null,null,null,null,null,"交番・駐在所",null,null,null,null,null,null,null,null,"刑法犯認知件数",null,null,null,null,null,null,null,null,"交通人身事故発生件数"]
["  ４  農        　　　業 ",null,null,null,null,null,null,null,null,null,null,null,null,null,null,null,null,null,null,null,null,null,null,null,null,"機械器具",null,null,null,{"$f":"データ一覧!V300","v":10},null,null,{"$f":"データ一覧!V309","v":30},null,null,{"$f":"データ一覧!V318","v":141},null,null,null,"各種交付金",null,null,null,{"$f":"データ一覧!V441","v":217300},null,null,null,null,{"$f":"データ一覧!V455","v":198158},null,null,null,null,"民生費",null,null,null,{"$f":"データ一覧!V469","v":1920774},null,null,null,null,{"$f":"データ一覧!V483","v":1721895},null,null,null,null,null,"警察署数",null,null,null,null,null,null,null,null,"検問所数",null,null,null,null,null,null,null,null,null,{"$f":"データ一覧!$A$684","v":"2年中"},null,null,null,null,null,null,null,null,{"$f":"データ一覧!$A$684","v":"2年中"}]
[null,null,null,null,null,null,null,null,null,null,null,null,null,null,null,null,null,null,null,null,null,null,null,null,null,"その他",null,null,null,{"$f":"データ一覧!V301","v":28},null,null,{"$f":"データ一覧!V310","v":115},null,null,{"$f":"データ一覧!V319","v":"x"},null,null,null,"地方特例交付金",null,null,null,{"$f":"データ一覧!V442","v":29000},null,null,null,null,{"$f":"データ一覧!V456","v":8420},null,null,null,null,"衛生費",null,null,null,{"$f":"データ一覧!V470","v":893181},null,null,null,null,{"$f":"データ一覧!V484","v":1174173},null,null,null,null,null,null,null,null,null,null,null,null,null,null,null,null,null,null,null,null,null,null,null,null,null,null,null,null," 件",null,null,null,null,null,null,null,null,"　件"]
[null,null,"農業経営体数",null,null,null,null,null,null,"農産物販売額規模別経営体数",null,null,null,null,null,null,null,"経営耕地面積規模別経営体数",null,null,null,null,null,null,null,"無店舗",null,null,null,{"$f":"データ一覧!V302","v":0},null,null,{"$f":"データ一覧!V311","v":0},null,null,{"$f":"データ一覧!V320","v":0},null,null,null,"地方交付税",null,null,null,{"$f":"データ一覧!V443","v":100000},null,null,null,null,{"$f":"データ一覧!V457","v":283290},null,null,null,null,"労働費",null,null,null,{"$f":"データ一覧!V471","v":50556},null,null,null,null,{"$f":"データ一覧!V485","v":49793},null,null,null,null,null,null,{"$f":"データ一覧!V682","v":0},null,null,null,null,null,null,null,null,{"$f":"データ一覧!V683","v":5},null,null,null,null,null,null,null,null,{"$f":"データ一覧!V684","v":14},null,null,null,null,null,null,null,null,{"$f":"データ一覧!V685","v":7}]
["農",null,"区　分",null,null,null,"経営体数\n（経営体）",null,null,"区　分",null,null,null,null,"経営体数\n（経営体）",null,null,"区　分",null,null,null,null,"経営体数\n（経営体）",null,null,null,null,null,null,null,null,null,null,null,null,null,null,null,null,"分担金および負担金",null,null,null,{"$f":"データ一覧!V444","v":15467},null,null,null,null,{"$f":"データ一覧!V458","v":18621},null,null,null,null,"農林水産業費",null,null,null,{"$f":"データ一覧!V472","v":1530831},null,null,null,null,{"$f":"データ一覧!V486","v":1566447},null,null,null,null,"火災発生件数",null,null,null,null,null,null,null,null,null,"林野焼損",null,null,null,null,"損      害",null,null,null,null,"消 防 自",null,null,null,"その他の",null,null,null," ",null,null,null,null," "]
["業","令",null,null,null,null,null,null,null,null,null,null,null,null,null,null,null,null,null,null,null,null,null,null,null,"  ８  住　　　　　　 　宅",null,null,null,null,null,null,null,null,null,null,null,null,null,"使用料および手数料",null,null,null,{"$f":"データ一覧!V445","v":44057},null,null,null,null,{"$f":"データ一覧!V459","v":42530},null,null,null,null,"商工費",null,null,null,{"$f":"データ一覧!V473","v":2218521},null,null,null,null,{"$f":"データ一覧!V487","v":751714},null,null,null,null,{"$f":"+データ一覧!$A$686","v":"2年中"},null,null,null,null,"焼損棟数",null,null,null,null,"面    積",null,null,null,null,"見  積  額",null,null,null,null,"動 車 数",null,null,null,"ﾎﾟﾝﾌﾟ数",null,null,null," 消防吏員",null,null,null," 消防団員"]
["経",{"$f":"+LEFT(データ一覧!$A$213)","v":"2"},"計",null,null,null,{"$f":"データ一覧!V213","v":270},null,null,"総　　　 数",null,null,null,null,{"$f":"データ一覧!V217","v":270},null,null,"総　　　 数",null,null,null,null,{"$f":"データ一覧!V233","v":605},null,null,null,null,null,null,null,null,null,null,null,null,null,null,null,null,"国庫支出金",null,null,null,{"$f":"データ一覧!V446","v":2560355},null,null,null,null,{"$f":"データ一覧!V460","v":3745529},null,null,null,null,"土木費",null,null,null,{"$f":"データ一覧!V474","v":1116714},null,null,null,null,{"$f":"データ一覧!V488","v":1301628},null,null,null,null,"         件",null,null,null,null,null,"      棟",null,null,null,null,null,null,"  ａ",null,null,null,"  千円",null,null,"        ",null,null,null,null,null,null,null,null,null,"  人",null,null,null,"  人"]
["営","・","個人経営体",null,null,null,{"$f":"データ一覧!V214","v":255},null,null,"販 売 な し",null,null,null,null,{"$f":"データ一覧!V218","v":50},null,null,"0.5 ha 未満",null,null,null,null,{"$f":"データ一覧!V234","v":29},null,null,{"$f":"+データ一覧!$A$321","v":"令和元年"},null,null,null,null,{"$f":"データ一覧!$A$324","v":"2年"},"中の増減",null,null,null,{"$f":"+データ一覧!$A$324","v":"2年"},null,null,null,"県支出金",null,null,null,{"$f":"データ一覧!V447","v":2019615},null,null,null,null,{"$f":"データ一覧!V461","v":1825021},null,null,null,null,"消防費",null,null,null,{"$f":"データ一覧!V475","v":266829},null,null,null,null,{"$f":"データ一覧!V489","v":356973},null,null,null,null,null,{"$f":"データ一覧!V686","v":2},null,null,null,null,{"$f":"データ一覧!V687","v":3},null,null,null,null,{"$f":"データ一覧!V688","v":0},null,null,null,{"$f":"データ一覧!V689","v":2066},null,null,null,null,null,{"$f":"データ一覧!V690","v":5},null,null,null,{"$f":"データ一覧!V691","v":21},null,null,null,{"$f":"データ一覧!V692","v":24},null,null,null,{"$f":"データ一覧!V693","v":169}]
["体",{"$f":"+LEFT(データ一覧!$A$213,1)","v":"2"},"団体経営体",null,null,null,{"$f":"データ一覧!V215","v":15},null,null,"50万円未満",null,null,null,null,{"$f":"データ一覧!V219","v":119},null,null,"0.5 ha ～ 1.0 ha",null,null,null,null,{"$f":"データ一覧!V235","v":67},null,null,null,null,null,null,"建設した住宅",null,null,"消失した住宅",null,null,null,null,null,null,"財産収入",null,null,null,{"$f":"データ一覧!V448","v":53679},null,null,null,null,{"$f":"データ一覧!V462","v":43879},null,null,null,null,"教育費",null,null,null,{"$f":"データ一覧!V476","v":1122026},null,null,null,null,{"$f":"データ一覧!V490","v":1228429},null,null,null,null," ２０  そ　　　の　　　他　"]
["数","・",null,"法人経営",null,null,{"$f":"データ一覧!V216","v":9},null,null,"50～300万円",null,null,null,null,{"$f":"データ一覧!V220","v":71},null,null,"1.0 ha ～ 2.0 ha",null,null,null,null,{"$f":"データ一覧!V236","v":61},null,null,null,null,null,null,null,null,null,null,null,null,null,null,null,null,"繰入金",null,null,null,{"$f":"データ一覧!V449","v":1630266},null,null,null,null,{"$f":"データ一覧!V463","v":672595},null,null,null,null,"災害復旧費",null,null,null,{"$f":"データ一覧!V477","v":76300},null,null,null,null,{"$f":"データ一覧!V491","v":83583}]
["（",{"$f":"+RIGHT(データ一覧!$A$213)","v":"1"},null,null,null,null,null,null,null,"300～500万円",null,null,null,null,{"$f":"データ一覧!V221","v":8},null,null,"2.0 ha ～ 3.0 ha",null,null,null,null,{"$f":"データ一覧!V237","v":44},null,null,null,{"$f":"データ一覧!V321","v":3790},null,"戸",{"$f":"データ一覧!V322","v":26},null,"戸",{"$f":"データ一覧!V323","v":15},null,"戸",null,{"$f":"データ一覧!V324","v":3801},null,"戸","地方債",null,null,null,{"$f":"データ一覧!V450","v":0},null,null,null,null,{"$f":"データ一覧!V464","v":0},null,null,null,null,"公債費",null,null,null,{"$f":"データ一覧!V478","v":210524},null,null,null,null,{"$f":"データ一覧!V492","v":217047},null,null,null,null,null,null,null,null,null,"不動の滝、野鹿の滝、若州一滴文庫、松木庄吉美術記念館・郷土史料館、暦会館、土御門家墓所、薬師堂、小浜藩台場跡・松ヶ瀬台場跡・鋸崎台場跡、木造阿弥陀如来坐像・木造多聞天立像(長楽寺)、木造不動明王坐像(常禅寺)、木造毘沙門天立像・木造吉祥天立像・木造善膩師童子立像(清雲寺)、木造千手観音立像(意足寺)、大島半島のニソの杜、研炭製造"]
["総",null,null,null,null,null,null,null,null,"500～1,000万円",null,null,null,null,{"$f":"データ一覧!V222","v":12},null,null,"3.0 ha ～ 5.0 ha",null,null,null,null,{"$f":"データ一覧!V238","v":12},null,null,null,null,null,null,null,null,null,null,null,null,null,null,null,null,"その他",null,null,null,{"$f":"データ一覧!V451","v":805881},null,null,null,null,{"$f":"データ一覧!V465","v":595413},null,null,null,null,"その他",null,null,null,{"$f":"データ一覧!V479","v":20000},null,null,null,null,{"$f":"データ一覧!V493","v":0},null,null,null,null,"　名所・旧跡"]
["数",null,null,null,null,null,null,null,null,"1,000万円以上",null,null,null,null,{"$f":"データ一覧!V223","v":10},null,null,"5.0 ha以上",null,null,null,null,{"$f":"データ一覧!V239","v":392},null,null,null,null,null,null,null,null,null,null,null,null,null,null,null,null,null,null,null,null,null,null,null,null,null,null,null,null,null,null,null,null,null,null,null,null,null,null,null,null,null,null,null,null,"  文化財等"]
["）",null,"15歳以上の常雇い数",null,null,null,null,null,null,"農業に60日以上従事した世帯員、役員・構成員\n（経営主を含む）の平均年齢",null,null,null,null,null,null,null,null,null,null,null,null,null,null,null,"  ９  議　 員　・　職 　員",null,null,null,null,null,null,null,null,null,null,null,null,null," １４  文　　　　　　化",null,null,null,null,null,null,null,null,null," ( ",{"$f":"データ一覧!$A$500","v":"3.3.31"},null,null,null,"ただし図書館・公民館・児童館",null,null,null,null,null,null,null,{"$f":"データ一覧!$A$494","v":"3.4.1"}]
["と",null,null,null,null,null,null,null,null,null,null,null,null,null,null,null,null,null,null,null,null,null,null,null,null,null,null,null,null,null,null,null,null,null,null,null,null,null,null,null,null,null,null,null,null,null,null,null,null,null,null,null,null,null,null,"　宗教法人数 ",null,null,null,null,null,null,{"$f":"データ一覧!$A$502","v":"2.12.31"},null,null,null,"）","　　特産物",null,null,null,null,"しいたけ、梅、自然薯、びわ、若狭ぐじ、しし肉、名田庄漬、鯖へしこ、若狭パール、今谷焼、研炭、ふくいサーモン"]
["就",null,null,null,null,null,null,null,null,"農業に60日以上従事",null,null,null,null,null,null,null,"農業に150日以上従事",null,null,null,null,null,null,null," 市 町 村 議 会",null,null,"有権者数",null,{"$f":"データ一覧!$A$328","v":"3.9.1"},null,"市 町 村 議 会",null,null,"  職      員      数",null,null,null,null,null,null,null,null,"図書館",null,null,null,null,null,"公　民　館",null,null,null,null,null,null,null,null,null,null," 社会教育学級講座"]
["業",null,"区　分",null,null,null,"人",null,null,"区　分",null,null,null,null,"人",null,null,"区　分",null,null,null,null,"人",null,null," 議  員  定  数",null,null,"    男",null,"    女",null,"選 挙 投 票 率",null,null," 総     数",null,"一般行政職",null,"公    共",null,null,null," 館  数",null,null," 図書数",null,null," 本  館",null,null," 分  館",null,null," 公  園",null,null," 児童館",null,null,"学級講座数",null,null,"受講者数"]
["状",null,"総数",null,null,null,{"$f":"データ一覧!V230","v":28},null,null,"総数",null,null,null,null,{"$f":"データ一覧!V224","v":66.900000000000006},null,null,"総数",null,null,null,null,{"$f":"データ一覧!V227","v":66.3},null,null,null,null,"人",null,"人",null,"人",null,null,"　％",null,"人",null,"人","施 設 数",null,null,null,null,{"$f":"データ一覧!V494","v":2},null,{"$f":"データ一覧!V495","v":141299},null,null,null,{"$f":"データ一覧!V496","v":4},null,{"$f":"データ一覧!V497","v":0},null,null,{"$f":"データ一覧!V498","v":0},null,null,{"$f":"データ一覧!V499","v":2},null,null,{"$f":"データ一覧!V500","v":0},null,null,{"$f":"データ一覧!V501","v":0},null,null," 　年中行事",null,null,null,null,"ふるさとファミリーウォーク、水無月祭、ふるさと踊りフェスティバル、\n若狭おおいのスーパー大火勢、名田庄星のフィエスタ、おおい健康マラソン、\n暦イベント、帰雁忌、うみんぴあフェスタ、じねんじょまつり、本郷踊、六歳念仏、大火勢、文七踊、下村の獅子舞"]
["況",null,"男",null,null,null,{"$f":"データ一覧!V231","v":10},null,null,"男",null,null,null,null,{"$f":"データ一覧!V225","v":65.599999999999994},null,null,"男",null,null,null,null,{"$f":"データ一覧!V228","v":64.5},null,null,null,{"$f":"データ一覧!V325","v":14},null,{"$f":"データ一覧!V328","v":3336},null,{"$f":"データ一覧!V329","v":3404},null,{"$f":"データ一覧!V327","v":79.67},null,null,{"$f":"データ一覧!V330","v":169},null,{"$f":"データ一覧!V331","v":132},null,"宗    教",null,null,null," 仏教系",null,null,"ｷﾘｽﾄ教系",null,null,"神道諸派",null,null,"公会堂・市民会館",null,null,null,null,null," テレビ",null,null,"衛星放送契約数"]
[null,null,"女",null,null,null,{"$f":"データ一覧!V232","v":18},null,null,"女",null,null,null,null,{"$f":"データ一覧!V226","v":69.099999999999994},null,null,"女",null,null,null,null,{"$f":"データ一覧!V229","v":69.5},null,null,null,null,null,null,null,null,null,{"$f":"データ一覧!V326","v":"31.4.21"},null,null,null,null,null,null,"法 人 数",null,null,null,{"$f":"データ一覧!V502","v":45},null,null,{"$f":"データ一覧!V503","v":0},null,null,{"$f":"データ一覧!V504","v":33},null,null,{"$f":"データ一覧!V505","v":6},null,null,null,null,null,"      等",null,null,{"$f":"データ一覧!V506","v":1348}]

{"sheet":"若狭町","index":21,"n_rows":93,"n_cols":103,"rows_kept":93,"cut":false,"hidden":false,"merged":[[89,2,89,5],[89,9,89,13],[89,17,89,21],[90,2,90,5],[90,9,90,13],[90,17,90,21],[91,2,91,5],[91,9,91,13],[91,17,91,21],[92,2,92,5],[92,9,92,13],[92,14,92,16],[92,17,92,21],[81,14,81,16],[82,6,82,8],[82,9,82,13],[82,14,82,16],[83,6,83,8],[83,9,83,13],[83,14,83,16],[84,6,84,8],[84,9,84,13],[84,14,84,16],[84,22,84,24],[85,6,85,8],[85,9,85,13],[85,14,85,16],[85,22,85,24],[86,2,88,8],[86,9,87,24],[88,9,88,16],[88,17,88,24],[77,2,78,5],[77,6,78,8],[77,9,78,13],[77,14,78,16],[77,17,78,21],[77,22,78,24],[79,2,79,5],[79,6,79,8],[79,9,79,13],[79,14,79,16],[79,17,79,21],[79,22,79,24],[80,6,80,8],[80,9,80,13],[80,14,80,16],[80,17,80,21],[80,22,80,24],[83,22,83,24],[81,22,81,24],[82,22,82,24],[81,6,81,8],[81,9,81,13],[85,17,85,21],[25,60,25,64],[31,91,31,94],[31,95,31,98],[20,40,20,46],[20,49,20,51],[21,35,21,38],[20,29,20,31],[25,49,25,51],[25,31,26,32],[25,35,26,36],[26,40,26,46],[27,37,27,38],[29,40,29,46],[38,40,38,46],[35,36,35,37],[25,25,25,26],[26,25,26,26],[27,49,27,51],[26,49,26,51],[24,40,24,46],[24,49,24,51],[34,36,34,37],[27,40,27,46],[27,31,27,32],[27,33,27,34],[27,35,27,36],[25,33,26,34],[25,29,26,30],[24,27,24,28],[21,29,21,31],[20,25,20,28],[25,95,25,98],[26,99,26,102],[25,99,25,102],[24,99,24,102],[26,91,26,94],[26,95,26,98],[22,99,22,102],[23,68,23,72],[22,81,22,84],[21,73,21,76],[22,68,22,72],[22,73,22,76],[20,81,20,84],[26,77,26,80],[26,81,26,84],[26,86,26,90],[25,91,25,94],[23,99,23,102],[23,91,23,94],[24,91,24,94],[24,95,24,98],[22,91,22,94],[22,95,22,98],[23,95,23,98],[26,68,26,72],[25,73,25,76],[25,77,25,80],[25,81,25,84],[25,86,25,90],[26,73,26,76],[24,86,24,90],[24,81,24,84],[22,86,22,90],[55,0,55,6],[41,10,41,12],[42,7,42,9],[55,16,55,18],[30,18,30,19],[30,5,30,7],[30,8,30,10],[30,11,30,13],[30,14,30,16],[30,20,30,21],[30,22,30,24],[29,18,29,19],[29,20,29,21],[29,5,29,7],[31,20,31,21],[31,22,31,24],[28,77,28,80],[31,77,31,80],[31,68,31,72],[31,73,31,76],[29,77,29,80],[32,40,32,46],[41,36,41,37],[36,40,36,46],[30,49,30,51],[29,49,29,51],[30,40,30,46],[31,40,31,46],[29,53,29,56],[50,0,51,24],[46,0,46,1],[47,0,47,1],[68,25,68,28],[69,25,69,28],[37,93,37,95],[29,81,29,84],[30,86,30,90],[29,91,29,94],[27,99,27,102],[30,99,30,102],[30,95,30,98],[30,91,30,94],[29,99,29,102],[30,68,30,72],[30,73,30,76],[27,68,27,72],[27,73,27,76],[27,77,27,80],[29,86,29,90],[30,77,30,80],[29,73,29,76],[28,81,28,84],[28,86,28,90],[30,81,30,84],[28,95,28,98],[31,81,31,84],[27,86,27,90],[27,53,27,56],[27,60,27,64],[55,25,55,30],[55,31,55,34],[32,49,32,51],[34,53,34,56],[33,60,33,64],[68,22,68,24],[71,48,71,52],[72,29,72,30],[69,29,69,30],[62,29,62,30],[73,22,73,24],[68,43,68,47],[67,43,67,47],[27,95,27,98],[71,67,72,82],[71,83,72,102],[81,67,82,102],[70,32,70,33],[75,35,75,37],[28,68,28,72],[28,73,28,76],[28,99,28,102],[73,32,73,33],[29,95,29,98],[42,36,42,37],[40,29,40,30],[36,29,36,30],[36,36,36,37],[40,36,40,37],[41,32,41,35],[28,40,28,46],[31,49,31,51],[28,49,28,51],[44,25,44,28],[41,29,41,30],[27,29,27,30],[34,40,34,46],[69,16,69,18],[65,19,65,21],[66,16,66,18],[66,19,66,21],[66,22,66,24],[0,0,0,9],[1,0,3,9],[5,0,5,9],[14,25,15,25],[14,26,15,28],[15,29,15,30],[14,0,15,24],[6,0,8,9],[44,0,45,1],[48,7,48,9],[48,10,48,12],[48,13,48,15],[48,0,48,1],[47,10,47,12],[47,13,47,15],[47,7,47,9],[48,16,48,18],[48,19,48,21],[48,22,48,24],[46,29,46,30],[27,0,27,4],[27,5,27,7],[34,29,34,30],[22,25,22,28],[26,27,26,28],[17,25,17,27],[18,25,18,27],[19,3,19,5],[22,29,22,31],[41,7,41,9],[29,11,29,13],[17,100,17,101],[19,40,19,46],[19,49,19,51],[19,53,19,56],[19,60,19,64],[19,99,19,102],[17,86,17,89],[17,40,17,46],[17,48,17,52],[31,99,31,102],[27,81,27,84],[20,11,20,13],[20,16,20,18],[20,21,20,23],[21,40,21,46],[21,49,21,51],[21,32,21,34],[20,73,20,76],[20,86,20,90],[20,77,20,80],[20,95,20,98],[20,32,20,34],[20,35,20,38],[38,49,38,51],[27,91,27,94],[28,91,28,94],[20,99,20,102],[21,99,21,102],[15,32,15,33],[14,67,15,81],[17,82,17,83],[14,82,15,95],[17,53,17,57],[15,35,15,37],[16,32,16,33],[16,36,16,37],[17,68,17,71],[17,73,17,76],[16,74,16,95],[17,91,17,94],[17,59,17,65],[19,32,19,34],[19,35,19,38],[17,32,17,34],[17,36,17,38],[18,31,18,34],[18,35,18,38],[19,91,19,94],[19,95,19,98],[19,73,19,76],[19,77,19,80],[19,81,19,84],[19,29,19,31],[20,60,20,64],[21,77,21,80],[21,81,21,84],[21,86,21,90],[21,95,21,98],[21,53,21,56],[21,60,21,64],[21,91,21,94],[20,53,20,56],[18,28,18,30],[19,25,19,28],[22,7,22,8],[23,40,23,46],[23,49,23,51],[23,53,23,56],[23,60,23,64],[22,32,22,34],[22,35,22,38],[23,21,23,23],[23,11,23,13],[23,16,23,18],[21,25,21,28],[20,91,20,94],[23,32,23,34],[22,40,22,46],[22,49,22,51],[23,77,23,80],[23,81,23,84],[23,86,23,90],[23,25,23,28],[22,53,22,56],[22,77,22,80],[22,60,22,64],[24,29,24,30],[24,73,24,76],[24,77,24,80],[24,37,24,38],[24,68,24,72],[24,31,24,32],[23,73,23,76],[23,35,23,38],[23,29,23,31],[24,33,24,34],[24,35,24,36],[40,4,40,6],[42,40,42,46],[24,0,25,24],[31,60,31,64],[32,60,32,64],[35,53,35,56],[36,49,36,51],[32,18,32,19],[29,8,29,10],[32,5,32,7],[25,37,26,38],[26,22,26,24],[27,25,27,26],[29,22,29,24],[27,27,27,28],[25,27,25,28],[29,14,29,16],[31,53,31,56],[34,49,34,51],[35,29,35,30],[24,53,24,56],[24,60,24,64],[27,22,27,24],[31,18,31,19],[31,14,31,16],[25,40,25,46],[26,60,26,64],[26,53,26,56],[40,7,40,9],[34,20,34,21],[33,22,33,24],[33,18,33,19],[33,20,33,21],[34,8,34,10],[34,11,34,13],[25,53,25,56],[37,40,37,46],[35,49,35,51],[35,40,35,46],[35,14,35,16],[35,18,35,19],[35,20,35,21],[32,53,32,56],[33,40,33,46],[33,53,33,56],[31,11,31,13],[32,8,32,10],[32,11,32,13],[40,32,40,35],[36,53,36,56],[32,20,32,21],[32,22,32,24],[47,22,47,24],[32,14,32,16],[31,8,31,10],[47,16,47,18],[42,4,42,6],[34,5,34,7],[42,22,42,24],[42,19,42,21],[40,22,40,24],[34,18,34,19],[40,19,40,21],[35,22,35,24],[41,4,41,6],[31,5,31,7],[33,5,33,7],[33,8,33,10],[40,2,40,3],[47,19,47,21],[44,19,44,24],[33,11,33,13],[33,14,33,16],[35,5,35,7],[35,8,35,10],[35,11,35,13],[42,10,42,12],[34,14,34,16],[40,10,40,12],[40,13,40,15],[40,16,40,18],[42,13,42,15],[41,13,41,15],[42,16,42,18],[34,22,34,24],[37,60,37,64],[37,49,37,51],[41,16,41,18],[41,19,41,21],[41,22,41,24],[35,60,35,64],[51,29,51,32],[51,25,51,28],[50,25,50,28],[39,79,39,82],[38,79,38,82],[35,80,35,83],[35,75,35,77],[35,68,35,72],[39,97,39,100],[40,97,40,100],[41,97,41,100],[47,77,47,79],[47,80,47,82],[47,83,47,86],[47,87,47,90],[39,60,39,64],[38,60,38,64],[34,60,34,64],[36,60,36,64],[36,67,36,73],[38,67,38,73],[39,40,39,46],[40,49,40,51],[40,60,40,64],[42,49,42,51],[41,53,41,56],[37,53,37,56],[37,67,37,73],[36,75,36,77],[44,29,44,30],[46,69,46,74],[42,32,42,35],[42,67,42,73],[42,75,42,77],[43,83,44,102],[45,32,45,35],[48,99,48,102],[50,29,50,32],[32,99,32,102],[33,83,34,96],[32,95,32,98],[32,91,32,94],[35,98,35,101],[35,86,35,90],[39,53,39,56],[33,49,33,51],[33,67,34,80],[32,73,32,76],[32,77,32,80],[32,81,32,84],[32,68,32,72],[46,99,46,102],[45,92,45,101],[43,67,44,82],[42,93,42,95],[50,87,50,90],[50,91,50,94],[50,68,50,75],[52,77,52,79],[58,48,58,50],[49,99,49,102],[49,68,49,75],[49,77,49,79],[49,80,49,82],[49,83,49,86],[49,91,49,94],[48,87,48,90],[49,95,49,98],[48,95,48,98],[48,68,48,75],[48,77,48,79],[48,50,48,53],[42,53,42,56],[55,47,55,49],[50,80,50,82],[49,50,49,53],[63,89,63,91],[62,75,62,77],[63,99,63,101],[56,87,56,90],[54,95,54,98],[54,99,54,102],[55,95,55,98],[55,99,55,102],[56,95,56,98],[60,97,60,102],[53,87,53,90],[52,95,52,98],[53,91,53,94],[53,95,53,98],[54,68,54,75],[54,77,54,79],[54,80,54,82],[54,91,54,94],[52,91,52,94],[53,80,53,82],[52,87,52,90],[54,87,54,90],[60,85,60,90],[60,91,60,96],[52,99,52,102],[62,0,62,6],[51,80,51,82],[51,83,51,86],[52,83,52,86],[53,99,53,102],[53,83,53,86],[55,87,55,90],[52,80,52,82],[55,35,55,38],[57,47,57,50],[56,39,56,42],[57,39,57,42],[60,39,60,42],[54,39,54,42],[54,43,54,46],[58,64,58,66],[58,58,58,60],[55,43,55,45],[56,68,56,75],[56,77,56,79],[56,80,56,82],[56,83,56,86],[56,91,56,94],[55,91,55,94],[55,68,55,75],[55,77,55,79],[55,39,55,42],[54,51,54,54],[55,51,55,53],[57,58,57,60],[51,68,51,75],[51,95,51,98],[63,0,63,6],[67,7,67,9],[66,10,66,12],[66,13,66,15],[67,10,67,12],[67,0,67,6],[60,53,60,56],[61,43,61,47],[61,48,61,52],[61,53,61,56],[62,93,62,95],[63,94,63,96],[63,74,63,76],[62,87,62,89],[65,73,65,76],[65,39,65,42],[55,80,55,82],[62,68,62,71],[61,80,61,83],[63,84,63,86],[57,43,57,46],[61,59,61,62],[62,81,62,83],[61,39,61,42],[56,0,56,6],[60,19,60,21],[59,13,59,15],[61,10,61,12],[59,0,59,6],[57,0,57,6],[57,10,57,12],[57,19,57,21],[62,13,62,15],[58,10,58,12],[60,36,60,37],[66,7,66,9],[59,43,59,56],[60,43,60,47],[60,48,60,52],[57,7,57,9],[57,16,57,18],[56,16,56,18],[58,44,58,46],[60,22,60,24],[58,39,58,42],[58,55,58,57],[59,16,59,18],[60,16,60,18],[58,16,58,18],[57,22,57,24],[56,22,56,24],[61,29,61,30],[58,19,58,21],[61,19,61,21],[56,19,56,21],[62,16,62,18],[56,7,56,9],[59,7,59,9],[58,7,58,9],[60,7,60,9],[59,19,59,21],[62,22,62,24],[60,10,60,12],[59,10,59,12],[65,88,65,91],[70,43,70,47],[66,92,66,96],[70,100,70,102],[70,88,70,90],[67,39,67,42],[68,32,68,33],[65,83,65,86],[58,0,58,6],[59,22,59,24],[61,22,61,24],[61,13,61,15],[60,13,60,15],[62,19,62,21],[61,0,61,6],[60,0,60,6],[64,16,64,18],[65,16,65,18],[66,35,66,38],[65,43,65,49],[58,61,58,63],[60,59,60,62],[60,63,60,66],[65,0,65,6],[64,0,64,6],[64,7,64,9],[61,7,61,9],[62,7,62,9],[63,7,63,9],[64,68,64,71],[61,68,61,71],[65,57,65,63],[68,94,68,96],[68,100,68,102],[67,79,67,81],[67,88,67,90],[68,91,68,93],[68,82,68,84],[68,85,68,87],[67,97,67,102],[67,82,67,84],[62,99,62,101],[68,79,68,81],[68,72,68,75],[66,76,66,90],[68,76,68,78],[68,88,68,90],[66,32,66,34],[67,67,70,71],[67,53,67,56],[67,57,67,61],[67,62,67,66],[68,48,68,52],[68,53,68,56],[68,57,68,61],[68,62,68,66],[70,83,70,84],[70,79,70,81],[70,57,70,61],[69,39,69,66],[70,39,70,42],[66,39,66,66],[67,48,67,52],[68,39,68,42],[70,53,70,56],[70,35,70,37],[73,77,73,83],[73,86,73,92],[73,48,73,52],[73,53,73,56],[73,57,73,61],[73,35,73,37],[75,43,75,47],[72,53,72,56],[72,62,72,66],[70,91,70,93],[70,94,70,96],[70,97,70,99],[70,72,70,75],[70,77,70,78],[70,85,70,87],[73,95,73,101],[75,39,75,42],[73,43,73,47],[74,39,74,42],[74,43,74,47],[74,35,74,37],[71,43,71,47],[70,48,70,52],[55,10,55,12],[65,10,65,12],[64,10,64,12],[72,7,72,9],[68,10,68,12],[71,7,71,9],[67,19,67,21],[67,22,67,24],[58,22,58,24],[68,19,68,21],[63,13,63,15],[63,16,63,18],[63,19,63,21],[55,13,55,15],[71,13,71,15],[71,19,71,21],[67,13,67,15],[69,7,69,9],[61,16,61,18],[58,13,58,15],[57,13,57,15],[56,13,56,15],[64,22,64,24],[65,22,65,24],[63,22,63,24],[55,7,55,9],[62,10,62,12],[55,22,55,24],[55,19,55,21],[69,19,69,21],[69,22,69,24],[71,22,71,24],[69,10,69,12],[74,68,74,74],[74,77,74,83],[74,87,74,91],[74,96,74,100],[70,62,70,66],[71,53,71,56],[71,57,71,61],[76,96,76,99],[78,99,78,102],[78,82,78,86],[78,87,78,90],[78,48,78,52],[78,53,78,56],[78,57,78,61],[78,62,78,66],[72,13,72,15],[72,25,72,28],[76,69,76,72],[77,91,77,94],[77,82,77,86],[77,87,77,90],[77,77,77,81],[76,62,76,66],[75,62,75,66],[76,78,76,81],[76,87,76,90],[75,57,75,61],[76,53,76,56],[76,57,76,61],[76,48,76,52],[75,48,75,52],[82,53,82,56],[82,39,82,42],[82,43,82,47],[80,57,80,61],[81,39,81,42],[81,43,81,47],[89,39,89,42],[65,13,65,15],[64,13,64,15],[64,19,64,21],[74,0,75,24],[72,19,72,21],[72,22,72,24],[72,32,72,33],[72,35,72,37],[67,16,67,18],[70,22,70,24],[70,16,70,18],[70,19,70,21],[70,13,70,15],[69,32,69,33],[68,29,68,30],[68,0,68,6],[68,13,68,15],[68,16,68,18],[68,35,68,37],[71,35,71,37],[73,0,73,6],[74,32,74,33],[69,35,69,37],[69,13,69,15],[71,0,71,6],[70,7,70,9],[75,32,75,33],[73,39,73,42],[73,19,73,21],[72,10,72,12],[71,10,71,12],[70,10,70,12],[70,29,70,30],[71,32,71,33],[71,39,71,42],[76,2,76,8],[76,9,76,16],[76,17,76,24],[72,0,72,6],[72,16,72,18],[73,29,73,30],[72,39,72,42],[73,10,73,12],[73,7,73,9],[73,13,73,15],[73,16,73,18],[71,16,71,18],[70,0,70,6],[76,29,76,30],[75,29,75,30],[74,29,74,30],[71,25,71,28],[71,29,71,30],[70,25,70,28],[74,25,74,28],[76,35,76,37],[76,39,76,42],[60,29,60,30],[46,25,46,28],[42,97,42,100],[57,51,57,54],[55,83,55,86],[92,46,92,48],[91,35,91,36],[91,37,91,38],[92,39,92,42],[92,43,92,45],[90,44,90,45],[90,39,90,42],[91,43,91,45],[91,46,91,48],[81,29,81,31],[88,32,88,34],[92,32,92,34],[80,25,81,28],[81,48,81,52],[80,35,81,38],[80,39,80,42],[80,43,80,47],[80,48,80,52],[92,52,92,57],[83,36,83,37],[80,53,80,56],[90,55,90,57],[83,57,83,61],[83,39,83,42],[84,53,84,56],[84,39,84,42],[83,53,83,56],[46,32,46,35],[50,55,50,57],[50,83,50,86],[41,60,41,64],[43,40,43,46],[43,49,43,51],[40,40,40,46],[48,56,48,59],[45,57,45,61],[43,53,43,56],[54,25,54,32],[53,25,53,27],[57,61,57,63],[54,83,54,86],[52,68,52,75],[53,68,53,75],[53,77,53,79],[49,39,49,45],[49,54,49,57],[50,47,50,49],[49,62,49,66],[49,58,49,61],[57,67,58,102],[56,99,56,102],[50,33,50,38],[46,95,46,98],[48,62,48,65],[48,80,48,82],[48,83,48,86],[51,77,51,79],[45,25,45,28],[42,60,42,64],[28,60,28,64],[30,60,30,64],[29,60,29,64],[28,53,28,56],[30,53,30,56],[37,97,37,100],[38,97,38,100],[35,93,35,95],[65,93,65,96],[48,91,48,94],[46,36,46,37],[45,84,45,89],[50,50,50,53],[49,46,49,49],[47,91,47,94],[36,93,36,95],[41,40,41,46],[39,85,39,91],[38,75,38,77],[42,79,42,82],[50,77,50,79],[49,87,49,90],[44,36,44,37],[38,53,38,56],[39,93,39,95],[39,67,39,73],[41,85,41,91],[41,93,41,95],[40,67,41,73],[61,36,61,37],[55,63,55,65],[59,59,59,62],[45,36,45,37],[40,75,41,77],[40,79,41,82],[58,52,58,54],[40,93,40,95],[40,85,40,91],[36,97,36,100],[37,75,37,77],[36,79,36,82],[38,93,38,95],[36,85,36,91],[50,63,50,66],[50,59,50,61],[51,33,51,35],[51,36,51,38],[37,85,37,91],[37,79,37,82],[43,60,43,64],[40,53,40,56],[41,49,41,51],[39,75,39,77],[51,99,51,102],[51,87,51,90],[38,85,38,91],[47,95,47,98],[47,99,47,102],[45,77,45,82],[47,68,47,75],[51,91,51,94],[50,99,50,102],[50,95,50,98],[42,85,42,91],[91,52,91,57],[90,61,90,63],[91,61,91,66],[89,61,89,63],[82,62,82,66],[84,57,84,61],[84,48,84,52],[56,48,56,53],[55,55,55,57],[55,59,55,62],[91,49,91,51],[91,39,91,42],[90,46,90,48],[83,72,88,102],[90,49,90,51],[90,64,90,66],[83,48,83,52],[88,50,88,53],[84,62,84,66]],"merged_total":1106,"flags":["merged_cut"]}
[{"$f":"+データ一覧!W2","v":"みかたかみなかぐん"}]
[{"$f":"+データ一覧!W5","v":"三方上中郡"}]
[]
[null,null,null,null,null,null,null,null,null,null,null,null,null,null,null,null,null,null,null,null,null,null,null,null,null,null,null,"【町章とそのいわれ】若狭町のｲﾆｼｬﾙ「Ｗ」をﾓﾁｰﾌにﾃﾞｻﾞｲﾝ化して",null,null,null,null,null,null,null,null,null,null,null,"【位置および地勢】若狭町は東西約17.8ｋｍ、面積は178.49K㎡で、嶺南地域の",null,null,null,null,null,null,null,null,null,null,null,null,null,null,null,null,null,null,null,null,null,null,null,null,null,null,null,null,null,null,"所在地",null,null,null,null,null,null,null,"〒919-1393"]
[null,null,null,null,null,null,null,null,null,null,null,null,null,null,null,null,null,null,null,null,null,null,null,null,null,null,null,"　　　　　　　　　いる。フレッシュ感のあるなめらかな",null,null,null,null,null,null,null,null,null,null,null,"　中心部に位置する。東は美浜町、西は小浜市､南は滋賀県に接しており、",null,null,null,null,null,null,null,null,null,null,null,null,null,null,null,null,null,null,null,null,null,null,null,null,null,null,null,null,null,null,null,null,null,null,null,null,null,null,"三方上中郡若狭町中央第1号1番地"]
[{"$f":"+データ一覧!W3","v":"わかさちょう"},null,null,null,null,null,null,null,null,null,null,null,null,null,null,null,null,null,null,null,null,null,null,null,null,null,null,"　　　　　　　　　造形により、豊かな里や山、生命力と未来に",null,null,null,null,null,null,null,null,null,null,null,"　北西部は若狭湾に面している。三方五湖、三十三間山をはじめとし、豊かな"]
[{"$f":"データ一覧!W6","v":"若狭町"},null,null,null,null,null,null,null,null,null,null,null,null,null,null,null,null,null,null,null,null,null,null,null,null,null,null,"　　　　　　　　　開こうとする姿を表現している。",null,null,null,null,null,null,null,null,null,null,null,"　自然美を形成している。また、JR小浜線及び国道27号、舞鶴若狭自動車道が",null,null,null,null,null,null,null,null,null,null,null,null,null,null,null,null,null,null,null,null,null,null,null,null,null,null,null,null,null,null,"電話番号",null,null,null,null,null,null,null,"(０７７０)４５－１１１１"]
[null,null,null,null,null,null,null,null,null,null,null,null,null,null,null,null,null,null,null,null,null,null,null,null,null,null,null,null,null,null,null,null,null,null,null,null,null,null,null,"　町を横断し、国道303号を経て関西方面へ通じる交通の要所となっている。",null,null,null,null,null,null,null,null,null,null,null,null,null,null,null,null,null,null,null,null,null,null,null,null,null,null,null,null,null,null,"FAX番号",null,null,null,null,null,null,null,"　　〃　　４５－１１１５"]
[null,null,null,null,null,null,null,null,null,null,null,null,null,null,null,null,null,null,null,null,null,null,null,null,null,null,null,"-"]
[null,null,null,null,null,null,null,null,null,null,null,null,null,null,null,null,null,null,null,null,null,null,null,null,null,null,null,"-",null,null,null,null,null,null,null,null,null,null,null,null,null,null,null,null,null,null,null,null,null,null,null,null,null,null,null,null,null,null,null,null,null,null,null,null,null,null,null,null,null,null,"最寄駅および距離",null,null,null,null,null,null,null,"ＪＲ小浜線三方駅　下車１ｋｍ"]
[]
[]
[null,null,null,null,null,null,null,null,null,null,null,null,null,null,null,null,null,null,null,null,null,null,null,null,null,null,null,"【町が掲げる標語】新しい感動と笑顔がひろがるまち",null,null,null,null,null,null,null,null,null,null,null,null,null,null,null,null,null,null,null,null,null,null,null,null,null,null,null,null,null,null,null,null,null,null,null,null,null,null,null,null,null,null,"ホームページ",null,null,null,null,null,null,null,"http://www.town.fukui-wakasa.lg.jp"]
[]
["  １  土            　　地",null,null,null,null,null,null,null,null,null,null,null,null,null,null,null,null,null,null,null,null,null,null,null,null,{"$f":"データ一覧!$A$240","v":"2年"},"産米収穫量",null,null,"　 収　穫　量",null,null," 　作 付 面 積",null,null,"   10a当たり収量",null,null,null,null,null,null,null,null,null,null,null,null,null,null,null,null,null,null,null,null,null,null,null,null,null,null,null,null,null,null,null," １５  労　　　　　　　働",null,null,null,null,null,null,null,null,null,null,null,null,null,null,"27.10.1"]
[null,null,null,null,null,null,null,null,null,null,null,null,null,null,null,null,null,null,null,null,null,null,null,null,null,null,null,null,null,{"$f":"データ一覧!$W$240","v":5800},null,"t",{"$f":"データ一覧!$W$241","v":1180},null,"ha",{"$f":"データ一覧!W242","v":491},null,null,"kg"," １０  工　　　　　　業 ",null,null,null,null,null,null,null,null,null,null,null,null,null,{"$f":"データ一覧!$A$332","v":"2.6.1（令和元年実績）"}]
["   総          面           積",null,null,null,null,null,null,null,null,null," 固 定 資 産 概 要 調 書 に よ る 地 目 別 面 積",null,null,null,null,null,null,null,null,null,null,null,null,null,null,null,null,null,"   総　　　数",null,null,null,"うち　　田",null,null,null,"うち　　畑",null,null,null,null,null,null,null,null,null,null,null,null,null,null,null,null,null,null,null,null,null,null,null,null,null,null,null,null,null,null,null,null,null,null,null,null,null,"産業別就業者数   "]
[null,null,{"$f":"データ一覧!$A$7","v":"3.10.1"},null,null,null,null,null,null,null,null,null,null,null,null,null,{"$f":"データ一覧!$A$9","v":"3.1.1"},null,null,null,null,null,null,null,null," 耕  地  面  積",null,null,null,"       ha",null,null,"ha ",null,null,null,"ha ",null,null,"      ","産業分類",null,null,null,null,null,null,null,"事業所数",null,null,null,null,"従業者数",null,null,null,null,null,"年間製造品出荷額等",null,null,null,null,null,null,null,null,"区  分",null,null,null,null,"総    数",null,null,null,null,"男",null,null,null,"女",null,null,"  ","区  分",null,null,null,null,"総    数",null,null,null,null,"男",null,null,null,"女"]
[null,null,null,null,null,null,"㎢",null,null,null,"   総       数",null,null,null,null,"  う ち     田",null,null,null,null,"  う ち     畑",null,null,null,null,{"$f":"データ一覧!A243","v":"2.7.15"},null,null,{"$f":"データ一覧!$W$243","v":2080},null,null,{"$f":"データ一覧!$W$244","v":1710},null,null,null,{"$f":"データ一覧!$W$245","v":372},null,null,null,null,null,null,null,null,null,null,null,null,"　　   ",null,null,"事業所",null,"　　　　　　　 人",null,null,"人",null,"　　　　　　　　　　　　　　万円",null,null,null,null,null,null,"万円",null,null,null,null,null,null,null,"      人",null,null,null,null,null," 人",null,null,null," 人",null,null,null,null,null,null,null,"      人",null,null,null,"      人",null,null,null,"      人"]
[null,null,null,{"$f":"データ一覧!W7","v":178.49},null,null,null,null,null,null,null,null,null,null,"ha",null,null,null,null,"ha",null,null,null,null,"ha","農 業 生 産 物",null,null,null,"作 付 面 積",null,null,"収 穫 量",null,null,"10a当たり収量",null,null,null,"     ","総数",null,null,null,null,null,null,null,null,{"$f":"データ一覧!W332","v":33},null,null,null,{"$f":"+データ一覧!W357","v":1859},null,null,null,null,null,null,{"$f":"データ一覧!W382","v":7319270},null,null,null,null,null,null," 総　　　数",null,null,null,null,null,{"$f":"BZ20+CD20","v":7908},null,null,null,{"$f":"データ一覧!W507","v":4385},null,null,null,{"$f":"データ一覧!W532","v":3523}]
[null,null,null,null,null,null,null,null,null,null,null,{"$f":"データ一覧!W9","v":12613.5},null,null,null,null,{"$f":"データ一覧!W10","v":1933.5},null,null,null,null,{"$f":"データ一覧!W11","v":413.6},null,null,null,{"$f":"データ一覧!$A$246","v":"2年中"},null,null,null,"ha",null,null,"t",null,null,"kg",null,null,null,"     食料品","食料品",null,null,null,null,null,null,null,null,{"$f":"データ一覧!W333","v":3},null,null,null,{"$f":"+データ一覧!W358","v":159},null,null,null,null,null,null,{"$f":"データ一覧!W383","v":390876},null,null,null,null,null,null,null,null,null,null,null,null,null,null,null,null,null,null,null,null,null,null,null,null,null,"卸売業,小売業",null,null,null,null,{"$f":"CR21+CV21","v":985},null,null,null,{"$f":"データ一覧!W520","v":456},null,null,null,{"$f":"データ一覧!W545","v":529}]
["  町 ･ 丁 ･ 大 字",null,null,null,null,null,null,null,null,null,"  う ち  宅 地",null,null,null,null,"  う ち  山 林",null,null,null,null,"  う ち  原 野",null,null,null,null,"水　　　　　稲",null,null,null,{"$f":"データ一覧!W246","v":1180},null,null,{"$f":"データ一覧!W247","v":5800},null,null,{"$f":"データ一覧!W248","v":491},null,null,null,"     飲料・飼料","飲料・飼料",null,null,null,null,null,null,null,null,{"$f":"データ一覧!W334","v":3},null,null,null,{"$f":"+データ一覧!W359","v":24},null,null,null,null,null,null,{"$f":"データ一覧!W384","v":13635},null,null,null,null,null,null," 第１次産業",null,null,null,null,null,{"$f":"BZ22+CD22","v":794},null,null,null,{"$f":"データ一覧!W508","v":509},null,null,null,{"$f":"データ一覧!W533","v":285},null,null,null,null,"金融業,保険業",null,null,null,null,{"$f":"CR22+CV22","v":111},null,null,null,{"$f":"データ一覧!W521","v":51},null,null,null,{"$f":"データ一覧!W546","v":60}]
["  区    画    数",null,null,null,null,null,null,{"$f":"データ一覧!W8","v":76},null,null,null,null,null,null,"ha",null,null,null,null,"ha",null,null,null,null,"ha","六　条　大　麦",null,null,null,{"$f":"データ一覧!W249","v":64},null,null,{"$f":"データ一覧!W250","v":85},null,null,{"$f":"データ一覧!W251","v":133},null,null,null,"     繊維","繊維",null,null,null,null,null,null,null,null,{"$f":"データ一覧!W335","v":3},null,null,null,{"$f":"+データ一覧!W360","v":61},null,null,null,null,null,null,{"$f":"データ一覧!W385","v":122032},null,null,null,null,null,null,"  ","農業",null,null,null,null,{"$f":"BZ23+CD23","v":724},null,null,null,{"$f":"データ一覧!W509","v":451},null,null,null,{"$f":"データ一覧!W534","v":273},null,null,null,"  ","不動産業",null,null,null,null,43,null,null,null,{"$f":"データ一覧!W522","v":29},null,null,null,{"$f":"データ一覧!W547","v":14}]
[{"$f":"データ一覧!$A$8","v":"2.4.1"},null,null,null,null,null,null,null,null,null,null,{"$f":"データ一覧!W12","v":528.70000000000005},null,null,null,null,{"$f":"データ一覧!W13","v":5410},null,null,null,null,{"$f":"データ一覧!W14","v":65.099999999999994},null,null,null,"大　　      豆",null,null,null,{"$f":"データ一覧!W252","v":6},null,null,{"$f":"データ一覧!W253","v":3},null,null,{"$f":"データ一覧!W254","v":47},null,null,null,"     衣服","木材",null,null,null,null,null,null,null,null,{"$f":"データ一覧!W336","v":5},null,null,null,{"$f":"+データ一覧!W361","v":107},null,null,null,null,null,null,{"$f":"データ一覧!W386","v":150555},null,null,null,null,null,null,"  ","林業",null,null,null,null,13,null,null,null,{"$f":"データ一覧!W510","v":9},null,null,null,{"$f":"データ一覧!W535","v":4},null,null,null,"  ","学術研究",null,null,null,null,199,null,null,null,{"$f":"データ一覧!W523","v":156},null,null,null,{"$f":"データ一覧!W548","v":43}]
["  ２  世　帯　数　と　人　口",null,null,null,null,null,null,null,null,null,null,null,null,null,null,null,null,null,null,null,null,null,null,null,null,null,null,"  区　分",null," 乳 用 牛",null," 肉 用 牛",null,"豚",null,"採卵鶏",null,"ブロイラー",null,"     木材","家具",null,null,null,null,null,null,null,null,{"$f":"データ一覧!W337","v":0},null,null,null,{"$f":"+データ一覧!W362","v":0},null,null,null,null,null,null,{"$f":"データ一覧!W387","v":0},null,null,null,null,null,null,"  ","漁業",null,null,null,null,57,null,null,null,{"$f":"データ一覧!W511","v":49},null,null,null,{"$f":"データ一覧!W536","v":8},null,null,null,"  ","宿泊業,飲食ｻｰﾋﾞｽ",null,null,null,null,542,null,null,null,{"$f":"データ一覧!W524","v":202},null,null,null,{"$f":"データ一覧!W549","v":340}]
[null,null,null,null,null,null,null,null,null,null,null,null,null,null,null,null,null,null,null,null,null,null,null,null,null,"畜　産",null," 飼養農家",null,{"$f":"データ一覧!$W$255","v":"x"},null,{"$f":"データ一覧!$W$257","v":3},null,{"$f":"データ一覧!$W$259","v":"-"},null,{"$f":"データ一覧!$W$261","v":"x"},null,{"$f":"データ一覧!$W$263","v":0},null,"     家具","パルプ・紙",null,null,null,null,null,null,null,null,{"$f":"データ一覧!W338","v":2},null,null,null,{"$f":"+データ一覧!W363","v":84},null,null,null,null,null,null,{"$f":"データ一覧!W388","v":"x"},null,null,null,null,null,null," 第２次産業",null,null,null,null,null,2042,null,null,null,{"$f":"データ一覧!W512","v":1399},null,null,null,{"$f":"データ一覧!W537","v":643},null,null,null,"  ","生活関連ｻｰﾋﾞｽ業",null,null,null,null,210,null,null,null,{"$f":"データ一覧!W525","v":84},null,null,null,{"$f":"データ一覧!W550","v":126}]
[null,null,null,null,null,null,null,null,"        人　　　　　　　　　　口",null,null,null,null,null,null,null,null,null,null,null,"１世帯当",null,"人    口",null,null,{"$f":"データ一覧!$A$255","v":"3.3.31"},null,"（戸）",null,null,null,null,null,null,null,null,null,null,null,"     パルプ・紙","印刷",null,null,null,null,null,null,null,null,{"$f":"データ一覧!W339","v":0},null,null,null,{"$f":"+データ一覧!W364","v":0},null,null,null,null,null,null,{"$f":"データ一覧!W389","v":0},null,null,null,null,null,null,null,"鉱業，採石業",null,null,null,null,5,null,null,null,{"$f":"データ一覧!W513","v":5},null,null,null,{"$f":"データ一覧!W538","v":0},null,null,null,"  ","教育,学習支援業",null,null,null,null,459,null,null,null,{"$f":"データ一覧!W526","v":210},null,null,null,{"$f":"データ一覧!W551","v":249}]
[" 区　　　　分",null,null,null,null,"世帯数",null,null," 総   数",null,null,"    男",null,null,"    女",null,null,"  男／女",null,null,"たり人員",null,"密    度",null,null,null,null," 頭 羽",null,{"$f":"データ一覧!$W$256","v":6},null,{"$f":"データ一覧!$W$258","v":125},null,{"$f":"データ一覧!$W$260","v":0},null,{"$f":"データ一覧!$W$262","v":6500},null,{"$f":"データ一覧!$W$264","v":0},null,"     出版・印刷","化学",null,null,null,null,null,null,null,null,{"$f":"データ一覧!W340","v":3},null,null,null,{"$f":"+データ一覧!W365","v":312},null,null,null,null,null,null,{"$f":"データ一覧!W390","v":896730},null,null,null,null,null,null,"  ","建設業",null,null,null,null,733,null,null,null,{"$f":"データ一覧!W514","v":621},null,null,null,{"$f":"データ一覧!W539","v":112},null,null,null,null,"医療，福祉",null,null,null,null,1103,null,null,null,{"$f":"データ一覧!W527","v":205},null,null,null,{"$f":"データ一覧!W552","v":898}]
[null,null,null,null,null,"    世 帯",null,null,"       人",null,null,"       人",null,null,"       人",null,null,null,"　　％",null,"    人",null,"    人/㎢",null,null,null,null,null,null,null,null,null,null,null,null,null,null,null,null,"     化学","石油・石炭",null,null,null,null,null,null,null,null,{"$f":"データ一覧!W341","v":0},null,null,null,{"$f":"+データ一覧!W366","v":0},null,null,null,null,null,null,{"$f":"データ一覧!W391","v":0},null,null,null,null,null,null,null,"製造業",null,null,null,null,1304,null,null,null,{"$f":"データ一覧!W515","v":773},null,null,null,{"$f":"データ一覧!W540","v":531},null,null,null,null,"複合サービス事業",null,null,null,null,181,null,null,null,{"$f":"データ一覧!W528","v":118},null,null,null,{"$f":"データ一覧!W553","v":63}]
[{"$f":"データ一覧!$A$22","v":" 2.10.1"},null,null,null,null,{"$f":"データ一覧!W22","v":4499},null,null,{"$f":"+L30+O30","v":17835},null,null,{"$f":"データ一覧!W24","v":8656},null,null,{"$f":"データ一覧!W25","v":9179},null,null,null,{"$f":"+L30/O30*100","v":94.302211569887788},null,{"$f":"データ一覧!W27","v":3.96},null,{"$f":"データ一覧!W21","v":0},null,null,"  ５  林               業",null,null,null,null,null,null,null,null,null,null,null,null,null,"     石油・石炭","プラスチック",null,null,null,null,null,null,null,null,{"$f":"データ一覧!W342","v":2},null,null,null,{"$f":"+データ一覧!W367","v":183},null,null,null,null,null,null,{"$f":"データ一覧!W392","v":"x"},null,null,null,null,null,null," 第３次産業",null,null,null,null,null,5069,null,null,null,{"$f":"データ一覧!W516","v":2474},null,null,null,{"$f":"データ一覧!W541","v":2595},null,null,null,null,"サービス業",null,null,null,null,443,null,null,null,{"$f":"データ一覧!W529","v":313},null,null,null,{"$f":"データ一覧!W554","v":130}]
[{"$f":"データ一覧!$A$29","v":" 7.10.1"},null,null,null,null,{"$f":"データ一覧!W29","v":4589},null,null,{"$f":"+L31+O31","v":17567},null,null,{"$f":"データ一覧!W31","v":8450},null,null,{"$f":"データ一覧!W32","v":9117},null,null,null,92.68399692881431,null,{"$f":"データ一覧!W34","v":3.83},null,{"$f":"データ一覧!W28","v":0},null,null,null,null,null,null,null,null,null,null,null,null,null,null,null,null,"     プラスチック","ゴム",null,null,null,null,null,null,null,null,{"$f":"データ一覧!W343","v":0},null,null,null,{"$f":"+データ一覧!W368","v":0},null,null,null,null,null,null,{"$f":"データ一覧!W393","v":0},null,null,null,null,null,null,null,"電気･ｶﾞｽ･水道業",null,null,null,null,116,null,null,null,{"$f":"データ一覧!W517","v":103},null,null,null,{"$f":"データ一覧!W542","v":13},null,null,null,null,"公務",null,null,null,null,390,null,null,null,{"$f":"データ一覧!W530","v":306},null,null,null,{"$f":"データ一覧!W555","v":84}]
[{"$f":"データ一覧!$A$36","v":"12.10.1"},null,null,null,null,{"$f":"データ一覧!W36","v":4716},null,null,{"$f":"+L32+O32","v":17313},null,null,{"$f":"データ一覧!W38","v":8302},null,null,{"$f":"データ一覧!W39","v":9011},null,null,null,92.131838863611137,null,{"$f":"データ一覧!W41","v":3.67},null,{"$f":"データ一覧!W35","v":0},null,null,"    　森　　　林　　　総　　　面　　　積   ",null,null,null,null,null,null,null,{"$f":"データ一覧!$A$265","v":"3.3.31"},null,null,null,null,null,"     ゴム","皮革",null,null,null,null,null,null,null,null,{"$f":"データ一覧!W344","v":1},null,null,null,{"$f":"+データ一覧!W369","v":6},null,null,null,null,null,null,{"$f":"データ一覧!W394","v":"x"},null,null,null,null,null,null,null,"情報通信業",null,null,null,null,41,null,null,null,{"$f":"データ一覧!W518","v":26},null,null,null,{"$f":"データ一覧!W543","v":15},null,null,null," 分類不能の産業",null,null,null,null,null,3,null,null,null,{"$f":"データ一覧!W531","v":3},null,null,null,{"$f":"データ一覧!W556","v":0}]
[{"$f":"+データ一覧!$A$43","v":"17.10.1"},null,null,null,null,{"$f":"データ一覧!W43","v":4827},null,null,{"$f":"+L33+O33","v":16780},null,null,{"$f":"データ一覧!W45","v":8026},null,null,{"$f":"データ一覧!W46","v":8754},null,null,null,91.683801690655699,null,{"$f":"データ一覧!W48","v":3.48},null,{"$f":"データ一覧!W49","v":93.9},null,null,"　　　森　　　　　　　林　　　　　　　の　　　　　　　構　　　　　　　成",null,null,null,null,null,null,null,null,null,null,null,null,null,"     皮革","窯業・土石",null,null,null,null,null,null,null,null,{"$f":"データ一覧!W345","v":1},null,null,null,{"$f":"+データ一覧!W370","v":13},null,null,null,null,null,null,{"$f":"データ一覧!W395","v":"x"},null,null,null,null,null,null,"  ","運輸業,郵便業",null,null,null,null,{"$f":"BZ33+CD33","v":246},null,null,null,{"$f":"データ一覧!W519","v":215},null,null,null,{"$f":"データ一覧!W544","v":31}]
[{"$f":"+データ一覧!$A$50","v":"22.10.1"},null,null,null,null,{"$f":"データ一覧!W50","v":4994},null,null,{"$f":"+L34+O34","v":16099},null,null,{"$f":"データ一覧!W52","v":7781},null,null,{"$f":"+データ一覧!W53","v":8318},null,null,null,93.544121182976681,null,{"$f":"データ一覧!W55","v":3.22},null,{"$f":"データ一覧!W56","v":90.1},null,null,null,null,null,null,null,"       ha",null,null,null,null,null,null,"       ha",null,"     窯業・土石","鉄鋼",null,null,null,null,null,null,null,null,{"$f":"データ一覧!W346","v":0},null,null,null,{"$f":"+データ一覧!W371","v":0},null,null,null,null,null,null,{"$f":"データ一覧!W396","v":0},null,null,null,null,null,null," １６  社　 会 　福　 祉",null,null,null,null,null,null,null,null,null,null,null,null,null,null,null,{"$f":"データ一覧!$A$557","v":"3.4.1"}]
[{"$f":"データ一覧!$A$57","v":"27.10.1"},null,null,null,null,{"$f":"データ一覧!W57","v":4871},null,null,{"$f":"データ一覧!W58","v":15257},null,null,{"$f":"データ一覧!W59","v":7296},null,null,{"$f":"データ一覧!W60","v":7961},null,null,null,91.646778042959426,null,{"$f":"データ一覧!W62","v":3.1322110449599672},null,{"$f":"データ一覧!W63","v":85.5},null,null,"  総　　　　　   数",null,null,null,{"$f":"データ一覧!W265","v":11960.26},null,null," 天然林       針葉樹",null,null,null,{"$f":"データ一覧!W268","v":732.16000000000008},null,null,"     鉄鋼","非鉄金属",null,null,null,null,null,null,null,null,{"$f":"データ一覧!W347","v":0},null,null,null,{"$f":"+データ一覧!W372","v":0},null,null,null,null,null,null,{"$f":"データ一覧!W397","v":0}]
["令　2.10.1（国調）",null,null,null,null,{"$f":"データ一覧!W64","v":4830},null,null,{"$f":"データ一覧!W65","v":14003},null,null,{"$f":"データ一覧!W66","v":6702},null,null,{"$f":"データ一覧!W67","v":7301},null,null,null,{"$f":"+L36/O36*100","v":91.795644432269555},null,{"$f":"データ一覧!W72","v":2.86},null,{"$f":"データ一覧!W73","v":76.833436046837349},null,null,"  人工林     針葉樹",null,null,null,{"$f":"データ一覧!W266","v":5621.16},null,null," 天然林       広葉樹",null,null,null,{"$f":"データ一覧!W269","v":5446.21},null,null,"     非鉄金属","金属",null,null,null,null,null,null,null,null,{"$f":"データ一覧!W348","v":0},null,null,null,{"$f":"+データ一覧!W373","v":0},null,null,null,null,null,null,{"$f":"データ一覧!W398","v":0},null,null,null,null,null,null,"    ","区分",null,null,null,null,null,null,"施設数",null,null,null,null,"収容定員",null,null,null,null,null,"区分",null,null,null,null,null,null,"施設数",null,null,null,null,"収容定員"]
["年",null,"  区",null," 0歳",null,null,"15歳",null,null,"25歳",null,null,"35歳",null,null,"45歳",null,null,"55歳",null,null,"65歳",null,null,"  人工林     広葉樹",null,null,null,{"$f":"データ一覧!W267","v":35.79},null,null," 竹               林",null,null,null,{"$f":"データ一覧!W270","v":67.53},null,null,"     金属","はん用機械",null,null,null,null,null,null,null,null,{"$f":"データ一覧!W349","v":0},null,null,null,{"$f":"+データ一覧!W374","v":0},null,null,null,null,null,null,{"$f":"データ一覧!W399","v":0},null,null,null,null,null,null,"生活保護施設",null,null,null,null,null,null,null,{"$f":"データ一覧!W557","v":0},null,null,null,{"$f":"データ一覧!W570","v":0},null,null,null,"人",null,"指定障害者支援施設",null,null,null,null,null,null,null,{"$f":"データ一覧!W563","v":0},null,null,null,{"$f":"データ一覧!W576","v":0},null,null,null,"人"]
["齢","令",null,null,null,"～",null,null,"～",null,null,"～",null,null,"～",null,null,"～",null,null,"～",null,null,null,null,null,null,null,null,null,null,null,null,null,null,null,null,null,null,"     一般機械","生産用機械",null,null,null,null,null,null,null,null,{"$f":"データ一覧!W350","v":2},null,null,null,{"$f":"+データ一覧!W375","v":45},null,null,null,null,null,null,{"$f":"データ一覧!W400","v":"x"},null,null,null,null,null,null,"地域福祉施設",null,null,null,null,null,null,null,{"$f":"データ一覧!W558","v":1},null,null,null,{"$f":"データ一覧!W571","v":0},null,null,null,null,null,"指定相談支援事業所",null,null,null,null,null,null,null,{"$f":"データ一覧!W564","v":1},null,null,null,{"$f":"データ一覧!W577","v":0}]
["階",{"$f":"+LEFT(データ一覧!$A$83,1)","v":"3"},"  分",null,null,null,"14歳",null,null,"24歳",null,null,"34歳",null,null,"44歳",null,null,"54歳",null,null,"64歳",null,null,"以上","    林     野     の     構     成",null,null,null,null,null,null,"保     有     形     態     別",null,null,null,null,null,null,"     電気機械","業務用機械",null,null,null,null,null,null,null,null,{"$f":"データ一覧!W351","v":"-"},null,null,null,{"$f":"+データ一覧!W376","v":0},null,null,null,null,null,null,{"$f":"データ一覧!W401","v":0},null,null,null,null,null,null,"老人福祉施設",null,null,null,null,null,null,null,{"$f":"データ一覧!W559","v":4},null,null,null,{"$f":"データ一覧!W572","v":54},null,null,null,null,null,"児童福祉施設",null,null,null,null,null,null,null,{"$f":"データ一覧!W565","v":13},null,null,null,{"$f":"データ一覧!W578","v":691}]
["級","・",null,null,null,null,"人",null,null,"人",null,"    人",null,null,"    人",null,null,"    人",null,null,"    人",null,null,"    人",null,null,null,null,null,null,null,"ha",null,null,null,null,null,"       ha",null,null,"電子・デバイス",null,null,null,null,null,null,null,null,{"$f":"データ一覧!W352","v":1},null,null,null,{"$f":"+データ一覧!W377","v":152},null,null,null,null,null,null,{"$f":"データ一覧!W402","v":"x"},null,null,null,null,null,null,"介護保険施設",null,null,null,null,null,null,null,{"$f":"データ一覧!W560","v":32},null,null,null,{"$f":"データ一覧!W573","v":489},null,null,null,null,null,"母子福祉施設",null,null,null,null,null,null,null,{"$f":"データ一覧!W566","v":0},null,null,null,{"$f":"データ一覧!W579","v":0}]
["別",{"$f":"+MID(データ一覧!$A$83,3,2)","v":"10"},"総 数",null,{"$f":"+E42+E43","v":1702},null,null,{"$f":"+H42+H43","v":925},null,null,{"$f":"+K42+K43","v":1012},null,null,{"$f":"+N42+N43","v":1334},null,null,{"$f":"+Q42+Q43","v":1774},null,null,{"$f":"+T42+T43","v":1886},null,null,{"$f":"+W42+W43","v":5037},null,null," 無立木地   伐採跡地",null,null,null,{"$f":"データ一覧!W271","v":2.2999999999999998},null,null,"国   　　　 　 有",null,null,null,{"$f":"データ一覧!W273","v":562.39},null,null,null,"電気機械",null,null,null,null,null,null,null,null,{"$f":"データ一覧!W353","v":4},null,null,null,{"$f":"+データ一覧!W378","v":374},null,null,null,null,null,null,{"$f":"データ一覧!W403","v":2332917},null,null,null,null,null,null,"障害者自立支援法施行前からの身体障害者福祉施設",null,null,null,null,null,null,null,{"$f":"データ一覧!W561","v":0},null,null,null,{"$f":"データ一覧!W574","v":0},null,null,null,null,null,"婦人保護施設",null,null,null,null,null,null,null,{"$f":"データ一覧!W567","v":0},null,null,null,{"$f":"データ一覧!W580","v":0}]
["人","・","  男",null,{"$f":"データ一覧!W83","v":857},null,null,{"$f":"データ一覧!W84","v":456},null,null,{"$f":"データ一覧!W85","v":560},null,null,{"$f":"データ一覧!W86","v":686},null,null,{"$f":"データ一覧!W87","v":857},null,null,{"$f":"データ一覧!W88","v":960},null,null,{"$f":"データ一覧!W89","v":2184},null,null," 無立木地   未立木地",null,null,null,{"$f":"データ一覧!W272","v":55.11},null,null,"公       　　  有",null,null,null,{"$f":"データ一覧!W274","v":1743.47},null,null,"     輸送機械","情報通信機械",null,null,null,null,null,null,null,null,{"$f":"データ一覧!W354","v":0},null,null,null,{"$f":"+データ一覧!W379","v":0},null,null,null,null,null,null,{"$f":"データ一覧!W404","v":0},null,null,null,null,null,null,null,null,null,null,null,null,null,null,null,null,null,null,null,null,null,null,null,null,"その他の社会福祉施設",null,null,null,null,null,null,null,{"$f":"データ一覧!W568+データ一覧!W569","v":0},null,null,null,{"$f":"データ一覧!W581+データ一覧!W582","v":0}]
["口",{"$f":"+RIGHT(データ一覧!$A$83,1)","v":"1"},"  女",null,{"$f":"データ一覧!W91","v":845},null,null,{"$f":"データ一覧!W92","v":469},null,null,{"$f":"データ一覧!W93","v":452},null,null,{"$f":"データ一覧!W94","v":648},null,null,{"$f":"データ一覧!W95","v":917},null,null,{"$f":"データ一覧!W96","v":926},null,null,{"$f":"データ一覧!W97","v":2853},null,null,null,null,null,null,null,null,null,"私          　 有",null,null,null,{"$f":"データ一覧!W275","v":9654.4000000000033},null,null,"     精密機械","輸送機械",null,null,null,null,null,null,null,null,{"$f":"データ一覧!W355","v":3},null,null,null,{"$f":"+データ一覧!W380","v":339},null,null,null,null,null,null,{"$f":"データ一覧!W405","v":2057872},null,null,null,null,null,null,"障害福祉サービス事業所",null,null,null,null,null,null,null,{"$f":"データ一覧!W562","v":20},null,null,null,{"$f":"データ一覧!W575","v":200}]
[null,null,null,null,null,null,null,null,null,null,null,null,null,null,null,null,null,null,null,null,null,null,null,null,null,"            林     産     物     生     産     量 ",null,null,null,null,null,null,null,null,null,{"$f":"データ一覧!$A$276","v":"2年中"},null,null,null,"     その他","その他",null,null,null,null,null,null,null,null,{"$f":"データ一覧!W356","v":0},null,null,null,{"$f":"+データ一覧!W381","v":0},null,null,null,null,null,null,{"$f":"データ一覧!W406","v":0},null,null,null,null,null,null," １７  教　　　　　　　育",null,null,null,null,null,null,null,null,null,null,null,null,null,null,null,{"$f":"データ一覧!$A$583","v":"3.5.1"}]
["人口動態",null,null,null,null,null,null,"   自　然　動　態",null,null,null,null,null,"   社  会  動  態",null,null,null,null,null,{"$f":"データ一覧!$A78","v":"2.1.1～3.12.31"},null,null,null,null,null,"生椎茸",null,null,null,{"$f":"データ一覧!W276","v":700},null,"㎏","乾椎茸",null,null,null,{"$f":"データ一覧!W277","v":300},null,"㎏"]
[null,null,"   区       分",null,null,null,null," 出   生",null,null," 死   亡",null,null," 転   入",null,null," 転   出",null,null," 婚   姻",null,null," 離   婚",null,null,"えのきだけ",null,null,null,{"$f":"データ一覧!W279","v":"-"},null,"㎏","なめこ",null,null,null,{"$f":"データ一覧!W278","v":"-"},null,"㎏","    ","工　業　用　水　量",null,null,null,null,null,"（従業者30人以上の事業所）",null,null,null,null,null,null,null,null,null,null,{"$f":"データ一覧!W407","v":538},null,null,null,null,"㎥／日",null,null,null,null,null,null,null,null,null,null,null,null,null,null,"学校数（校）",null,null,null,null,null,null,"教員数（人）",null,null,null,null,null,null,null,"学生・生徒・児童数（人）"]
[{"$f":"LEFT(データ一覧!$A74,6)","v":"2.10.1"},null,null,null,null,null,null,"       人",null,null,"       人",null,null,"       人",null,null,"       人",null,null,null,"    件",null,null,"    件",null,"ひらたけ",null,null,null,{"$f":"+データ一覧!W280","v":"-"},null,"㎏","まいたけ",null,null,null,{"$f":"+データ一覧!W281","v":"-"},null,"㎏",null,null,null,null,null,null,null,null,null,null,null,null,null,null,null,null,null,null,null,null,null,null,null,null,null,null,null,null,null,"　","区分",null,null,null,null,null,null,null," 本 校",null,null," 分 校",null,null," 本   務",null,null,null," 兼   務",null,null,null," 総   数",null,null,null,"男",null,null,null,"女"]
["～",null," 実          数",null,null,null,null,{"$f":"データ一覧!W74","v":42},null,null,{"$f":"データ一覧!W75","v":141},null,null,{"$f":"データ一覧!W76","v":112},null,null,{"$f":"データ一覧!W77","v":189},null,null,{"$f":"データ一覧!W78","v":40},null,null,{"$f":"データ一覧!W79","v":12},null,null,null,null,null,null,null,null,null,null,null,null,null,null,null,null," １１ 　上　・　下　水　道",null,null,null,null,null,null,null,null,null,null,null,null,null,null,null,null,null,null,null,null,null,null,null,null,null,null,null,null,"小学校",null,null,null,null,null,null,null,null,{"$f":"データ一覧!W584","v":10},null,null,{"$f":"データ一覧!W585","v":0},null,null,{"$f":"データ一覧!W586","v":107},null,null,null,{"$f":"データ一覧!W587","v":24},null,null,null,{"$f":"データ一覧!W588","v":749},null,null,null,{"$f":"データ一覧!W589","v":381},null,null,null,{"$f":"データ一覧!W590","v":368}]
[{"$f":"RIGHT(データ一覧!$A76,6)","v":"3.9.30"},null,"比率(対1,000人)",null,null,null,null,{"$f":"+H48/I35*1000","v":2.7528347643704527},null,null,{"$f":"+K48/I35*1000","v":9.2416595661008056},null,null,"- ",null,null,"- ",null,null,{"$f":"+T48/I35*1000","v":2.6217473946385264},null,null,{"$f":"+W48/I35*1000","v":0.78652421839155806},null,null,"  ６  漁               業",null,null,null,null,null,null,null,null,null,null,null,null,null,null,null,null,null,null,null,null,null,null,null,null,null,null,null,null,null,null,null,null,null,null,null,null,null,null,null,null,null,"  ","中学校",null,null,null,null,null,null,null,null,{"$f":"データ一覧!W592","v":2},null,null,{"$f":"データ一覧!W593","v":0},null,null,{"$f":"データ一覧!W594","v":42},null,null,null,{"$f":"データ一覧!W595","v":4},null,null,null,{"$f":"データ一覧!W596","v":416},null,null,null,{"$f":"データ一覧!W597","v":201},null,null,null,{"$f":"データ一覧!W598","v":215}]
[null,null,null,null,null,null,null,null,null,null,null,null,null,null,null,null,null,null,null,null,null,null,null,null,null,null,null,null,null,null,null,null,null,null,null,null,null,null,null,"水 道 供 給 人 口",null,null,null,null,null,null,"上 水 道",null,null,null,"簡易水道",null,null,null,"専用水道",null,null,null,"飲料水供給施設",null,null,null,"下水道処理人口",null,null,null,null,"  ","高等学校",null,null,null,null,null,null,null,null,{"$f":"データ一覧!W600","v":1},null,null,{"$f":"データ一覧!W601","v":0},null,null,{"$f":"データ一覧!W602","v":39},null,null,null,{"$f":"データ一覧!W603","v":10},null,null,null,{"$f":"データ一覧!W604","v":429},null,null,null,{"$f":"データ一覧!W605","v":142},null,null,null,{"$f":"データ一覧!W606","v":287}]
["  ３  事　　業　　所（民　　営）    （平 28.6.1）",null,null,null,null,null,null,null,null,null,null,null,null,null,null,null,null,null,null,null,null,null,null,null,null,"漁船隻数・トン数",null,null,null,{"$f":"データ一覧!$A$282","v":"2.12.31"},null,null,null,"動　力　船",null,null,null,null,null,{"$f":"データ一覧!$A$408","v":"3.3.31"},null,null,null,null,null,"人",null,{"$f":"データ一覧!W408","v":6405},null,null,{"$f":"データ一覧!W409","v":7446},null,null,null,null,{"$f":"データ一覧!W410","v":0},null,null,null,{"$f":"データ一覧!W411","v":0},null,null,null,{"$f":"データ一覧!W412","v":6008},null,null,null,"  ","大学・短期大学",null,null,null,null,null,null,null,null,{"$f":"データ一覧!W607","v":0},null,null,{"$f":"データ一覧!W608","v":0},null,null,{"$f":"データ一覧!W609","v":0},null,null,null,{"$f":"データ一覧!W610","v":0},null,null,null,{"$f":"データ一覧!W611","v":0},null,null,null,{"$f":"データ一覧!W612","v":0},null,null,null,{"$f":"データ一覧!W613","v":0}]
[null,null,null,null,null,null,null,null,null,null,null,null,null,null,null,null,null,null,null,null,null,null,null,null,null,"無動力船隻数",null,null,null,"船外機付漁船隻数",null,null,null,"隻　数",null,null,"総 ト ン 数",null,null,null,null,null,null,null,null,null,null,null,null,null,null,null,null,null,null,null,null,null,null,null,null,null,null,null,null,null,null,"  ","高等専門学校",null,null,null,null,null,null,null,null,{"$f":"データ一覧!W614","v":0},null,null,{"$f":"データ一覧!W615","v":0},null,null,{"$f":"データ一覧!W616","v":0},null,null,null,{"$f":"データ一覧!W617","v":0},null,null,null,{"$f":"データ一覧!W618","v":0},null,null,null,{"$f":"データ一覧!W619","v":0},null,null,null,{"$f":"データ一覧!W620","v":0}]
[null,null,null,null,null,null,null,"    総　　　　　数",null,null,null,null,null,"    民　　　　　営",null,null,null,null,null,"  国 ･ 地方公共団体",null,null,null,null,null,null,null,null,"隻",null,null,null,"隻",null,null,"隻",null,null,"t"," １２  交   通　・　通   信",null,null,null,null,null,null,null,null,null,null,null,null,null,null,null,null,null,null,null,null,null,null,null,null,null,null,null,"  ","特別支援学校",null,null,null,null,null,null,null,null,{"$f":"+データ一覧!W622","v":0},null,null,{"$f":"+データ一覧!W623","v":0},null,null,{"$f":"+データ一覧!W624","v":0},null,null,null,{"$f":"+データ一覧!W625","v":0},null,null,null,{"$f":"+データ一覧!W626","v":0},null,null,null,{"$f":"+データ一覧!W627","v":0},null,null,null,{"$f":"+データ一覧!W628","v":0}]
["  　区　　　　　　分",null,null,null,null,null,null," 事業所数",null,null," 従業者数",null,null," 事業所数",null,null," 従業者数",null,null," 事業所数",null,null," 従業者数",null,null,{"$f":"データ一覧!$W$282","v":0},null,null,null,{"$f":"データ一覧!$W$283","v":166},null,null,null,{"$f":"データ一覧!W284","v":88},null,null,{"$f":"データ一覧!W285","v":368.40999999999997},null,null,null,null,null,null,null,null,null,null,null,null,null,null,null,null,null,null,null,null,null,null,null,null,null,null,null,null,null,null,"  ","幼稚園",null,null,null,null,null,null,null,null,{"$f":"データ一覧!W630","v":0},null,null,{"$f":"データ一覧!W631","v":0},null,null,{"$f":"データ一覧!W632","v":0},null,null,null,{"$f":"データ一覧!W633","v":0},null,null,null,{"$f":"データ一覧!W634","v":0},null,null,null,{"$f":"データ一覧!W635","v":0},null,null,null,{"$f":"データ一覧!W636","v":0}]
[null,null,null,null,null,null,null,null,null,null,"       人",null,null,null,null,null,"       人",null,null,null,null,null,"       人",null,null,"  男女別就業者数",null,null,null,null,null,null,null,{"$f":"データ一覧!$A$286","v":"30.11.1"},null,null,null,null,null,"道     路",null,null,null,"実 延 長",null,null,null,"国     道",null,null,null,"県     道",null,null,null,"市町道",null,null,null," 鉄 道 営 業 キ ロ 数",null,null,null,null,null,null,null,"  ","幼保連携認定こども園",null,null,null,null,null,null,null,null,{"$f":"データ一覧!W638","v":0},null,null,{"$f":"データ一覧!W639","v":0},null,null,{"$f":"データ一覧!W640","v":0},null,null,null,{"$f":"データ一覧!W641","v":0},null,null,null,{"$f":"データ一覧!W642","v":0},null,null,null,{"$f":"データ一覧!W643","v":0},null,null,null,{"$f":"データ一覧!W644","v":0}]
["総数",null,null,null,null,null,null,{"$f":"データ一覧!W99","v":"…"},null,null,{"$f":"データ一覧!W156","v":"…"},null,null,{"$f":"データ一覧!W100","v":750},null,null,{"$f":"データ一覧!W157","v":5684},null,null,{"$f":"データ一覧!W101","v":"…"},null,null,{"$f":"データ一覧!W158","v":"…"},null,null,"総　　数",null,null,null,null,null,"男",null,null,null,"女",null,null,null,{"$f":"データ一覧!$A$413","v":"2.4.1"},null,null,null,{"$f":"データ一覧!W413","v":557.1},null,null,"㎞",{"$f":"データ一覧!W414","v":15.9},null,null,"㎞",{"$f":"データ一覧!W415","v":62.900000000000006},null,null,"㎞",{"$f":"データ一覧!W416","v":478.3},null,null,"km",{"$f":"データ一覧!$A$417","v":"3.4.1"},null,null,null,{"$f":"データ一覧!W417","v":21.972999999999999},null,null,"㎞","  ","各種学校",null,null,null,null,null,null,null,null,{"$f":"データ一覧!W646","v":0},null,null,{"$f":"データ一覧!W647","v":0},null,null,{"$f":"データ一覧!W648","v":0},null,null,null,{"$f":"データ一覧!W649","v":0},null,null,null,{"$f":"データ一覧!W650","v":0},null,null,null,{"$f":"データ一覧!W651","v":0},null,null,null,{"$f":"データ一覧!W652","v":0}]
["農林漁業",null,null,null,null,null,null,{"$f":"データ一覧!W102","v":"…"},null,null,{"$f":"データ一覧!W159","v":"…"},null,null,{"$f":"データ一覧!W103","v":26},null,null,{"$f":"データ一覧!W160","v":291},null,null,{"$f":"データ一覧!W104","v":"…"},null,null,{"$f":"データ一覧!W161","v":"…"},null,null,null,null,null,null,null,"人",null,null,"　　　　人",null,null,null,null,"  人","自動車",null,null,null,null,null,null,null,null,"乗用車",null,null,null,null,null,null,null,null,null,null,null,null,null,null,null,null,null,null,"  ","専修学校",null,null,null,null,null,null,null,null,{"$f":"データ一覧!W654","v":0},null,null,{"$f":"データ一覧!W655","v":0},null,null,{"$f":"データ一覧!W656","v":0},null,null,null,{"$f":"データ一覧!W657","v":0},null,null,null,{"$f":"データ一覧!W658","v":0},null,null,null,{"$f":"データ一覧!W659","v":0},null,null,null,{"$f":"データ一覧!W660","v":0}]
["鉱業",null,null,null,null,null,null,{"$f":"データ一覧!W105","v":"…"},null,null,{"$f":"データ一覧!W162","v":"…"},null,null,{"$f":"データ一覧!W106","v":0},null,null,{"$f":"データ一覧!W163","v":0},null,null,{"$f":"データ一覧!W107","v":"…"},null,null,{"$f":"データ一覧!W164","v":"…"},null,null,{"$f":"AF58+AJ58","v":69},null,null,null,null,null,{"$f":"データ一覧!$W$287","v":68},null,null,null,{"$f":"データ一覧!W288","v":1},null,null,null,"台  数",null,null,null,"貨    物",null,null,null,"普     通",null,null,null,"小     型",null,null,null,"乗  合",null,null,"特  種",null,null,"小型二輪",null,null,"軽自動車",null,null," １８  衛　　　　　　　生"]
["建設業",null,null,null,null,null,null,{"$f":"データ一覧!W108","v":"…"},null,null,{"$f":"データ一覧!W165","v":"…"},null,null,{"$f":"データ一覧!W109","v":109},null,null,{"$f":"データ一覧!W166","v":562},null,null,{"$f":"データ一覧!W110","v":"…"},null,null,{"$f":"データ一覧!W167","v":"…"},null,null,"　　　　海 面 漁 業 漁 獲 量 （属人）",null,null,null,null,null,null,null,{"$f":"データ一覧!$A$289","v":"30年中"},null,null,null,null,null,{"$f":"データ一覧!$A$418","v":"3.3.31"},null,null,null,null,{"$f":"データ一覧!W418","v":642},null,null,null,{"$f":"データ一覧!W420","v":2403},null,null,null,{"$f":"データ一覧!W421","v":2527},null,null,{"$f":"データ一覧!W419","v":53},null,null,{"$f":"データ一覧!W422","v":293},null,null,{"$f":"データ一覧!W423","v":199},null,null,{"$f":"データ一覧!W424","v":7159}]
["製造業",null,null,null,null,null,null,{"$f":"データ一覧!W111","v":"…"},null,null,{"$f":"データ一覧!W168","v":"…"},null,null,{"$f":"データ一覧!W112","v":61},null,null,{"$f":"データ一覧!W169","v":1730},null,null,{"$f":"データ一覧!W113","v":"…"},null,null,{"$f":"データ一覧!W170","v":"…"},null,null,null,null,null,null,null,"       ","ｔ",null,null,null,null,null,null,"t",null,null,"     ",null,"郵　便　局　数",null,null,null,null,null,null,null,null,null,null,null,null,null,{"$f":"+MID(データ一覧!$A$428,3,2)","v":"12"},"令","一般加入",null,null,null,"ＩＮＳネット",null,null,null,null,null,null,null,"医療関係施設",null,null,null,null,null,{"$f":"データ一覧!$A$661","v":"元.10.1"},null,null,null,null,null,null,"および医療関係者数",null,null,null,null,null,null,null,{"$f":"データ一覧!$A$666","v":"30.12.31"}]
["電気・ｶﾞ ｽ・熱供給・水道業",null,null,null,null,null,null,{"$f":"データ一覧!W114","v":"…"},null,null,{"$f":"データ一覧!W171","v":"…"},null,null,{"$f":"データ一覧!W115","v":0},null,null,{"$f":"データ一覧!W172","v":0},null,null,{"$f":"データ一覧!W116","v":"…"},null,null,{"$f":"データ一覧!W173","v":"…"},null,null,"   総　　　　　　数",null,null,null,{"$f":"データ一覧!W289","v":858},null,null,"   藻　　　　　　類",null,null,null,{"$f":"データ一覧!W292","v":8},null,null,"通  信",null,null,null," 総     数",null,null,null,null," 郵 便 局",null,null,null,null," 簡 易 局",null,null,null,"・",{"$f":"+LEFT(データ一覧!$A$428,1)","v":"2"},"電話数",null,null,null,"加入数",null,null,null,null,null,null,null,null,null,"　","病",null,null,"院",null,"　",null,null,null,null," ","一般診療所",null,null,null,null,null,null,null,null,null,null,null,"歯科診療所"]
["情報通信業",null,null,null,null,null,null,{"$f":"データ一覧!W117","v":"…"},null,null,{"$f":"データ一覧!W174","v":"…"},null,null,{"$f":"データ一覧!W118","v":1},null,null,{"$f":"データ一覧!W175","v":4},null,null,{"$f":"データ一覧!W119","v":"…"},null,null,{"$f":"データ一覧!W176","v":"…"},null,null,"   魚　　　　　　類",null,null,null,{"$f":"データ一覧!W290","v":801},null,null,"   そ　   の　　 他",null,null,null,{"$f":"データ一覧!W293","v":37},null,null,{"$f":"データ一覧!$A$428","v":"2.12.31"},null,null,null,{"$f":"データ一覧!W425","v":7},null,null,null,null,{"$f":"データ一覧!W426","v":7},null,null,null,null,{"$f":"データ一覧!W427","v":0},null,null,null,{"$f":"+RIGHT(データ一覧!$A$428,2)","v":"31"},"・",{"$f":"データ一覧!W428","v":3055},null,null,null,{"$f":"データ一覧!W429","v":389},null,null,null," ","医療関係",null,null,null,null,null,null,null,null,null,null,null,"一般病院",null,null,null,null,null,null,null,null,null,null,null,"有",null,null,"床"]
["運輸業、郵便業",null,null,null,null,null,null,{"$f":"データ一覧!W120","v":"…"},null,null,{"$f":"データ一覧!W177","v":"…"},null,null,{"$f":"データ一覧!W121","v":15},null,null,{"$f":"データ一覧!W178","v":149},null,null,{"$f":"データ一覧!W122","v":"…"},null,null,{"$f":"データ一覧!W179","v":"…"},null,null,"   貝　　　　　　類",null,null,null,{"$f":"データ一覧!W291","v":12},null,null,null,null,null,null,null,null,null,null,null,null,null,null,null,null,null,null,null,null,null,null,null,null,null,null,null,null,null,null,null,null,null,null,null,null,null,null,"施設数",null,null,null,null,null,null,{"$f":"データ一覧!W661","v":2},null,null,null,null,null,{"$f":"データ一覧!W662","v":1},null,null,null,null,null,{"$f":"データ一覧!W663","v":10},null,null,null,null,null,{"$f":"データ一覧!W664","v":1},null,null,null,null,null,{"$f":"データ一覧!W665","v":3}]
["卸売業、小売業",null,null,null,null,null,null,{"$f":"データ一覧!W123","v":"…"},null,null,{"$f":"データ一覧!W180","v":"…"},null,null,{"$f":"データ一覧!W124","v":170},null,null,{"$f":"データ一覧!W181","v":833},null,null,{"$f":"データ一覧!W125","v":"…"},null,null,{"$f":"データ一覧!W182","v":"…"},null,null,null,null,null,null,null,null,null,null,null,null,null,null,null,null," １３  税　　・　　財　　政",null,null,null,null,null,null,null,null,null,null,null,null,null,null,null,null,null,null,null,null,null,null,null,null,null,null,null,null,null,null,null,null,null,null,"医師",null,null,null,null,"歯科医師",null,null,null,null,"薬剤師",null,null,null,null,"保健師",null,null,null,null,"助産師",null,null," ",null,"看護師",null,null," "]
["金融業、保険業",null,null,null,null,null,null,{"$f":"データ一覧!W126","v":"…"},null,null,{"$f":"データ一覧!W183","v":"…"},null,null,{"$f":"データ一覧!W127","v":11},null,null,{"$f":"データ一覧!W184","v":59},null,null,{"$f":"データ一覧!W128","v":"…"},null,null,{"$f":"データ一覧!W185","v":"…"},null,null,"  ７  商        　　　業 ",null,null,null,null,null,null,{"$f":"データ一覧!$A$294","v":"28.6.1(平成27年実績）"},null,null,null,null,null,null,null,null,null,null,null,null,null,null,null,null,null,null,null,null,null,null,null,null,null,null,null,null,null,null,null,null,null,null," ","医療",null,null,null,null,null,null,null,null,"人",null,null,null,null,"人",null,null,null,null,"人",null,null,null,null,"人",null,null,null,null,"人",null,null,null,null,"人"]
["不動産業、物品賃貸業",null,null,null,null,null,null,{"$f":"データ一覧!W129","v":"…"},null,null,{"$f":"データ一覧!W186","v":"…"},null,null,{"$f":"データ一覧!W130","v":5},null,null,{"$f":"データ一覧!W187","v":13},null,null,{"$f":"データ一覧!W131","v":"…"},null,null,{"$f":"データ一覧!W188","v":"…"},null,null,null,null,null,null,null,null,null,null,null,null,null,null,null,null,"           ",null,null,null,"歳入",null,null,null,null,null,null,null,null,"(千円）"," ",null,null,null,"歳出",null,null,null,null,null,null,null,null,"(千円）",null,"関係者",null,null,null,null,{"$f":"データ一覧!W666","v":19},null,null,null,null,{"$f":"データ一覧!W667","v":5},null,null,null,null,{"$f":"データ一覧!W668","v":14},null,null,null,null,{"$f":"データ一覧!W669","v":10},null,null,null,null,{"$f":"データ一覧!W670","v":1},null,null,null,null,{"$f":"データ一覧!W671","v":187}]
["学術研究、専門・技術ｻｰﾋﾞｽ業",null,null,null,null,null,null,{"$f":"データ一覧!W132","v":"…"},null,null,{"$f":"データ一覧!W189","v":"…"},null,null,{"$f":"データ一覧!W133","v":18},null,null,{"$f":"データ一覧!W190","v":66},null,null,{"$f":"データ一覧!W134","v":"…"},null,null,{"$f":"データ一覧!W191","v":"…"},null,null,"  産   業　 分　 類",null,null,null,"  商　 店 　数",null,null," 従　業　者　数",null,null,"年　間　販　売　額",null,null,null,"一人当たり歳入歳出予算決算額",null,null,null,null,null,null,null,null,null,null,null,null,null,null,null,null,null,null,null,null,null,null,null,null,null,null,null,"                   ",null,null,null,null,null,null,null,null,"死因別死亡数　　　　　　    ",null,null,null,null,null,null,null,null,null,null,null,null,null,null,null,{"$f":"データ一覧!$A$672","v":"2年中"},null,null,null,null,null,null,null,null,"      単 位：人"]
["宿泊業、飲食サービス業",null,null,null,null,null,null,{"$f":"データ一覧!W135","v":"…"},null,null,{"$f":"データ一覧!W192","v":"…"},null,null,{"$f":"データ一覧!W136","v":160},null,null,{"$f":"データ一覧!W193","v":779},null,null,{"$f":"データ一覧!W137","v":"…"},null,null,{"$f":"データ一覧!W194","v":"…"},null,null,null,null,null,null,null,"        店",null,null,null,"　人",null,"         百万円",null,null,"区分",null,null,null,{"$f":"データ一覧!$A$438","v":"3年度"},null,null,null,null,{"$f":"データ一覧!$A$452","v":"2年度"},null,null,null,null,"区分",null,null,null,{"$f":"+AR68","v":"3年度"},null,null,null,null,{"$f":"データ一覧!$A$452","v":"2年度"},null,null,null,null," 死     因",null,null,null,null,null,null,null,null,null,null,null,"悪  性",null,null,"高血圧",null,null,null,null,null,"脳血管",null,null,null,null,null," ",null,null,"不慮の事故"]
["生活関連サービス業、娯楽業",null,null,null,null,null,null,{"$f":"データ一覧!W138","v":"…"},null,null,{"$f":"データ一覧!W195","v":"…"},null,null,{"$f":"データ一覧!W139","v":59},null,null,{"$f":"データ一覧!W196","v":209},null,null,{"$f":"データ一覧!W140","v":"…"},null,null,{"$f":"データ一覧!W197","v":"…"},null,null,"総　　　　　　計",null,null,null,{"$f":"データ一覧!W294","v":151},null,null,{"$f":"データ一覧!W303","v":724},null,null,{"$f":"データ一覧!W312","v":13951},null,null,null,null,null,null,null,{"$f":"データ一覧!W434","v":676237.42161295027},null,null,null,null,{"$f":"データ一覧!W435","v":976133.79172038392},null,null,null,null,null,null,null,null,{"$f":"データ一覧!W436","v":676237.42161295027},null,null,null,null,{"$f":"データ一覧!W437","v":924921.71608652046},null,null,null,null,null,null,null,null,null,"全 死 因",null,null,null,"結 核",null,null,"新生物",null,null,"性疾患",null,null,"心疾患",null,null,"疾  患",null,null,"肺  炎",null,null,"老  衰",null,null,null,null," ","交通事故"]
["教育、学習支援業",null,null,null,null,null,null,{"$f":"データ一覧!W141","v":"…"},null,null,{"$f":"データ一覧!W198","v":"…"},null,null,{"$f":"データ一覧!W142","v":13},null,null,{"$f":"データ一覧!W199","v":17},null,null,{"$f":"データ一覧!W143","v":"…"},null,null,{"$f":"データ一覧!W200","v":"…"},null,null,"卸売業",null,null,null,{"$f":"データ一覧!W295","v":15},null,null,{"$f":"データ一覧!W304","v":65},null,null,{"$f":"データ一覧!W313","v":2733},null,null,null,"項目別歳入歳出予算決算額"]
["医療、福祉",null,null,null,null,null,null,{"$f":"データ一覧!W144","v":"…"},null,null,{"$f":"データ一覧!W201","v":"…"},null,null,{"$f":"データ一覧!W145","v":35},null,null,{"$f":"データ一覧!W202","v":672},null,null,{"$f":"データ一覧!W146","v":"…"},null,null,{"$f":"データ一覧!W203","v":"…"},null,null,"小売業",null,null,null,{"$f":"データ一覧!W296","v":136},null,null,{"$f":"データ一覧!W305","v":659},null,null,{"$f":"データ一覧!W314","v":11218},null,null,null,"区分",null,null,null,{"$f":"データ一覧!$A$438","v":"3年度"},null,null,null,null,{"$f":"データ一覧!$A$452","v":"2年度"},null,null,null,null,"区分",null,null,null,{"$f":"+AR71","v":"3年度"},null,null,null,null,{"$f":"データ一覧!$A$452","v":"2年度"},null,null,null,null,null,null,null,null,null,{"$f":"データ一覧!W672","v":235},null,null,null,"   －",{"$f":"データ一覧!W673","v":0},null,{"$f":"データ一覧!W674","v":15},null,null,null,{"$f":"データ一覧!W675","v":5},null,{"$f":"データ一覧!W676","v":4},null,null,{"$f":"データ一覧!W677","v":0},null,null,{"$f":"データ一覧!W678","v":16},null,null,{"$f":"データ一覧!W679","v":40},null,null,{"$f":"データ一覧!W680","v":6},null,null,{"$f":"データ一覧!W681","v":0}]
["複合サービス事業",null,null,null,null,null,null,{"$f":"データ一覧!W147","v":"…"},null,null,{"$f":"データ一覧!W204","v":"…"},null,null,{"$f":"データ一覧!W148","v":11},null,null,{"$f":"データ一覧!W205","v":94},null,null,{"$f":"データ一覧!W149","v":"…"},null,null,{"$f":"データ一覧!W206","v":"…"},null,null,"各種商品",null,null,null,{"$f":"データ一覧!W297","v":2},null,null,{"$f":"データ一覧!W306","v":165},null,null,{"$f":"データ一覧!W315","v":"x"},null,null,null,"総額",null,null,null,{"$f":"SUM(AR73:AV85)","v":9273920},null,null,null,null,{"$f":"SUM(AW73:BA85)","v":13601897},null,null,null,null,"総額",null,null,null,{"$f":"SUM(BF73:BJ85)","v":9273920},null,null,null,null,{"$f":"SUM(BK73:BO85)","v":12913757},null,null,null,null," １９  警　察　・　消　防  ",null,null,null,null,null,null,null,null,null,null,null,null,null,null,null,{"$f":"+データ一覧!$A682","v":"3.4.1"}]
["サービス業",null,null,null,null,null,null,{"$f":"データ一覧!W150","v":"…"},null,null,{"$f":"データ一覧!W207","v":"…"},null,null,{"$f":"データ一覧!W151","v":56},null,null,{"$f":"データ一覧!W208","v":206},null,null,{"$f":"データ一覧!W152","v":"…"},null,null,{"$f":"データ一覧!W209","v":"…"},null,null,"織物・衣服・身の回り品",null,null,null,{"$f":"データ一覧!W298","v":5},null,null,{"$f":"データ一覧!W307","v":11},null,null,{"$f":"データ一覧!W316","v":49},null,null,null,"地方税",null,null,null,{"$f":"データ一覧!W439","v":1663716},null,null,null,null,{"$f":"データ一覧!W453","v":1829454},null,null,null,null,"議会費",null,null,null,{"$f":"データ一覧!W467","v":98695},null,null,null,null,{"$f":"データ一覧!W481","v":84547}]
["公務",null,null,null,null,null,null,{"$f":"データ一覧!W153","v":"…"},null,null,{"$f":"データ一覧!W210","v":"…"},null,null,{"$f":"データ一覧!W154","v":"…"},null,null,{"$f":"データ一覧!W211","v":"…"},null,null,{"$f":"データ一覧!W155","v":"…"},null,null,{"$f":"データ一覧!W212","v":"…"},null,null,"飲食料品",null,null,null,{"$f":"データ一覧!W299","v":56},null,null,{"$f":"データ一覧!W308","v":209},null,null,{"$f":"データ一覧!W317","v":2906},null,null,null,"地方譲与税",null,null,null,{"$f":"データ一覧!W440","v":129096},null,null,null,null,{"$f":"データ一覧!W454","v":129507},null,null,null,null,"総務費",null,null,null,{"$f":"データ一覧!W468","v":1548904},null,null,null,null,{"$f":"データ一覧!W482","v":4003670},null,null,null,null,null,null,null,null,null,null,null,null,null,null,"交番・駐在所",null,null,null,null,null,null,null,null,"刑法犯認知件数",null,null,null,null,null,null,null,null,"交通人身事故発生件数"]
["  ４  農        　　　業 ",null,null,null,null,null,null,null,null,null,null,null,null,null,null,null,null,null,null,null,null,null,null,null,null,"機械器具",null,null,null,{"$f":"データ一覧!W300","v":17},null,null,{"$f":"データ一覧!W309","v":63},null,null,{"$f":"データ一覧!W318","v":897},null,null,null,"各種交付金",null,null,null,{"$f":"データ一覧!W441","v":390800},null,null,null,null,{"$f":"データ一覧!W455","v":353353},null,null,null,null,"民生費",null,null,null,{"$f":"データ一覧!W469","v":2316825},null,null,null,null,{"$f":"データ一覧!W483","v":2297649},null,null,null,null,null,"警察署数",null,null,null,null,null,null,null,null,"検問所数",null,null,null,null,null,null,null,null,null,{"$f":"データ一覧!$A$684","v":"2年中"},null,null,null,null,null,null,null,null,{"$f":"データ一覧!$A$684","v":"2年中"}]
[null,null,null,null,null,null,null,null,null,null,null,null,null,null,null,null,null,null,null,null,null,null,null,null,null,"その他",null,null,null,{"$f":"データ一覧!W301","v":55},null,null,{"$f":"データ一覧!W310","v":210},null,null,{"$f":"データ一覧!W319","v":2706},null,null,null,"地方特例交付金",null,null,null,{"$f":"データ一覧!W442","v":6000},null,null,null,null,{"$f":"データ一覧!W456","v":15440},null,null,null,null,"衛生費",null,null,null,{"$f":"データ一覧!W470","v":1299464},null,null,null,null,{"$f":"データ一覧!W484","v":1267722},null,null,null,null,null,null,null,null,null,null,null,null,null,null,null,null,null,null,null,null,null,null,null,null,null,null,null,null," 件",null,null,null,null,null,null,null,null,"　件"]
[null,null,"農業経営体数",null,null,null,null,null,null,"農産物販売額規模別経営体数",null,null,null,null,null,null,null,"経営耕地面積規模別経営体数",null,null,null,null,null,null,null,"無店舗",null,null,null,{"$f":"データ一覧!W302","v":1},null,null,{"$f":"データ一覧!W311","v":1},null,null,{"$f":"データ一覧!W320","v":"x"},null,null,null,"地方交付税",null,null,null,{"$f":"データ一覧!W443","v":4100000},null,null,null,null,{"$f":"データ一覧!W457","v":4321432},null,null,null,null,"労働費",null,null,null,{"$f":"データ一覧!W471","v":22439},null,null,null,null,{"$f":"データ一覧!W485","v":22439},null,null,null,null,null,null,{"$f":"データ一覧!W682","v":0},null,null,null,null,null,null,null,null,{"$f":"データ一覧!W683","v":5},null,null,null,null,null,null,null,null,{"$f":"データ一覧!W684","v":37},null,null,null,null,null,null,null,null,{"$f":"データ一覧!W685","v":9}]
["農",null,"区　分",null,null,null,"経営体数\n（経営体）",null,null,"区　分",null,null,null,null,"経営体数\n（経営体）",null,null,"区　分",null,null,null,null,"経営体数\n（経営体）",null,null,null,null,null,null,null,null,null,null,null,null,null,null,null,null,"分担金および負担金",null,null,null,{"$f":"データ一覧!W444","v":43432},null,null,null,null,{"$f":"データ一覧!W458","v":86360},null,null,null,null,"農林水産業費",null,null,null,{"$f":"データ一覧!W472","v":786560},null,null,null,null,{"$f":"データ一覧!W486","v":1000975},null,null,null,null,"火災発生件数",null,null,null,null,null,null,null,null,null,"林野焼損",null,null,null,null,"損      害",null,null,null,null,"消 防 自",null,null,null,"その他の",null,null,null," ",null,null,null,null," "]
["業","令",null,null,null,null,null,null,null,null,null,null,null,null,null,null,null,null,null,null,null,null,null,null,null,"  ８  住　　　　　　 　宅",null,null,null,null,null,null,null,null,null,null,null,null,null,"使用料および手数料",null,null,null,{"$f":"データ一覧!W445","v":126800},null,null,null,null,{"$f":"データ一覧!W459","v":145088},null,null,null,null,"商工費",null,null,null,{"$f":"データ一覧!W473","v":153742},null,null,null,null,{"$f":"データ一覧!W487","v":664313},null,null,null,null,{"$f":"+データ一覧!$A$686","v":"2年中"},null,null,null,null,"焼損棟数",null,null,null,null,"面    積",null,null,null,null,"見  積  額",null,null,null,null,"動 車 数",null,null,null,"ﾎﾟﾝﾌﾟ数",null,null,null," 消防吏員",null,null,null," 消防団員"]
["経",{"$f":"+LEFT(データ一覧!$A$213)","v":"2"},"計",null,null,null,{"$f":"データ一覧!W213","v":525},null,null,"総　　　 数",null,null,null,null,{"$f":"データ一覧!W217","v":525},null,null,"総　　　 数",null,null,null,null,{"$f":"データ一覧!W233","v":1696},null,null,null,null,null,null,null,null,null,null,null,null,null,null,null,null,"国庫支出金",null,null,null,{"$f":"データ一覧!W446","v":605388},null,null,null,null,{"$f":"データ一覧!W460","v":2758350},null,null,null,null,"土木費",null,null,null,{"$f":"データ一覧!W474","v":518360},null,null,null,null,{"$f":"データ一覧!W488","v":888103},null,null,null,null,"         件",null,null,null,null,null,"      棟",null,null,null,null,null,null,"  ａ",null,null,null,"  千円",null,null,"        ",null,null,null,null,null,null,null,null,null,"  人",null,null,null,"  人"]
["営","・","個人経営体",null,null,null,{"$f":"データ一覧!W214","v":487},null,null,"販 売 な し",null,null,null,null,{"$f":"データ一覧!W218","v":43},null,null,"0.5 ha 未満",null,null,null,null,{"$f":"データ一覧!W234","v":40},null,null,{"$f":"+データ一覧!$A$321","v":"令和元年"},null,null,null,null,{"$f":"データ一覧!$A$324","v":"2年"},"中の増減",null,null,null,{"$f":"+データ一覧!$A$324","v":"2年"},null,null,null,"県支出金",null,null,null,{"$f":"データ一覧!W447","v":1033866},null,null,null,null,{"$f":"データ一覧!W461","v":1149380},null,null,null,null,"消防費",null,null,null,{"$f":"データ一覧!W475","v":410613},null,null,null,null,{"$f":"データ一覧!W489","v":404415},null,null,null,null,null,{"$f":"データ一覧!W686","v":9},null,null,null,null,{"$f":"データ一覧!W687","v":6},null,null,null,null,{"$f":"データ一覧!W688","v":0},null,null,null,{"$f":"データ一覧!W689","v":22984},null,null,null,null,null,{"$f":"データ一覧!W690","v":8},null,null,null,{"$f":"データ一覧!W691","v":34},null,null,null,{"$f":"データ一覧!W692","v":32},null,null,null,{"$f":"データ一覧!W693","v":509}]
["体",{"$f":"+LEFT(データ一覧!$A$213,1)","v":"2"},"団体経営体",null,null,null,{"$f":"データ一覧!W215","v":38},null,null,"50万円未満",null,null,null,null,{"$f":"データ一覧!W219","v":183},null,null,"0.5 ha ～ 1.0 ha",null,null,null,null,{"$f":"データ一覧!W235","v":106},null,null,null,null,null,null,"建設した住宅",null,null,"消失した住宅",null,null,null,null,null,null,"財産収入",null,null,null,{"$f":"データ一覧!W448","v":38809},null,null,null,null,{"$f":"データ一覧!W462","v":90172},null,null,null,null,"教育費",null,null,null,{"$f":"データ一覧!W476","v":807804},null,null,null,null,{"$f":"データ一覧!W490","v":996953},null,null,null,null," ２０  そ　　　の　　　他　"]
["数","・",null,"法人経営",null,null,{"$f":"データ一覧!W216","v":35},null,null,"50～300万円",null,null,null,null,{"$f":"データ一覧!W220","v":211},null,null,"1.0 ha ～ 2.0 ha",null,null,null,null,{"$f":"データ一覧!W236","v":160},null,null,null,null,null,null,null,null,null,null,null,null,null,null,null,null,"繰入金",null,null,null,{"$f":"データ一覧!W449","v":234672},null,null,null,null,{"$f":"データ一覧!W463","v":832291},null,null,null,null,"災害復旧費",null,null,null,{"$f":"データ一覧!W477","v":0},null,null,null,null,{"$f":"データ一覧!W491","v":0}]
["（",{"$f":"+RIGHT(データ一覧!$A$213)","v":"1"},null,null,null,null,null,null,null,"300～500万円",null,null,null,null,{"$f":"データ一覧!W221","v":14},null,null,"2.0 ha ～ 3.0 ha",null,null,null,null,{"$f":"データ一覧!W237","v":88},null,null,null,{"$f":"データ一覧!W321","v":7993},null,"戸",{"$f":"データ一覧!W322","v":34},null,"戸",{"$f":"データ一覧!W323","v":19},null,"戸",null,{"$f":"データ一覧!W324","v":8008},null,"戸","地方債",null,null,null,{"$f":"データ一覧!W450","v":321700},null,null,null,null,{"$f":"データ一覧!W464","v":819809},null,null,null,null,"公債費",null,null,null,{"$f":"データ一覧!W478","v":1307314},null,null,null,null,{"$f":"データ一覧!W492","v":1282971},null,null,null,null,null,null,null,null,null,"三方五湖、ﾚｲﾝﾎﾞｰﾗｲﾝ、鳥浜貝塚、三十三間山、三方石観世音、三方海域公園、\n河内川ダム、常神のｿﾃﾂ、神子の山桜、小川神社のカゴノキ、上村家のタブノキ、円成寺のみかえりのマツ、若狭瓜割名水公園、若狭鯖街道熊川宿、西塚古墳、中塚古墳、上ノ塚古墳、上船塚古墳、下船塚古墳、十善の森古墳、木造聖観世音菩薩立像(安楽寺)、木造十一面観世音菩薩立像(法順寺)、荻野家住宅、三宅火の見やぐら・火の見やぐら倉庫、鳥浜酒造店舗兼醸造所・煙突、若狭三方縄文博物館、若狭町歴史文化館、若狭鯖街道熊川資料館、佐久間記念交流会館、福井県年縞博物館、熊川城跡"]
["総",null,null,null,null,null,null,null,null,"500～1,000万円",null,null,null,null,{"$f":"データ一覧!W222","v":28},null,null,"3.0 ha ～ 5.0 ha",null,null,null,null,{"$f":"データ一覧!W238","v":63},null,null,null,null,null,null,null,null,null,null,null,null,null,null,null,null,"その他",null,null,null,{"$f":"データ一覧!W451","v":579641},null,null,null,null,{"$f":"データ一覧!W465","v":1071261},null,null,null,null,"その他",null,null,null,{"$f":"データ一覧!W479","v":3200},null,null,null,null,{"$f":"データ一覧!W493","v":0},null,null,null,null,"　名所・旧跡"]
["数",null,null,null,null,null,null,null,null,"1,000万円以上",null,null,null,null,{"$f":"データ一覧!W223","v":46},null,null,"5.0 ha以上",null,null,null,null,{"$f":"データ一覧!W239","v":1239},null,null,null,null,null,null,null,null,null,null,null,null,null,null,null,null,null,null,null,null,null,null,null,null,null,null,null,null,null,null,null,null,null,null,null,null,null,null,null,null,null,null,null,null,"  文化財等"]
["）",null,"15歳以上の常雇い数",null,null,null,null,null,null,"農業に60日以上従事した世帯員、役員・構成員\n（経営主を含む）の平均年齢",null,null,null,null,null,null,null,null,null,null,null,null,null,null,null,"  ９  議　 員　・　職 　員",null,null,null,null,null,null,null,null,null,null,null,null,null," １４  文　　　　　　化",null,null,null,null,null,null,null,null,null," ( ",{"$f":"データ一覧!$A$500","v":"3.3.31"},null,null,null,"ただし図書館・公民館・児童館",null,null,null,null,null,null,null,{"$f":"データ一覧!$A$494","v":"3.4.1"}]
["と",null,null,null,null,null,null,null,null,null,null,null,null,null,null,null,null,null,null,null,null,null,null,null,null,null,null,null,null,null,null,null,null,null,null,null,null,null,null,null,null,null,null,null,null,null,null,null,null,null,null,null,null,null,null,"　宗教法人数 ",null,null,null,null,null,null,{"$f":"データ一覧!$A$502","v":"2.12.31"},null,null,null,"）"]
["就",null,null,null,null,null,null,null,null,"農業に60日以上従事",null,null,null,null,null,null,null,"農業に150日以上従事",null,null,null,null,null,null,null," 市 町 村 議 会",null,null,"有権者数",null,{"$f":"データ一覧!$A$328","v":"3.9.1"},null,"市 町 村 議 会",null,null,"  職      員      数",null,null,null,null,null,null,null,null,"図書館",null,null,null,null,null,"公　民　館",null,null,null,null,null,null,null,null,null,null," 社会教育学級講座"]
["業",null,"区　分",null,null,null,"人",null,null,"区　分",null,null,null,null,"人",null,null,"区　分",null,null,null,null,"人",null,null," 議  員  定  数",null,null,"    男",null,"    女",null,"選 挙 投 票 率",null,null," 総     数",null,"一般行政職",null,"公    共",null,null,null," 館  数",null,null," 図書数",null,null," 本  館",null,null," 分  館",null,null," 公  園",null,null," 児童館",null,null,"学級講座数",null,null,"受講者数",null,null,"　　特産物",null,null,null,null,"福井梅、ｳﾅｷﾞ、ﾌﾅ、ｺｲ、ｱｵﾘｲｶ、岩屋梨、瓜割名水、熊川葛、山内かぶら、須惠野焼"]
["状",null,"総数",null,null,null,{"$f":"データ一覧!W230","v":40},null,null,"総数",null,null,null,null,{"$f":"データ一覧!W224","v":67.3},null,null,"総数",null,null,null,null,{"$f":"データ一覧!W227","v":65.599999999999994},null,null,null,null,"人",null,"人",null,"人",null,null,"　％",null,"人",null,"人","施 設 数",null,null,null,null,{"$f":"データ一覧!W494","v":2},null,{"$f":"データ一覧!W495","v":118266},null,null,{"$f":"データ一覧!W496","v":9},null,null,{"$f":"データ一覧!W497","v":1},null,null,{"$f":"データ一覧!W498","v":0},null,null,{"$f":"データ一覧!W499","v":1},null,null,{"$f":"データ一覧!W500","v":0},null,null,{"$f":"データ一覧!W501","v":0},null,null," 　年中行事",null,null,null,null,"若狭三方五湖ﾂｰﾃﾞｰﾏｰﾁ、熊川いっぷく時代村、河原神社神事、宇波西神社・国津神社、"]
["況",null,"男",null,null,null,{"$f":"データ一覧!W231","v":24},null,null,"男",null,null,null,null,{"$f":"データ一覧!W225","v":66.8},null,null,"男",null,null,null,null,{"$f":"データ一覧!W228","v":65},null,null,null,{"$f":"データ一覧!W325","v":14},null,{"$f":"データ一覧!W328","v":5801},null,{"$f":"データ一覧!W329","v":6244},null,{"$f":"データ一覧!W327","v":"無投票"},null,null,{"$f":"データ一覧!W330","v":237},null,{"$f":"データ一覧!W331","v":135},null,"宗    教",null,null,null," 仏教系",null,null,"ｷﾘｽﾄ教系",null,null,"神道諸派",null,null,"公会堂・市民会館",null,null,null,null,null," テレビ",null,null,"衛星放送契約数",null,null,null,null,null,null,null,null,null,null,"闇見神社・天満社・前川神社・多由比神社の祭礼(春)、若狭能倉座の神事能、戸祝い、"]
[null,null,"女",null,null,null,{"$f":"データ一覧!W232","v":16},null,null,"女",null,null,null,null,{"$f":"データ一覧!W226","v":68.3},null,null,"女",null,null,null,null,{"$f":"データ一覧!W229","v":67.2},null,null,null,null,null,null,null,null,null,{"$f":"データ一覧!W326","v":"3.4.11"},null,null,null,null,null,null,"法 人 数",null,null,null,{"$f":"データ一覧!W502","v":76},null,null,{"$f":"データ一覧!W503","v":0},null,null,{"$f":"データ一覧!W504","v":72},null,null,{"$f":"データ一覧!W505","v":0},null,null,null,null,null,"      等",null,null,{"$f":"データ一覧!W506","v":3119},null,null,null,null,null,null,null,null,null,null,"ｷﾂﾈｶﾞﾘ、上中の六斎念仏踊り(三宅・瓜生)、海土坂の送り盆"]